Workbook
Name client_name: Cover!$B$2
Name date: Cover!$D$7
Name date_rpt: Cover!$D$7
Name start_date: Cover!$D$6

Sheet Cover
B2: Amalgam
B3: Deferred Revenue Template
B4: ="Through "&TEXT(date,"Mmmm dd, YYYY") -> Through March 31, 2024
C6: Period Starting: | D6: 45292
C7: Period Ending: | D7: 45382
C9: Checks
C10: Check to BS: | D10: =SUM('Revenue Schedule'!37:37) -> 0
C14: Overview of File
C15: - This schedule illustrates amortizing customer invoices across a time period.
C16: - The scenario is one where the company sends invoices to customers every 6 or 12 months and
C17: those amounts must be amortized over the time period to reflect the contract.
C18: Summary of Tab Functions
C19: data_Invoices: A raw data pull of the individual invoices from the invoicing system.
C20: Revenue Schedule: The conversion of the individual invoices into their time-defined amortization.
C21: load_Journals: Amalgam template to upload the deferred revenue journals into the General Ledger.
C22: check_BS: A Balance Sheet Report that checks for matching between the GL and this schedule.

Sheet QUICKBOOKS_9130357949969096
A1: accounts | B1: accounts | C1: customers | D1: customers | E1: customers | F1: vendors | G1: vendors | J1: classes | K1: classes | L1: items | M1: items | R1: periods | S1: periods | V1: accounting_methods | W1: accounting_methods | X1: account_classes | Y1: account_classes | Z1: account_subtypes | AA1: account_subtypes | AI1: payment_terms | AJ1: payment_terms | AM1: customer_currencies | AN1: customer_currencies | AU1: show_hide | AV1: show_hide | AW1: summary_types | AX1: summary_types
A2: Name | B2: ID | C2: Name | D2: Email | E2: ID | F2: Name | G2: ID | J2: Name | K2: ID | L2: Name | M2: ID | R2: Name | S2: ID | V2: Name | W2: ID | X2: Name | Y2: Class | Z2: Name | AA2: ID | AI2: Name | AJ2: ID | AM2: Name | AN2: ID | AU2: Name | AV2: ID | AW2: Name | AX2: ID
A4: Accounts Payable (A/P) | B4: 7 | C4: Anderson-Gould | D4: gibsonjoe@example.com | E4: 19 | F4: Acme, Inc | G4: 21 | J4: Corporate | K4: 2100000000001745696 | L4: Hours | M4: 2 | R4: Days | S4: Days | V4: Accrual | W4: Accrual | X4: Bank | Y4: Asset | Z4: Cash On Hand | AA4: CashOnHand | AI4: Due on receipt | AJ4: 1 | AM4: Anderson-Gould | AN4: USD | AU4: Show | AV4: show | AW4: Values | AX4: values
A5: Accounts receivable (A/R) | B5: 8 | C5: Anderson-Waller | D5: travisjuan@example.com | E5: 9 | F5: Mattingly Insurance | G5: 24 | J5: R&D | K5: 2100000000001778593 | L5: Services | M5: 1 | R5: Weeks | S5: Week | V5: Cash | W5: Cash | X5: Other Current Asset | Y5: Asset | Z5: Checking | AA5: Checking | AI5: Net 15 | AJ5: 2 | AM5: Anderson-Waller | AN5: USD | AU5: Hide | AV5: hide | AW5: Formulas | AX5: formulas
A6: Accrued Expenses | B6: 150 | C6: Bell-Moore | D6: williamspatricia@example.com | E6: 11 | F6: Splendid Splinters | G6: 23 | R6: Months | S6: Month | X6: Fixed Asset | Y6: Asset | Z6: Money Market | AA6: MoneyMarket | AI6: Net 30 | AJ6: 3 | AM6: Bell-Moore | AN6: USD | AW6: Hide | AX6: hide
A7: Accumulated amortization | B7: 9 | C7: Bryan and Sons | D7: rachel25@example.com | E7: 12 | F7: Wagner Industries | G7: 22 | R7: Quarters | S7: Quarter | X7: Other Asset | Y7: Asset | Z7: Rents Held In Trust | AA7: RentsHeldInTrust | AI7: Net 60 | AJ7: 4 | AM7: Bryan and Sons | AN7: USD
A8: Accumulated depreciation | B8: 10 | C8: Bush, Nelson and Williamson | D8: daniel06@example.com | E8: 1 | R8: Years | S8: Year | X8: Accounts Receivable | Y8: Asset | Z8: Savings | AA8: Savings | AM8: Bush, Nelson and Williamson | AN8: USD
A9: Additional paid in capital | B9: 11 | C9: Castaneda, Johnson and Nelson | D9: pcarrillo@example.com | E9: 16 | R9: Total Only | S9: Total | X9: Equity | Y9: Equity | Z9: Trust Accounts | AA9: TrustAccounts | AM9: Castaneda, Johnson and Nelson | AN9: USD
A10: Advertising & marketing | B10: 12 | C10: Cochran-Guerrero | D10: joshua34@example.com | E10: 3 | R10: Customers | S10: Customers | X10: Expense | Y10: Expense | Z10: Allowance For Bad Debts | AA10: AllowanceForBadDebts | AM10: Cochran-Guerrero | AN10: USD
A11: Advertising & marketing > Listing fees | B11: 90 | C11: Coleman Ltd | D11: rford@example.com | E11: 5 | R11: Vendors | S11: Vendors | X11: Other Expense | Y11: Expense | Z11: Development Costs | AA11: DevelopmentCosts | AM11: Coleman Ltd | AN11: USD
A12: Advertising & marketing > Social media | B12: 91 | C12: Hanson, Webb and Mcdonald | D12: loganjoshua@example.com | E12: 17 | R12: Classes | S12: Classes | X12: Cost of Goods Sold | Y12: Expense | Z12: Employee Cash Advances | AA12: EmployeeCashAdvances | AM12: Hanson, Webb and Mcdonald | AN12: USD
A13: Advertising & marketing > Website ads | B13: 92 | C13: Heath-Howard | D13: jrobinson@example.com | E13: 6 | R13: Locations | S13: Departments | X13: Accounts Payable | Y13: Liability | Z13: Other Current Assets | AA13: OtherCurrentAssets | AM13: Heath-Howard | AN13: USD
A14: Allowance for bad debts | B14: 13 | C14: Herrera-Mason | D14: lisagonzalez@example.com | E14: 8 | R14: Employees | S14: Employees | X14: Credit Card | Y14: Liability | Z14: Inventory | AA14: Inventory | AM14: Herrera-Mason | AN14: USD
A15: Amortization expenses | B15: 14 | C15: Hunt LLC | D15: kyle63@example.com | E15: 4 | R15: Products | S15: ProductsAndServices | X15: Long Term Liability | Y15: Liability | Z15: Investment Mortgage Real Estate Loans | AA15: Investment_MortgageRealEstateLoans | AM15: Hunt LLC | AN15: USD
A16: Bad Debts | B16: 15 | C16: Lewis, Williamson and Lowe | D16: dshannon@example.com | E16: 10 | X16: Other Current Liability | Y16: Liability | Z16: Investment Other | AA16: Investment_Other | AM16: Lewis, Williamson and Lowe | AN16: USD
A17: Billable Expense Income | B17: 6 | C17: Mason, Ryan and Wells | D17: wesley60@example.com | E17: 14 | X17: Income | Y17: Revenue | Z17: Investment Tax Exempt Securities | AA17: Investment_TaxExemptSecurities | AM17: Mason, Ryan and Wells | AN17: USD
A18: Buildings | B18: 17 | C18: Pennington-Avery | D18: hendersontara@example.com | E18: 20 | X18: Other Income | Y18: Revenue | Z18: Investment US Government Obligations | AA18: Investment_USGovernmentObligations | AM18: Pennington-Avery | AN18: USD
A19: Business licenses | B19: 18 | C19: Rice and Sons | D19: kenneth78@example.com | E19: 15 | Z19: Loans To Officers | AA19: LoansToOfficers | AM19: Rice and Sons | AN19: USD
A20: Cash | B20: 19 | C20: Vargas Inc | D20: williamsdeanna@example.com | E20: 13 | Z20: Loans To Others | AA20: LoansToOthers | AM20: Vargas Inc | AN20: USD
A21: Commissions & fees | B21: 20 | C21: Waters PLC | D21: elizabeth43@example.com | E21: 2 | Z21: Loans To Stockholders | AA21: LoansToStockholders | AM21: Waters PLC | AN21: USD
A22: Common stock | B22: 21 | C22: Wright-Snow | D22: matthewbrennan@example.com | E22: 18 | Z22: Prepaid Expenses | AA22: PrepaidExpenses | AM22: Wright-Snow | AN22: USD
A23: Contract labor | B23: 22 | C23: York, Price and Campbell | D23: michaelhill@example.com | E23: 7 | Z23: Retainage | AA23: Retainage | AM23: York, Price and Campbell | AN23: USD
A24: Contributions to charities | B24: 23 | Z24: Undeposited Funds | AA24: UndepositedFunds
A25: Cost of goods sold | B25: 24 | Z25: Accumulated Depletion | AA25: AccumulatedDepletion
A26: Cost of goods sold > Cost of labor - COGS | B26: 95 | Z26: Accumulated Depreciation | AA26: AccumulatedDepreciation
A27: Cost of goods sold > Equipment rental - COGS | B27: 96 | Z27: Depletable Assets | AA27: DepletableAssets
A28: Cost of goods sold > Freight in - COGS | B28: 97 | Z28: Fixed Asset Computers | AA28: FixedAssetComputers
A29: Cost of goods sold > Supplies & materials - COGS | B29: 98 | Z29: Fixed Asset Copiers | AA29: FixedAssetCopiers
A30: Credit Cards Payable | B30: 149 | Z30: Fixed Asset Furniture | AA30: FixedAssetFurniture
A31: Credit card rewards | B31: 25 | Z31: Fixed Asset Phone | AA31: FixedAssetPhone
A32: Customer prepayments | B32: 26 | Z32: Fixed Asset Photo/Video | AA32: FixedAssetPhotoVideo
A33: Deferred Revenue | B33: 152 | Z33: Fixed Asset Software | AA33: FixedAssetSoftware
A34: Deferred income taxes | B34: 27 | Z34: Fixed Asset Other Tools & Equipment | AA34: FixedAssetOtherToolsEquipment
A35: Depreciation | B35: 28 | Z35: Furniture And Fixtures | AA35: FurnitureAndFixtures
... A157: Vehicles | B157: 89 | Z157: Tax Exempt Interest | AA157: TaxExemptInterest

Sheet data_Invoices
A1: quickbooks | C1: INVOICES: ABC Widgets | F1: These columns have intentionally been left blank. Feel free to add any formulas or notes here, they will not affect the function of this sheet nor will they be overwritten when data syncs. | P1: # | Q1: Action | R1: Status | T1: ID * | U1: Sync Token * | V1: Date * | W1: Terms | X1: Due Date | Y1: Invoice # | Z1: Ship Date | AA1: Tracking Number | AB1: Location | AC1: Location ID * | AD1: Customer * | AE1: Currency | AF1: Customer ID * | AG1: Email | AH1: Email CC | AI1: Email BCC | AJ1: Allow Cards | AK1: Allow ACH | AL1: Memo | AM1: Statement Memo | AN1: Tax Amount | AO1: Balance | AP1: Item/Service * | AQ1: Item/Service ID * | AR1: Class | AS1: Class ID | AT1: Description | AU1: Rate * | AV1: Qty * | AW1: Amount | AX1: Service Date | AY1: Custom Field 1 * | AZ1: Custom Field 2 * | BA1: Custom Field 3 * | BB1: Term ID
A2: invoices | C2: Download, Upload and Delete Invoices from Quickbooks Online. | P2: =IF(V2<>"",MAX(P$1:P1)+1,IF(AND(_xlfn.CONCAT(T2:BB2)<>"", OR(LEFT(_xlfn.CONCAT(T2:BB2),5)<>"FALSE",RIGHT(_xlfn.CONCAT(T2:BB2),5)<>"FALSE")),IF(AND(ISNUMBER(P1),P1>0),P1,0),"")) -> 1 | R2: =IF(T2<>"",IF(Q2<>"","Edited","Synced"),IF(P2="","",IF(OR(AP2 = "",AQ2 = "",AU2 = "",AV2 = ""),"Invalid","New"))) -> Synced | T2: 448 | U2: 4 | V2: 45295 | X2: 45325 | Y2: 101 | AD2: Hunt LLC | AE2: =IFERROR(IF(LEN(VLOOKUP(AD2, QUICKBOOKS_9130357949969096!$AM:$AN, 2, 0))=0,"",VLOOKUP(AD2, QUICKBOOKS_9130357949969096!$AM:$AN, 2, 0)),"") -> USD | AF2: =IFERROR(IF(LEN(VLOOKUP(AD2, QUICKBOOKS_9130357949969096!$C:$E, 3, 0))=0,"",VLOOKUP(AD2, QUICKBOOKS_9130357949969096!$C:$E, 3, 0)),"") -> 4 | AG2: =IFERROR(IF(LEN(VLOOKUP(AD2, QUICKBOOKS_9130357949969096!$C:$D, 2, 0))=0,"",VLOOKUP(AD2, QUICKBOOKS_9130357949969096!$C:$D, 2, 0)),"") -> kyle63@example.com | AJ2: FALSE | AK2: FALSE | AO2: 91979.48 | AP2: Services | AQ2: =IFERROR(IF(LEN(VLOOKUP(AP2, QUICKBOOKS_9130357949969096!$L:$M, 2, 0))=0,"",VLOOKUP(AP2, QUICKBOOKS_9130357949969096!$L:$M, 2, 0)),"") -> 1 | AS2: =IFERROR(IF(LEN(VLOOKUP(AR2, QUICKBOOKS_9130357949969096!$J:$K, 2, 0))=0,"",VLOOKUP(AR2, QUICKBOOKS_9130357949969096!$J:$K, 2, 0)),"") | AT2: Order from Hunt LLC | AU2: 91979.48 | AV2: 1 | AW2: =IF(OR((AU2*AV2)<>0,AP2<>""),AU2*AV2,"") -> 91979.48 | BB2: =IFERROR(IF(LEN(VLOOKUP(W2, QUICKBOOKS_9130357949969096!$AI:$AJ, 2, 0))=0,"",VLOOKUP(W2, QUICKBOOKS_9130357949969096!$AI:$AJ, 2, 0)),"")
A3: 9130357949969096 | P3: =IF(V3<>"",MAX(P$1:P2)+1,IF(AND(_xlfn.CONCAT(T3:BB3)<>"", OR(LEFT(_xlfn.CONCAT(T3:BB3),5)<>"FALSE",RIGHT(_xlfn.CONCAT(T3:BB3),5)<>"FALSE")),IF(AND(ISNUMBER(P2),P2>0),P2,0),"")) -> 2 | R3: =IF(T3<>"",IF(Q3<>"","Edited","Synced"),IF(P3="","",IF(OR(AP3 = "",AQ3 = "",AU3 = "",AV3 = ""),"Invalid","New"))) -> Synced | T3: 447 | U3: 4 | V3: 45302 | X3: 45332 | Y3: 102 | AD3: Vargas Inc | AE3: =IFERROR(IF(LEN(VLOOKUP(AD3, QUICKBOOKS_9130357949969096!$AM:$AN, 2, 0))=0,"",VLOOKUP(AD3, QUICKBOOKS_9130357949969096!$AM:$AN, 2, 0)),"") -> USD | AF3: =IFERROR(IF(LEN(VLOOKUP(AD3, QUICKBOOKS_9130357949969096!$C:$E, 3, 0))=0,"",VLOOKUP(AD3, QUICKBOOKS_9130357949969096!$C:$E, 3, 0)),"") -> 13 | AG3: =IFERROR(IF(LEN(VLOOKUP(AD3, QUICKBOOKS_9130357949969096!$C:$D, 2, 0))=0,"",VLOOKUP(AD3, QUICKBOOKS_9130357949969096!$C:$D, 2, 0)),"") -> williamsdeanna@example.com | AJ3: FALSE | AK3: FALSE | AO3: 85902.16 | AP3: Services | AQ3: =IFERROR(IF(LEN(VLOOKUP(AP3, QUICKBOOKS_9130357949969096!$L:$M, 2, 0))=0,"",VLOOKUP(AP3, QUICKBOOKS_9130357949969096!$L:$M, 2, 0)),"") -> 1 | AS3: =IFERROR(IF(LEN(VLOOKUP(AR3, QUICKBOOKS_9130357949969096!$J:$K, 2, 0))=0,"",VLOOKUP(AR3, QUICKBOOKS_9130357949969096!$J:$K, 2, 0)),"") | AT3: Order from Vargas Inc | AU3: 85902.16 | AV3: 1 | AW3: =IF(OR((AU3*AV3)<>0,AP3<>""),AU3*AV3,"") -> 85902.16 | BB3: =IFERROR(IF(LEN(VLOOKUP(W3, QUICKBOOKS_9130357949969096!$AI:$AJ, 2, 0))=0,"",VLOOKUP(W3, QUICKBOOKS_9130357949969096!$AI:$AJ, 2, 0)),"")
A4: resource | C4: Use this sheet to connect to your data directly from Excel, | P4: =IF(V4<>"",MAX(P$1:P3)+1,IF(AND(_xlfn.CONCAT(T4:BB4)<>"", OR(LEFT(_xlfn.CONCAT(T4:BB4),5)<>"FALSE",RIGHT(_xlfn.CONCAT(T4:BB4),5)<>"FALSE")),IF(AND(ISNUMBER(P3),P3>0),P3,0),"")) -> 3 | R4: =IF(T4<>"",IF(Q4<>"","Edited","Synced"),IF(P4="","",IF(OR(AP4 = "",AQ4 = "",AU4 = "",AV4 = ""),"Invalid","New"))) -> Synced | T4: 440 | U4: 4 | V4: 45351 | X4: 45381 | Y4: 109 | AD4: Wright-Snow | AE4: =IFERROR(IF(LEN(VLOOKUP(AD4, QUICKBOOKS_9130357949969096!$AM:$AN, 2, 0))=0,"",VLOOKUP(AD4, QUICKBOOKS_9130357949969096!$AM:$AN, 2, 0)),"") -> USD | AF4: =IFERROR(IF(LEN(VLOOKUP(AD4, QUICKBOOKS_9130357949969096!$C:$E, 3, 0))=0,"",VLOOKUP(AD4, QUICKBOOKS_9130357949969096!$C:$E, 3, 0)),"") -> 18 | AG4: =IFERROR(IF(LEN(VLOOKUP(AD4, QUICKBOOKS_9130357949969096!$C:$D, 2, 0))=0,"",VLOOKUP(AD4, QUICKBOOKS_9130357949969096!$C:$D, 2, 0)),"") -> matthewbrennan@example.com | AJ4: FALSE | AK4: FALSE | AO4: 84892.32 | AP4: Services | AQ4: =IFERROR(IF(LEN(VLOOKUP(AP4, QUICKBOOKS_9130357949969096!$L:$M, 2, 0))=0,"",VLOOKUP(AP4, QUICKBOOKS_9130357949969096!$L:$M, 2, 0)),"") -> 1 | AS4: =IFERROR(IF(LEN(VLOOKUP(AR4, QUICKBOOKS_9130357949969096!$J:$K, 2, 0))=0,"",VLOOKUP(AR4, QUICKBOOKS_9130357949969096!$J:$K, 2, 0)),"") | AT4: Order from Wright-Snow | AU4: 84892.32 | AV4: 1 | AW4: =IF(OR((AU4*AV4)<>0,AP4<>""),AU4*AV4,"") -> 84892.32 | BB4: =IFERROR(IF(LEN(VLOOKUP(W4, QUICKBOOKS_9130357949969096!$AI:$AJ, 2, 0))=0,"",VLOOKUP(W4, QUICKBOOKS_9130357949969096!$AI:$AJ, 2, 0)),"")
C5: and control it with the buttons in the Amalgam Excel plugin. | P5: =IF(V5<>"",MAX(P$1:P4)+1,IF(AND(_xlfn.CONCAT(T5:BB5)<>"", OR(LEFT(_xlfn.CONCAT(T5:BB5),5)<>"FALSE",RIGHT(_xlfn.CONCAT(T5:BB5),5)<>"FALSE")),IF(AND(ISNUMBER(P4),P4>0),P4,0),"")) -> 4 | R5: =IF(T5<>"",IF(Q5<>"","Edited","Synced"),IF(P5="","",IF(OR(AP5 = "",AQ5 = "",AU5 = "",AV5 = ""),"Invalid","New"))) -> Synced | T5: 445 | U5: 4 | V5: 45316 | X5: 45346 | Y5: 104 | AD5: Cochran-Guerrero | AE5: =IFERROR(IF(LEN(VLOOKUP(AD5, QUICKBOOKS_9130357949969096!$AM:$AN, 2, 0))=0,"",VLOOKUP(AD5, QUICKBOOKS_9130357949969096!$AM:$AN, 2, 0)),"") -> USD | AF5: =IFERROR(IF(LEN(VLOOKUP(AD5, QUICKBOOKS_9130357949969096!$C:$E, 3, 0))=0,"",VLOOKUP(AD5, QUICKBOOKS_9130357949969096!$C:$E, 3, 0)),"") -> 3 | AG5: =IFERROR(IF(LEN(VLOOKUP(AD5, QUICKBOOKS_9130357949969096!$C:$D, 2, 0))=0,"",VLOOKUP(AD5, QUICKBOOKS_9130357949969096!$C:$D, 2, 0)),"") -> joshua34@example.com | AJ5: FALSE | AK5: FALSE | AO5: 133057.04 | AP5: Services | AQ5: =IFERROR(IF(LEN(VLOOKUP(AP5, QUICKBOOKS_9130357949969096!$L:$M, 2, 0))=0,"",VLOOKUP(AP5, QUICKBOOKS_9130357949969096!$L:$M, 2, 0)),"") -> 1 | AS5: =IFERROR(IF(LEN(VLOOKUP(AR5, QUICKBOOKS_9130357949969096!$J:$K, 2, 0))=0,"",VLOOKUP(AR5, QUICKBOOKS_9130357949969096!$J:$K, 2, 0)),"") | AT5: Order from Cochran-Guerrero | AU5: 133057.04 | AV5: 1 | AW5: =IF(OR((AU5*AV5)<>0,AP5<>""),AU5*AV5,"") -> 133057.04 | BB5: =IFERROR(IF(LEN(VLOOKUP(W5, QUICKBOOKS_9130357949969096!$AI:$AJ, 2, 0))=0,"",VLOOKUP(W5, QUICKBOOKS_9130357949969096!$AI:$AJ, 2, 0)),"")
C6: Data to the right can sync with just a click of a button. | P6: =IF(V6<>"",MAX(P$1:P5)+1,IF(AND(_xlfn.CONCAT(T6:BB6)<>"", OR(LEFT(_xlfn.CONCAT(T6:BB6),5)<>"FALSE",RIGHT(_xlfn.CONCAT(T6:BB6),5)<>"FALSE")),IF(AND(ISNUMBER(P5),P5>0),P5,0),"")) -> 5 | R6: =IF(T6<>"",IF(Q6<>"","Edited","Synced"),IF(P6="","",IF(OR(AP6 = "",AQ6 = "",AU6 = "",AV6 = ""),"Invalid","New"))) -> Synced | T6: 444 | U6: 4 | V6: 45323 | X6: 45353 | Y6: 105 | AD6: Hunt LLC | AE6: =IFERROR(IF(LEN(VLOOKUP(AD6, QUICKBOOKS_9130357949969096!$AM:$AN, 2, 0))=0,"",VLOOKUP(AD6, QUICKBOOKS_9130357949969096!$AM:$AN, 2, 0)),"") -> USD | AF6: =IFERROR(IF(LEN(VLOOKUP(AD6, QUICKBOOKS_9130357949969096!$C:$E, 3, 0))=0,"",VLOOKUP(AD6, QUICKBOOKS_9130357949969096!$C:$E, 3, 0)),"") -> 4 | AG6: =IFERROR(IF(LEN(VLOOKUP(AD6, QUICKBOOKS_9130357949969096!$C:$D, 2, 0))=0,"",VLOOKUP(AD6, QUICKBOOKS_9130357949969096!$C:$D, 2, 0)),"") -> kyle63@example.com | AJ6: FALSE | AK6: FALSE | AO6: 69374.21 | AP6: Services | AQ6: =IFERROR(IF(LEN(VLOOKUP(AP6, QUICKBOOKS_9130357949969096!$L:$M, 2, 0))=0,"",VLOOKUP(AP6, QUICKBOOKS_9130357949969096!$L:$M, 2, 0)),"") -> 1 | AS6: =IFERROR(IF(LEN(VLOOKUP(AR6, QUICKBOOKS_9130357949969096!$J:$K, 2, 0))=0,"",VLOOKUP(AR6, QUICKBOOKS_9130357949969096!$J:$K, 2, 0)),"") | AT6: Order from Hunt LLC | AU6: 69374.21 | AV6: 1 | AW6: =IF(OR((AU6*AV6)<>0,AP6<>""),AU6*AV6,"") -> 69374.21 | BB6: =IFERROR(IF(LEN(VLOOKUP(W6, QUICKBOOKS_9130357949969096!$AI:$AJ, 2, 0))=0,"",VLOOKUP(W6, QUICKBOOKS_9130357949969096!$AI:$AJ, 2, 0)),"")
P7: =IF(V7<>"",MAX(P$1:P6)+1,IF(AND(_xlfn.CONCAT(T7:BB7)<>"", OR(LEFT(_xlfn.CONCAT(T7:BB7),5)<>"FALSE",RIGHT(_xlfn.CONCAT(T7:BB7),5)<>"FALSE")),IF(AND(ISNUMBER(P6),P6>0),P6,0),"")) -> 6 | R7: =IF(T7<>"",IF(Q7<>"","Edited","Synced"),IF(P7="","",IF(OR(AP7 = "",AQ7 = "",AU7 = "",AV7 = ""),"Invalid","New"))) -> Synced | T7: 443 | U7: 4 | V7: 45330 | X7: 45360 | Y7: 106 | AD7: Vargas Inc | AE7: =IFERROR(IF(LEN(VLOOKUP(AD7, QUICKBOOKS_9130357949969096!$AM:$AN, 2, 0))=0,"",VLOOKUP(AD7, QUICKBOOKS_9130357949969096!$AM:$AN, 2, 0)),"") -> USD | AF7: =IFERROR(IF(LEN(VLOOKUP(AD7, QUICKBOOKS_9130357949969096!$C:$E, 3, 0))=0,"",VLOOKUP(AD7, QUICKBOOKS_9130357949969096!$C:$E, 3, 0)),"") -> 13 | AG7: =IFERROR(IF(LEN(VLOOKUP(AD7, QUICKBOOKS_9130357949969096!$C:$D, 2, 0))=0,"",VLOOKUP(AD7, QUICKBOOKS_9130357949969096!$C:$D, 2, 0)),"") -> williamsdeanna@example.com | AJ7: FALSE | AK7: FALSE | AO7: 87444.2 | AP7: Services | AQ7: =IFERROR(IF(LEN(VLOOKUP(AP7, QUICKBOOKS_9130357949969096!$L:$M, 2, 0))=0,"",VLOOKUP(AP7, QUICKBOOKS_9130357949969096!$L:$M, 2, 0)),"") -> 1 | AS7: =IFERROR(IF(LEN(VLOOKUP(AR7, QUICKBOOKS_9130357949969096!$J:$K, 2, 0))=0,"",VLOOKUP(AR7, QUICKBOOKS_9130357949969096!$J:$K, 2, 0)),"") | AT7: Order from Vargas Inc | AU7: 87444.2 | AV7: 1 | AW7: =IF(OR((AU7*AV7)<>0,AP7<>""),AU7*AV7,"") -> 87444.2 | BB7: =IFERROR(IF(LEN(VLOOKUP(W7, QUICKBOOKS_9130357949969096!$AI:$AJ, 2, 0))=0,"",VLOOKUP(W7, QUICKBOOKS_9130357949969096!$AI:$AJ, 2, 0)),"")
C8: DOWNLOAD FILTERS | P8: =IF(V8<>"",MAX(P$1:P7)+1,IF(AND(_xlfn.CONCAT(T8:BB8)<>"", OR(LEFT(_xlfn.CONCAT(T8:BB8),5)<>"FALSE",RIGHT(_xlfn.CONCAT(T8:BB8),5)<>"FALSE")),IF(AND(ISNUMBER(P7),P7>0),P7,0),"")) -> 7 | R8: =IF(T8<>"",IF(Q8<>"","Edited","Synced"),IF(P8="","",IF(OR(AP8 = "",AQ8 = "",AU8 = "",AV8 = ""),"Invalid","New"))) -> Synced | T8: 442 | U8: 4 | V8: 45337 | X8: 45367 | Y8: 107 | AD8: Anderson-Gould | AE8: =IFERROR(IF(LEN(VLOOKUP(AD8, QUICKBOOKS_9130357949969096!$AM:$AN, 2, 0))=0,"",VLOOKUP(AD8, QUICKBOOKS_9130357949969096!$AM:$AN, 2, 0)),"") -> USD | AF8: =IFERROR(IF(LEN(VLOOKUP(AD8, QUICKBOOKS_9130357949969096!$C:$E, 3, 0))=0,"",VLOOKUP(AD8, QUICKBOOKS_9130357949969096!$C:$E, 3, 0)),"") -> 19 | AG8: =IFERROR(IF(LEN(VLOOKUP(AD8, QUICKBOOKS_9130357949969096!$C:$D, 2, 0))=0,"",VLOOKUP(AD8, QUICKBOOKS_9130357949969096!$C:$D, 2, 0)),"") -> gibsonjoe@example.com | AJ8: FALSE | AK8: FALSE | AO8: 107230.96 | AP8: Services | AQ8: =IFERROR(IF(LEN(VLOOKUP(AP8, QUICKBOOKS_9130357949969096!$L:$M, 2, 0))=0,"",VLOOKUP(AP8, QUICKBOOKS_9130357949969096!$L:$M, 2, 0)),"") -> 1 | AS8: =IFERROR(IF(LEN(VLOOKUP(AR8, QUICKBOOKS_9130357949969096!$J:$K, 2, 0))=0,"",VLOOKUP(AR8, QUICKBOOKS_9130357949969096!$J:$K, 2, 0)),"") | AT8: Order from Anderson-Gould | AU8: 107230.96 | AV8: 1 | AW8: =IF(OR((AU8*AV8)<>0,AP8<>""),AU8*AV8,"") -> 107230.96 | BB8: =IFERROR(IF(LEN(VLOOKUP(W8, QUICKBOOKS_9130357949969096!$AI:$AJ, 2, 0))=0,"",VLOOKUP(W8, QUICKBOOKS_9130357949969096!$AI:$AJ, 2, 0)),"")
C9: Customer | P9: =IF(V9<>"",MAX(P$1:P8)+1,IF(AND(_xlfn.CONCAT(T9:BB9)<>"", OR(LEFT(_xlfn.CONCAT(T9:BB9),5)<>"FALSE",RIGHT(_xlfn.CONCAT(T9:BB9),5)<>"FALSE")),IF(AND(ISNUMBER(P8),P8>0),P8,0),"")) -> 8 | R9: =IF(T9<>"",IF(Q9<>"","Edited","Synced"),IF(P9="","",IF(OR(AP9 = "",AQ9 = "",AU9 = "",AV9 = ""),"Invalid","New"))) -> Synced | T9: 441 | U9: 4 | V9: 45344 | X9: 45374 | Y9: 108 | AD9: Coleman Ltd | AE9: =IFERROR(IF(LEN(VLOOKUP(AD9, QUICKBOOKS_9130357949969096!$AM:$AN, 2, 0))=0,"",VLOOKUP(AD9, QUICKBOOKS_9130357949969096!$AM:$AN, 2, 0)),"") -> USD | AF9: =IFERROR(IF(LEN(VLOOKUP(AD9, QUICKBOOKS_9130357949969096!$C:$E, 3, 0))=0,"",VLOOKUP(AD9, QUICKBOOKS_9130357949969096!$C:$E, 3, 0)),"") -> 5 | AG9: =IFERROR(IF(LEN(VLOOKUP(AD9, QUICKBOOKS_9130357949969096!$C:$D, 2, 0))=0,"",VLOOKUP(AD9, QUICKBOOKS_9130357949969096!$C:$D, 2, 0)),"") -> rford@example.com | AJ9: FALSE | AK9: FALSE | AO9: 78329.46 | AP9: Services | AQ9: =IFERROR(IF(LEN(VLOOKUP(AP9, QUICKBOOKS_9130357949969096!$L:$M, 2, 0))=0,"",VLOOKUP(AP9, QUICKBOOKS_9130357949969096!$L:$M, 2, 0)),"") -> 1 | AS9: =IFERROR(IF(LEN(VLOOKUP(AR9, QUICKBOOKS_9130357949969096!$J:$K, 2, 0))=0,"",VLOOKUP(AR9, QUICKBOOKS_9130357949969096!$J:$K, 2, 0)),"") | AT9: Order from Coleman Ltd | AU9: 78329.46 | AV9: 1 | AW9: =IF(OR((AU9*AV9)<>0,AP9<>""),AU9*AV9,"") -> 78329.46 | BB9: =IFERROR(IF(LEN(VLOOKUP(W9, QUICKBOOKS_9130357949969096!$AI:$AJ, 2, 0))=0,"",VLOOKUP(W9, QUICKBOOKS_9130357949969096!$AI:$AJ, 2, 0)),"")
C10: Start Date | D10: =start_date -> 45292 | P10: =IF(V10<>"",MAX(P$1:P9)+1,IF(AND(_xlfn.CONCAT(T10:BB10)<>"", OR(LEFT(_xlfn.CONCAT(T10:BB10),5)<>"FALSE",RIGHT(_xlfn.CONCAT(T10:BB10),5)<>"FALSE")),IF(AND(ISNUMBER(P9),P9>0),P9,0),"")) -> 9 | R10: =IF(T10<>"",IF(Q10<>"","Edited","Synced"),IF(P10="","",IF(OR(AP10 = "",AQ10 = "",AU10 = "",AV10 = ""),"Invalid","New"))) -> Synced | T10: 391 | U10: 4 | V10: 45358 | X10: 45388 | Y10: 110 | AD10: Vargas Inc | AE10: =IFERROR(IF(LEN(VLOOKUP(AD10, QUICKBOOKS_9130357949969096!$AM:$AN, 2, 0))=0,"",VLOOKUP(AD10, QUICKBOOKS_9130357949969096!$AM:$AN, 2, 0)),"") -> USD | AF10: =IFERROR(IF(LEN(VLOOKUP(AD10, QUICKBOOKS_9130357949969096!$C:$E, 3, 0))=0,"",VLOOKUP(AD10, QUICKBOOKS_9130357949969096!$C:$E, 3, 0)),"") -> 13 | AG10: =IFERROR(IF(LEN(VLOOKUP(AD10, QUICKBOOKS_9130357949969096!$C:$D, 2, 0))=0,"",VLOOKUP(AD10, QUICKBOOKS_9130357949969096!$C:$D, 2, 0)),"") -> williamsdeanna@example.com | AJ10: FALSE | AK10: FALSE | AO10: 90270.83 | AP10: Services | AQ10: =IFERROR(IF(LEN(VLOOKUP(AP10, QUICKBOOKS_9130357949969096!$L:$M, 2, 0))=0,"",VLOOKUP(AP10, QUICKBOOKS_9130357949969096!$L:$M, 2, 0)),"") -> 1 | AS10: =IFERROR(IF(LEN(VLOOKUP(AR10, QUICKBOOKS_9130357949969096!$J:$K, 2, 0))=0,"",VLOOKUP(AR10, QUICKBOOKS_9130357949969096!$J:$K, 2, 0)),"") | AT10: Order from Vargas Inc | AU10: 90270.834 | AV10: 1 | AW10: =IF(OR((AU10*AV10)<>0,AP10<>""),AU10*AV10,"") -> 90270.834 | BB10: =IFERROR(IF(LEN(VLOOKUP(W10, QUICKBOOKS_9130357949969096!$AI:$AJ, 2, 0))=0,"",VLOOKUP(W10, QUICKBOOKS_9130357949969096!$AI:$AJ, 2, 0)),"")
C11: End Date | D11: =date -> 45382 | P11: =IF(V11<>"",MAX(P$1:P10)+1,IF(AND(_xlfn.CONCAT(T11:BB11)<>"", OR(LEFT(_xlfn.CONCAT(T11:BB11),5)<>"FALSE",RIGHT(_xlfn.CONCAT(T11:BB11),5)<>"FALSE")),IF(AND(ISNUMBER(P10),P10>0),P10,0),"")) -> 10 | R11: =IF(T11<>"",IF(Q11<>"","Edited","Synced"),IF(P11="","",IF(OR(AP11 = "",AQ11 = "",AU11 = "",AV11 = ""),"Invalid","New"))) -> Synced | T11: 426 | U11: 4 | V11: 45382 | X11: 45412 | Y11: 114 | AD11: Pennington-Avery | AE11: =IFERROR(IF(LEN(VLOOKUP(AD11, QUICKBOOKS_9130357949969096!$AM:$AN, 2, 0))=0,"",VLOOKUP(AD11, QUICKBOOKS_9130357949969096!$AM:$AN, 2, 0)),"") -> USD | AF11: =IFERROR(IF(LEN(VLOOKUP(AD11, QUICKBOOKS_9130357949969096!$C:$E, 3, 0))=0,"",VLOOKUP(AD11, QUICKBOOKS_9130357949969096!$C:$E, 3, 0)),"") -> 20 | AG11: =IFERROR(IF(LEN(VLOOKUP(AD11, QUICKBOOKS_9130357949969096!$C:$D, 2, 0))=0,"",VLOOKUP(AD11, QUICKBOOKS_9130357949969096!$C:$D, 2, 0)),"") -> hendersontara@example.com | AJ11: FALSE | AK11: FALSE | AO11: 0 | AP11: Services | AQ11: =IFERROR(IF(LEN(VLOOKUP(AP11, QUICKBOOKS_9130357949969096!$L:$M, 2, 0))=0,"",VLOOKUP(AP11, QUICKBOOKS_9130357949969096!$L:$M, 2, 0)),"") -> 1 | AS11: =IFERROR(IF(LEN(VLOOKUP(AR11, QUICKBOOKS_9130357949969096!$J:$K, 2, 0))=0,"",VLOOKUP(AR11, QUICKBOOKS_9130357949969096!$J:$K, 2, 0)),"") | AT11: Order from Pennington-Avery | AU11: 0 | AV11: 1 | AW11: =IF(OR((AU11*AV11)<>0,AP11<>""),AU11*AV11,"") -> 0 | BB11: =IFERROR(IF(LEN(VLOOKUP(W11, QUICKBOOKS_9130357949969096!$AI:$AJ, 2, 0))=0,"",VLOOKUP(W11, QUICKBOOKS_9130357949969096!$AI:$AJ, 2, 0)),"")
C12: Due Before | P12: =IF(V12<>"",MAX(P$1:P11)+1,IF(AND(_xlfn.CONCAT(T12:BB12)<>"", OR(LEFT(_xlfn.CONCAT(T12:BB12),5)<>"FALSE",RIGHT(_xlfn.CONCAT(T12:BB12),5)<>"FALSE")),IF(AND(ISNUMBER(P11),P11>0),P11,0),"")) -> 11 | R12: =IF(T12<>"",IF(Q12<>"","Edited","Synced"),IF(P12="","",IF(OR(AP12 = "",AQ12 = "",AU12 = "",AV12 = ""),"Invalid","New"))) -> Synced | T12: 394 | U12: 3 | V12: 45379 | X12: 45409 | Y12: 113 | AD12: Bell-Moore | AE12: =IFERROR(IF(LEN(VLOOKUP(AD12, QUICKBOOKS_9130357949969096!$AM:$AN, 2, 0))=0,"",VLOOKUP(AD12, QUICKBOOKS_9130357949969096!$AM:$AN, 2, 0)),"") -> USD | AF12: =IFERROR(IF(LEN(VLOOKUP(AD12, QUICKBOOKS_9130357949969096!$C:$E, 3, 0))=0,"",VLOOKUP(AD12, QUICKBOOKS_9130357949969096!$C:$E, 3, 0)),"") -> 11 | AG12: =IFERROR(IF(LEN(VLOOKUP(AD12, QUICKBOOKS_9130357949969096!$C:$D, 2, 0))=0,"",VLOOKUP(AD12, QUICKBOOKS_9130357949969096!$C:$D, 2, 0)),"") -> williamspatricia@example.com | AJ12: FALSE | AK12: FALSE | AO12: 157973.96 | AP12: Services | AQ12: =IFERROR(IF(LEN(VLOOKUP(AP12, QUICKBOOKS_9130357949969096!$L:$M, 2, 0))=0,"",VLOOKUP(AP12, QUICKBOOKS_9130357949969096!$L:$M, 2, 0)),"") -> 1 | AS12: =IFERROR(IF(LEN(VLOOKUP(AR12, QUICKBOOKS_9130357949969096!$J:$K, 2, 0))=0,"",VLOOKUP(AR12, QUICKBOOKS_9130357949969096!$J:$K, 2, 0)),"") | AT12: Order from Bell-Moore | AU12: 157973.96 | AV12: 1 | AW12: =IF(OR((AU12*AV12)<>0,AP12<>""),AU12*AV12,"") -> 157973.96 | BB12: =IFERROR(IF(LEN(VLOOKUP(W12, QUICKBOOKS_9130357949969096!$AI:$AJ, 2, 0))=0,"",VLOOKUP(W12, QUICKBOOKS_9130357949969096!$AI:$AJ, 2, 0)),"")
C13: Due After | P13: =IF(V13<>"",MAX(P$1:P12)+1,IF(AND(_xlfn.CONCAT(T13:BB13)<>"", OR(LEFT(_xlfn.CONCAT(T13:BB13),5)<>"FALSE",RIGHT(_xlfn.CONCAT(T13:BB13),5)<>"FALSE")),IF(AND(ISNUMBER(P12),P12>0),P12,0),"")) -> 12 | R13: =IF(T13<>"",IF(Q13<>"","Edited","Synced"),IF(P13="","",IF(OR(AP13 = "",AQ13 = "",AU13 = "",AV13 = ""),"Invalid","New"))) -> Synced | T13: 393 | U13: 3 | V13: 45372 | X13: 45402 | Y13: 112 | AD13: Mason, Ryan and Wells | AE13: =IFERROR(IF(LEN(VLOOKUP(AD13, QUICKBOOKS_9130357949969096!$AM:$AN, 2, 0))=0,"",VLOOKUP(AD13, QUICKBOOKS_9130357949969096!$AM:$AN, 2, 0)),"") -> USD | AF13: =IFERROR(IF(LEN(VLOOKUP(AD13, QUICKBOOKS_9130357949969096!$C:$E, 3, 0))=0,"",VLOOKUP(AD13, QUICKBOOKS_9130357949969096!$C:$E, 3, 0)),"") -> 14 | AG13: =IFERROR(IF(LEN(VLOOKUP(AD13, QUICKBOOKS_9130357949969096!$C:$D, 2, 0))=0,"",VLOOKUP(AD13, QUICKBOOKS_9130357949969096!$C:$D, 2, 0)),"") -> wesley60@example.com | AJ13: FALSE | AK13: FALSE | AO13: 135406.25 | AP13: Services | AQ13: =IFERROR(IF(LEN(VLOOKUP(AP13, QUICKBOOKS_9130357949969096!$L:$M, 2, 0))=0,"",VLOOKUP(AP13, QUICKBOOKS_9130357949969096!$L:$M, 2, 0)),"") -> 1 | AS13: =IFERROR(IF(LEN(VLOOKUP(AR13, QUICKBOOKS_9130357949969096!$J:$K, 2, 0))=0,"",VLOOKUP(AR13, QUICKBOOKS_9130357949969096!$J:$K, 2, 0)),"") | AT13: Order from Mason, Ryan and Wells | AU13: 135406.25 | AV13: 1 | AW13: =IF(OR((AU13*AV13)<>0,AP13<>""),AU13*AV13,"") -> 135406.25 | BB13: =IFERROR(IF(LEN(VLOOKUP(W13, QUICKBOOKS_9130357949969096!$AI:$AJ, 2, 0))=0,"",VLOOKUP(W13, QUICKBOOKS_9130357949969096!$AI:$AJ, 2, 0)),"")
C14: Invoice # | P14: =IF(V14<>"",MAX(P$1:P13)+1,IF(AND(_xlfn.CONCAT(T14:BB14)<>"", OR(LEFT(_xlfn.CONCAT(T14:BB14),5)<>"FALSE",RIGHT(_xlfn.CONCAT(T14:BB14),5)<>"FALSE")),IF(AND(ISNUMBER(P13),P13>0),P13,0),"")) -> 13 | R14: =IF(T14<>"",IF(Q14<>"","Edited","Synced"),IF(P14="","",IF(OR(AP14 = "",AQ14 = "",AU14 = "",AV14 = ""),"Invalid","New"))) -> Synced | T14: 392 | U14: 3 | V14: 45365 | X14: 45380 | Y14: 111 | AD14: Waters PLC | AE14: =IFERROR(IF(LEN(VLOOKUP(AD14, QUICKBOOKS_9130357949969096!$AM:$AN, 2, 0))=0,"",VLOOKUP(AD14, QUICKBOOKS_9130357949969096!$AM:$AN, 2, 0)),"") -> USD | AF14: =IFERROR(IF(LEN(VLOOKUP(AD14, QUICKBOOKS_9130357949969096!$C:$E, 3, 0))=0,"",VLOOKUP(AD14, QUICKBOOKS_9130357949969096!$C:$E, 3, 0)),"") -> 2 | AG14: =IFERROR(IF(LEN(VLOOKUP(AD14, QUICKBOOKS_9130357949969096!$C:$D, 2, 0))=0,"",VLOOKUP(AD14, QUICKBOOKS_9130357949969096!$C:$D, 2, 0)),"") -> elizabeth43@example.com | AJ14: FALSE | AK14: FALSE | AO14: 67703.13 | AP14: Services | AQ14: =IFERROR(IF(LEN(VLOOKUP(AP14, QUICKBOOKS_9130357949969096!$L:$M, 2, 0))=0,"",VLOOKUP(AP14, QUICKBOOKS_9130357949969096!$L:$M, 2, 0)),"") -> 1 | AS14: =IFERROR(IF(LEN(VLOOKUP(AR14, QUICKBOOKS_9130357949969096!$J:$K, 2, 0))=0,"",VLOOKUP(AR14, QUICKBOOKS_9130357949969096!$J:$K, 2, 0)),"") | AT14: Order from Waters PLC | AU14: 67703.125 | AV14: 1 | AW14: =IF(OR((AU14*AV14)<>0,AP14<>""),AU14*AV14,"") -> 67703.125 | BB14: =IFERROR(IF(LEN(VLOOKUP(W14, QUICKBOOKS_9130357949969096!$AI:$AJ, 2, 0))=0,"",VLOOKUP(W14, QUICKBOOKS_9130357949969096!$AI:$AJ, 2, 0)),"")
C15: Balance Equals | P15: =IF(V15<>"",MAX(P$1:P14)+1,IF(AND(_xlfn.CONCAT(T15:BB15)<>"", OR(LEFT(_xlfn.CONCAT(T15:BB15),5)<>"FALSE",RIGHT(_xlfn.CONCAT(T15:BB15),5)<>"FALSE")),IF(AND(ISNUMBER(P14),P14>0),P14,0),"")) -> 14 | R15: =IF(T15<>"",IF(Q15<>"","Edited","Synced"),IF(P15="","",IF(OR(AP15 = "",AQ15 = "",AU15 = "",AV15 = ""),"Invalid","New"))) -> Synced | T15: 446 | U15: 3 | V15: 45309 | X15: 45339 | Y15: 103 | AD15: Anderson-Waller | AE15: =IFERROR(IF(LEN(VLOOKUP(AD15, QUICKBOOKS_9130357949969096!$AM:$AN, 2, 0))=0,"",VLOOKUP(AD15, QUICKBOOKS_9130357949969096!$AM:$AN, 2, 0)),"") -> USD | AF15: =IFERROR(IF(LEN(VLOOKUP(AD15, QUICKBOOKS_9130357949969096!$C:$E, 3, 0))=0,"",VLOOKUP(AD15, QUICKBOOKS_9130357949969096!$C:$E, 3, 0)),"") -> 9 | AG15: =IFERROR(IF(LEN(VLOOKUP(AD15, QUICKBOOKS_9130357949969096!$C:$D, 2, 0))=0,"",VLOOKUP(AD15, QUICKBOOKS_9130357949969096!$C:$D, 2, 0)),"") -> travisjuan@example.com | AJ15: FALSE | AK15: FALSE | AO15: 76340.45 | AP15: Services | AQ15: =IFERROR(IF(LEN(VLOOKUP(AP15, QUICKBOOKS_9130357949969096!$L:$M, 2, 0))=0,"",VLOOKUP(AP15, QUICKBOOKS_9130357949969096!$L:$M, 2, 0)),"") -> 1 | AS15: =IFERROR(IF(LEN(VLOOKUP(AR15, QUICKBOOKS_9130357949969096!$J:$K, 2, 0))=0,"",VLOOKUP(AR15, QUICKBOOKS_9130357949969096!$J:$K, 2, 0)),"") | AT15: Order from Anderson-Waller | AU15: 76340.45 | AV15: 1 | AW15: =IF(OR((AU15*AV15)<>0,AP15<>""),AU15*AV15,"") -> 76340.45 | BB15: =IFERROR(IF(LEN(VLOOKUP(W15, QUICKBOOKS_9130357949969096!$AI:$AJ, 2, 0))=0,"",VLOOKUP(W15, QUICKBOOKS_9130357949969096!$AI:$AJ, 2, 0)),"")
C16: Balance Greater Than or Equal To | P16: =IF(V16<>"",MAX(P$1:P15)+1,IF(AND(_xlfn.CONCAT(T16:BB16)<>"", OR(LEFT(_xlfn.CONCAT(T16:BB16),5)<>"FALSE",RIGHT(_xlfn.CONCAT(T16:BB16),5)<>"FALSE")),IF(AND(ISNUMBER(P15),P15>0),P15,0),"")) | R16: =IF(T16<>"",IF(Q16<>"","Edited","Synced"),IF(P16="","",IF(OR(AP16 = "",AQ16 = "",AU16 = "",AV16 = ""),"Invalid","New"))) | AE16: =IFERROR(IF(LEN(VLOOKUP(AD16, QUICKBOOKS_9130357949969096!$AM:$AN, 2, 0))=0,"",VLOOKUP(AD16, QUICKBOOKS_9130357949969096!$AM:$AN, 2, 0)),"") | AF16: =IFERROR(IF(LEN(VLOOKUP(AD16, QUICKBOOKS_9130357949969096!$C:$E, 3, 0))=0,"",VLOOKUP(AD16, QUICKBOOKS_9130357949969096!$C:$E, 3, 0)),"") | AG16: =IFERROR(IF(LEN(VLOOKUP(AD16, QUICKBOOKS_9130357949969096!$C:$D, 2, 0))=0,"",VLOOKUP(AD16, QUICKBOOKS_9130357949969096!$C:$D, 2, 0)),"") | AQ16: =IFERROR(IF(LEN(VLOOKUP(AP16, QUICKBOOKS_9130357949969096!$L:$M, 2, 0))=0,"",VLOOKUP(AP16, QUICKBOOKS_9130357949969096!$L:$M, 2, 0)),"") | AS16: =IFERROR(IF(LEN(VLOOKUP(AR16, QUICKBOOKS_9130357949969096!$J:$K, 2, 0))=0,"",VLOOKUP(AR16, QUICKBOOKS_9130357949969096!$J:$K, 2, 0)),"") | AW16: =IF(OR((AU16*AV16)<>0,AP16<>""),AU16*AV16,"") | BB16: =IFERROR(IF(LEN(VLOOKUP(W16, QUICKBOOKS_9130357949969096!$AI:$AJ, 2, 0))=0,"",VLOOKUP(W16, QUICKBOOKS_9130357949969096!$AI:$AJ, 2, 0)),"")
C17: Balance Less Than or Equal To | P17: =IF(V17<>"",MAX(P$1:P16)+1,IF(AND(_xlfn.CONCAT(T17:BB17)<>"", OR(LEFT(_xlfn.CONCAT(T17:BB17),5)<>"FALSE",RIGHT(_xlfn.CONCAT(T17:BB17),5)<>"FALSE")),IF(AND(ISNUMBER(P16),P16>0),P16,0),"")) | R17: =IF(T17<>"",IF(Q17<>"","Edited","Synced"),IF(P17="","",IF(OR(AP17 = "",AQ17 = "",AU17 = "",AV17 = ""),"Invalid","New"))) | AE17: =IFERROR(IF(LEN(VLOOKUP(AD17, QUICKBOOKS_9130357949969096!$AM:$AN, 2, 0))=0,"",VLOOKUP(AD17, QUICKBOOKS_9130357949969096!$AM:$AN, 2, 0)),"") | AF17: =IFERROR(IF(LEN(VLOOKUP(AD17, QUICKBOOKS_9130357949969096!$C:$E, 3, 0))=0,"",VLOOKUP(AD17, QUICKBOOKS_9130357949969096!$C:$E, 3, 0)),"") | AG17: =IFERROR(IF(LEN(VLOOKUP(AD17, QUICKBOOKS_9130357949969096!$C:$D, 2, 0))=0,"",VLOOKUP(AD17, QUICKBOOKS_9130357949969096!$C:$D, 2, 0)),"") | AQ17: =IFERROR(IF(LEN(VLOOKUP(AP17, QUICKBOOKS_9130357949969096!$L:$M, 2, 0))=0,"",VLOOKUP(AP17, QUICKBOOKS_9130357949969096!$L:$M, 2, 0)),"") | AS17: =IFERROR(IF(LEN(VLOOKUP(AR17, QUICKBOOKS_9130357949969096!$J:$K, 2, 0))=0,"",VLOOKUP(AR17, QUICKBOOKS_9130357949969096!$J:$K, 2, 0)),"") | AW17: =IF(OR((AU17*AV17)<>0,AP17<>""),AU17*AV17,"") | BB17: =IFERROR(IF(LEN(VLOOKUP(W17, QUICKBOOKS_9130357949969096!$AI:$AJ, 2, 0))=0,"",VLOOKUP(W17, QUICKBOOKS_9130357949969096!$AI:$AJ, 2, 0)),"")
C18: Last Updated Start Date | P18: =IF(V18<>"",MAX(P$1:P17)+1,IF(AND(_xlfn.CONCAT(T18:BB18)<>"", OR(LEFT(_xlfn.CONCAT(T18:BB18),5)<>"FALSE",RIGHT(_xlfn.CONCAT(T18:BB18),5)<>"FALSE")),IF(AND(ISNUMBER(P17),P17>0),P17,0),"")) | R18: =IF(T18<>"",IF(Q18<>"","Edited","Synced"),IF(P18="","",IF(OR(AP18 = "",AQ18 = "",AU18 = "",AV18 = ""),"Invalid","New"))) | AE18: =IFERROR(IF(LEN(VLOOKUP(AD18, QUICKBOOKS_9130357949969096!$AM:$AN, 2, 0))=0,"",VLOOKUP(AD18, QUICKBOOKS_9130357949969096!$AM:$AN, 2, 0)),"") | AF18: =IFERROR(IF(LEN(VLOOKUP(AD18, QUICKBOOKS_9130357949969096!$C:$E, 3, 0))=0,"",VLOOKUP(AD18, QUICKBOOKS_9130357949969096!$C:$E, 3, 0)),"") | AG18: =IFERROR(IF(LEN(VLOOKUP(AD18, QUICKBOOKS_9130357949969096!$C:$D, 2, 0))=0,"",VLOOKUP(AD18, QUICKBOOKS_9130357949969096!$C:$D, 2, 0)),"") | AQ18: =IFERROR(IF(LEN(VLOOKUP(AP18, QUICKBOOKS_9130357949969096!$L:$M, 2, 0))=0,"",VLOOKUP(AP18, QUICKBOOKS_9130357949969096!$L:$M, 2, 0)),"") | AS18: =IFERROR(IF(LEN(VLOOKUP(AR18, QUICKBOOKS_9130357949969096!$J:$K, 2, 0))=0,"",VLOOKUP(AR18, QUICKBOOKS_9130357949969096!$J:$K, 2, 0)),"") | AW18: =IF(OR((AU18*AV18)<>0,AP18<>""),AU18*AV18,"") | BB18: =IFERROR(IF(LEN(VLOOKUP(W18, QUICKBOOKS_9130357949969096!$AI:$AJ, 2, 0))=0,"",VLOOKUP(W18, QUICKBOOKS_9130357949969096!$AI:$AJ, 2, 0)),"")
P19: =IF(V19<>"",MAX(P$1:P18)+1,IF(AND(_xlfn.CONCAT(T19:BB19)<>"", OR(LEFT(_xlfn.CONCAT(T19:BB19),5)<>"FALSE",RIGHT(_xlfn.CONCAT(T19:BB19),5)<>"FALSE")),IF(AND(ISNUMBER(P18),P18>0),P18,0),"")) | R19: =IF(T19<>"",IF(Q19<>"","Edited","Synced"),IF(P19="","",IF(OR(AP19 = "",AQ19 = "",AU19 = "",AV19 = ""),"Invalid","New"))) | AE19: =IFERROR(IF(LEN(VLOOKUP(AD19, QUICKBOOKS_9130357949969096!$AM:$AN, 2, 0))=0,"",VLOOKUP(AD19, QUICKBOOKS_9130357949969096!$AM:$AN, 2, 0)),"") | AF19: =IFERROR(IF(LEN(VLOOKUP(AD19, QUICKBOOKS_9130357949969096!$C:$E, 3, 0))=0,"",VLOOKUP(AD19, QUICKBOOKS_9130357949969096!$C:$E, 3, 0)),"") | AG19: =IFERROR(IF(LEN(VLOOKUP(AD19, QUICKBOOKS_9130357949969096!$C:$D, 2, 0))=0,"",VLOOKUP(AD19, QUICKBOOKS_9130357949969096!$C:$D, 2, 0)),"") | AQ19: =IFERROR(IF(LEN(VLOOKUP(AP19, QUICKBOOKS_9130357949969096!$L:$M, 2, 0))=0,"",VLOOKUP(AP19, QUICKBOOKS_9130357949969096!$L:$M, 2, 0)),"") | AS19: =IFERROR(IF(LEN(VLOOKUP(AR19, QUICKBOOKS_9130357949969096!$J:$K, 2, 0))=0,"",VLOOKUP(AR19, QUICKBOOKS_9130357949969096!$J:$K, 2, 0)),"") | AW19: =IF(OR((AU19*AV19)<>0,AP19<>""),AU19*AV19,"") | BB19: =IFERROR(IF(LEN(VLOOKUP(W19, QUICKBOOKS_9130357949969096!$AI:$AJ, 2, 0))=0,"",VLOOKUP(W19, QUICKBOOKS_9130357949969096!$AI:$AJ, 2, 0)),"")
C20: PLEASE DO NOT ADD ROWS OR COLUMNS TO THIS SHEET | P20: =IF(V20<>"",MAX(P$1:P19)+1,IF(AND(_xlfn.CONCAT(T20:BB20)<>"", OR(LEFT(_xlfn.CONCAT(T20:BB20),5)<>"FALSE",RIGHT(_xlfn.CONCAT(T20:BB20),5)<>"FALSE")),IF(AND(ISNUMBER(P19),P19>0),P19,0),"")) | R20: =IF(T20<>"",IF(Q20<>"","Edited","Synced"),IF(P20="","",IF(OR(AP20 = "",AQ20 = "",AU20 = "",AV20 = ""),"Invalid","New"))) | AE20: =IFERROR(IF(LEN(VLOOKUP(AD20, QUICKBOOKS_9130357949969096!$AM:$AN, 2, 0))=0,"",VLOOKUP(AD20, QUICKBOOKS_9130357949969096!$AM:$AN, 2, 0)),"") | AF20: =IFERROR(IF(LEN(VLOOKUP(AD20, QUICKBOOKS_9130357949969096!$C:$E, 3, 0))=0,"",VLOOKUP(AD20, QUICKBOOKS_9130357949969096!$C:$E, 3, 0)),"") | AG20: =IFERROR(IF(LEN(VLOOKUP(AD20, QUICKBOOKS_9130357949969096!$C:$D, 2, 0))=0,"",VLOOKUP(AD20, QUICKBOOKS_9130357949969096!$C:$D, 2, 0)),"") | AQ20: =IFERROR(IF(LEN(VLOOKUP(AP20, QUICKBOOKS_9130357949969096!$L:$M, 2, 0))=0,"",VLOOKUP(AP20, QUICKBOOKS_9130357949969096!$L:$M, 2, 0)),"") | AS20: =IFERROR(IF(LEN(VLOOKUP(AR20, QUICKBOOKS_9130357949969096!$J:$K, 2, 0))=0,"",VLOOKUP(AR20, QUICKBOOKS_9130357949969096!$J:$K, 2, 0)),"") | AW20: =IF(OR((AU20*AV20)<>0,AP20<>""),AU20*AV20,"") | BB20: =IFERROR(IF(LEN(VLOOKUP(W20, QUICKBOOKS_9130357949969096!$AI:$AJ, 2, 0))=0,"",VLOOKUP(W20, QUICKBOOKS_9130357949969096!$AI:$AJ, 2, 0)),"")
C21: Get help with the Amalgam platform here. | P21: =IF(V21<>"",MAX(P$1:P20)+1,IF(AND(_xlfn.CONCAT(T21:BB21)<>"", OR(LEFT(_xlfn.CONCAT(T21:BB21),5)<>"FALSE",RIGHT(_xlfn.CONCAT(T21:BB21),5)<>"FALSE")),IF(AND(ISNUMBER(P20),P20>0),P20,0),"")) | R21: =IF(T21<>"",IF(Q21<>"","Edited","Synced"),IF(P21="","",IF(OR(AP21 = "",AQ21 = "",AU21 = "",AV21 = ""),"Invalid","New"))) | AE21: =IFERROR(IF(LEN(VLOOKUP(AD21, QUICKBOOKS_9130357949969096!$AM:$AN, 2, 0))=0,"",VLOOKUP(AD21, QUICKBOOKS_9130357949969096!$AM:$AN, 2, 0)),"") | AF21: =IFERROR(IF(LEN(VLOOKUP(AD21, QUICKBOOKS_9130357949969096!$C:$E, 3, 0))=0,"",VLOOKUP(AD21, QUICKBOOKS_9130357949969096!$C:$E, 3, 0)),"") | AG21: =IFERROR(IF(LEN(VLOOKUP(AD21, QUICKBOOKS_9130357949969096!$C:$D, 2, 0))=0,"",VLOOKUP(AD21, QUICKBOOKS_9130357949969096!$C:$D, 2, 0)),"") | AQ21: =IFERROR(IF(LEN(VLOOKUP(AP21, QUICKBOOKS_9130357949969096!$L:$M, 2, 0))=0,"",VLOOKUP(AP21, QUICKBOOKS_9130357949969096!$L:$M, 2, 0)),"") | AS21: =IFERROR(IF(LEN(VLOOKUP(AR21, QUICKBOOKS_9130357949969096!$J:$K, 2, 0))=0,"",VLOOKUP(AR21, QUICKBOOKS_9130357949969096!$J:$K, 2, 0)),"") | AW21: =IF(OR((AU21*AV21)<>0,AP21<>""),AU21*AV21,"") | BB21: =IFERROR(IF(LEN(VLOOKUP(W21, QUICKBOOKS_9130357949969096!$AI:$AJ, 2, 0))=0,"",VLOOKUP(W21, QUICKBOOKS_9130357949969096!$AI:$AJ, 2, 0)),"")
P22: =IF(V22<>"",MAX(P$1:P21)+1,IF(AND(_xlfn.CONCAT(T22:BB22)<>"", OR(LEFT(_xlfn.CONCAT(T22:BB22),5)<>"FALSE",RIGHT(_xlfn.CONCAT(T22:BB22),5)<>"FALSE")),IF(AND(ISNUMBER(P21),P21>0),P21,0),"")) | R22: =IF(T22<>"",IF(Q22<>"","Edited","Synced"),IF(P22="","",IF(OR(AP22 = "",AQ22 = "",AU22 = "",AV22 = ""),"Invalid","New"))) | AE22: =IFERROR(IF(LEN(VLOOKUP(AD22, QUICKBOOKS_9130357949969096!$AM:$AN, 2, 0))=0,"",VLOOKUP(AD22, QUICKBOOKS_9130357949969096!$AM:$AN, 2, 0)),"") | AF22: =IFERROR(IF(LEN(VLOOKUP(AD22, QUICKBOOKS_9130357949969096!$C:$E, 3, 0))=0,"",VLOOKUP(AD22, QUICKBOOKS_9130357949969096!$C:$E, 3, 0)),"") | AG22: =IFERROR(IF(LEN(VLOOKUP(AD22, QUICKBOOKS_9130357949969096!$C:$D, 2, 0))=0,"",VLOOKUP(AD22, QUICKBOOKS_9130357949969096!$C:$D, 2, 0)),"") | AQ22: =IFERROR(IF(LEN(VLOOKUP(AP22, QUICKBOOKS_9130357949969096!$L:$M, 2, 0))=0,"",VLOOKUP(AP22, QUICKBOOKS_9130357949969096!$L:$M, 2, 0)),"") | AS22: =IFERROR(IF(LEN(VLOOKUP(AR22, QUICKBOOKS_9130357949969096!$J:$K, 2, 0))=0,"",VLOOKUP(AR22, QUICKBOOKS_9130357949969096!$J:$K, 2, 0)),"") | AW22: =IF(OR((AU22*AV22)<>0,AP22<>""),AU22*AV22,"") | BB22: =IFERROR(IF(LEN(VLOOKUP(W22, QUICKBOOKS_9130357949969096!$AI:$AJ, 2, 0))=0,"",VLOOKUP(W22, QUICKBOOKS_9130357949969096!$AI:$AJ, 2, 0)),"")
P23: =IF(V23<>"",MAX(P$1:P22)+1,IF(AND(_xlfn.CONCAT(T23:BB23)<>"", OR(LEFT(_xlfn.CONCAT(T23:BB23),5)<>"FALSE",RIGHT(_xlfn.CONCAT(T23:BB23),5)<>"FALSE")),IF(AND(ISNUMBER(P22),P22>0),P22,0),"")) | R23: =IF(T23<>"",IF(Q23<>"","Edited","Synced"),IF(P23="","",IF(OR(AP23 = "",AQ23 = "",AU23 = "",AV23 = ""),"Invalid","New"))) | AE23: =IFERROR(IF(LEN(VLOOKUP(AD23, QUICKBOOKS_9130357949969096!$AM:$AN, 2, 0))=0,"",VLOOKUP(AD23, QUICKBOOKS_9130357949969096!$AM:$AN, 2, 0)),"") | AF23: =IFERROR(IF(LEN(VLOOKUP(AD23, QUICKBOOKS_9130357949969096!$C:$E, 3, 0))=0,"",VLOOKUP(AD23, QUICKBOOKS_9130357949969096!$C:$E, 3, 0)),"") | AG23: =IFERROR(IF(LEN(VLOOKUP(AD23, QUICKBOOKS_9130357949969096!$C:$D, 2, 0))=0,"",VLOOKUP(AD23, QUICKBOOKS_9130357949969096!$C:$D, 2, 0)),"") | AQ23: =IFERROR(IF(LEN(VLOOKUP(AP23, QUICKBOOKS_9130357949969096!$L:$M, 2, 0))=0,"",VLOOKUP(AP23, QUICKBOOKS_9130357949969096!$L:$M, 2, 0)),"") | AS23: =IFERROR(IF(LEN(VLOOKUP(AR23, QUICKBOOKS_9130357949969096!$J:$K, 2, 0))=0,"",VLOOKUP(AR23, QUICKBOOKS_9130357949969096!$J:$K, 2, 0)),"") | AW23: =IF(OR((AU23*AV23)<>0,AP23<>""),AU23*AV23,"") | BB23: =IFERROR(IF(LEN(VLOOKUP(W23, QUICKBOOKS_9130357949969096!$AI:$AJ, 2, 0))=0,"",VLOOKUP(W23, QUICKBOOKS_9130357949969096!$AI:$AJ, 2, 0)),"")
P24: =IF(V24<>"",MAX(P$1:P23)+1,IF(AND(_xlfn.CONCAT(T24:BB24)<>"", OR(LEFT(_xlfn.CONCAT(T24:BB24),5)<>"FALSE",RIGHT(_xlfn.CONCAT(T24:BB24),5)<>"FALSE")),IF(AND(ISNUMBER(P23),P23>0),P23,0),"")) | R24: =IF(T24<>"",IF(Q24<>"","Edited","Synced"),IF(P24="","",IF(OR(AP24 = "",AQ24 = "",AU24 = "",AV24 = ""),"Invalid","New"))) | AE24: =IFERROR(IF(LEN(VLOOKUP(AD24, QUICKBOOKS_9130357949969096!$AM:$AN, 2, 0))=0,"",VLOOKUP(AD24, QUICKBOOKS_9130357949969096!$AM:$AN, 2, 0)),"") | AF24: =IFERROR(IF(LEN(VLOOKUP(AD24, QUICKBOOKS_9130357949969096!$C:$E, 3, 0))=0,"",VLOOKUP(AD24, QUICKBOOKS_9130357949969096!$C:$E, 3, 0)),"") | AG24: =IFERROR(IF(LEN(VLOOKUP(AD24, QUICKBOOKS_9130357949969096!$C:$D, 2, 0))=0,"",VLOOKUP(AD24, QUICKBOOKS_9130357949969096!$C:$D, 2, 0)),"") | AQ24: =IFERROR(IF(LEN(VLOOKUP(AP24, QUICKBOOKS_9130357949969096!$L:$M, 2, 0))=0,"",VLOOKUP(AP24, QUICKBOOKS_9130357949969096!$L:$M, 2, 0)),"") | AS24: =IFERROR(IF(LEN(VLOOKUP(AR24, QUICKBOOKS_9130357949969096!$J:$K, 2, 0))=0,"",VLOOKUP(AR24, QUICKBOOKS_9130357949969096!$J:$K, 2, 0)),"") | AW24: =IF(OR((AU24*AV24)<>0,AP24<>""),AU24*AV24,"") | BB24: =IFERROR(IF(LEN(VLOOKUP(W24, QUICKBOOKS_9130357949969096!$AI:$AJ, 2, 0))=0,"",VLOOKUP(W24, QUICKBOOKS_9130357949969096!$AI:$AJ, 2, 0)),"")
P25: =IF(V25<>"",MAX(P$1:P24)+1,IF(AND(_xlfn.CONCAT(T25:BB25)<>"", OR(LEFT(_xlfn.CONCAT(T25:BB25),5)<>"FALSE",RIGHT(_xlfn.CONCAT(T25:BB25),5)<>"FALSE")),IF(AND(ISNUMBER(P24),P24>0),P24,0),"")) | R25: =IF(T25<>"",IF(Q25<>"","Edited","Synced"),IF(P25="","",IF(OR(AP25 = "",AQ25 = "",AU25 = "",AV25 = ""),"Invalid","New"))) | AE25: =IFERROR(IF(LEN(VLOOKUP(AD25, QUICKBOOKS_9130357949969096!$AM:$AN, 2, 0))=0,"",VLOOKUP(AD25, QUICKBOOKS_9130357949969096!$AM:$AN, 2, 0)),"") | AF25: =IFERROR(IF(LEN(VLOOKUP(AD25, QUICKBOOKS_9130357949969096!$C:$E, 3, 0))=0,"",VLOOKUP(AD25, QUICKBOOKS_9130357949969096!$C:$E, 3, 0)),"") | AG25: =IFERROR(IF(LEN(VLOOKUP(AD25, QUICKBOOKS_9130357949969096!$C:$D, 2, 0))=0,"",VLOOKUP(AD25, QUICKBOOKS_9130357949969096!$C:$D, 2, 0)),"") | AQ25: =IFERROR(IF(LEN(VLOOKUP(AP25, QUICKBOOKS_9130357949969096!$L:$M, 2, 0))=0,"",VLOOKUP(AP25, QUICKBOOKS_9130357949969096!$L:$M, 2, 0)),"") | AS25: =IFERROR(IF(LEN(VLOOKUP(AR25, QUICKBOOKS_9130357949969096!$J:$K, 2, 0))=0,"",VLOOKUP(AR25, QUICKBOOKS_9130357949969096!$J:$K, 2, 0)),"") | AW25: =IF(OR((AU25*AV25)<>0,AP25<>""),AU25*AV25,"") | BB25: =IFERROR(IF(LEN(VLOOKUP(W25, QUICKBOOKS_9130357949969096!$AI:$AJ, 2, 0))=0,"",VLOOKUP(W25, QUICKBOOKS_9130357949969096!$AI:$AJ, 2, 0)),"")
P26: =IF(V26<>"",MAX(P$1:P25)+1,IF(AND(_xlfn.CONCAT(T26:BB26)<>"", OR(LEFT(_xlfn.CONCAT(T26:BB26),5)<>"FALSE",RIGHT(_xlfn.CONCAT(T26:BB26),5)<>"FALSE")),IF(AND(ISNUMBER(P25),P25>0),P25,0),"")) | R26: =IF(T26<>"",IF(Q26<>"","Edited","Synced"),IF(P26="","",IF(OR(AP26 = "",AQ26 = "",AU26 = "",AV26 = ""),"Invalid","New"))) | AE26: =IFERROR(IF(LEN(VLOOKUP(AD26, QUICKBOOKS_9130357949969096!$AM:$AN, 2, 0))=0,"",VLOOKUP(AD26, QUICKBOOKS_9130357949969096!$AM:$AN, 2, 0)),"") | AF26: =IFERROR(IF(LEN(VLOOKUP(AD26, QUICKBOOKS_9130357949969096!$C:$E, 3, 0))=0,"",VLOOKUP(AD26, QUICKBOOKS_9130357949969096!$C:$E, 3, 0)),"") | AG26: =IFERROR(IF(LEN(VLOOKUP(AD26, QUICKBOOKS_9130357949969096!$C:$D, 2, 0))=0,"",VLOOKUP(AD26, QUICKBOOKS_9130357949969096!$C:$D, 2, 0)),"") | AQ26: =IFERROR(IF(LEN(VLOOKUP(AP26, QUICKBOOKS_9130357949969096!$L:$M, 2, 0))=0,"",VLOOKUP(AP26, QUICKBOOKS_9130357949969096!$L:$M, 2, 0)),"") | AS26: =IFERROR(IF(LEN(VLOOKUP(AR26, QUICKBOOKS_9130357949969096!$J:$K, 2, 0))=0,"",VLOOKUP(AR26, QUICKBOOKS_9130357949969096!$J:$K, 2, 0)),"") | AW26: =IF(OR((AU26*AV26)<>0,AP26<>""),AU26*AV26,"") | BB26: =IFERROR(IF(LEN(VLOOKUP(W26, QUICKBOOKS_9130357949969096!$AI:$AJ, 2, 0))=0,"",VLOOKUP(W26, QUICKBOOKS_9130357949969096!$AI:$AJ, 2, 0)),"")
P27: =IF(V27<>"",MAX(P$1:P26)+1,IF(AND(_xlfn.CONCAT(T27:BB27)<>"", OR(LEFT(_xlfn.CONCAT(T27:BB27),5)<>"FALSE",RIGHT(_xlfn.CONCAT(T27:BB27),5)<>"FALSE")),IF(AND(ISNUMBER(P26),P26>0),P26,0),"")) | R27: =IF(T27<>"",IF(Q27<>"","Edited","Synced"),IF(P27="","",IF(OR(AP27 = "",AQ27 = "",AU27 = "",AV27 = ""),"Invalid","New"))) | AE27: =IFERROR(IF(LEN(VLOOKUP(AD27, QUICKBOOKS_9130357949969096!$AM:$AN, 2, 0))=0,"",VLOOKUP(AD27, QUICKBOOKS_9130357949969096!$AM:$AN, 2, 0)),"") | AF27: =IFERROR(IF(LEN(VLOOKUP(AD27, QUICKBOOKS_9130357949969096!$C:$E, 3, 0))=0,"",VLOOKUP(AD27, QUICKBOOKS_9130357949969096!$C:$E, 3, 0)),"") | AG27: =IFERROR(IF(LEN(VLOOKUP(AD27, QUICKBOOKS_9130357949969096!$C:$D, 2, 0))=0,"",VLOOKUP(AD27, QUICKBOOKS_9130357949969096!$C:$D, 2, 0)),"") | AQ27: =IFERROR(IF(LEN(VLOOKUP(AP27, QUICKBOOKS_9130357949969096!$L:$M, 2, 0))=0,"",VLOOKUP(AP27, QUICKBOOKS_9130357949969096!$L:$M, 2, 0)),"") | AS27: =IFERROR(IF(LEN(VLOOKUP(AR27, QUICKBOOKS_9130357949969096!$J:$K, 2, 0))=0,"",VLOOKUP(AR27, QUICKBOOKS_9130357949969096!$J:$K, 2, 0)),"") | AW27: =IF(OR((AU27*AV27)<>0,AP27<>""),AU27*AV27,"") | BB27: =IFERROR(IF(LEN(VLOOKUP(W27, QUICKBOOKS_9130357949969096!$AI:$AJ, 2, 0))=0,"",VLOOKUP(W27, QUICKBOOKS_9130357949969096!$AI:$AJ, 2, 0)),"")
P28: =IF(V28<>"",MAX(P$1:P27)+1,IF(AND(_xlfn.CONCAT(T28:BB28)<>"", OR(LEFT(_xlfn.CONCAT(T28:BB28),5)<>"FALSE",RIGHT(_xlfn.CONCAT(T28:BB28),5)<>"FALSE")),IF(AND(ISNUMBER(P27),P27>0),P27,0),"")) | R28: =IF(T28<>"",IF(Q28<>"","Edited","Synced"),IF(P28="","",IF(OR(AP28 = "",AQ28 = "",AU28 = "",AV28 = ""),"Invalid","New"))) | AE28: =IFERROR(IF(LEN(VLOOKUP(AD28, QUICKBOOKS_9130357949969096!$AM:$AN, 2, 0))=0,"",VLOOKUP(AD28, QUICKBOOKS_9130357949969096!$AM:$AN, 2, 0)),"") | AF28: =IFERROR(IF(LEN(VLOOKUP(AD28, QUICKBOOKS_9130357949969096!$C:$E, 3, 0))=0,"",VLOOKUP(AD28, QUICKBOOKS_9130357949969096!$C:$E, 3, 0)),"") | AG28: =IFERROR(IF(LEN(VLOOKUP(AD28, QUICKBOOKS_9130357949969096!$C:$D, 2, 0))=0,"",VLOOKUP(AD28, QUICKBOOKS_9130357949969096!$C:$D, 2, 0)),"") | AQ28: =IFERROR(IF(LEN(VLOOKUP(AP28, QUICKBOOKS_9130357949969096!$L:$M, 2, 0))=0,"",VLOOKUP(AP28, QUICKBOOKS_9130357949969096!$L:$M, 2, 0)),"") | AS28: =IFERROR(IF(LEN(VLOOKUP(AR28, QUICKBOOKS_9130357949969096!$J:$K, 2, 0))=0,"",VLOOKUP(AR28, QUICKBOOKS_9130357949969096!$J:$K, 2, 0)),"") | AW28: =IF(OR((AU28*AV28)<>0,AP28<>""),AU28*AV28,"") | BB28: =IFERROR(IF(LEN(VLOOKUP(W28, QUICKBOOKS_9130357949969096!$AI:$AJ, 2, 0))=0,"",VLOOKUP(W28, QUICKBOOKS_9130357949969096!$AI:$AJ, 2, 0)),"")
P29: =IF(V29<>"",MAX(P$1:P28)+1,IF(AND(_xlfn.CONCAT(T29:BB29)<>"", OR(LEFT(_xlfn.CONCAT(T29:BB29),5)<>"FALSE",RIGHT(_xlfn.CONCAT(T29:BB29),5)<>"FALSE")),IF(AND(ISNUMBER(P28),P28>0),P28,0),"")) | R29: =IF(T29<>"",IF(Q29<>"","Edited","Synced"),IF(P29="","",IF(OR(AP29 = "",AQ29 = "",AU29 = "",AV29 = ""),"Invalid","New"))) | AE29: =IFERROR(IF(LEN(VLOOKUP(AD29, QUICKBOOKS_9130357949969096!$AM:$AN, 2, 0))=0,"",VLOOKUP(AD29, QUICKBOOKS_9130357949969096!$AM:$AN, 2, 0)),"") | AF29: =IFERROR(IF(LEN(VLOOKUP(AD29, QUICKBOOKS_9130357949969096!$C:$E, 3, 0))=0,"",VLOOKUP(AD29, QUICKBOOKS_9130357949969096!$C:$E, 3, 0)),"") | AG29: =IFERROR(IF(LEN(VLOOKUP(AD29, QUICKBOOKS_9130357949969096!$C:$D, 2, 0))=0,"",VLOOKUP(AD29, QUICKBOOKS_9130357949969096!$C:$D, 2, 0)),"") | AQ29: =IFERROR(IF(LEN(VLOOKUP(AP29, QUICKBOOKS_9130357949969096!$L:$M, 2, 0))=0,"",VLOOKUP(AP29, QUICKBOOKS_9130357949969096!$L:$M, 2, 0)),"") | AS29: =IFERROR(IF(LEN(VLOOKUP(AR29, QUICKBOOKS_9130357949969096!$J:$K, 2, 0))=0,"",VLOOKUP(AR29, QUICKBOOKS_9130357949969096!$J:$K, 2, 0)),"") | AW29: =IF(OR((AU29*AV29)<>0,AP29<>""),AU29*AV29,"") | BB29: =IFERROR(IF(LEN(VLOOKUP(W29, QUICKBOOKS_9130357949969096!$AI:$AJ, 2, 0))=0,"",VLOOKUP(W29, QUICKBOOKS_9130357949969096!$AI:$AJ, 2, 0)),"")
P30: =IF(V30<>"",MAX(P$1:P29)+1,IF(AND(_xlfn.CONCAT(T30:BB30)<>"", OR(LEFT(_xlfn.CONCAT(T30:BB30),5)<>"FALSE",RIGHT(_xlfn.CONCAT(T30:BB30),5)<>"FALSE")),IF(AND(ISNUMBER(P29),P29>0),P29,0),"")) | R30: =IF(T30<>"",IF(Q30<>"","Edited","Synced"),IF(P30="","",IF(OR(AP30 = "",AQ30 = "",AU30 = "",AV30 = ""),"Invalid","New"))) | AE30: =IFERROR(IF(LEN(VLOOKUP(AD30, QUICKBOOKS_9130357949969096!$AM:$AN, 2, 0))=0,"",VLOOKUP(AD30, QUICKBOOKS_9130357949969096!$AM:$AN, 2, 0)),"") | AF30: =IFERROR(IF(LEN(VLOOKUP(AD30, QUICKBOOKS_9130357949969096!$C:$E, 3, 0))=0,"",VLOOKUP(AD30, QUICKBOOKS_9130357949969096!$C:$E, 3, 0)),"") | AG30: =IFERROR(IF(LEN(VLOOKUP(AD30, QUICKBOOKS_9130357949969096!$C:$D, 2, 0))=0,"",VLOOKUP(AD30, QUICKBOOKS_9130357949969096!$C:$D, 2, 0)),"") | AQ30: =IFERROR(IF(LEN(VLOOKUP(AP30, QUICKBOOKS_9130357949969096!$L:$M, 2, 0))=0,"",VLOOKUP(AP30, QUICKBOOKS_9130357949969096!$L:$M, 2, 0)),"") | AS30: =IFERROR(IF(LEN(VLOOKUP(AR30, QUICKBOOKS_9130357949969096!$J:$K, 2, 0))=0,"",VLOOKUP(AR30, QUICKBOOKS_9130357949969096!$J:$K, 2, 0)),"") | AW30: =IF(OR((AU30*AV30)<>0,AP30<>""),AU30*AV30,"") | BB30: =IFERROR(IF(LEN(VLOOKUP(W30, QUICKBOOKS_9130357949969096!$AI:$AJ, 2, 0))=0,"",VLOOKUP(W30, QUICKBOOKS_9130357949969096!$AI:$AJ, 2, 0)),"")
P31: =IF(V31<>"",MAX(P$1:P30)+1,IF(AND(_xlfn.CONCAT(T31:BB31)<>"", OR(LEFT(_xlfn.CONCAT(T31:BB31),5)<>"FALSE",RIGHT(_xlfn.CONCAT(T31:BB31),5)<>"FALSE")),IF(AND(ISNUMBER(P30),P30>0),P30,0),"")) | R31: =IF(T31<>"",IF(Q31<>"","Edited","Synced"),IF(P31="","",IF(OR(AP31 = "",AQ31 = "",AU31 = "",AV31 = ""),"Invalid","New"))) | AE31: =IFERROR(IF(LEN(VLOOKUP(AD31, QUICKBOOKS_9130357949969096!$AM:$AN, 2, 0))=0,"",VLOOKUP(AD31, QUICKBOOKS_9130357949969096!$AM:$AN, 2, 0)),"") | AF31: =IFERROR(IF(LEN(VLOOKUP(AD31, QUICKBOOKS_9130357949969096!$C:$E, 3, 0))=0,"",VLOOKUP(AD31, QUICKBOOKS_9130357949969096!$C:$E, 3, 0)),"") | AG31: =IFERROR(IF(LEN(VLOOKUP(AD31, QUICKBOOKS_9130357949969096!$C:$D, 2, 0))=0,"",VLOOKUP(AD31, QUICKBOOKS_9130357949969096!$C:$D, 2, 0)),"") | AQ31: =IFERROR(IF(LEN(VLOOKUP(AP31, QUICKBOOKS_9130357949969096!$L:$M, 2, 0))=0,"",VLOOKUP(AP31, QUICKBOOKS_9130357949969096!$L:$M, 2, 0)),"") | AS31: =IFERROR(IF(LEN(VLOOKUP(AR31, QUICKBOOKS_9130357949969096!$J:$K, 2, 0))=0,"",VLOOKUP(AR31, QUICKBOOKS_9130357949969096!$J:$K, 2, 0)),"") | AW31: =IF(OR((AU31*AV31)<>0,AP31<>""),AU31*AV31,"") | BB31: =IFERROR(IF(LEN(VLOOKUP(W31, QUICKBOOKS_9130357949969096!$AI:$AJ, 2, 0))=0,"",VLOOKUP(W31, QUICKBOOKS_9130357949969096!$AI:$AJ, 2, 0)),"")
P32: =IF(V32<>"",MAX(P$1:P31)+1,IF(AND(_xlfn.CONCAT(T32:BB32)<>"", OR(LEFT(_xlfn.CONCAT(T32:BB32),5)<>"FALSE",RIGHT(_xlfn.CONCAT(T32:BB32),5)<>"FALSE")),IF(AND(ISNUMBER(P31),P31>0),P31,0),"")) | R32: =IF(T32<>"",IF(Q32<>"","Edited","Synced"),IF(P32="","",IF(OR(AP32 = "",AQ32 = "",AU32 = "",AV32 = ""),"Invalid","New"))) | AE32: =IFERROR(IF(LEN(VLOOKUP(AD32, QUICKBOOKS_9130357949969096!$AM:$AN, 2, 0))=0,"",VLOOKUP(AD32, QUICKBOOKS_9130357949969096!$AM:$AN, 2, 0)),"") | AF32: =IFERROR(IF(LEN(VLOOKUP(AD32, QUICKBOOKS_9130357949969096!$C:$E, 3, 0))=0,"",VLOOKUP(AD32, QUICKBOOKS_9130357949969096!$C:$E, 3, 0)),"") | AG32: =IFERROR(IF(LEN(VLOOKUP(AD32, QUICKBOOKS_9130357949969096!$C:$D, 2, 0))=0,"",VLOOKUP(AD32, QUICKBOOKS_9130357949969096!$C:$D, 2, 0)),"") | AQ32: =IFERROR(IF(LEN(VLOOKUP(AP32, QUICKBOOKS_9130357949969096!$L:$M, 2, 0))=0,"",VLOOKUP(AP32, QUICKBOOKS_9130357949969096!$L:$M, 2, 0)),"") | AS32: =IFERROR(IF(LEN(VLOOKUP(AR32, QUICKBOOKS_9130357949969096!$J:$K, 2, 0))=0,"",VLOOKUP(AR32, QUICKBOOKS_9130357949969096!$J:$K, 2, 0)),"") | AW32: =IF(OR((AU32*AV32)<>0,AP32<>""),AU32*AV32,"") | BB32: =IFERROR(IF(LEN(VLOOKUP(W32, QUICKBOOKS_9130357949969096!$AI:$AJ, 2, 0))=0,"",VLOOKUP(W32, QUICKBOOKS_9130357949969096!$AI:$AJ, 2, 0)),"")
P33: =IF(V33<>"",MAX(P$1:P32)+1,IF(AND(_xlfn.CONCAT(T33:BB33)<>"", OR(LEFT(_xlfn.CONCAT(T33:BB33),5)<>"FALSE",RIGHT(_xlfn.CONCAT(T33:BB33),5)<>"FALSE")),IF(AND(ISNUMBER(P32),P32>0),P32,0),"")) | R33: =IF(T33<>"",IF(Q33<>"","Edited","Synced"),IF(P33="","",IF(OR(AP33 = "",AQ33 = "",AU33 = "",AV33 = ""),"Invalid","New"))) | AE33: =IFERROR(IF(LEN(VLOOKUP(AD33, QUICKBOOKS_9130357949969096!$AM:$AN, 2, 0))=0,"",VLOOKUP(AD33, QUICKBOOKS_9130357949969096!$AM:$AN, 2, 0)),"") | AF33: =IFERROR(IF(LEN(VLOOKUP(AD33, QUICKBOOKS_9130357949969096!$C:$E, 3, 0))=0,"",VLOOKUP(AD33, QUICKBOOKS_9130357949969096!$C:$E, 3, 0)),"") | AG33: =IFERROR(IF(LEN(VLOOKUP(AD33, QUICKBOOKS_9130357949969096!$C:$D, 2, 0))=0,"",VLOOKUP(AD33, QUICKBOOKS_9130357949969096!$C:$D, 2, 0)),"") | AQ33: =IFERROR(IF(LEN(VLOOKUP(AP33, QUICKBOOKS_9130357949969096!$L:$M, 2, 0))=0,"",VLOOKUP(AP33, QUICKBOOKS_9130357949969096!$L:$M, 2, 0)),"") | AS33: =IFERROR(IF(LEN(VLOOKUP(AR33, QUICKBOOKS_9130357949969096!$J:$K, 2, 0))=0,"",VLOOKUP(AR33, QUICKBOOKS_9130357949969096!$J:$K, 2, 0)),"") | AW33: =IF(OR((AU33*AV33)<>0,AP33<>""),AU33*AV33,"") | BB33: =IFERROR(IF(LEN(VLOOKUP(W33, QUICKBOOKS_9130357949969096!$AI:$AJ, 2, 0))=0,"",VLOOKUP(W33, QUICKBOOKS_9130357949969096!$AI:$AJ, 2, 0)),"")
... P276: =IF(V276<>"",MAX(P$1:P275)+1,IF(AND(_xlfn.CONCAT(T276:BB276)<>"", OR(LEFT(_xlfn.CONCAT(T276:BB276),5)<>"FALSE",RIGHT(_xlfn.CONCAT(T276:BB276),5)<>"FALSE")),IF(AND(ISNUMBER(P275),P275>0),P275,0),"")) | R276: =IF(T276<>"",IF(Q276<>"","Edited","Synced"),IF(P276="","",IF(OR(AP276 = "",AQ276 = "",AU276 = "",AV276 = ""),"Invalid","New"))) | AE276: =IFERROR(IF(LEN(VLOOKUP(AD276, QUICKBOOKS_9130357949969096!$AM:$AN, 2, 0))=0,"",VLOOKUP(AD276, QUICKBOOKS_9130357949969096!$AM:$AN, 2, 0)),"") | AF276: =IFERROR(IF(LEN(VLOOKUP(AD276, QUICKBOOKS_9130357949969096!$C:$E, 3, 0))=0,"",VLOOKUP(AD276, QUICKBOOKS_9130357949969096!$C:$E, 3, 0)),"") | AG276: =IFERROR(IF(LEN(VLOOKUP(AD276, QUICKBOOKS_9130357949969096!$C:$D, 2, 0))=0,"",VLOOKUP(AD276, QUICKBOOKS_9130357949969096!$C:$D, 2, 0)),"") | AQ276: =IFERROR(IF(LEN(VLOOKUP(AP276, QUICKBOOKS_9130357949969096!$L:$M, 2, 0))=0,"",VLOOKUP(AP276, QUICKBOOKS_9130357949969096!$L:$M, 2, 0)),"") | AS276: =IFERROR(IF(LEN(VLOOKUP(AR276, QUICKBOOKS_9130357949969096!$J:$K, 2, 0))=0,"",VLOOKUP(AR276, QUICKBOOKS_9130357949969096!$J:$K, 2, 0)),"") | AW276: =IF(OR((AU276*AV276)<>0,AP276<>""),AU276*AV276,"") | BB276: =IFERROR(IF(LEN(VLOOKUP(W276, QUICKBOOKS_9130357949969096!$AI:$AJ, 2, 0))=0,"",VLOOKUP(W276, QUICKBOOKS_9130357949969096!$AI:$AJ, 2, 0)),"")

Sheet Revenue Schedule
B2: =client_name -> Amalgam
B3: Revenue Amortization
B4: ="Through "&TEXT(date,"Mmmm dd, YYYY") -> Through March 31, 2024
C6: Client | D6: Invoice # | E6: Line Amount | F6: Inv. Date | G6: Inv. Month | H6: Start Date | I6: End Date | J6: Months | L6: 45291 | M6: =EOMONTH(L6,1) -> 45322 | N6: =EOMONTH(M6,1) -> 45351 | O6: =EOMONTH(N6,1) -> 45382 | P6: =EOMONTH(O6,1) -> 45412 | Q6: =EOMONTH(P6,1) -> 45443 | R6: =EOMONTH(Q6,1) -> 45473 | S6: =EOMONTH(R6,1) -> 45504 | T6: =EOMONTH(S6,1) -> 45535 | ... AJ6: =EOMONTH(AI6,1) -> 46022
C7: =data_Invoices!AD2 -> Hunt LLC | D7: =data_Invoices!Y2 -> 101 | E7: =data_Invoices!AW2 -> 91979.48 | F7: =data_Invoices!V2 -> 45295 | G7: =EOMONTH(F7,0) -> 45322 | H7: =EOMONTH(F7,0)+1 -> 45323 | I7: =EOMONTH(H7,J7-1) -> 45688 | J7: =IF(OR(C7="Vargas Inc",C7="ColemanLtd"),6,12) -> 12 | L7: =IF(OR(EOMONTH($H7,0)>L$6,EOMONTH($I7,0)<L$6),0,IF(AND(EOMONTH($H7,0)<>L$6,EOMONTH($I7,0)<>L$6),$E7/$J7,IF(EOMONTH($H7,0)=L$6,(((L$6+1)-$H7)/(L$6-K$6))*($E7/$J7),IF(EOMONTH($I7,0)=L$6,(($I7-K$6)/(L$6-K$6))*($E7/$J7),"ERROR")))) -> 0 | M7: =IF(OR(EOMONTH($H7,0)>M$6,EOMONTH($I7,0)<M$6),0,IF(AND(EOMONTH($H7,0)<>M$6,EOMONTH($I7,0)<>M$6),$E7/$J7,IF(EOMONTH($H7,0)=M$6,(((M$6+1)-$H7)/(M$6-L$6))*($E7/$J7),IF(EOMONTH($I7,0)=M$6,(($I7-L$6)/(M$6-L$6))*($E7/$J7),"ERROR")))) -> 0 | N7: =IF(OR(EOMONTH($H7,0)>N$6,EOMONTH($I7,0)<N$6),0,IF(AND(EOMONTH($H7,0)<>N$6,EOMONTH($I7,0)<>N$6),$E7/$J7,IF(EOMONTH($H7,0)=N$6,(((N$6+1)-$H7)/(N$6-M$6))*($E7/$J7),IF(EOMONTH($I7,0)=N$6,(($I7-M$6)/(N$6-M$6))*($E7/$J7),"ERROR")))) -> 7664.9567 | O7: =IF(OR(EOMONTH($H7,0)>O$6,EOMONTH($I7,0)<O$6),0,IF(AND(EOMONTH($H7,0)<>O$6,EOMONTH($I7,0)<>O$6),$E7/$J7,IF(EOMONTH($H7,0)=O$6,(((O$6+1)-$H7)/(O$6-N$6))*($E7/$J7),IF(EOMONTH($I7,0)=O$6,(($I7-N$6)/(O$6-N$6))*($E7/$J7),"ERROR")))) -> 7664.9567 | P7: =IF(OR(EOMONTH($H7,0)>P$6,EOMONTH($I7,0)<P$6),0,IF(AND(EOMONTH($H7,0)<>P$6,EOMONTH($I7,0)<>P$6),$E7/$J7,IF(EOMONTH($H7,0)=P$6,(((P$6+1)-$H7)/(P$6-O$6))*($E7/$J7),IF(EOMONTH($I7,0)=P$6,(($I7-O$6)/(P$6-O$6))*($E7/$J7),"ERROR")))) -> 7664.9567 | Q7: =IF(OR(EOMONTH($H7,0)>Q$6,EOMONTH($I7,0)<Q$6),0,IF(AND(EOMONTH($H7,0)<>Q$6,EOMONTH($I7,0)<>Q$6),$E7/$J7,IF(EOMONTH($H7,0)=Q$6,(((Q$6+1)-$H7)/(Q$6-P$6))*($E7/$J7),IF(EOMONTH($I7,0)=Q$6,(($I7-P$6)/(Q$6-P$6))*($E7/$J7),"ERROR")))) -> 7664.9567 | R7: =IF(OR(EOMONTH($H7,0)>R$6,EOMONTH($I7,0)<R$6),0,IF(AND(EOMONTH($H7,0)<>R$6,EOMONTH($I7,0)<>R$6),$E7/$J7,IF(EOMONTH($H7,0)=R$6,(((R$6+1)-$H7)/(R$6-Q$6))*($E7/$J7),IF(EOMONTH($I7,0)=R$6,(($I7-Q$6)/(R$6-Q$6))*($E7/$J7),"ERROR")))) -> 7664.9567 | S7: =IF(OR(EOMONTH($H7,0)>S$6,EOMONTH($I7,0)<S$6),0,IF(AND(EOMONTH($H7,0)<>S$6,EOMONTH($I7,0)<>S$6),$E7/$J7,IF(EOMONTH($H7,0)=S$6,(((S$6+1)-$H7)/(S$6-R$6))*($E7/$J7),IF(EOMONTH($I7,0)=S$6,(($I7-R$6)/(S$6-R$6))*($E7/$J7),"ERROR")))) -> 7664.9567 | ... AJ7: =IF(OR(EOMONTH($H7,0)>AJ$6,EOMONTH($I7,0)<AJ$6),0,IF(AND(EOMONTH($H7,0)<>AJ$6,EOMONTH($I7,0)<>AJ$6),$E7/$J7,IF(EOMONTH($H7,0)=AJ$6,(((AJ$6+1)-$H7)/(AJ$6-AI$6))*($E7/$J7),IF(EOMONTH($I7,0)=AJ$6,(($I7-AI$6)/(AJ$6-AI$6))*($E7/$J7),"ERROR")))) -> 0
