Workbook

Sheet Calculadora
B2: Simulador Renda Extra com Ações
B5: Renda mensal desejada | E5: Capital Necessário | G5: Yield Médio da Carteira (ao ano)
B6: 1000 | E6: =Dados!K11 -> 161574.82 | G6: =Dados!$K$16 -> 0.07685
B8: Alocação Recomendada EQI (Research)
B9: Mês: Agosto-26
C10: Cateira Mais Dividendos com Ações | J10: Grafico 01: Yield Projetado por Empresa
C11: Empresa | D11: Ticker | E11: Setor | F11: % | G11: em R$ | H11: Yield Projetado
C12: =Dados!$B13 -> Itaúsa | D12: =Dados!$C13 -> ITSA4 | E12: =Dados!$D13 -> Bancos | F12: 0.1 | G12: =Dados!$Q13 -> 16157.482 | H12: =Dados!F13 -> 0.083
C13: =Dados!$B14 -> Axia | D13: =Dados!$C14 -> AXIA3 | E13: =Dados!$D14 -> Energia | F13: 0.1 | G13: =Dados!$Q14 -> 16157.482 | H13: =Dados!F14 -> 0.076
C14: =Dados!$B15 -> Petrobras S.A. | D14: =Dados!$C15 -> PETR4 | E14: =Dados!$D15 -> Commodities | F14: 0.1 | G14: =Dados!$Q15 -> 16157.482 | H14: =Dados!F15 -> 0.102
C15: =Dados!$B16 -> Copel | D15: =Dados!$C16 -> CPLE3 | E15: =Dados!$D16 -> Energia | F15: 0.1 | G15: =Dados!$Q16 -> 16157.482 | H15: =Dados!F16 -> 0.058
C16: =Dados!$B17 -> Klabin | D16: =Dados!$C17 -> KLBN11 | E16: =Dados!$D17 -> Commodities | F16: 0.1 | G16: =Dados!$Q17 -> 16157.482 | H16: =Dados!F17 -> 0.077
C17: =Dados!$B18 -> Alupar | D17: =Dados!$C18 -> ALUP11 | E17: =Dados!$D18 -> Energia | F17: 0.1 | G17: =Dados!$Q18 -> 16157.482 | H17: =Dados!F18 -> 0.047
C18: =Dados!$B19 -> Bradesco | D18: =Dados!$C19 -> BBDC4 | E18: =Dados!$D19 -> Bancos | F18: 0.1 | G18: =Dados!$Q19 -> 16157.482 | H18: =Dados!F19 -> 0.089
C19: =Dados!$B20 -> Fleury | D19: =Dados!$C20 -> FLRY3 | E19: =Dados!$D20 -> Saúde | F19: 0.05 | G19: =Dados!$Q20 -> 8078.7411 | H19: =Dados!F20 -> 0.049
C20: =Dados!$B21 -> Vale | D20: =Dados!$C21 -> VALE3 | E20: =Dados!$D21 -> Commodities | F20: 0.05 | G20: =Dados!$Q21 -> 8078.7411 | H20: =Dados!F21 -> 0.07
C21: =Dados!$B22 -> ALLOS | D21: =Dados!$C22 -> ALOS3 | E21: =Dados!$D22 -> Imobiliário | F21: 0.05 | G21: =Dados!$Q22 -> 8078.7411 | H21: =Dados!F22 -> 0.129 | J21: Grafico 02: Distribuição da aloação por setor
C22: =Dados!$B23 -> Vulcabras | D22: =Dados!$C23 -> VULC3 | E22: =Dados!$D23 -> Varejo | F22: 0.05 | G22: =Dados!$Q23 -> 8078.7411 | H22: =Dados!F23 -> 0.062
C23: =Dados!$B24 -> Petroreconcavo | D23: =Dados!$C24 -> RECV3 | E23: =Dados!$D24 -> Commodities | F23: 0.05 | G23: =Dados!$Q24 -> 8078.7411 | H23: =Dados!F24 -> 0.109
C24: =Dados!$B25 -> Bradsaúde | D24: =Dados!$C25 -> SAUD3 | E24: =Dados!$D25 -> Seguros | F24: 0.05 | G24: =Dados!$Q25 -> 8078.7411 | H24: =Dados!F25 -> 0.054
C26: Distribuição por Setor | G26: % | H26: em R$
C27: =Dados!$N30 -> Commodities | G27: =Dados!$Q30 -> 0.3 | H27: =Dados!$R30 -> 48472.447
C28: =Dados!$N31 -> Bancos | G28: =Dados!$Q31 -> 0.2 | H28: =Dados!$R31 -> 32314.964
C29: =Dados!$N32 -> Energia | G29: =Dados!$Q32 -> 0.3 | H29: =Dados!$R32 -> 48472.447
C30: =Dados!$N33 -> Seguros | G30: =Dados!$Q33 -> 0.05 | H30: =Dados!$R33 -> 8078.7411
C31: =Dados!$N34 -> Saúde | G31: =Dados!$Q34 -> 0.05 | H31: =Dados!$R34 -> 8078.7411
C32: =Dados!$N35 -> Varejo | G32: =Dados!$Q35 -> 0.05 | H32: =Dados!$R35 -> 8078.7411
C33: =Dados!$N36 -> Imobiliário | G33: =Dados!$Q36 -> 0.05 | H33: =Dados!$R36 -> 8078.7411

Sheet Dados
F3: Data de Atualização:
F4: 46251
B8: Inputs / Atualizar
B9: Input Cliente | I9: Atualização
D10: Formula BBG | F10: Fomrula BBG | I10: =F4 -> 46251 | K10: Capital Necessário
B11: Empresas: | C11: Ticker | D11: Setor | E11: Peso | F11: Yield Projetado | K11: =Calculadora!B6/((1+Calculadora!G6)^(1/12)-1) -> 161574.82 | N11: Output:
I12: Data de Atualização: | N12: =B11 -> Empresas: | O12: =D11 -> Setor | P12: =E11 -> Peso | Q12: em R$ | R12: =F11 -> Yield Projetado
B13: Itaúsa | C13: ITSA4 | D13: Bancos | E13: 0.1 | F13: 0.083 | I13: =MONTH(I10)&"/"&YEAR(I10) -> 8/2026 | N13: =B13 -> Itaúsa | O13: =D13 -> Bancos | P13: =E13 -> 0.1 | Q13: =$P13*$K$11 -> 16157.482 | R13: =F13 -> 0.083
B14: Axia | C14: AXIA3 | D14: Energia | E14: 0.1 | F14: 0.076 | N14: =B14 -> Axia | O14: =D14 -> Energia | P14: =E14 -> 0.1 | Q14: =$P14*$K$11 -> 16157.482 | R14: =F14 -> 0.076
B15: Petrobras S.A. | C15: PETR4 | D15: Commodities | E15: 0.1 | F15: 0.102 | K15: Yield da Carteira | N15: =B15 -> Petrobras S.A. | O15: =D15 -> Commodities | P15: =E15 -> 0.1 | Q15: =$P15*$K$11 -> 16157.482 | R15: =F15 -> 0.102
B16: Copel | C16: CPLE3 | D16: Energia | E16: 0.1 | F16: 0.058 | K16: =(E13*F13)+(E14*F14)+(E15*F15)+(E16*F16)+(E17*F17)+(E20*F20)+(E18*F18)+(E19*F19)+(E21*F21)+(E22*F22)+(E23*F23)+(E24*F24)+(E25*F25) -> 0.07685 | N16: =B16 -> Copel | O16: =D16 -> Energia | P16: =E16 -> 0.1 | Q16: =$P16*$K$11 -> 16157.482 | R16: =F16 -> 0.058
B17: Klabin | C17: KLBN11 | D17: Commodities | E17: 0.1 | F17: 0.077 | N17: =B17 -> Klabin | O17: =D17 -> Commodities | P17: =E17 -> 0.1 | Q17: =$P17*$K$11 -> 16157.482 | R17: =F17 -> 0.077
B18: Alupar | C18: ALUP11 | D18: Energia | E18: 0.1 | F18: 0.047 | N18: =B18 -> Alupar | O18: =D18 -> Energia | P18: =E18 -> 0.1 | Q18: =$P18*$K$11 -> 16157.482 | R18: =F18 -> 0.047
B19: Bradesco | C19: BBDC4 | D19: Bancos | E19: 0.1 | F19: 0.089 | N19: =B19 -> Bradesco | O19: =D19 -> Bancos | P19: =E19 -> 0.1 | Q19: =$P19*$K$11 -> 16157.482 | R19: =F19 -> 0.089
B20: Fleury | C20: FLRY3 | D20: Saúde | E20: 0.05 | F20: 0.049 | N20: =B20 -> Fleury | O20: =D20 -> Saúde | P20: =E20 -> 0.05 | Q20: =$P20*$K$11 -> 8078.7411 | R20: =F20 -> 0.049
B21: Vale | C21: VALE3 | D21: Commodities | E21: 0.05 | F21: 0.07 | N21: =B21 -> Vale | O21: =D21 -> Commodities | P21: =E21 -> 0.05 | Q21: =$P21*$K$11 -> 8078.7411 | R21: =F21 -> 0.07
B22: ALLOS | C22: ALOS3 | D22: Imobiliário | E22: 0.05 | F22: 0.129 | N22: =B22 -> ALLOS | O22: =D22 -> Imobiliário | P22: =E22 -> 0.05 | Q22: =$P22*$K$11 -> 8078.7411 | R22: =F22 -> 0.129
B23: Vulcabras | C23: VULC3 | D23: Varejo | E23: 0.05 | F23: 0.062 | N23: =B23 -> Vulcabras | O23: =D23 -> Varejo | P23: =E23 -> 0.05 | Q23: =$P23*$K$11 -> 8078.7411 | R23: =F23 -> 0.062
B24: Petroreconcavo | C24: RECV3 | D24: Commodities | E24: 0.05 | F24: 0.109 | N24: =B24 -> Petroreconcavo | O24: =D24 -> Commodities | P24: =E24 -> 0.05 | Q24: =$P24*$K$11 -> 8078.7411 | R24: =F24 -> 0.109
B25: Bradsaúde | C25: SAUD3 | D25: Seguros | E25: 0.05 | F25: 0.054 | N25: =B25 -> Bradsaúde | O25: =D25 -> Seguros | P25: =E25 -> 0.05 | Q25: =$P25*$K$11 -> 8078.7411 | R25: =F25 -> 0.054
E26: =SUM($E$13:$E$25)-1 -> 0 | F26: =SUMPRODUCT(E13:E25,F13:F25) -> 0.07685 | N26: =B27 -> Check | P26: =SUM(P13:P25) -> 1 | Q26: =$P26*$K$11 -> 161574.82 | R26: =SUMPRODUCT(R13:R25,Q13:Q25)/SUM(Q13:Q25) -> 0.07685
B27: Check
N29: Setor | Q29: Peso | R29: em R$
N30: Commodities | Q30: =SUMIF($O$13:$O$25,$N30,$P$13:$P$25) -> 0.3 | R30: =$K$11*Q30 -> 48472.447
N31: Bancos | Q31: =SUMIF($O$13:$O$25,$N31,$P$13:$P$25) -> 0.2 | R31: =$K$11*Q31 -> 32314.964
N32: Energia | Q32: =SUMIF($O$13:$O$25,$N32,$P$13:$P$25) -> 0.3 | R32: =$K$11*Q32 -> 48472.447
N33: Seguros | Q33: =SUMIF($O$13:$O$25,$N33,$P$13:$P$25) -> 0.05 | R33: =$K$11*Q33 -> 8078.7411
N34: Saúde | Q34: =SUMIF($O$13:$O$25,$N34,$P$13:$P$25) -> 0.05 | R34: =$K$11*Q34 -> 8078.7411
N35: Varejo | Q35: =SUMIF($O$13:$O$25,$N35,$P$13:$P$25) -> 0.05 | R35: =$K$11*Q35 -> 8078.7411
N36: Imobiliário | Q36: =SUMIF($O$13:$O$25,$N36,$P$13:$P$25) -> 0.05 | R36: =$K$11*Q36 -> 8078.7411
N37: Check | Q37: =SUM(Q30:Q36)-1 -> 0 | R37: =SUM(R30:R36)-K11 -> 0

Sheet Disclaimer
