Workbook

Sheet MARZO 2024
E2: Tesorería
E6: ENTIDAD:UNIVERSIDAD DE LA GUAJIRA
E7: NIT No:892115029-4
E8: NOMBRE DEL REPRESENTANTE LEGAL:CARLOS A. ROBLES JULIO
A9: INFORME EJECUCION PRESUPUESTAL DE INGRESOS | E9: CIUDAD, DIRECCION Y TELEFONOS:R/CHA, KM 5 VIA M/CAO, 7282729
E10: VIGENCIA FISCAL:2024
E11: PERIODO DE RENDICION DE: MARZO 01 A: MARZO 31
E12: HOJA ______ DE _______
A14: CODIGO | B14: DESCRIPCION | C14: PRESUPUESTO | D14: MODIFICACIONES | F14: PRESUPUESTO | G14: RECAUDOS | I14: SALDOS
C15: INICIAL | D15: (2) | F15: DEFINITIVO | G15: DEL MES | H15: ACUMULADO
C16: (1) | D16: ADICIONES | E16: REDUCCION | F16: (3=1+/-2) | G16: 4 | H16: (5=4+5A) | I16: (6=3-5)
A17: 1 | B17: INGRESOS CORRIENTES. | C17: 128991550549 | D17: 0 | E17: 0 | F17: 237498587411 | G17: 7.3985137e+09 | H17: 7.3985137e+09 | I17: 237498587411
A18: 11 | B18: RENTAS PROPIAS. | C18: 128991550549 | D18: 0 | E18: 0 | F18: 128991550549 | G18: 7.3985137e+09 | H18: 7.3985137e+09 | I18: 1.2159304e+11
A19: 111 | B19: DERECHOS ACADEMICOS. | C19: 91339790549 | D19: 0 | E19: 0 | F19: 91339790549 | G19: 7.3472888e+09 | H19: 7.3472888e+09 | I19: 8.3992502e+10
A20: 1111 | B20: Matricula-pregrado. | C20: 85494721951 | D20: 0 | E20: 0 | F20: 85494721951 | G20: 7.3221069e+09 | H20: 7.3221069e+09 | I20: 7.8172615e+10
A21: 111101 | B21: Facultad de Ingeniería. | C21: 18546980835 | D21: 0 | E21: 0 | F21: 18546980835 | G21: 1.3738337e+09 | H21: 1.3738337e+09 | I21: 1.7173147e+10
A22: 11110101 | B22: Ingeniería Industrial | C22: 3194274158 | D22: 0 | E22: 0 | F22: 3194274158 | G22: 237954361 | H22: 237954361 | I22: 2956319797
A23: 11110102 | B23: Ingeniería Ambiental Riohacha | C23: 2016482633 | D23: 0 | E23: 0 | F23: 2016482633 | G23: 142486718 | H23: 142486718 | I23: 1873995915
A24: 11110103 | B24: Ingeniería Sistemas | C24: 3486780624 | D24: 0 | E24: 0 | F24: 3486780624 | G24: 265804189 | H24: 265804189 | I24: 3220976435
A25: 11110104 | B25: Ingeniería Sistemas Maicao | C25: 1809398409 | D25: 0 | E25: 0 | F25: 1809398409 | G25: 1.3177333e+08 | H25: 1.3177333e+08 | I25: 1.6776251e+09
A26: 11110105 | B26: Ingeniería Civil | C26: 3647270898 | D26: 0 | E26: 0 | F26: 3647270898 | G26: 3.6521185e+08 | H26: 3.6521185e+08 | I26: 3.2820591e+09
A27: 11110106 | B27: Ingeniería Mecánica | C27: 1884466440 | D27: 0 | E27: 0 | F27: 1884466440 | G27: 99858693 | H27: 99858693 | I27: 1.7846077e+09
A28: 11110107 | B28: Ingeniería Ambiental Fonseca | C28: 1242505345 | D28: 0 | E28: 0 | F28: 1242505345 | G28: 103973479 | H28: 103973479 | I28: 1138531866
... A62: 11110405 | B62: Trabajo Social Maicao | C62: 3994136973 | D62: 0 | E62: 0 | F62: 3994136973 | G62: 0 | H62: 0 | I62: 3994136973
A63: 11110406 | B63: Psicología | C63: 4498904770 | E63: 0 | F63: 4498904770 | G63: 692236261 | H63: 692236261 | I63: 3806668509
A64: 111105 | B64: Facultad de Ciencias de la Salud | C64: 820571238 | D64: 0 | E64: 0 | F64: 820571238 | G64: 0 | H64: 0 | I64: 820571238
A65: 11110501 | B65: Seguridad y Salud en el trabajo | C65: 90599348 | D65: 0 | E65: 0 | F65: 90599348 | G65: 0 | H65: 0 | I65: 90599348
A66: 11110502 | B66: Enfermeria | C66: 364985945 | D66: 0 | E66: 0 | F66: 364985945 | G66: 0 | H66: 0 | I66: 364985945
A67: 11110503 | B67: Nutricion | C67: 364985945 | D67: 0 | E67: 0 | F67: 364985945 | G67: 0 | H67: 0 | I67: 364985945
A68: 111106 | B68: Facultad de Ciencias Basicas | C68: 2000951316 | D68: 0 | E68: 0 | F68: 2000951316 | G68: 133755353 | H68: 133755353 | I68: 1867195963
A69: 11110601 | B69: Biología | C69: 2000951316 | D69: 0 | E69: 0 | F69: 2000951316 | G69: 133755353 | H69: 133755353 | I69: 1867195963
A70: 1112 | B70: Matricula Postgrado. | C70: 4287584732 | D70: 0 | E70: 0 | F70: 4287584732 | G70: 22314250 | H70: 22314250 | I70: 4265270482
A71: 111201 | B71: Especializaciones | C71: 404755529 | D71: 0 | E71: 0 | F71: 404755529 | G71: 0 | H71: 0 | I71: 404755529
A72: 11130103 | B72: Gerencia de Construcciones | C72: 131780870 | E72: 0 | F72: 131780870 | G72: 0 | H72: 0 | I72: 131780870
A73: 11130104 | B73: En Resolución de Conflictos | C73: 272974659 | D73: 0 | E73: 0 | F73: 272974659 | G73: 0 | H73: 0 | I73: 272974659
A74: 111302 | B74: Maestrías | C74: 3882829203 | D74: 0 | E74: 0 | F74: 3882829203 | G74: 22314250 | H74: 22314250 | I74: 3860514953
A75: 11130101 | B75: Maestria en Gestión y Gerencia educativa | C75: 374163541 | D75: 0 | E75: 0 | F75: 374163541 | G75: 3181000 | H75: 3181000 | I75: 370982541
A76: 11130102 | B76: Maestría en Finanzas | C76: 289447268 | F76: 289447268 | G76: 0 | H76: 0 | I76: 289447268
A77: 11130103 | B77: Maestría en Gestión y Desarrollo Sostenible | C77: 296506957 | D77: 0 | E77: 0 | F77: 296506957 | G77: 0 | H77: 0 | I77: 296506957
A78: 11130104 | B78: Maestría TICs | C78: 317686026 | D78: 0 | E78: 0 | F78: 317686026 | G78: 0 | H78: 0 | I78: 317686026
...

Sheet ABRIL 2024
E2: Tesorería
E6: ENTIDAD:UNIVERSIDAD DE LA GUAJIRA
E7: NIT No:892115029-4
E8: NOMBRE DEL REPRESENTANTE LEGAL:CARLOS A. ROBLES JULIO
A9: INFORME EJECUCION PRESUPUESTAL DE INGRESOS | E9: CIUDAD, DIRECCION Y TELEFONOS:R/CHA, KM 5 VIA M/CAO, 7282729
E10: VIGENCIA FISCAL:2024
E11: PERIODO DE RENDICION DE: ABRIL 01 A: ABRIL 30
E12: HOJA ______ DE _______
A14: CODIGO | B14: DESCRIPCION | C14: PRESUPUESTO | D14: MODIFICACIONES | F14: PRESUPUESTO | G14: RECAUDOS | I14: SALDOS
C15: INICIAL | D15: (2) | F15: DEFINITIVO | G15: DEL MES | H15: ACUMULADO
C16: (1) | D16: ADICIONES | E16: REDUCCION | F16: (3=1+/-2) | G16: 4 | H16: (5=4+5A) | I16: (6=3-5)
A17: 1 | B17: INGRESOS CORRIENTES. | C17: =+C18 -> 128991550549 | D17: =+D18 -> 0 | E17: 0 | F17: =+F18+F181 -> 237498587411 | G17: =+G18 -> 18804257288 | H17: =+H18 -> 26202770940 | I17: =+F17+G17-H17 -> 230100073759
A18: 11 | B18: RENTAS PROPIAS. | C18: =C19+C168+C176 -> 128991550549 | D18: =D19+D168+D176 -> 0 | E18: 0 | F18: =F19+F168+F176 -> 128991550549 | G18: =G19+G168+G176 -> 18804257288 | H18: =H19+H168+H176 -> 26202770940 | I18: =I19+I168+I176 -> 102788779609 | M18: =+C168 -> 6011760000 | N18: venta de bienes y servicios
A19: 111 | B19: DERECHOS ACADEMICOS. | C19: =C20+C70+C86+C134+C149+C154+C159 -> 91339790549 | D19: =D20+D70+D86+D134+D149+D154+D159 -> 0 | E19: 0 | F19: =F20+F70+F86+F134+F149+F154+F159 -> 91339790549 | G19: =G20+G70+G86+G134+G149+G154+G159 -> 16032258672 | H19: =H20+H70+H86+H134+H149+H154+H159 -> 23379547520 | I19: =I20+I70+I86+I134+I149+I154+I159 -> 67960243029
A20: 1111 | B20: Matricula-pregrado. | C20: =+C21+C31+C37+C57+C64+C68 -> 85494721951 | D20: =+D21+D31+D37+D57+D64+D68 -> 0 | E20: 0 | F20: =+F21+F31+F37+F57+F64+F68 -> 85494721951 | G20: =+G21+G31+G37+G57+G64+G68 -> 15723171389 | H20: =+H21+H31+H37+H57+H64+H68 -> 23045278317 | I20: =+I21+I31+I37+I57+I64+I68 -> 62449443634 | L20: =+H20+H86 -> 23248249480 | M20: =+C20+C86 -> 86584489961 | N20: matricula pregrado e iscripcion pregrado
A21: 111101 | B21: Facultad de Ingeniería. | C21: =SUM(C22:C30) -> 18546980835 | D21: =SUM(D22:D30) -> 0 | E21: =+E22+E23+E24+E25+E26+E27+E28 -> 0 | F21: =SUM(F22:F30) -> 18546980835 | G21: =SUM(G22:G30) -> 3430725369 | H21: =SUM(H22:H30) -> 4804559044 | I21: =SUM(I22:I30) -> 13742421791
A22: 11110101 | B22: Ingeniería Industrial | C22: 3194274158 | D22: 0 | E22: 0 | F22: =+C22+D22 -> 3194274158 | G22: 5.9402306e+08 | H22: =+'MARZO 2024'!H22+'ABRIL 2024'!G22 -> 8.3197742e+08 | I22: =+F22-H22 -> 2362296734 | L22: =+H70+H134 -> 39052400 | M22: =+C70+C134 -> 4379360690 | N22: maricula postgrado e inscripciones postgrado
A23: 11110102 | B23: Ingeniería Ambiental Riohacha | C23: 2016482633 | D23: 0 | E23: 0 | F23: =+C23+D23 -> 2016482633 | G23: 3.9493134e+08 | H23: =+'MARZO 2024'!H23+'ABRIL 2024'!G23 -> 5.3741806e+08 | I23: =+F23-H23 -> 1479064576
A24: 11110103 | B24: Ingeniería Sistemas | C24: 3486780624 | D24: 0 | E24: 0 | F24: =+C24+D24 -> 3486780624 | G24: 6.6758622e+08 | H24: =+'MARZO 2024'!H24+'ABRIL 2024'!G24 -> 9.3339041e+08 | I24: =+F24-H24 -> 2553390216 | L24: =+H174 -> 514366595 | M24: 0 | N24: diplomado
A25: 11110104 | B25: Ingeniería Sistemas Maicao | C25: 1809398409 | D25: 0 | E25: 0 | F25: =+C25+D25 -> 1809398409 | G25: 3.4911028e+08 | H25: =+'MARZO 2024'!H25+'ABRIL 2024'!G25 -> 480883603 | I25: =+F25-H25 -> 1328514806
A26: 11110105 | B26: Ingeniería Civil | C26: 3647270898 | D26: 0 | E26: 0 | F26: =+C26+D26 -> 3647270898 | G26: 7.0304662e+08 | H26: =+'MARZO 2024'!H26+'ABRIL 2024'!G26 -> 1068258462 | I26: =+F26-H26 -> 2579012436 | L26: =+H149+H154+H159+H171 -> 92881018 | M26: =+C149+C154+C159 -> 375939898 | N26: otros derechos academicos
A27: 11110106 | B27: Ingeniería Mecánica | C27: 1884466440 | D27: 0 | E27: 0 | F27: =+C27+D27 -> 1884466440 | G27: 3.200663e+08 | H27: =+'MARZO 2024'!H27+'ABRIL 2024'!G27 -> 4.1992499e+08 | I27: =+F27-H27 -> 1464541448
A28: 11110107 | B28: Ingeniería Ambiental Fonseca | C28: 1242505345 | D28: 0 | E28: 0 | F28: =+C28+D28 -> 1242505345 | G28: 2.5405917e+08 | H28: =+'MARZO 2024'!H28+'ABRIL 2024'!G28 -> 3.5803265e+08 | I28: =+F28-H28 -> 8.844727e+08 | L28: =+H178+H179+H180 -> 614952411 | M28: =+C176 -> 31640000000 | N28: Otras rentas propias
A29: 11110608 | B29: Tecnología en Gestión de Redes Informáticas Riohacha | C29: 994004284 | D29: 0 | E29: =+E30+E31+E32+E33+E34+E35+E36+E37+E38+E39+E40+E41+E42 -> 0 | F29: =+C29+D29 -> 994004284 | G29: 1.2361636e+08 | H29: =+'MARZO 2024'!H29+'ABRIL 2024'!G29 -> 1.5038742e+08 | I29: =+F29-H29 -> 8.4361686e+08
A30: 11110609 | B30: Tecnología en Gestión de Redes Informáticas Maicao | C30: 271798044 | D30: 0 | E30: 0 | F30: =+C30+D30 -> 271798044 | G30: 24286030 | H30: =+'MARZO 2024'!H30+'ABRIL 2024'!G30 -> 24286030 | I30: =+F30-H30 -> 2.4751201e+08 | L30: =+H184 -> 8047851536 | M30: =+C184 -> 58330090683 | N30: aporte ley 30 art 86
A31: 111102 | B31: Facultad de Ciencia de la Educacion. | C31: =SUM(C32:C36) -> 15510608389 | D31: =SUM(D32:D36) -> 0 | E31: 0 | F31: =SUM(F32:F36) -> 15510608389 | G31: =SUM(G32:G36) -> 2826315784 | H31: =SUM(H32:H36) -> 4079913301 | I31: =SUM(I32:I36) -> 11430695088
A32: 11110201 | B32: Lic en Educación Infantil Riohacha | C32: 3629151028 | D32: 0 | E32: 0 | F32: =+C32+D32 -> 3629151028 | G32: =591046113.659922+14410653 -> 6.0545677e+08 | H32: =+'MARZO 2024'!H32+'ABRIL 2024'!G32 -> 1155671754 | I32: =+F32-H32 -> 2473479274 | L32: =+H185 -> 0 | M32: =+C185 -> 1721524593 | N32: aporte ley 30 art 87
A33: 11110202 | B33: Lic en Educación Infantil Maicao | C33: 3623973923 | D33: 0 | E33: 0 | F33: =+C33+D33 -> 3623973923 | G33: =41813911+56584623 -> 98398534 | H33: =+'MARZO 2024'!H33+'ABRIL 2024'!G33 -> 181296295 | I33: =+F33-H33 -> 3442677628
A34: 11110203 | B34: Lic en Etnoeducacion e Interculturalidad Riohacha | C34: 3616208264 | D34: 0 | E34: 0 | F34: =+C34+D34 -> 3616208264 | G34: =694666081+571763668 -> 1266429749 | H34: =+'MARZO 2024'!H34+'ABRIL 2024'!G34 -> 1477662994 | I34: =+F34-H34 -> 2138545270 | L34: =+H188 -> 0 | M34: =+C188 -> 19161450403 | N34: Aportes Ley 30 del 92
A35: 11110204 | B35: Lic en Educación Física, Recreación y Deportes | C35: 3825881041 | D35: 0 | E35: 0 | F35: =+C35+D35 -> 3825881041 | G35: 739430508 | H35: =+'MARZO 2024'!H35+'ABRIL 2024'!G35 -> 1076264730 | I35: =+F35-H35 -> 2749616311
A36: 11110213 | B36: Lic en Música | C36: 815394133 | D36: 0 | E36: 0 | F36: =+C36+D36 -> 815394133 | G36: 1.1660023e+08 | H36: =+'MARZO 2024'!H36+'ABRIL 2024'!G36 -> 1.8901753e+08 | I36: =+F36-H36 -> 6.263766e+08 | L36: =+H196 -> 8550698905 | M36: =+C196 -> 50942388435 | N36: recursos de caapital
A37: 111103 | B37: Facultad de Ciencias Económicas y Administrativa. | C37: =SUM(C38:C56) -> 26555963195 | D37: =SUM(D38:D56) -> 0 | E37: 0 | F37: =SUM(F38:F56) -> 26555963195 | G37: =SUM(G38:G56) -> 4714739562 | H37: =SUM(H38:H56) -> 6703267141 | I37: =SUM(I38:I56) -> 19852696054
A38: 11110301 | B38: Contaduria Publica | C38: 3963074340 | D38: 0 | E38: 0 | F38: =+C38+D38 -> 3963074340 | G38: 7.696139e+08 | H38: =+'MARZO 2024'!H38+'ABRIL 2024'!G38 -> 1110380213 | I38: =+F38-H38 -> 2852694127 | L38: =+H177+H194 -> 5568993262 | M38: =+C194 -> 18451441852 | N38: estampillas
A39: 11110302 | B39: Contaduría Pública Maicao | C39: 3080377834 | D39: 0 | E39: 0 | F39: =+C39+D39 -> 3080377834 | G39: 5.3970569e+08 | H39: =+'MARZO 2024'!H39+'ABRIL 2024'!G39 -> 7.6702221e+08 | I39: =+F39-H39 -> 2313355627
A40: 11110303 | B40: Contaduria Publica Villanueva | C40: 41416845 | D40: 0 | E40: 0 | F40: =+C40+D40 -> 41416845 | G40: 25977110 | H40: =+'MARZO 2024'!H40+'ABRIL 2024'!G40 -> 76257725 | I40: =+F40-H40 -> -34840880 | L40: =+H192 -> 2043310440 | M40: =+C191 -> 9000000000 | N40: estampilla pro u nacional
A41: 11110304 | B41: Administracion de Empresas Riohacha | C41: 4066616452 | D41: 0 | E41: 0 | F41: =+C41+D41 -> 4066616452 | G41: 7.7934996e+08 | H41: =+'MARZO 2024'!H41+'ABRIL 2024'!G41 -> 1116542855 | I41: =+F41-H41 -> 2950073597
A42: 11110305 | B42: Administracion Turística y Hotelera | C42: 1584194315 | D42: 0 | E42: 0 | F42: =+C42+D42 -> 1584194315 | G42: 3.2854196e+08 | H42: =+'MARZO 2024'!H42+'ABRIL 2024'!G42 -> 4.6450524e+08 | I42: =+F42-H42 -> 1119689073 | L42: =+H186 -> 0 | M42: =+C186 -> 442529331 | N42: recusos por votacion
A43: 11110306 | B43: Negocios Internacionales | C43: 1944003154 | D43: =+D44+D45+D46+D47+D48+D49+D50+D51+D52+D53+D54 -> 0 | E43: =+E44+E45+E46+E47+E48+E49+E50+E51+E52+E53+E54 -> 0 | F43: =+C43+D43 -> 1944003154 | G43: 3.7227561e+08 | H43: =+'MARZO 2024'!H43+'ABRIL 2024'!G43 -> 534683684 | I43: =+F43-H43 -> 1409319470
A44: 11110307 | B44: Economía | C44: 1664439452 | D44: =SUM(D45:D55) -> 0 | E44: =SUM(E45:E55) -> 0 | F44: =+C44+D44 -> 1664439452 | G44: 2.9383506e+08 | H44: =+'MARZO 2024'!H44+'ABRIL 2024'!G44 -> 4.0134596e+08 | I44: =+F44-H44 -> 1263093494 | M44: =+C187 -> 1400000000 | N44: fomento a la calidad
A45: 11110308 | B45: Negocios Internacionales Maicao | C45: 949998878 | D45: 0 | E45: 0 | F45: =+C45+D45 -> 949998878 | G45: 1.2954807e+08 | H45: =+'MARZO 2024'!H45+'ABRIL 2024'!G45 -> 2.2298369e+08 | I45: =+F45-H45 -> 7.2701519e+08
...

Sheet MAYO 2024
E2: Tesorería
E6: ENTIDAD:UNIVERSIDAD DE LA GUAJIRA
E7: NIT No:892115029-4
E8: NOMBRE DEL REPRESENTANTE LEGAL:CARLOS A. ROBLES JULIO
A9: INFORME EJECUCION PRESUPUESTAL DE INGRESOS | E9: CIUDAD, DIRECCION Y TELEFONOS:R/CHA, KM 5 VIA M/CAO, 7282729
E10: VIGENCIA FISCAL:2024
E11: PERIODO DE RENDICION DE: MAYO 01 A: MAYO 31
E12: HOJA ______ DE _______
A14: CODIGO | B14: DESCRIPCION | C14: PRESUPUESTO | D14: MODIFICACIONES | F14: PRESUPUESTO | G14: RECAUDOS | I14: SALDOS
C15: INICIAL | D15: (2) | F15: DEFINITIVO | G15: DEL MES | H15: ACUMULADO
C16: (1) | D16: ADICIONES | E16: REDUCCION | F16: (3=1+/-2) | G16: 4 | H16: (5=4+5A) | I16: (6=3-5)
A17: 1 | B17: INGRESOS CORRIENTES. | C17: =+C18 -> 128991550549 | D17: =+D18 -> 0 | E17: 0 | F17: =+F18+F181 -> 237498587411 | G17: =+G18 -> 1838906415 | H17: =+H18 -> 28041677355 | I17: =+F17+G17-H17 -> 211295816471
A18: 11 | B18: RENTAS PROPIAS. | C18: =C19+C168+C176 -> 128991550549 | D18: =D19+D168+D176 -> 0 | E18: 0 | F18: =F19+F168+F176 -> 128991550549 | G18: =G19+G168+G176 -> 1838906415 | H18: =H19+H168+H176 -> 28041677355 | I18: =I19+I168+I176 -> 100949873194 | M18: =+C168 -> 6011760000 | N18: venta de bienes y servicios
A19: 111 | B19: DERECHOS ACADEMICOS. | C19: =C20+C70+C86+C134+C149+C154+C159 -> 91339790549 | D19: =D20+D70+D86+D134+D149+D154+D159 -> 0 | E19: 0 | F19: =F20+F70+F86+F134+F149+F154+F159 -> 91339790549 | G19: =G20+G70+G86+G134+G149+G154+G159 -> 40222675 | H19: =H20+H70+H86+H134+H149+H154+H159 -> 23419770195 | I19: =I20+I70+I86+I134+I149+I154+I159 -> 67920020354
A20: 1111 | B20: Matricula-pregrado. | C20: =+C21+C31+C37+C57+C64+C68 -> 85494721951 | D20: =+D21+D31+D37+D57+D64+D68 -> 0 | E20: 0 | F20: =+F21+F31+F37+F57+F64+F68 -> 85494721951 | G20: =+G21+G31+G37+G57+G64+G68 -> 0 | H20: =+H21+H31+H37+H57+H64+H68 -> 23045278317 | I20: =+I21+I31+I37+I57+I64+I68 -> 62449443634 | L20: =+H20+H86 -> 23254017763 | M20: =+C20+C86 -> 86584489961 | N20: matricula pregrado e iscripcion pregrado
A21: 111101 | B21: Facultad de Ingeniería. | C21: =SUM(C22:C30) -> 18546980835 | D21: =SUM(D22:D30) -> 0 | E21: =+E22+E23+E24+E25+E26+E27+E28 -> 0 | F21: =SUM(F22:F30) -> 18546980835 | G21: =SUM(G22:G30) -> 0 | H21: =SUM(H22:H30) -> 4804559044 | I21: =SUM(I22:I30) -> 13742421791
A22: 11110101 | B22: Ingeniería Industrial | C22: 3194274158 | D22: 0 | E22: 0 | F22: =+C22+D22 -> 3194274158 | G22: 0 | H22: =+'ABRIL 2024'!H22+'MAYO 2024'!G22 -> 8.3197742e+08 | I22: =+F22-H22 -> 2362296734 | L22: =+H70+H134 -> 50279800 | M22: =+C70+C134 -> 4379360690 | N22: maricula postgrado e inscripciones postgrado
A23: 11110102 | B23: Ingeniería Ambiental Riohacha | C23: 2016482633 | D23: 0 | E23: 0 | F23: =+C23+D23 -> 2016482633 | G23: 0 | H23: =+'ABRIL 2024'!H23+'MAYO 2024'!G23 -> 5.3741806e+08 | I23: =+F23-H23 -> 1479064576
A24: 11110103 | B24: Ingeniería Sistemas | C24: 3486780624 | D24: 0 | E24: 0 | F24: =+C24+D24 -> 3486780624 | G24: 0 | H24: =+'ABRIL 2024'!H24+'MAYO 2024'!G24 -> 9.3339041e+08 | I24: =+F24-H24 -> 2553390216 | L24: =+H174 -> 652925565 | M24: 0 | N24: diplomado
A25: 11110104 | B25: Ingeniería Sistemas Maicao | C25: 1809398409 | D25: 0 | E25: 0 | F25: =+C25+D25 -> 1809398409 | G25: 0 | H25: =+'ABRIL 2024'!H25+'MAYO 2024'!G25 -> 480883603 | I25: =+F25-H25 -> 1328514806
A26: 11110105 | B26: Ingeniería Civil | C26: 3647270898 | D26: 0 | E26: 0 | F26: =+C26+D26 -> 3647270898 | G26: 0 | H26: =+'ABRIL 2024'!H26+'MAYO 2024'!G26 -> 1068258462 | I26: =+F26-H26 -> 2579012436 | L26: =+H149+H154+H159+H171 -> 116108010 | M26: =+C149+C154+C159 -> 375939898 | N26: otros derechos academicos
A27: 11110106 | B27: Ingeniería Mecánica | C27: 1884466440 | D27: 0 | E27: 0 | F27: =+C27+D27 -> 1884466440 | G27: 0 | H27: =+'ABRIL 2024'!H27+'MAYO 2024'!G27 -> 4.1992499e+08 | I27: =+F27-H27 -> 1464541448
A28: 11110107 | B28: Ingeniería Ambiental Fonseca | C28: 1242505345 | D28: 0 | E28: 0 | F28: =+C28+D28 -> 1242505345 | G28: 0 | H28: =+'ABRIL 2024'!H28+'MAYO 2024'!G28 -> 3.5803265e+08 | I28: =+F28-H28 -> 8.844727e+08 | L28: =+H178+H179+H180 -> 693492151 | M28: =+C176 -> 31640000000 | N28: Otras rentas propias
A29: 11110608 | B29: Tecnología en Gestión de Redes Informáticas Riohacha | C29: 994004284 | D29: 0 | E29: =+E30+E31+E32+E33+E34+E35+E36+E37+E38+E39+E40+E41+E42 -> 0 | F29: =+C29+D29 -> 994004284 | G29: 0 | H29: =+'ABRIL 2024'!H29+'MAYO 2024'!G29 -> 1.5038742e+08 | I29: =+F29-H29 -> 8.4361686e+08
A30: 11110609 | B30: Tecnología en Gestión de Redes Informáticas Maicao | C30: 271798044 | D30: 0 | E30: 0 | F30: =+C30+D30 -> 271798044 | G30: 0 | H30: =+'ABRIL 2024'!H30+'MAYO 2024'!G30 -> 24286030 | I30: =+F30-H30 -> 2.4751201e+08 | L30: =+H184 -> 12071777304 | M30: =+C184 -> 58330090683 | N30: aporte ley 30 art 86
A31: 111102 | B31: Facultad de Ciencia de la Educacion. | C31: =SUM(C32:C36) -> 15510608389 | D31: =SUM(D32:D36) -> 0 | E31: 0 | F31: =SUM(F32:F36) -> 15510608389 | G31: =SUM(G32:G36) -> 0 | H31: =SUM(H32:H36) -> 4079913301 | I31: =SUM(I32:I36) -> 11430695088
A32: 11110201 | B32: Lic en Educación Infantil Riohacha | C32: 3629151028 | D32: 0 | E32: 0 | F32: =+C32+D32 -> 3629151028 | G32: 0 | H32: =+'ABRIL 2024'!H32+'MAYO 2024'!G32 -> 1155671754 | I32: =+F32-H32 -> 2473479274 | L32: =+H185 -> 0 | M32: =+C185 -> 1721524593 | N32: aporte ley 30 art 87
A33: 11110202 | B33: Lic en Educación Infantil Maicao | C33: 3623973923 | D33: 0 | E33: 0 | F33: =+C33+D33 -> 3623973923 | G33: 0 | H33: =+'ABRIL 2024'!H33+'MAYO 2024'!G33 -> 181296295 | I33: =+F33-H33 -> 3442677628
A34: 11110203 | B34: Lic en Etnoeducacion e Interculturalidad Riohacha | C34: 3616208264 | D34: 0 | E34: 0 | F34: =+C34+D34 -> 3616208264 | G34: 0 | H34: =+'ABRIL 2024'!H34+'MAYO 2024'!G34 -> 1477662994 | I34: =+F34-H34 -> 2138545270 | L34: =+H188 -> 0 | M34: =+C188 -> 19161450403 | N34: Aportes Ley 30 del 92
A35: 11110204 | B35: Lic en Educación Física, Recreación y Deportes | C35: 3825881041 | D35: 0 | E35: 0 | F35: =+C35+D35 -> 3825881041 | G35: 0 | H35: =+'ABRIL 2024'!H35+'MAYO 2024'!G35 -> 1076264730 | I35: =+F35-H35 -> 2749616311
A36: 11110213 | B36: Lic en Música | C36: 815394133 | D36: 0 | E36: 0 | F36: =+C36+D36 -> 815394133 | G36: 0 | H36: =+'ABRIL 2024'!H36+'MAYO 2024'!G36 -> 1.8901753e+08 | I36: =+F36-H36 -> 6.263766e+08 | L36: =+H196 -> 8566456105 | M36: =+C196 -> 50942388435 | N36: recursos de caapital
A37: 111103 | B37: Facultad de Ciencias Económicas y Administrativa. | C37: =SUM(C38:C56) -> 26555963195 | D37: =SUM(D38:D56) -> 0 | E37: 0 | F37: =SUM(F38:F56) -> 26555963195 | G37: =SUM(G38:G56) -> 0 | H37: =SUM(H38:H56) -> 6703267141 | I37: =SUM(I38:I56) -> 19852696054
A38: 11110301 | B38: Contaduria Publica | C38: 3963074340 | D38: 0 | E38: 0 | F38: =+C38+D38 -> 3963074340 | G38: 0 | H38: =+'ABRIL 2024'!H38+'MAYO 2024'!G38 -> 1110380213 | I38: =+F38-H38 -> 2852694127 | L38: =+H177+H194 -> 9322708089 | M38: =+C194 -> 18451441852 | N38: estampillas
A39: 11110302 | B39: Contaduría Pública Maicao | C39: 3080377834 | D39: 0 | E39: 0 | F39: =+C39+D39 -> 3080377834 | G39: 0 | H39: =+'ABRIL 2024'!H39+'MAYO 2024'!G39 -> 7.6702221e+08 | I39: =+F39-H39 -> 2313355627
A40: 11110303 | B40: Contaduria Publica Villanueva | C40: 41416845 | D40: 0 | E40: 0 | F40: =+C40+D40 -> 41416845 | G40: 0 | H40: =+'ABRIL 2024'!H40+'MAYO 2024'!G40 -> 76257725 | I40: =+F40-H40 -> -34840880 | L40: =+H192 -> 2043310440 | M40: =+C191 -> 9000000000 | N40: estampilla pro u nacional
A41: 11110304 | B41: Administracion de Empresas Riohacha | C41: 4066616452 | D41: 0 | E41: 0 | F41: =+C41+D41 -> 4066616452 | G41: 0 | H41: =+'ABRIL 2024'!H41+'MAYO 2024'!G41 -> 1116542855 | I41: =+F41-H41 -> 2950073597
A42: 11110305 | B42: Administracion Turística y Hotelera | C42: 1584194315 | D42: 0 | E42: 0 | F42: =+C42+D42 -> 1584194315 | G42: 0 | H42: =+'ABRIL 2024'!H42+'MAYO 2024'!G42 -> 4.6450524e+08 | I42: =+F42-H42 -> 1119689073 | L42: =+H186 -> 0 | M42: =+C186 -> 442529331 | N42: recusos por votacion
A43: 11110306 | B43: Negocios Internacionales | C43: 1944003154 | D43: =+D44+D45+D46+D47+D48+D49+D50+D51+D52+D53+D54 -> 0 | E43: =+E44+E45+E46+E47+E48+E49+E50+E51+E52+E53+E54 -> 0 | F43: =+C43+D43 -> 1944003154 | G43: 0 | H43: =+'ABRIL 2024'!H43+'MAYO 2024'!G43 -> 534683684 | I43: =+F43-H43 -> 1409319470
A44: 11110307 | B44: Economía | C44: 1664439452 | D44: =SUM(D45:D55) -> 0 | E44: =SUM(E45:E55) -> 0 | F44: =+C44+D44 -> 1664439452 | G44: 0 | H44: =+'ABRIL 2024'!H44+'MAYO 2024'!G44 -> 4.0134596e+08 | I44: =+F44-H44 -> 1263093494 | L44: =+H187 -> 1870989185 | M44: =+C187 -> 1400000000 | N44: fomento a la calidad COOPERATIVA
A45: 11110308 | B45: Negocios Internacionales Maicao | C45: 949998878 | D45: 0 | E45: 0 | F45: =+C45+D45 -> 949998878 | G45: 0 | H45: =+'ABRIL 2024'!H45+'MAYO 2024'!G45 -> 2.2298369e+08 | I45: =+F45-H45 -> 7.2701519e+08
...

Sheet JUNIO 2024
E2: Tesorería
E6: ENTIDAD:UNIVERSIDAD DE LA GUAJIRA
E7: NIT No:892115029-4
E8: NOMBRE DEL REPRESENTANTE LEGAL:CARLOS A. ROBLES JULIO
A9: INFORME EJECUCION PRESUPUESTAL DE INGRESOS | E9: CIUDAD, DIRECCION Y TELEFONOS:R/CHA, KM 5 VIA M/CAO, 7282729
E10: VIGENCIA FISCAL:2024
E11: PERIODO DE RENDICION DE: JUNIO 01 A: JUNIO 30
E12: HOJA ______ DE _______
A14: CODIGO | B14: DESCRIPCION | C14: PRESUPUESTO | D14: MODIFICACIONES | F14: PRESUPUESTO | G14: RECAUDOS | I14: SALDOS
C15: INICIAL | D15: (2) | F15: DEFINITIVO | G15: DEL MES | H15: ACUMULADO
C16: (1) | D16: ADICIONES | E16: REDUCCION | F16: (3=1+/-2) | G16: 4 | H16: (5=4+5A) | I16: (6=3-5)
A17: 1 | B17: INGRESOS CORRIENTES. | C17: =+C18 -> 128991550549 | D17: =+D18 -> 0 | E17: 0 | F17: =+F18+F181 -> 252293082240 | G17: =+G18 -> 5500378168 | H17: =+H18 -> 33542055523 | I17: =+F17+G17-H17 -> 224251404885
A18: 11 | B18: RENTAS PROPIAS. | C18: =C19+C168+C176 -> 128991550549 | D18: =D19+D168+D176 -> 0 | E18: 0 | F18: =F19+F168+F176 -> 128991550549 | G18: =G19+G168+G176 -> 5500378168 | H18: =H19+H168+H176 -> 33542055523 | I18: =I19+I168+I176 -> 95449495026 | M18: =+C168 -> 6011760000 | N18: venta de bienes y servicios
A19: 111 | B19: DERECHOS ACADEMICOS. | C19: =C20+C70+C86+C134+C149+C154+C159 -> 91339790549 | D19: =D20+D70+D86+D134+D149+D154+D159 -> 0 | E19: 0 | F19: =F20+F70+F86+F134+F149+F154+F159 -> 91339790549 | G19: =G20+G70+G86+G134+G149+G154+G159 -> 53019554 | H19: =H20+H70+H86+H134+H149+H154+H159 -> 23472789749 | I19: =I20+I70+I86+I134+I149+I154+I159 -> 67867000800
A20: 1111 | B20: Matricula-pregrado. | C20: =+C21+C31+C37+C57+C64+C68 -> 85494721951 | D20: =+D21+D31+D37+D57+D64+D68 -> 0 | E20: 0 | F20: =+F21+F31+F37+F57+F64+F68 -> 85494721951 | G20: =+G21+G31+G37+G57+G64+G68 -> 0 | H20: =+H21+H31+H37+H57+H64+H68 -> 23045278317 | I20: =+I21+I31+I37+I57+I64+I68 -> 62449443634 | L20: =+H20+H86 -> 23254017763 | M20: =+C20+C86 -> 86584489961 | N20: matricula pregrado e iscripcion pregrado
A21: 111101 | B21: Facultad de Ingeniería. | C21: =SUM(C22:C30) -> 18546980835 | D21: =SUM(D22:D30) -> 0 | E21: =+E22+E23+E24+E25+E26+E27+E28 -> 0 | F21: =SUM(F22:F30) -> 18546980835 | G21: =SUM(G22:G30) -> 0 | H21: =SUM(H22:H30) -> 4804559044 | I21: =SUM(I22:I30) -> 13742421791
A22: 11110101 | B22: Ingeniería Industrial | C22: 3194274158 | D22: 0 | E22: 0 | F22: =+C22+D22 -> 3194274158 | G22: 0 | H22: =+'MAYO 2024'!H22+'JUNIO 2024'!G22 -> 8.3197742e+08 | I22: =+F22-H22 -> 2362296734 | L22: =+H70+H134 -> 55692350 | M22: =+C70+C134 -> 4379360690 | N22: maricula postgrado e inscripciones postgrado
A23: 11110102 | B23: Ingeniería Ambiental Riohacha | C23: 2016482633 | D23: 0 | E23: 0 | F23: =+C23+D23 -> 2016482633 | G23: 0 | H23: =+'MAYO 2024'!H23+'JUNIO 2024'!G23 -> 5.3741806e+08 | I23: =+F23-H23 -> 1479064576
A24: 11110103 | B24: Ingeniería Sistemas | C24: 3486780624 | D24: 0 | E24: 0 | F24: =+C24+D24 -> 3486780624 | G24: 0 | H24: =+'MAYO 2024'!H24+'JUNIO 2024'!G24 -> 9.3339041e+08 | I24: =+F24-H24 -> 2553390216 | L24: =+H174 -> 670680755 | M24: 0 | N24: diplomado
A25: 11110104 | B25: Ingeniería Sistemas Maicao | C25: 1809398409 | D25: 0 | E25: 0 | F25: =+C25+D25 -> 1809398409 | G25: 0 | H25: =+'MAYO 2024'!H25+'JUNIO 2024'!G25 -> 480883603 | I25: =+F25-H25 -> 1328514806
A26: 11110105 | B26: Ingeniería Civil | C26: 3647270898 | D26: 0 | E26: 0 | F26: =+C26+D26 -> 3647270898 | G26: 0 | H26: =+'MAYO 2024'!H26+'JUNIO 2024'!G26 -> 1068258462 | I26: =+F26-H26 -> 2579012436 | L26: =+H149+H154+H159+H171 -> 163715014 | M26: =+C149+C154+C159 -> 375939898 | N26: otros derechos academicos
A27: 11110106 | B27: Ingeniería Mecánica | C27: 1884466440 | D27: 0 | E27: 0 | F27: =+C27+D27 -> 1884466440 | G27: 0 | H27: =+'MAYO 2024'!H27+'JUNIO 2024'!G27 -> 4.1992499e+08 | I27: =+F27-H27 -> 1464541448
A28: 11110107 | B28: Ingeniería Ambiental Fonseca | C28: 1242505345 | D28: 0 | E28: 0 | F28: =+C28+D28 -> 1242505345 | G28: 0 | H28: =+'MAYO 2024'!H28+'JUNIO 2024'!G28 -> 3.5803265e+08 | I28: =+F28-H28 -> 8.844727e+08 | L28: =+H178+H179+H180 -> 1217802428 | M28: =+C176 -> 31640000000 | N28: Otras rentas propias
A29: 11110608 | B29: Tecnología en Gestión de Redes Informáticas Riohacha | C29: 994004284 | D29: 0 | E29: =+E30+E31+E32+E33+E34+E35+E36+E37+E38+E39+E40+E41+E42 -> 0 | F29: =+C29+D29 -> 994004284 | G29: 0 | H29: =+'MAYO 2024'!H29+'JUNIO 2024'!G29 -> 1.5038742e+08 | I29: =+F29-H29 -> 8.4361686e+08
A30: 11110609 | B30: Tecnología en Gestión de Redes Informáticas Maicao | C30: 271798044 | D30: 0 | E30: 0 | F30: =+C30+D30 -> 271798044 | G30: 0 | H30: =+'MAYO 2024'!H30+'JUNIO 2024'!G30 -> 24286030 | I30: =+F30-H30 -> 2.4751201e+08 | L30: =+H184 -> 20119628840 | M30: =+C184 -> 58330090683 | N30: aporte ley 30 art 86
A31: 111102 | B31: Facultad de Ciencia de la Educacion. | C31: =SUM(C32:C36) -> 15510608389 | D31: =SUM(D32:D36) -> 0 | E31: 0 | F31: =SUM(F32:F36) -> 15510608389 | G31: =SUM(G32:G36) -> 0 | H31: =SUM(H32:H36) -> 4079913301 | I31: =SUM(I32:I36) -> 11430695088
A32: 11110201 | B32: Lic en Educación Infantil Riohacha | C32: 3629151028 | D32: 0 | E32: 0 | F32: =+C32+D32 -> 3629151028 | G32: 0 | H32: =+'MAYO 2024'!H32+'JUNIO 2024'!G32 -> 1155671754 | I32: =+F32-H32 -> 2473479274 | L32: =+H185 -> 0 | M32: =+C185 -> 1721524593 | N32: aporte ley 30 art 87
A33: 11110202 | B33: Lic en Educación Infantil Maicao | C33: 3623973923 | D33: 0 | E33: 0 | F33: =+C33+D33 -> 3623973923 | G33: 0 | H33: =+'MAYO 2024'!H33+'JUNIO 2024'!G33 -> 181296295 | I33: =+F33-H33 -> 3442677628
A34: 11110203 | B34: Lic en Etnoeducacion e Interculturalidad Riohacha | C34: 3616208264 | D34: 0 | E34: 0 | F34: =+C34+D34 -> 3616208264 | G34: 0 | H34: =+'MAYO 2024'!H34+'JUNIO 2024'!G34 -> 1477662994 | I34: =+F34-H34 -> 2138545270 | L34: =+H188 -> 0 | M34: =+C188 -> 19161450403 | N34: Aportes Ley 30 del 92
A35: 11110204 | B35: Lic en Educación Física, Recreación y Deportes | C35: 3825881041 | D35: 0 | E35: 0 | F35: =+C35+D35 -> 3825881041 | G35: 0 | H35: =+'MAYO 2024'!H35+'JUNIO 2024'!G35 -> 1076264730 | I35: =+F35-H35 -> 2749616311
A36: 11110213 | B36: Lic en Música | C36: 815394133 | D36: 0 | E36: 0 | F36: =+C36+D36 -> 815394133 | G36: 0 | H36: =+'MAYO 2024'!H36+'JUNIO 2024'!G36 -> 1.8901753e+08 | I36: =+F36-H36 -> 6.263766e+08 | L36: =+H196 -> 16425614551 | M36: =+C196 -> 50942388435 | N36: recursos de caapital
A37: 111103 | B37: Facultad de Ciencias Económicas y Administrativa. | C37: =SUM(C38:C56) -> 26555963195 | D37: =SUM(D38:D56) -> 0 | E37: 0 | F37: =SUM(F38:F56) -> 26555963195 | G37: =SUM(G38:G56) -> 0 | H37: =SUM(H38:H56) -> 6703267141 | I37: =SUM(I38:I56) -> 19852696054
A38: 11110301 | B38: Contaduria Publica | C38: 3963074340 | D38: 0 | E38: 0 | F38: =+C38+D38 -> 3963074340 | G38: 0 | H38: =+'MAYO 2024'!H38+'JUNIO 2024'!G38 -> 1110380213 | I38: =+F38-H38 -> 2852694127 | L38: =+H177+H194 -> 14228001236 | M38: =+C194 -> 18451441852 | N38: estampillas
A39: 11110302 | B39: Contaduría Pública Maicao | C39: 3080377834 | D39: 0 | E39: 0 | F39: =+C39+D39 -> 3080377834 | G39: 0 | H39: =+'MAYO 2024'!H39+'JUNIO 2024'!G39 -> 7.6702221e+08 | I39: =+F39-H39 -> 2313355627
A40: 11110303 | B40: Contaduria Publica Villanueva | C40: 41416845 | D40: 0 | E40: 0 | F40: =+C40+D40 -> 41416845 | G40: 0 | H40: =+'MAYO 2024'!H40+'JUNIO 2024'!G40 -> 76257725 | I40: =+F40-H40 -> -34840880 | L40: =+H192 -> 2043310440 | M40: =+C191 -> 9000000000 | N40: estampilla pro u nacional
A41: 11110304 | B41: Administracion de Empresas Riohacha | C41: 4066616452 | D41: 0 | E41: 0 | F41: =+C41+D41 -> 4066616452 | G41: 0 | H41: =+'MAYO 2024'!H41+'JUNIO 2024'!G41 -> 1116542855 | I41: =+F41-H41 -> 2950073597
A42: 11110305 | B42: Administracion Turística y Hotelera | C42: 1584194315 | D42: 0 | E42: 0 | F42: =+C42+D42 -> 1584194315 | G42: 0 | H42: =+'MAYO 2024'!H42+'JUNIO 2024'!G42 -> 4.6450524e+08 | I42: =+F42-H42 -> 1119689073 | L42: =+H186 -> 0 | M42: =+C186 -> 442529331 | N42: recusos por votacion
A43: 11110306 | B43: Negocios Internacionales | C43: 1944003154 | D43: =+D44+D45+D46+D47+D48+D49+D50+D51+D52+D53+D54 -> 0 | E43: =+E44+E45+E46+E47+E48+E49+E50+E51+E52+E53+E54 -> 0 | F43: =+C43+D43 -> 1944003154 | G43: 0 | H43: =+'MAYO 2024'!H43+'JUNIO 2024'!G43 -> 534683684 | I43: =+F43-H43 -> 1409319470
A44: 11110307 | B44: Economía | C44: 1664439452 | D44: =SUM(D45:D55) -> 0 | E44: =SUM(E45:E55) -> 0 | F44: =+C44+D44 -> 1664439452 | G44: 0 | H44: =+'MAYO 2024'!H44+'JUNIO 2024'!G44 -> 4.0134596e+08 | I44: =+F44-H44 -> 1263093494 | L44: =+H187 -> 1870989185 | M44: =+C187 -> 1400000000 | N44: fomento a la calidad COOPERATIVA
A45: 11110308 | B45: Negocios Internacionales Maicao | C45: 949998878 | D45: 0 | E45: 0 | F45: =+C45+D45 -> 949998878 | G45: 0 | H45: =+'MAYO 2024'!H45+'JUNIO 2024'!G45 -> 2.2298369e+08 | I45: =+F45-H45 -> 7.2701519e+08
...

Sheet JULIO 2024
E2: Tesorería
E6: ENTIDAD:UNIVERSIDAD DE LA GUAJIRA
E7: NIT No:892115029-4
E8: NOMBRE DEL REPRESENTANTE LEGAL:CARLOS A. ROBLES JULIO
A9: INFORME EJECUCION PRESUPUESTAL DE INGRESOS | E9: CIUDAD, DIRECCION Y TELEFONOS:R/CHA, KM 5 VIA M/CAO, 7282729
E10: VIGENCIA FISCAL:2024
E11: PERIODO DE RENDICION DE: JULIO 01 A: JULIO 31
E12: HOJA ______ DE _______
A14: CODIGO | B14: DESCRIPCION | C14: PRESUPUESTO | D14: MODIFICACIONES | F14: PRESUPUESTO | G14: RECAUDOS | I14: SALDOS
C15: INICIAL | D15: (2) | F15: DEFINITIVO | G15: DEL MES | H15: ACUMULADO
C16: (1) | D16: ADICIONES | E16: REDUCCION | F16: (3=1+/-2) | G16: 4 | H16: (5=4+5A) | I16: (6=3-5)
A17: 1 | B17: INGRESOS CORRIENTES. | C17: =+C18 -> 128991550549 | D17: =+D18 -> 0 | E17: 0 | F17: =+F18+F181 -> 255326240390 | G17: =+G18 -> 1311467775 | H17: =+H18 -> 34853523298 | I17: =+F17+G17-H17 -> 221784184867
A18: 11 | B18: RENTAS PROPIAS. | C18: =C19+C168+C176 -> 128991550549 | D18: =D19+D168+D176 -> 0 | E18: 0 | F18: =F19+F168+F176 -> 128991550549 | G18: =G19+G168+G176 -> 1311467775 | H18: =H19+H168+H176 -> 34853523298 | I18: =I19+I168+I176 -> 94138027251 | M18: =+C168 -> 6011760000 | N18: venta de bienes y servicios
A19: 111 | B19: DERECHOS ACADEMICOS. | C19: =C20+C70+C86+C134+C149+C154+C159 -> 91339790549 | D19: =D20+D70+D86+D134+D149+D154+D159 -> 0 | E19: 0 | F19: =F20+F70+F86+F134+F149+F154+F159 -> 91339790549 | G19: =G20+G70+G86+G134+G149+G154+G159 -> 30195282 | H19: =H20+H70+H86+H134+H149+H154+H159 -> 23502985031 | I19: =I20+I70+I86+I134+I149+I154+I159 -> 67836805518
A20: 1111 | B20: Matricula-pregrado. | C20: =+C21+C31+C37+C57+C64+C68 -> 85494721951 | D20: =+D21+D31+D37+D57+D64+D68 -> 0 | E20: 0 | F20: =+F21+F31+F37+F57+F64+F68 -> 85494721951 | G20: =+G21+G31+G37+G57+G64+G68 -> 436792 | H20: =+H21+H31+H37+H57+H64+H68 -> 23045715109 | I20: =+I21+I31+I37+I57+I64+I68 -> 62449006842 | L20: =+H20+H86 -> 23255385145 | M20: =+C20+C86 -> 86584489961 | N20: matricula pregrado e iscripcion pregrado
A21: 111101 | B21: Facultad de Ingeniería. | C21: =SUM(C22:C30) -> 18546980835 | D21: =SUM(D22:D30) -> 0 | E21: =+E22+E23+E24+E25+E26+E27+E28 -> 0 | F21: =SUM(F22:F30) -> 18546980835 | G21: =SUM(G22:G30) -> 0 | H21: =SUM(H22:H30) -> 4804559044 | I21: =SUM(I22:I30) -> 13742421791
A22: 11110101 | B22: Ingeniería Industrial | C22: 3194274158 | D22: 0 | E22: 0 | F22: =+C22+D22 -> 3194274158 | G22: 0 | H22: =+'JUNIO 2024'!H22+'JULIO 2024'!G22 -> 8.3197742e+08 | I22: =+F22-H22 -> 2362296734 | L22: =+H70+H134 -> 65599450 | M22: =+C70+C134 -> 4379360690 | N22: maricula postgrado e inscripciones postgrado
A23: 11110102 | B23: Ingeniería Ambiental Riohacha | C23: 2016482633 | D23: 0 | E23: 0 | F23: =+C23+D23 -> 2016482633 | G23: 0 | H23: =+'JUNIO 2024'!H23+'JULIO 2024'!G23 -> 5.3741806e+08 | I23: =+F23-H23 -> 1479064576
A24: 11110103 | B24: Ingeniería Sistemas | C24: 3486780624 | D24: 0 | E24: 0 | F24: =+C24+D24 -> 3486780624 | G24: 0 | H24: =+'JUNIO 2024'!H24+'JULIO 2024'!G24 -> 9.3339041e+08 | I24: =+F24-H24 -> 2553390216 | L24: =+H174 -> 676576608 | M24: 0 | N24: diplomado
A25: 11110104 | B25: Ingeniería Sistemas Maicao | C25: 1809398409 | D25: 0 | E25: 0 | F25: =+C25+D25 -> 1809398409 | G25: 0 | H25: =+'JUNIO 2024'!H25+'JULIO 2024'!G25 -> 480883603 | I25: =+F25-H25 -> 1328514806
A26: 11110105 | B26: Ingeniería Civil | C26: 3647270898 | D26: 0 | E26: 0 | F26: =+C26+D26 -> 3647270898 | G26: 0 | H26: =+'JUNIO 2024'!H26+'JULIO 2024'!G26 -> 1068258462 | I26: =+F26-H26 -> 2579012436 | L26: =+H149+H154+H159+H171 -> 182778931 | M26: =+C149+C154+C159 -> 375939898 | N26: otros derechos academicos
A27: 11110106 | B27: Ingeniería Mecánica | C27: 1884466440 | D27: 0 | E27: 0 | F27: =+C27+D27 -> 1884466440 | G27: 0 | H27: =+'JUNIO 2024'!H27+'JULIO 2024'!G27 -> 4.1992499e+08 | I27: =+F27-H27 -> 1464541448
A28: 11110107 | B28: Ingeniería Ambiental Fonseca | C28: 1242505345 | D28: 0 | E28: 0 | F28: =+C28+D28 -> 1242505345 | G28: 0 | H28: =+'JUNIO 2024'!H28+'JULIO 2024'!G28 -> 3.5803265e+08 | I28: =+F28-H28 -> 8.844727e+08 | L28: =+H178+H179+H180 -> 1224175567 | M28: =+C176 -> 31640000000 | N28: Otras rentas propias
A29: 11110608 | B29: Tecnología en Gestión de Redes Informáticas Riohacha | C29: 994004284 | D29: 0 | E29: =+E30+E31+E32+E33+E34+E35+E36+E37+E38+E39+E40+E41+E42 -> 0 | F29: =+C29+D29 -> 994004284 | G29: 0 | H29: =+'JUNIO 2024'!H29+'JULIO 2024'!G29 -> 1.5038742e+08 | I29: =+F29-H29 -> 8.4361686e+08
A30: 11110609 | B30: Tecnología en Gestión de Redes Informáticas Maicao | C30: 271798044 | D30: 0 | E30: 0 | F30: =+C30+D30 -> 271798044 | G30: 0 | H30: =+'JUNIO 2024'!H30+'JULIO 2024'!G30 -> 24286030 | I30: =+F30-H30 -> 2.4751201e+08 | L30: =+H184 -> 24143554608 | M30: =+C184 -> 58330090683 | N30: aporte ley 30 art 86
A31: 111102 | B31: Facultad de Ciencia de la Educacion. | C31: =SUM(C32:C36) -> 15510608389 | D31: =SUM(D32:D36) -> 0 | E31: 0 | F31: =SUM(F32:F36) -> 15510608389 | G31: =SUM(G32:G36) -> 225000 | H31: =SUM(H32:H36) -> 4080138301 | I31: =SUM(I32:I36) -> 11430470088
A32: 11110201 | B32: Lic en Educación Infantil Riohacha | C32: 3629151028 | D32: 0 | E32: 0 | F32: =+C32+D32 -> 3629151028 | G32: 225000 | H32: =+'JUNIO 2024'!H32+'JULIO 2024'!G32 -> 1155896754 | I32: =+F32-H32 -> 2473254274 | L32: =+H185 -> 0 | M32: =+C185 -> 1721524593 | N32: aporte ley 30 art 87
A33: 11110202 | B33: Lic en Educación Infantil Maicao | C33: 3623973923 | D33: 0 | E33: 0 | F33: =+C33+D33 -> 3623973923 | G33: 0 | H33: =+'JUNIO 2024'!H33+'JULIO 2024'!G33 -> 181296295 | I33: =+F33-H33 -> 3442677628
A34: 11110203 | B34: Lic en Etnoeducacion e Interculturalidad Riohacha | C34: 3616208264 | D34: 0 | E34: 0 | F34: =+C34+D34 -> 3616208264 | G34: 0 | H34: =+'JUNIO 2024'!H34+'JULIO 2024'!G34 -> 1477662994 | I34: =+F34-H34 -> 2138545270 | L34: =+H188 -> 0 | M34: =+C188 -> 19161450403 | N34: Aportes Ley 30 del 92
A35: 11110204 | B35: Lic en Educación Física, Recreación y Deportes | C35: 3825881041 | D35: 0 | E35: 0 | F35: =+C35+D35 -> 3825881041 | G35: 0 | H35: =+'JUNIO 2024'!H35+'JULIO 2024'!G35 -> 1076264730 | I35: =+F35-H35 -> 2749616311
A36: 11110213 | B36: Lic en Música | C36: 815394133 | D36: 0 | E36: 0 | F36: =+C36+D36 -> 815394133 | G36: 0 | H36: =+'JUNIO 2024'!H36+'JULIO 2024'!G36 -> 1.8901753e+08 | I36: =+F36-H36 -> 6.263766e+08 | L36: =+H196 -> 19300574174 | M36: =+C196 -> 50942388435 | N36: recursos de caapital
A37: 111103 | B37: Facultad de Ciencias Económicas y Administrativa. | C37: =SUM(C38:C56) -> 26555963195 | D37: =SUM(D38:D56) -> 0 | E37: 0 | F37: =SUM(F38:F56) -> 26555963195 | G37: =SUM(G38:G56) -> 211792 | H37: =SUM(H38:H56) -> 6703478933 | I37: =SUM(I38:I56) -> 19852484262
A38: 11110301 | B38: Contaduria Publica | C38: 3963074340 | D38: 0 | E38: 0 | F38: =+C38+D38 -> 3963074340 | G38: 211792 | H38: =+'JUNIO 2024'!H38+'JULIO 2024'!G38 -> 1110592005 | I38: =+F38-H38 -> 2852482335 | L38: =+H177+H194 -> 18118379673 | M38: =+C194 -> 18451441852 | N38: estampillas
A39: 11110302 | B39: Contaduría Pública Maicao | C39: 3080377834 | D39: 0 | E39: 0 | F39: =+C39+D39 -> 3080377834 | G39: 0 | H39: =+'JUNIO 2024'!H39+'JULIO 2024'!G39 -> 7.6702221e+08 | I39: =+F39-H39 -> 2313355627
A40: 11110303 | B40: Contaduria Publica Villanueva | C40: 41416845 | D40: 0 | E40: 0 | F40: =+C40+D40 -> 41416845 | G40: 0 | H40: =+'JUNIO 2024'!H40+'JULIO 2024'!G40 -> 76257725 | I40: =+F40-H40 -> -34840880 | L40: =+H192 -> 2554138050 | M40: =+C191 -> 9000000000 | N40: estampilla pro u nacional
A41: 11110304 | B41: Administracion de Empresas Riohacha | C41: 4066616452 | D41: 0 | E41: 0 | F41: =+C41+D41 -> 4066616452 | G41: 0 | H41: =+'JUNIO 2024'!H41+'JULIO 2024'!G41 -> 1116542855 | I41: =+F41-H41 -> 2950073597
A42: 11110305 | B42: Administracion Turística y Hotelera | C42: 1584194315 | D42: 0 | E42: 0 | F42: =+C42+D42 -> 1584194315 | G42: 0 | H42: =+'JUNIO 2024'!H42+'JULIO 2024'!G42 -> 4.6450524e+08 | I42: =+F42-H42 -> 1119689073 | L42: =+H186 -> 0 | M42: =+C186 -> 442529331 | N42: recusos por votacion
A43: 11110306 | B43: Negocios Internacionales | C43: 1944003154 | D43: =+D44+D45+D46+D47+D48+D49+D50+D51+D52+D53+D54 -> 0 | E43: =+E44+E45+E46+E47+E48+E49+E50+E51+E52+E53+E54 -> 0 | F43: =+C43+D43 -> 1944003154 | G43: 0 | H43: =+'JUNIO 2024'!H43+'JULIO 2024'!G43 -> 534683684 | I43: =+F43-H43 -> 1409319470
A44: 11110307 | B44: Economía | C44: 1664439452 | D44: =SUM(D45:D55) -> 0 | E44: =SUM(E45:E55) -> 0 | F44: =+C44+D44 -> 1664439452 | G44: 0 | H44: =+'JUNIO 2024'!H44+'JULIO 2024'!G44 -> 4.0134596e+08 | I44: =+F44-H44 -> 1263093494 | L44: =+H187 -> 1870989185 | M44: =+C187 -> 1400000000 | N44: fomento a la calidad COOPERATIVA
A45: 11110308 | B45: Negocios Internacionales Maicao | C45: 949998878 | D45: 0 | E45: 0 | F45: =+C45+D45 -> 949998878 | G45: 0 | H45: =+'JUNIO 2024'!H45+'JULIO 2024'!G45 -> 2.2298369e+08 | I45: =+F45-H45 -> 7.2701519e+08
...

Sheet AGOSTO 2024
E2: Tesorería
E6: ENTIDAD:UNIVERSIDAD DE LA GUAJIRA
E7: NIT No:892115029-4
E8: NOMBRE DEL REPRESENTANTE LEGAL:CARLOS A. ROBLES JULIO
A9: INFORME EJECUCION PRESUPUESTAL DE INGRESOS | E9: CIUDAD, DIRECCION Y TELEFONOS:R/CHA, KM 5 VIA M/CAO, 7282729
E10: VIGENCIA FISCAL:2024
E11: PERIODO DE RENDICION DE: AGOSTO 01 A: AGOSTO 31
E12: HOJA ______ DE _______
A14: CODIGO | B14: DESCRIPCION | C14: PRESUPUESTO | D14: MODIFICACIONES | F14: PRESUPUESTO | G14: RECAUDOS | I14: SALDOS
C15: INICIAL | D15: (2) | F15: DEFINITIVO | G15: DEL MES | H15: ACUMULADO
C16: (1) | D16: ADICIONES | E16: REDUCCION | F16: (3=1+/-2) | G16: 4 | H16: (5=4+5A) | I16: (6=3-5)
A17: 1 | B17: INGRESOS CORRIENTES. | C17: =+C18 -> 128991550549 | D17: =+D18 -> 0 | E17: 0 | F17: =+F18+F181 -> 255326240390 | G17: =+G18 -> 25632793819 | H17: =+H18 -> 60486317117 | I17: =+F17+G17-H17 -> 220472717092
A18: 11 | B18: RENTAS PROPIAS. | C18: =C19+C168+C176 -> 128991550549 | D18: =D19+D168+D176 -> 0 | E18: 0 | F18: =F19+F168+F176 -> 128991550549 | G18: =G19+G168+G176 -> 25632793819 | H18: =H19+H168+H176 -> 60486317117 | I18: =I19+I168+I176 -> 68505233432 | M18: =+C168 -> 6011760000 | N18: venta de bienes y servicios
A19: 111 | B19: DERECHOS ACADEMICOS. | C19: =C20+C70+C86+C134+C149+C154+C159 -> 91339790549 | D19: =D20+D70+D86+D134+D149+D154+D159 -> 0 | E19: 0 | F19: =F20+F70+F86+F134+F149+F154+F159 -> 91339790549 | G19: =G20+G70+G86+G134+G149+G154+G159 -> 20837869969 | H19: =H20+H70+H86+H134+H149+H154+H159 -> 44340855000 | I19: =I20+I70+I86+I134+I149+I154+I159 -> 46998935549
A20: 1111 | B20: Matricula-pregrado. | C20: =+C21+C31+C37+C57+C64+C68 -> 85494721951 | D20: =+D21+D31+D37+D57+D64+D68 -> 0 | E20: 0 | F20: =+F21+F31+F37+F57+F64+F68 -> 85494721951 | G20: =+G21+G31+G37+G57+G64+G68 -> 19766907368 | H20: =+H21+H31+H37+H57+H64+H68 -> 42812622477 | I20: =+I21+I31+I37+I57+I64+I68 -> 42682099474 | L20: =+H20+H86 -> 43052804087 | M20: =+C20+C86 -> 86584489961 | N20: matricula pregrado e iscripcion pregrado
A21: 111101 | B21: Facultad de Ingeniería. | C21: =SUM(C22:C30) -> 18546980835 | D21: =SUM(D22:D30) -> 0 | E21: =+E22+E23+E24+E25+E26+E27+E28 -> 0 | F21: =SUM(F22:F30) -> 18546980835 | G21: =SUM(G22:G30) -> 3886822052 | H21: =SUM(H22:H30) -> 8691381096 | I21: =SUM(I22:I30) -> 9855599739
A22: 11110101 | B22: Ingeniería Industrial | C22: 3194274158 | D22: 0 | E22: 0 | F22: =+C22+D22 -> 3194274158 | G22: 618669501 | H22: =+'JULIO 2024'!H22+'AGOSTO 2024'!G22 -> 1450646925 | I22: =+F22-H22 -> 1743627233 | L22: =+H70+H134 -> 931667093 | M22: =+C70+C134 -> 4379360690 | N22: maricula postgrado e inscripciones postgrado
A23: 11110102 | B23: Ingeniería Ambiental Riohacha | C23: 2016482633 | D23: 0 | E23: 0 | F23: =+C23+D23 -> 2016482633 | G23: 414430902 | H23: =+'JULIO 2024'!H23+'AGOSTO 2024'!G23 -> 9.5184896e+08 | I23: =+F23-H23 -> 1064633674
A24: 11110103 | B24: Ingeniería Sistemas | C24: 3486780624 | D24: 0 | E24: 0 | F24: =+C24+D24 -> 3486780624 | G24: 829714659 | H24: =+'JULIO 2024'!H24+'AGOSTO 2024'!G24 -> 1763105067 | I24: =+F24-H24 -> 1723675557 | L24: =+H174 -> 748576417 | M24: 0 | N24: diplomado
A25: 11110104 | B25: Ingeniería Sistemas Maicao | C25: 1809398409 | D25: 0 | E25: 0 | F25: =+C25+D25 -> 1809398409 | G25: 397087447 | H25: =+'JULIO 2024'!H25+'AGOSTO 2024'!G25 -> 877971050 | I25: =+F25-H25 -> 931427359
A26: 11110105 | B26: Ingeniería Civil | C26: 3647270898 | D26: 0 | E26: 0 | F26: =+C26+D26 -> 3647270898 | G26: 761817690 | H26: =+'JULIO 2024'!H26+'AGOSTO 2024'!G26 -> 1830076152 | I26: =+F26-H26 -> 1817194746 | L26: =+H149+H154+H159+H171 -> 505611271 | M26: =+C149+C154+C159 -> 375939898 | N26: otros derechos academicos
A27: 11110106 | B27: Ingeniería Mecánica | C27: 1884466440 | D27: 0 | E27: 0 | F27: =+C27+D27 -> 1884466440 | G27: 376896554 | H27: =+'JULIO 2024'!H27+'AGOSTO 2024'!G27 -> 7.9682155e+08 | I27: =+F27-H27 -> 1087644894
A28: 11110107 | B28: Ingeniería Ambiental Fonseca | C28: 1242505345 | D28: 0 | E28: 0 | F28: =+C28+D28 -> 1242505345 | G28: 276977559 | H28: =+'JULIO 2024'!H28+'AGOSTO 2024'!G28 -> 6.3501021e+08 | I28: =+F28-H28 -> 6.0749514e+08 | L28: =+H178+H179+H180 -> 1707396235 | M28: =+C176 -> 31640000000 | N28: Otras rentas propias
A29: 11110608 | B29: Tecnología en Gestión de Redes Informáticas Riohacha | C29: 994004284 | D29: 0 | E29: =+E30+E31+E32+E33+E34+E35+E36+E37+E38+E39+E40+E41+E42 -> 0 | F29: =+C29+D29 -> 994004284 | G29: 174987690 | H29: =+'JULIO 2024'!H29+'AGOSTO 2024'!G29 -> 3.2537511e+08 | I29: =+F29-H29 -> 6.6862917e+08
A30: 11110609 | B30: Tecnología en Gestión de Redes Informáticas Maicao | C30: 271798044 | D30: 0 | E30: 0 | F30: =+C30+D30 -> 271798044 | G30: 36240050 | H30: =+'JULIO 2024'!H30+'AGOSTO 2024'!G30 -> 60526080 | I30: =+F30-H30 -> 2.1127196e+08 | L30: =+H184 -> 28167480375 | M30: =+C184 -> 58330090683 | N30: aporte ley 30 art 86
A31: 111102 | B31: Facultad de Ciencia de la Educacion. | C31: =SUM(C32:C36) -> 15510608389 | D31: =SUM(D32:D36) -> 0 | E31: 0 | F31: =SUM(F32:F36) -> 15510608389 | G31: =SUM(G32:G36) -> 4459714907 | H31: =SUM(H32:H36) -> 8539853208 | I31: =SUM(I32:I36) -> 6970755181
A32: 11110201 | B32: Lic en Educación Infantil Riohacha | C32: 3629151028 | D32: 0 | E32: 0 | F32: =+C32+D32 -> 3629151028 | G32: 1060445090 | H32: =+'JULIO 2024'!H32+'AGOSTO 2024'!G32 -> 2216341844 | I32: =+F32-H32 -> 1412809184 | L32: =+H185 -> 0 | M32: =+C185 -> 1721524593 | N32: aporte ley 30 art 87
A33: 11110202 | B33: Lic en Educación Infantil Maicao | C33: 3623973923 | D33: 0 | E33: 0 | F33: =+C33+D33 -> 3623973923 | G33: 1061056935 | H33: =+'JULIO 2024'!H33+'AGOSTO 2024'!G33 -> 1242353230 | I33: =+F33-H33 -> 2381620693
A34: 11110203 | B34: Lic en Etnoeducacion e Interculturalidad Riohacha | C34: 3616208264 | D34: 0 | E34: 0 | F34: =+C34+D34 -> 3616208264 | G34: 1109981001 | H34: =+'JULIO 2024'!H34+'AGOSTO 2024'!G34 -> 2587643995 | I34: =+F34-H34 -> 1028564269 | L34: =+H188 -> 0 | M34: =+C188 -> 19161450403 | N34: Aportes Ley 30 del 92
A35: 11110204 | B35: Lic en Educación Física, Recreación y Deportes | C35: 3825881041 | D35: 0 | E35: 0 | F35: =+C35+D35 -> 3825881041 | G35: 1054326691 | H35: =+'JULIO 2024'!H35+'AGOSTO 2024'!G35 -> 2130591421 | I35: =+F35-H35 -> 1695289620
A36: 11110213 | B36: Lic en Música | C36: 815394133 | D36: 0 | E36: 0 | F36: =+C36+D36 -> 815394133 | G36: 173905190 | H36: =+'JULIO 2024'!H36+'AGOSTO 2024'!G36 -> 3.6292272e+08 | I36: =+F36-H36 -> 4.5247141e+08 | L36: =+H196 -> 19312572374 | M36: =+C196 -> 50942388435 | N36: recursos de caapital
A37: 111103 | B37: Facultad de Ciencias Económicas y Administrativa. | C37: =SUM(C38:C56) -> 26555963195 | D37: =SUM(D38:D56) -> 0 | E37: 0 | F37: =SUM(F38:F56) -> 26555963195 | G37: =SUM(G38:G56) -> 5403297906 | H37: =SUM(H38:H56) -> 12106776839 | I37: =SUM(I38:I56) -> 14449186356
A38: 11110301 | B38: Contaduria Publica | C38: 3963074340 | D38: 0 | E38: 0 | F38: =+C38+D38 -> 3963074340 | G38: 874632523 | H38: =+'JULIO 2024'!H38+'AGOSTO 2024'!G38 -> 1985224528 | I38: =+F38-H38 -> 1977849812 | L38: =+H177+H194 -> 23800072366 | M38: =+C194 -> 18451441852 | N38: estampillas
A39: 11110302 | B39: Contaduría Pública Maicao | C39: 3080377834 | D39: 0 | E39: 0 | F39: =+C39+D39 -> 3080377834 | G39: 631612368 | H39: =+'JULIO 2024'!H39+'AGOSTO 2024'!G39 -> 1398634575 | I39: =+F39-H39 -> 1681743259
A40: 11110303 | B40: Contaduria Publica Villanueva | C40: 41416845 | D40: 0 | E40: 0 | F40: =+C40+D40 -> 41416845 | G40: 40381780 | H40: =+'JULIO 2024'!H40+'AGOSTO 2024'!G40 -> 1.166395e+08 | I40: =+F40-H40 -> -75222660 | L40: =+H192 -> 2554138050 | M40: =+C191 -> 9000000000 | N40: estampilla pro u nacional
A41: 11110304 | B41: Administracion de Empresas Riohacha | C41: 4066616452 | D41: 0 | E41: 0 | F41: =+C41+D41 -> 4066616452 | G41: 905742486 | H41: =+'JULIO 2024'!H41+'AGOSTO 2024'!G41 -> 2022285341 | I41: =+F41-H41 -> 2044331111
A42: 11110305 | B42: Administracion Turística y Hotelera | C42: 1584194315 | D42: 0 | E42: 0 | F42: =+C42+D42 -> 1584194315 | G42: 396569729 | H42: =+'JULIO 2024'!H42+'AGOSTO 2024'!G42 -> 8.6107497e+08 | I42: =+F42-H42 -> 7.2311934e+08 | L42: =+H186 -> 0 | M42: =+C186 -> 442529331 | N42: recusos por votacion
A43: 11110306 | B43: Negocios Internacionales | C43: 1944003154 | D43: =+D44+D45+D46+D47+D48+D49+D50+D51+D52+D53+D54 -> 0 | E43: =+E44+E45+E46+E47+E48+E49+E50+E51+E52+E53+E54 -> 0 | F43: =+C43+D43 -> 1944003154 | G43: 507878465 | H43: =+'JULIO 2024'!H43+'AGOSTO 2024'!G43 -> 1042562149 | I43: =+F43-H43 -> 901441005
A44: 11110307 | B44: Economía | C44: 1664439452 | D44: =SUM(D45:D55) -> 0 | E44: =SUM(E45:E55) -> 0 | F44: =+C44+D44 -> 1664439452 | G44: 325595714 | H44: =+'JULIO 2024'!H44+'AGOSTO 2024'!G44 -> 7.2694167e+08 | I44: =+F44-H44 -> 9.3749778e+08 | L44: =+H187 -> 1870989185 | M44: =+C187 -> 1400000000 | N44: fomento a la calidad COOPERATIVA
A45: 11110308 | B45: Negocios Internacionales Maicao | C45: 949998878 | D45: 0 | E45: 0 | F45: =+C45+D45 -> 949998878 | G45: 142889363 | H45: =+'JULIO 2024'!H45+'AGOSTO 2024'!G45 -> 3.6587305e+08 | I45: =+F45-H45 -> 5.8412583e+08
...

Sheet SEPTIEMBRE 2024
E2: Tesorería
E6: ENTIDAD:UNIVERSIDAD DE LA GUAJIRA
E7: NIT No:892115029-4
E8: NOMBRE DEL REPRESENTANTE LEGAL:CARLOS A. ROBLES JULIO
A9: INFORME EJECUCION PRESUPUESTAL DE INGRESOS | E9: CIUDAD, DIRECCION Y TELEFONOS:R/CHA, KM 5 VIA M/CAO, 7282729
E10: VIGENCIA FISCAL:2024
E11: PERIODO DE RENDICION DE: SEPTIEMBRE 01 A: SEPTIEMBRE 30
E12: HOJA ______ DE _______
A14: CODIGO | B14: DESCRIPCION | C14: PRESUPUESTO | D14: MODIFICACIONES | F14: PRESUPUESTO | G14: RECAUDOS | I14: SALDOS
C15: INICIAL | D15: (2) | F15: DEFINITIVO | G15: DEL MES | H15: ACUMULADO
C16: (1) | D16: ADICIONES | E16: REDUCCION | F16: (3=1+/-2) | G16: 4 | H16: (5=4+5A) | I16: (6=3-5)
A17: 1 | B17: INGRESOS CORRIENTES. | C17: =+C18 -> 128991550549 | D17: =+D18 -> 0 | E17: 0 | F17: =+F18+F181 -> 255326240390 | G17: =+G18 -> 5562283442 | H17: =+H18 -> 66048600559 | I17: =+F17+G17-H17 -> 194839923273
A18: 11 | B18: RENTAS PROPIAS. | C18: =C19+C168+C176 -> 128991550549 | D18: =D19+D168+D176 -> 0 | E18: 0 | F18: =F19+F168+F176 -> 128991550549 | G18: =G19+G168+G176 -> 5562283442 | H18: =H19+H168+H176 -> 66048600559 | I18: =I19+I168+I176 -> 62942949990 | L18: =+H170 -> 44148000 | M18: =+C168 -> 6011760000 | N18: venta de bienes y servicios
A19: 111 | B19: DERECHOS ACADEMICOS. | C19: =C20+C70+C86+C134+C149+C154+C159 -> 91339790549 | D19: =D20+D70+D86+D134+D149+D154+D159 -> 0 | E19: 0 | F19: =F20+F70+F86+F134+F149+F154+F159 -> 91339790549 | G19: =G20+G70+G86+G134+G149+G154+G159 -> 2828506894 | H19: =H20+H70+H86+H134+H149+H154+H159 -> 47169361895 | I19: =I20+I70+I86+I134+I149+I154+I159 -> 44170428654
A20: 1111 | B20: Matricula-pregrado. | C20: =+C21+C31+C37+C57+C64+C68 -> 85494721951 | D20: =+D21+D31+D37+D57+D64+D68 -> 0 | E20: 0 | F20: =+F21+F31+F37+F57+F64+F68 -> 85494721951 | G20: =+G21+G31+G37+G57+G64+G68 -> 2733171599 | H20: =+H21+H31+H37+H57+H64+H68 -> 45545794077 | I20: =+I21+I31+I37+I57+I64+I68 -> 39948927874 | L20: =+H20+H86 -> 45785975687 | M20: =+C20+C86 -> 86584489961 | N20: matricula pregrado e iscripcion pregrado
A21: 111101 | B21: Facultad de Ingeniería. | C21: =SUM(C22:C30) -> 18546980835 | D21: =SUM(D22:D30) -> 0 | E21: =+E22+E23+E24+E25+E26+E27+E28 -> 0 | F21: =SUM(F22:F30) -> 18546980835 | G21: =SUM(G22:G30) -> 602197067 | H21: =SUM(H22:H30) -> 9293578163 | I21: =SUM(I22:I30) -> 9253402672
A22: 11110101 | B22: Ingeniería Industrial | C22: 3194274158 | D22: 0 | E22: 0 | F22: =+C22+D22 -> 3194274158 | G22: 1.0151042e+08 | H22: =+'AGOSTO 2024'!H22+'SEPTIEMBRE 2024'!G22 -> 1552157343 | I22: =+F22-H22 -> 1642116815 | L22: =+H70+H134 -> 1000009788 | M22: =+C70+C134 -> 4379360690 | N22: maricula postgrado e inscripciones postgrado
A23: 11110102 | B23: Ingeniería Ambiental Riohacha | C23: 2016482633 | D23: 0 | E23: 0 | F23: =+C23+D23 -> 2016482633 | G23: 58846619 | H23: =+'AGOSTO 2024'!H23+'SEPTIEMBRE 2024'!G23 -> 1010695578 | I23: =+F23-H23 -> 1005787055
A24: 11110103 | B24: Ingeniería Sistemas | C24: 3486780624 | D24: 0 | E24: 0 | F24: =+C24+D24 -> 3486780624 | G24: 1.152413e+08 | H24: =+'AGOSTO 2024'!H24+'SEPTIEMBRE 2024'!G24 -> 1878346362 | I24: =+F24-H24 -> 1608434262 | L24: =+H174 -> 763287763 | M24: 0 | N24: diplomado
A25: 11110104 | B25: Ingeniería Sistemas Maicao | C25: 1809398409 | D25: 0 | E25: 0 | F25: =+C25+D25 -> 1809398409 | G25: 61625487 | H25: =+'AGOSTO 2024'!H25+'SEPTIEMBRE 2024'!G25 -> 9.3959654e+08 | I25: =+F25-H25 -> 8.6980187e+08
A26: 11110105 | B26: Ingeniería Civil | C26: 3647270898 | D26: 0 | E26: 0 | F26: =+C26+D26 -> 3647270898 | G26: 1.1229896e+08 | H26: =+'AGOSTO 2024'!H26+'SEPTIEMBRE 2024'!G26 -> 1942375117 | I26: =+F26-H26 -> 1704895781 | L26: =+H149+H154+H159+H171 -> 532603871 | M26: =+C149+C154+C159 -> 375939898 | N26: otros derechos academicos
A27: 11110106 | B27: Ingeniería Mecánica | C27: 1884466440 | D27: 0 | E27: 0 | F27: =+C27+D27 -> 1884466440 | G27: 49365775 | H27: =+'AGOSTO 2024'!H27+'SEPTIEMBRE 2024'!G27 -> 8.4618732e+08 | I27: =+F27-H27 -> 1038279119
A28: 11110107 | B28: Ingeniería Ambiental Fonseca | C28: 1242505345 | D28: 0 | E28: 0 | F28: =+C28+D28 -> 1242505345 | G28: 39394542 | H28: =+'AGOSTO 2024'!H28+'SEPTIEMBRE 2024'!G28 -> 6.7440475e+08 | I28: =+F28-H28 -> 5.681006e+08 | L28: =+H178+H179+H180 -> 1735154420 | M28: =+C176 -> 31640000000 | N28: Otras rentas propias
A29: 11110608 | B29: Tecnología en Gestión de Redes Informáticas Riohacha | C29: 994004284 | D29: 0 | E29: =+E30+E31+E32+E33+E34+E35+E36+E37+E38+E39+E40+E41+E42 -> 0 | F29: =+C29+D29 -> 994004284 | G29: 39558005 | H29: =+'AGOSTO 2024'!H29+'SEPTIEMBRE 2024'!G29 -> 3.6493312e+08 | I29: =+F29-H29 -> 6.2907117e+08
A30: 11110609 | B30: Tecnología en Gestión de Redes Informáticas Maicao | C30: 271798044 | D30: 0 | E30: 0 | F30: =+C30+D30 -> 271798044 | G30: 24355962 | H30: =+'AGOSTO 2024'!H30+'SEPTIEMBRE 2024'!G30 -> 84882041 | I30: =+F30-H30 -> 1.86916e+08 | L30: =+H184 -> 35922553326 | M30: =+C184 -> 58330090683 | N30: aporte ley 30 art 86
A31: 111102 | B31: Facultad de Ciencia de la Educacion. | C31: =SUM(C32:C36) -> 15510608389 | D31: =SUM(D32:D36) -> 0 | E31: 0 | F31: =SUM(F32:F36) -> 15510608389 | G31: =SUM(G32:G36) -> 5.0183089e+08 | H31: =SUM(H32:H36) -> 9041684097 | I31: =SUM(I32:I36) -> 6468924292
A32: 11110201 | B32: Lic en Educación Infantil Riohacha | C32: 3629151028 | D32: 0 | E32: 0 | F32: =+C32+D32 -> 3629151028 | G32: 1.2292405e+08 | H32: =+'AGOSTO 2024'!H32+'SEPTIEMBRE 2024'!G32 -> 2339265892 | I32: =+F32-H32 -> 1289885136 | L32: =+H185 -> 0 | M32: =+C185 -> 1721524593 | N32: aporte ley 30 art 87
A33: 11110202 | B33: Lic en Educación Infantil Maicao | C33: 3623973923 | D33: 0 | E33: 0 | F33: =+C33+D33 -> 3623973923 | G33: 1.0657776e+08 | H33: =+'AGOSTO 2024'!H33+'SEPTIEMBRE 2024'!G33 -> 1348930995 | I33: =+F33-H33 -> 2275042928
A34: 11110203 | B34: Lic en Etnoeducacion e Interculturalidad Riohacha | C34: 3616208264 | D34: 0 | E34: 0 | F34: =+C34+D34 -> 3616208264 | G34: 1.1867401e+08 | H34: =+'AGOSTO 2024'!H34+'SEPTIEMBRE 2024'!G34 -> 2706318010 | I34: =+F34-H34 -> 909890254 | L34: =+H188 -> 600000000 | M34: =+C188 -> 19161450403 | N34: Aportes Ley 30 del 92
A35: 11110204 | B35: Lic en Educación Física, Recreación y Deportes | C35: 3825881041 | D35: 0 | E35: 0 | F35: =+C35+D35 -> 3825881041 | G35: 1.3289528e+08 | H35: =+'AGOSTO 2024'!H35+'SEPTIEMBRE 2024'!G35 -> 2263486702 | I35: =+F35-H35 -> 1562394339
A36: 11110213 | B36: Lic en Música | C36: 815394133 | D36: 0 | E36: 0 | F36: =+C36+D36 -> 815394133 | G36: 20759779 | H36: =+'AGOSTO 2024'!H36+'SEPTIEMBRE 2024'!G36 -> 3.836825e+08 | I36: =+F36-H36 -> 4.3171164e+08 | L36: =+H196 -> 19346526942 | M36: =+C196 -> 50942388435 | N36: recursos de caapital
A37: 111103 | B37: Facultad de Ciencias Económicas y Administrativa. | C37: =SUM(C38:C56) -> 26555963195 | D37: =SUM(D38:D56) -> 0 | E37: 0 | F37: =SUM(F38:F56) -> 26555963195 | G37: =SUM(G38:G56) -> 829737327 | H37: =SUM(H38:H56) -> 12936514166 | I37: =SUM(I38:I56) -> 13619449029
A38: 11110301 | B38: Contaduria Publica | C38: 3963074340 | D38: 0 | E38: 0 | F38: =+C38+D38 -> 3963074340 | G38: 1.2668369e+08 | H38: =+'AGOSTO 2024'!H38+'SEPTIEMBRE 2024'!G38 -> 2111908222 | I38: =+F38-H38 -> 1851166118 | L38: =+H177+H194 -> 28061167345 | M38: =+C194 -> 18451441852 | N38: estampillas
A39: 11110302 | B39: Contaduría Pública Maicao | C39: 3080377834 | D39: 0 | E39: 0 | F39: =+C39+D39 -> 3080377834 | G39: 93664202 | H39: =+'AGOSTO 2024'!H39+'SEPTIEMBRE 2024'!G39 -> 1492298777 | I39: =+F39-H39 -> 1588079057
A40: 11110303 | B40: Contaduria Publica Villanueva | C40: 41416845 | D40: 0 | E40: 0 | F40: =+C40+D40 -> 41416845 | G40: 1471165.5 | H40: =+'AGOSTO 2024'!H40+'SEPTIEMBRE 2024'!G40 -> 1.1811067e+08 | I40: =+F40-H40 -> -76693825 | L40: =+H192 -> 2554138050 | M40: =+C191 -> 9000000000 | N40: estampilla pro u nacional
A41: 11110304 | B41: Administracion de Empresas Riohacha | C41: 4066616452 | D41: 0 | E41: 0 | F41: =+C41+D41 -> 4066616452 | G41: 1.3109719e+08 | H41: =+'AGOSTO 2024'!H41+'SEPTIEMBRE 2024'!G41 -> 2153382531 | I41: =+F41-H41 -> 1913233921
A42: 11110305 | B42: Administracion Turística y Hotelera | C42: 1584194315 | D42: 0 | E42: 0 | F42: =+C42+D42 -> 1584194315 | G42: 54269660 | H42: =+'AGOSTO 2024'!H42+'SEPTIEMBRE 2024'!G42 -> 9.1534463e+08 | I42: =+F42-H42 -> 6.6884968e+08 | L42: =+H186 -> 0 | M42: =+C186 -> 442529331 | N42: recusos por votacion
A43: 11110306 | B43: Negocios Internacionales | C43: 1944003154 | D43: =+D44+D45+D46+D47+D48+D49+D50+D51+D52+D53+D54 -> 0 | E43: =+E44+E45+E46+E47+E48+E49+E50+E51+E52+E53+E54 -> 0 | F43: =+C43+D43 -> 1944003154 | G43: 67346686 | H43: =+'AGOSTO 2024'!H43+'SEPTIEMBRE 2024'!G43 -> 1109908835 | I43: =+F43-H43 -> 8.3409432e+08
A44: 11110307 | B44: Economía | C44: 1664439452 | D44: =SUM(D45:D55) -> 0 | E44: =SUM(E45:E55) -> 0 | F44: =+C44+D44 -> 1664439452 | G44: 49365775 | H44: =+'AGOSTO 2024'!H44+'SEPTIEMBRE 2024'!G44 -> 7.7630745e+08 | I44: =+F44-H44 -> 8.88132e+08 | L44: =+H187 -> 1870989185 | M44: =+C187 -> 1400000000 | N44: fomento a la calidad COOPERATIVA
A45: 11110308 | B45: Negocios Internacionales Maicao | C45: 949998878 | D45: 0 | E45: 0 | F45: =+C45+D45 -> 949998878 | G45: 18634763 | H45: =+'AGOSTO 2024'!H45+'SEPTIEMBRE 2024'!G45 -> 3.8450781e+08 | I45: =+F45-H45 -> 5.6549107e+08
...

Sheet OCTUBRE 2024
E2: Tesorería
E6: ENTIDAD:UNIVERSIDAD DE LA GUAJIRA
E7: NIT No:892115029-4
E8: NOMBRE DEL REPRESENTANTE LEGAL:CARLOS A. ROBLES JULIO
A9: INFORME EJECUCION PRESUPUESTAL DE INGRESOS | E9: CIUDAD, DIRECCION Y TELEFONOS:R/CHA, KM 5 VIA M/CAO, 7282729
E10: VIGENCIA FISCAL:2024
E11: PERIODO DE RENDICION DE: OCTUBRE 01 A: OCTUBRE 31
E12: HOJA ______ DE _______
A14: CODIGO | B14: DESCRIPCION | C14: PRESUPUESTO | D14: MODIFICACIONES | F14: PRESUPUESTO | G14: RECAUDOS | I14: SALDOS
C15: INICIAL | D15: (2) | F15: DEFINITIVO | G15: DEL MES | H15: ACUMULADO
C16: (1) | D16: ADICIONES | E16: REDUCCION | F16: (3=1+/-2) | G16: 4 | H16: (5=4+5A) | I16: (6=3-5)
A17: 1 | B17: INGRESOS CORRIENTES. | C17: =+C18 -> 128991550549 | D17: =+D18 -> 0 | E17: 0 | F17: =+F18+F181 -> 259161407454 | G17: =+G18 -> 33907447512 | H17: =+H18 -> 99956048072 | I17: =+F17+G17-H17 -> 193112806895
A18: 11 | B18: RENTAS PROPIAS. | C18: =C19+C168+C176 -> 128991550549 | D18: =D19+D168+D176 -> 0 | E18: 0 | F18: =F19+F168+F176 -> 128991550549 | G18: =G19+G168+G176 -> 33907447512 | H18: =H19+H168+H176 -> 99956048072 | I18: =I19+I168+I176 -> 29035502477 | L18: =+H170 -> 44148000 | M18: =+C168 -> 6011760000 | N18: venta de bienes y servicios
