Workbook
Name RTE: INDEX('[1]नोंद वही5-6-7-8'!$X$13:$X$24,MATCH('[1]नोंद वही5-6-7-8'!$W$13:$W$15,'[1]नोंद वही5-6-7-8'!$V$13:$V$24,0))
Name RTEI: INDEX(#REF!,MATCH(#REF!,#REF!,0))
Name RTEI: INDEX(#REF!,MATCH(#REF!,#REF!,0))
Name RTEI: INDEX(#REF!,MATCH(#REF!,#REF!,0))
Name RTEI: INDEX(#REF!,MATCH(#REF!,#REF!,0))
Name RTEI: INDEX(#REF!,MATCH(#REF!,#REF!,0))
Name RTEI: INDEX(#REF!,MATCH(#REF!,#REF!,0))
Name RTEI: INDEX(#REF!,MATCH(#REF!,#REF!,0))
Name RTEI: INDEX(#REF!,MATCH(#REF!,#REF!,0))
Name RTEI: INDEX(#REF!,MATCH(#REF!,#REF!,0))
Name RTEI: INDEX(#REF!,MATCH(#REF!,#REF!,0))
Name RTEI: INDEX(#REF!,MATCH(#REF!,#REF!,0))
Name RTEI: INDEX(#REF!,MATCH(#REF!,#REF!,0))
Name RTEI: INDEX(#REF!,MATCH(#REF!,#REF!,0))
Name RTEI: INDEX(#REF!,MATCH(#REF!,#REF!,0))
Name RTEI: INDEX(#REF!,MATCH(#REF!,#REF!,0))
Name RTEI: INDEX(#REF!,MATCH(#REF!,#REF!,0))
Name RTEI: INDEX(#REF!,MATCH(#REF!,#REF!,0))
Name RTEI: INDEX(#REF!,MATCH(#REF!,#REF!,0))
Name RTEIII: INDEX(#REF!,MATCH(#REF!,#REF!,0))
Name RTEIII: INDEX(#REF!,MATCH(#REF!,#REF!,0))
Name RTEIII: INDEX(#REF!,MATCH(#REF!,#REF!,0))
Name RTEIII: INDEX(#REF!,MATCH(#REF!,#REF!,0))
Name RTEIII: INDEX(#REF!,MATCH(#REF!,#REF!,0))
Name RTEIII: INDEX(#REF!,MATCH(#REF!,#REF!,0))
Name RTEIII: INDEX(#REF!,MATCH(#REF!,#REF!,0))
Name RTEIII: INDEX(#REF!,MATCH(#REF!,#REF!,0))
Name RTEIII: INDEX(#REF!,MATCH(#REF!,#REF!,0))
Name RTEIII: INDEX(#REF!,MATCH(#REF!,#REF!,0))
Name RTEIII: INDEX(#REF!,MATCH(#REF!,#REF!,0))
Name RTEIII: INDEX(#REF!,MATCH(#REF!,#REF!,0))
Name RTEIII: INDEX(#REF!,MATCH(#REF!,#REF!,0))
Name RTEIII: INDEX(#REF!,MATCH(#REF!,#REF!,0))
Name RTEIII: INDEX(#REF!,MATCH(#REF!,#REF!,0))
Name RTEIII: INDEX(#REF!,MATCH(#REF!,#REF!,0))
Name RTEIII: INDEX(#REF!,MATCH(#REF!,#REF!,0))
Name RTEIII: INDEX(#REF!,MATCH(#REF!,#REF!,0))
Name RTEV: INDEX(#REF!,MATCH(#REF!,#REF!,0))
Name RTEV: INDEX(#REF!,MATCH(#REF!,#REF!,0))
Name RTEV: INDEX(#REF!,MATCH(#REF!,#REF!,0))
Name RTEV: INDEX(#REF!,MATCH(#REF!,#REF!,0))
Name RTEV: INDEX(#REF!,MATCH(#REF!,#REF!,0))
Name RTEV: INDEX(#REF!,MATCH(#REF!,#REF!,0))
Name RTEV: INDEX(#REF!,MATCH(#REF!,#REF!,0))
Name RTEV: INDEX(#REF!,MATCH(#REF!,#REF!,0))
Name RTEV: INDEX(#REF!,MATCH(#REF!,#REF!,0))
Name RTEV: INDEX(#REF!,MATCH(#REF!,#REF!,0))
Name RTEV: INDEX(#REF!,MATCH(#REF!,#REF!,0))
Name RTEV: INDEX(#REF!,MATCH(#REF!,#REF!,0))
Name RTEV: INDEX(#REF!,MATCH(#REF!,#REF!,0))
Name RTEV: INDEX(#REF!,MATCH(#REF!,#REF!,0))
Name RTEV: INDEX(#REF!,MATCH(#REF!,#REF!,0))
Name RTEV: INDEX(#REF!,MATCH(#REF!,#REF!,0))
Name RTEV: INDEX(#REF!,MATCH(#REF!,#REF!,0))
Name RTEV: INDEX(#REF!,MATCH(#REF!,#REF!,0))

Sheet HOME

Sheet MASTER
A1: इयत्ता ९ वी/ १० वी मूल्यमापन (शासन निर्णय क्र.सं.२०१९/प्र.क्र.(२४३/१९/एसडी-४, दि. ०८ ऑगस्ट,२०१९ नुसार)
A2: शाळेची सविस्तर माहिती खालील प्रमाणे भरावी
A4: संस्थेचे नाव- | B4: आदिवासी उन्नती सेवा मंडळ, राजूर, ता. अकोले जि.अहिल्यानगर संचालित... | C4: सर्वात प्रथम मराठी टायपींग करिता GoogleInputToolsMarathi Arial Unicode MS हाच font वापरावा.
A5: शाळेचे नाव- | B5: अनुदानित माध्यमिक आश्रमशाळा, एकदरे, ता. अकोले जि. अहिल्यानगर
A6: इयत्ता- | B6: 9 वी | D6: =CONCATENATE(A6,B6) -> इयत्ता- 9 वी
A7: वर्गशिक्षक | B7: श्री. ढगे भरत बुधाजी | C7: =CONCATENATE(D7,B7) -> वर्ग शिक्षक- श्री. ढगे भरत बुधाजी | D7: वर्ग शिक्षक-
A8: मुख्याध्यापक | B8: श्री. लेंडे किरण विठ्ठल | C8: सूचना- सदर निकाल प्रणालीमध्ये माहिती फक्त पुढील शीट्स वर भरावी-1) master 2) विद्यार्थी माहिती ३) सर्व विषयांचे गुण, तसेच गुण याद्यांतील पटानुसार खालील रिकामा भाग काढून टाकावा, कोणतीही Cell अथवा Row डिलीट करू नये, Font / Font size/ page setting मध्ये देखील कोणताही बदल करू नये प्रिंट प्रत्येक शीट्सची स्वतंत्र काढावी...
A9: तपासणीस | B9: श्री. वाकचौरे सचिन माधवराव
A10: निकालाचा दिनांक- | B10: 1 मे 2026
A11: पुढील वर्षी शाळा सुरु होण्याचा दिवस- | B11: सोमवार दि. 15 जून 2026
A12: सन- | B12: (सन 2026-2027)
A13: विषय | B13: शिक्षकाचे नांव
A14: गरज असल्यास विषयाचे नाव बदला
A15: मराठी | B15: श्री. कोटकर संदीप भास्कर | C15: =CONCATENATE(D15,B15) -> विषय शिक्षक- श्री. कोटकर संदीप भास्कर | D15: विषय शिक्षक- | E15: विषय - | F15: =CONCATENATE(E15,A15) -> विषय - मराठी | G15: वार्षिक निकाल पत्रक | H15: =CONCATENATE(G15,B12) -> वार्षिक निकाल पत्रक (सन 2026-2027)
A16: हिंदी | B16: श्री. लेंडे किरण विठ्ठल | C16: =CONCATENATE(D16,B16) -> विषय शिक्षक- श्री. लेंडे किरण विठ्ठल | D16: विषय शिक्षक- | E16: विषय - | F16: =CONCATENATE(E16,A16) -> विषय - हिंदी | G16: अंतर्गत मूल्यमापन | H16: =CONCATENATE(G16,B12) -> अंतर्गत मूल्यमापन (सन 2026-2027)
A17: इंग्रजी | B17: श्री. ढगे भरत बुधाजी | C17: =CONCATENATE(D17,B17) -> विषय शिक्षक- श्री. ढगे भरत बुधाजी | D17: विषय शिक्षक- | E17: विषय - | F17: =CONCATENATE(E17,A17) -> विषय - इंग्रजी | G17: चाचणी 1 परीक्षा निकाल पत्रक | H17: =CONCATENATE(G17,B12) -> चाचणी 1 परीक्षा निकाल पत्रक (सन 2026-2027)
A18: गणित | B18: श्री. कानकाटे आसाराम शंकर | C18: =CONCATENATE(D18,B18) -> विषय शिक्षक- श्री. कानकाटे आसाराम शंकर | D18: विषय शिक्षक- | E18: विषय - | F18: =CONCATENATE(E18,A18) -> विषय - गणित | G18: चाचणी 2 परीक्षा निकाल पत्रक | H18: =CONCATENATE(G18,B12) -> चाचणी 2 परीक्षा निकाल पत्रक (सन 2026-2027)
A19: विज्ञान | B19: श्री. वाकचौरे सचिन माधवराव | C19: =CONCATENATE(D19,B19) -> विषय शिक्षक- श्री. वाकचौरे सचिन माधवराव | D19: विषय शिक्षक- | E19: विषय - | F19: =CONCATENATE(E19,A19) -> विषय - विज्ञान | G19: प्रथम सत्र परीक्षा निकाल पत्रक | H19: =CONCATENATE(G19,B12) -> प्रथम सत्र परीक्षा निकाल पत्रक (सन 2026-2027)
A20: समाजशास्रे | B20: श्री. लेंडे के. व्ही./ श्री.कोटकर एस.बी. | C20: =CONCATENATE(D20,B20) -> विषय शिक्षक- श्री. लेंडे के. व्ही./ श्री.कोटकर एस.बी. | D20: विषय शिक्षक- | E20: विषय - | F20: =CONCATENATE(E20,A20) -> विषय - समाजशास्रे | G20: व्दितीय सत्र परीक्षा निकाल पत्रक | H20: =CONCATENATE(G20,B12) -> व्दितीय सत्र परीक्षा निकाल पत्रक (सन 2026-2027)
A21: आरोग्य व शारीरिक शिक्षण | B21: श्री. खरात दिलीप मुरलीधर | C21: =CONCATENATE(D21,B21) -> विषय शिक्षक- श्री. खरात दिलीप मुरलीधर | D21: विषय शिक्षक- | E21: विषय - | F21: =CONCATENATE(E21,A21) -> विषय - आरोग्य व शारीरिक शिक्षण | G21: वार्षिक निकाल पत्रक | H21: =CONCATENATE(G21,B12) -> वार्षिक निकाल पत्रक (सन 2026-2027)
A22: जलसुरक्षा | B22: श्री. कासार नामदेव रामनाथ | C22: =CONCATENATE(D22,B22) -> विषय शिक्षक- श्री. कासार नामदेव रामनाथ | D22: विषय शिक्षक- | E22: विषय - | F22: =CONCATENATE(E22,A22) -> विषय - जलसुरक्षा | G22: वार्षिक निकाल पुस्तिका | H22: =CONCATENATE(G22,B12) -> वार्षिक निकाल पुस्तिका (सन 2026-2027)
A23: स्काऊट गाईड | B23: श्री. शेटे मनोज पंढरीनाथ | C23: =CONCATENATE(D23,B23) -> विषय शिक्षक- श्री. शेटे मनोज पंढरीनाथ | D23: विषय शिक्षक- | E23: विषय - | F23: =CONCATENATE(E23,A23) -> विषय - स्काऊट गाईड
A24: NSQF | B24: श्री. देशमुख शैलेंद्र दत्तात्रय | C24: =CONCATENATE(D24,B24) -> विषय शिक्षक- श्री. देशमुख शैलेंद्र दत्तात्रय | D24: विषय शिक्षक- | E24: विषय - | F24: =CONCATENATE(E24,A24) -> विषय - NSQF
A26: सदर निकाल प्रणाली संगणकावरच वापरावी COPY / PASTE करू नये. सर्व प्रथम शाळेची माहिती भरावी, नंतर विद्यार्थी माहिती भरावी व सर्व विषयांच्या गुण याद्यांत गुण भरावेत. | D26: 9 वी | E26: संरक्षणशास्र | F26: मराठी
A27: अद्यावत निकाल Formats डाउनलोड करण्याकरिता दिलेली लिंक Copy करून कोणत्याही इंटरनेट Browser मध्ये टाकून नवीन Formats डाउनलोड करून वापरावेत, कोणत्याही प्रकारे समस्या असल्यास 9822882466 या Whatsapp क्रमांकावर संपर्क करावा... | D27: 9 वी-अ | E27: स्काऊट गाईड | F27: हिंदी
D28: 9 वी-ब | E28: NCC | F28: इंग्रजी
A29: https://www.schooledutech.in/2021/09/vargaacha-varshik-nikaal-annual-result-sheet-of-1st-to-8th-10th-cce-rte-in-excel-file-software.html | D29: 9 वी-क | E29: MCC | F29: उर्दू
D30: 9 वी-ड | E30: ना.स.शास्र व वाहतूक | F30: गुजराथी
D31: 9 वी-इ | F31: कन्नड
D32: 9 वी-फ | F32: संयुक्त भाषा (मराठी+हिंदी)
F33: संयुक्त भाषा (हिंदी+संस्कृत)

Sheet मुख पृष्ठ
A3: =MASTER!B4 -> आदिवासी उन्नती सेवा मंडळ, राजूर, ता. अकोले जि.अहिल्यानगर संचालित...
A4: =MASTER!B5 -> अनुदानित माध्यमिक आश्रमशाळा, एकदरे, ता. अकोले जि. अहिल्यानगर
A7: * निकाल - पुस्तिका *
A12: =CONCATENATE(MASTER!A6,MASTER!B6) -> इयत्ता- 9 वी
A15: =MASTER!B12 -> (सन 2026-2027)
A17: =MASTER!C7 -> वर्ग शिक्षक- श्री. ढगे भरत बुधाजी
A19: हमीपत्र
A21: माध्यमिक शाळा संहिता सुधारित आवृत्ती १९८६ (३१-१२-१९८६ पर्यंत सुधारित आवृत्ती) मधील परिशिष्ट सात वार्गोन्नतीचे आदर्श नियम मी/आम्ही वाचले असून ते समजावून घेतले आहेत. या नियमांच्या आधीन राहून विषयवार निकालपत्रके तयार केली आहेत.
A26: संकलित निकालपत्रकातील बेरजा (अ+ब+क एकूण गुण व (अ+ब+क)/३ येणारे सरासरी गुण) व सरासरी वर्गशिक्षक / विषयशिक्षक मिळून केलेल्या आहेत. त्या तपासल्या आहेत त्या बरोबर आहेत. वर्गशिक्षक / विषय शिक्षक
B31: विषय | D31: शिक्षकाचे नाव | H31: सही
B33: =MASTER!A15 -> मराठी | D33: =MASTER!B15 -> श्री. कोटकर संदीप भास्कर
B34: =MASTER!A16 -> हिंदी | D34: =MASTER!B16 -> श्री. लेंडे किरण विठ्ठल
B35: =MASTER!A17 -> इंग्रजी | D35: =MASTER!B17 -> श्री. ढगे भरत बुधाजी
B36: =MASTER!A18 -> गणित | D36: =MASTER!B18 -> श्री. कानकाटे आसाराम शंकर
B37: =MASTER!A19 -> विज्ञान | D37: =MASTER!B19 -> श्री. वाकचौरे सचिन माधवराव
B38: =MASTER!A20 -> समाजशास्रे | D38: =MASTER!B20 -> श्री. लेंडे के. व्ही./ श्री.कोटकर एस.बी.
B39: =MASTER!A21 -> आरोग्य व शारीरिक शिक्षण | D39: =MASTER!B21 -> श्री. खरात दिलीप मुरलीधर
B40: =MASTER!A22 -> जलसुरक्षा | D40: =MASTER!B22 -> श्री. कासार नामदेव रामनाथ
B41: =MASTER!A23 -> स्काऊट गाईड | D41: =MASTER!B23 -> श्री. शेटे मनोज पंढरीनाथ
A45: Result Sheet Devoloped & Edited By :- Sachin Wakchaure(9822882466)

Sheet विद्य्र्थ्याची माहिती
A1: इयत्ता ९ वी व १० वी मूल्यमापन (शासन निर्णय क्र.सं.२०१९/प्र.क्र.(२४३/१९/एसडी-४, दि. ०८ ऑगस्ट,२०१९ नुसार)
A3: =MASTER!B6 -> 9 वी
A5: विद्यार्थ्याची सविस्तर माहिती संगणकावर खालील प्रमाणे भरावी. कोणतीही सेटिंग बदलू नये. कोणत्याही ठिकाणी पेज सेटिंग करू नये
A7: सदर माहिती एकदाच भरवायची असल्याने Copy-Paste करू नये माहिती खालील प्रमाणे टाईप करावी
A8: हजेरी क्र | B8: विद्यार्थ्याचे नाव | C8: पालकाचे नाव | D8: पत्ता | F8: रजिस्टर नंबर | G8: जन्मतारीख (dd-mm-yyyy)
D9: मू. बिताका, पो. एकदरे | E9: ता. अकोले, जि. अहिल्यानगर
A10: 1 | B10: चि. समीर यशवंत देशमुख सखाराम | C10: श्री. यशवंत रामनाथ देशमुख | D10: मू. बिताका, पो. एकदरे | E10: ता. अकोले, जि. अहिल्यामागर | F10: 533 | G10: 37707
A11: 2
A12: 3
A13: 4
A14: 5
A15: 6
A16: 7
A17: 8
A18: 9
A19: 10
A20: 11
A21: 12
A22: 13
... A69: 60
A70: Result Sheet Devoloped & Edited By :- Sachin Madhavrao Wakchaure(9822882466)

Sheet प्र.भाषा
A1: =MASTER!B5 -> अनुदानित माध्यमिक आश्रमशाळा, एकदरे, ता. अकोले जि. अहिल्यानगर
A3: इ.- | B3: =MASTER!B6 -> 9 वी | G3: =MASTER!F15 -> विषय - मराठी
A4: =MASTER!H15 -> वार्षिक निकाल पत्रक (सन 2026-2027)
A5: =MASTER!C7 -> वर्ग शिक्षक- श्री. ढगे भरत बुधाजी | E5: =MASTER!C15 -> विषय शिक्षक- श्री. कोटकर संदीप भास्कर
A6: हजेरी क्र | B6: विद्यार्थ्याचे नाव | C6: प्रथम सत्र (अ) | F6: व्दितीय सत्र (ब) | I6: वार्षिक निकाल
C7: लेखी | D7: अंतर्गत मू.मापन | E7: एकूण | F7: लेखी | G7: अंतर्गत मू.मापन | H7: एकूण | I7: एकूण (अ+ब) | J7: सरासरी | K7: सवलतीचे/ गट नि. गुण | L7: एकूण | M7: शेरा
C9: 80 | D9: ='प्र.भाषा-अ.मूल्यमापन'!G9 -> 20 | E9: =SUM(C9:D9) -> 100 | F9: 80 | G9: ='प्र.भाषा-अ.मूल्यमापन'!L9 -> 20 | H9: =SUM(F9:G9) -> 100 | I9: =SUM(E9,H9) -> 200 | J9: =ROUND(I9/2,0) -> 100 | K9: - | L9: =SUM(J9:K9) -> 100 | M9: =IF(L9>=35,"Pass","Fail") -> Pass
A10: ='विद्य्र्थ्याची माहिती'!A10 -> 1 | B10: ='विद्य्र्थ्याची माहिती'!B10 -> चि. समीर यशवंत देशमुख सखाराम | C10: 62 | D10: ='प्र.भाषा-अ.मूल्यमापन'!G10 -> 18 | E10: =SUM(C10:D10) -> 80 | F10: 60 | G10: ='प्र.भाषा-अ.मूल्यमापन'!L10 -> 10 | H10: =SUM(F10:G10) -> 70 | I10: =SUM(E10,H10) -> 150 | J10: =ROUND(I10/2,0) -> 75 | K10: 3 | L10: =SUM(J10:K10) -> 78 | M10: =IF(L10>=35,"Pass","Fail") -> Pass
A11: ='विद्य्र्थ्याची माहिती'!A11 -> 2 | B11: ='विद्य्र्थ्याची माहिती'!B11 -> 0 | D11: ='प्र.भाषा-अ.मूल्यमापन'!G11 -> 0 | E11: =SUM(C11:D11) -> 0 | F11: 75 | G11: ='प्र.भाषा-अ.मूल्यमापन'!L11 -> 0 | H11: =SUM(F11:G11) -> 75 | I11: =SUM(E11,H11) -> 75 | J11: =ROUND(I11/2,0) -> 38 | K11: - | L11: =SUM(J11:K11) -> 38 | M11: =IF(L11>=35,"Pass","Fail") -> Pass
A12: ='विद्य्र्थ्याची माहिती'!A12 -> 3 | B12: ='विद्य्र्थ्याची माहिती'!B12 -> 0 | D12: ='प्र.भाषा-अ.मूल्यमापन'!G12 -> 0 | E12: =SUM(C12:D12) -> 0 | F12: 85 | G12: ='प्र.भाषा-अ.मूल्यमापन'!L12 -> 0 | H12: =SUM(F12:G12) -> 85 | I12: =SUM(E12,H12) -> 85 | J12: =ROUND(I12/2,0) -> 43 | K12: - | L12: =SUM(J12:K12) -> 43 | M12: =IF(L12>=35,"Pass","Fail") -> Pass
A13: ='विद्य्र्थ्याची माहिती'!A13 -> 4 | B13: ='विद्य्र्थ्याची माहिती'!B13 -> 0 | D13: ='प्र.भाषा-अ.मूल्यमापन'!G13 -> 0 | E13: =SUM(C13:D13) -> 0 | G13: ='प्र.भाषा-अ.मूल्यमापन'!L13 -> 0 | H13: =SUM(F13:G13) -> 0 | I13: =SUM(E13,H13) -> 0 | J13: =ROUND(I13/2,0) -> 0 | K13: - | L13: =SUM(J13:K13) -> 0 | M13: =IF(L13>=35,"Pass","Fail") -> Fail
A14: ='विद्य्र्थ्याची माहिती'!A14 -> 5 | B14: ='विद्य्र्थ्याची माहिती'!B14 -> 0 | D14: ='प्र.भाषा-अ.मूल्यमापन'!G14 -> 0 | E14: =SUM(C14:D14) -> 0 | G14: ='प्र.भाषा-अ.मूल्यमापन'!L14 -> 0 | H14: =SUM(F14:G14) -> 0 | I14: =SUM(E14,H14) -> 0 | J14: =ROUND(I14/2,0) -> 0 | K14: - | L14: =SUM(J14:K14) -> 0 | M14: =IF(L14>=35,"Pass","Fail") -> Fail
A15: ='विद्य्र्थ्याची माहिती'!A15 -> 6 | B15: ='विद्य्र्थ्याची माहिती'!B15 -> 0 | D15: ='प्र.भाषा-अ.मूल्यमापन'!G15 -> 0 | E15: =SUM(C15:D15) -> 0 | G15: ='प्र.भाषा-अ.मूल्यमापन'!L15 -> 0 | H15: =SUM(F15:G15) -> 0 | I15: =SUM(E15,H15) -> 0 | J15: =ROUND(I15/2,0) -> 0 | K15: - | L15: =SUM(J15:K15) -> 0 | M15: =IF(L15>=35,"Pass","Fail") -> Fail
A16: ='विद्य्र्थ्याची माहिती'!A16 -> 7 | B16: ='विद्य्र्थ्याची माहिती'!B16 -> 0 | D16: ='प्र.भाषा-अ.मूल्यमापन'!G16 -> 0 | E16: =SUM(C16:D16) -> 0 | G16: ='प्र.भाषा-अ.मूल्यमापन'!L16 -> 0 | H16: =SUM(F16:G16) -> 0 | I16: =SUM(E16,H16) -> 0 | J16: =ROUND(I16/2,0) -> 0 | K16: - | L16: =SUM(J16:K16) -> 0 | M16: =IF(L16>=35,"Pass","Fail") -> Fail
A17: ='विद्य्र्थ्याची माहिती'!A17 -> 8 | B17: ='विद्य्र्थ्याची माहिती'!B17 -> 0 | D17: ='प्र.भाषा-अ.मूल्यमापन'!G17 -> 0 | E17: =SUM(C17:D17) -> 0 | G17: ='प्र.भाषा-अ.मूल्यमापन'!L17 -> 0 | H17: =SUM(F17:G17) -> 0 | I17: =SUM(E17,H17) -> 0 | J17: =ROUND(I17/2,0) -> 0 | K17: - | L17: =SUM(J17:K17) -> 0 | M17: =IF(L17>=35,"Pass","Fail") -> Fail
A18: ='विद्य्र्थ्याची माहिती'!A18 -> 9 | B18: ='विद्य्र्थ्याची माहिती'!B18 -> 0 | D18: ='प्र.भाषा-अ.मूल्यमापन'!G18 -> 0 | E18: =SUM(C18:D18) -> 0 | G18: ='प्र.भाषा-अ.मूल्यमापन'!L18 -> 0 | H18: =SUM(F18:G18) -> 0 | I18: =SUM(E18,H18) -> 0 | J18: =ROUND(I18/2,0) -> 0 | K18: - | L18: =SUM(J18:K18) -> 0 | M18: =IF(L18>=35,"Pass","Fail") -> Fail
A19: ='विद्य्र्थ्याची माहिती'!A19 -> 10 | B19: ='विद्य्र्थ्याची माहिती'!B19 -> 0 | D19: ='प्र.भाषा-अ.मूल्यमापन'!G19 -> 0 | E19: =SUM(C19:D19) -> 0 | G19: ='प्र.भाषा-अ.मूल्यमापन'!L19 -> 0 | H19: =SUM(F19:G19) -> 0 | I19: =SUM(E19,H19) -> 0 | J19: =ROUND(I19/2,0) -> 0 | K19: - | L19: =SUM(J19:K19) -> 0 | M19: =IF(L19>=35,"Pass","Fail") -> Fail
A20: ='विद्य्र्थ्याची माहिती'!A20 -> 11 | B20: ='विद्य्र्थ्याची माहिती'!B20 -> 0 | D20: ='प्र.भाषा-अ.मूल्यमापन'!G20 -> 0 | E20: =SUM(C20:D20) -> 0 | G20: ='प्र.भाषा-अ.मूल्यमापन'!L20 -> 0 | H20: =SUM(F20:G20) -> 0 | I20: =SUM(E20,H20) -> 0 | J20: =ROUND(I20/2,0) -> 0 | K20: - | L20: =SUM(J20:K20) -> 0 | M20: =IF(L20>=35,"Pass","Fail") -> Fail
A21: ='विद्य्र्थ्याची माहिती'!A21 -> 12 | B21: ='विद्य्र्थ्याची माहिती'!B21 -> 0 | D21: ='प्र.भाषा-अ.मूल्यमापन'!G21 -> 0 | E21: =SUM(C21:D21) -> 0 | G21: ='प्र.भाषा-अ.मूल्यमापन'!L21 -> 0 | H21: =SUM(F21:G21) -> 0 | I21: =SUM(E21,H21) -> 0 | J21: =ROUND(I21/2,0) -> 0 | K21: - | L21: =SUM(J21:K21) -> 0 | M21: =IF(L21>=35,"Pass","Fail") -> Fail
A22: ='विद्य्र्थ्याची माहिती'!A22 -> 13 | B22: ='विद्य्र्थ्याची माहिती'!B22 -> 0 | D22: ='प्र.भाषा-अ.मूल्यमापन'!G22 -> 0 | E22: =SUM(C22:D22) -> 0 | G22: ='प्र.भाषा-अ.मूल्यमापन'!L22 -> 0 | H22: =SUM(F22:G22) -> 0 | I22: =SUM(E22,H22) -> 0 | J22: =ROUND(I22/2,0) -> 0 | K22: - | L22: =SUM(J22:K22) -> 0 | M22: =IF(L22>=35,"Pass","Fail") -> Fail
A23: ='विद्य्र्थ्याची माहिती'!A23 -> 14 | B23: ='विद्य्र्थ्याची माहिती'!B23 -> 0 | D23: ='प्र.भाषा-अ.मूल्यमापन'!G23 -> 0 | E23: =SUM(C23:D23) -> 0 | G23: ='प्र.भाषा-अ.मूल्यमापन'!L23 -> 0 | H23: =SUM(F23:G23) -> 0 | I23: =SUM(E23,H23) -> 0 | J23: =ROUND(I23/2,0) -> 0 | K23: - | L23: =SUM(J23:K23) -> 0 | M23: =IF(L23>=35,"Pass","Fail") -> Fail
A24: ='विद्य्र्थ्याची माहिती'!A24 -> 15 | B24: ='विद्य्र्थ्याची माहिती'!B24 -> 0 | D24: ='प्र.भाषा-अ.मूल्यमापन'!G24 -> 0 | E24: =SUM(C24:D24) -> 0 | G24: ='प्र.भाषा-अ.मूल्यमापन'!L24 -> 0 | H24: =SUM(F24:G24) -> 0 | I24: =SUM(E24,H24) -> 0 | J24: =ROUND(I24/2,0) -> 0 | K24: - | L24: =SUM(J24:K24) -> 0 | M24: =IF(L24>=35,"Pass","Fail") -> Fail
... A69: ='विद्य्र्थ्याची माहिती'!A69 -> 60 | B69: ='विद्य्र्थ्याची माहिती'!B69 -> 0 | D69: ='प्र.भाषा-अ.मूल्यमापन'!G69 -> 0 | E69: =SUM(C69:D69) -> 0 | G69: ='प्र.भाषा-अ.मूल्यमापन'!L69 -> 0 | H69: =SUM(F69:G69) -> 0 | I69: =SUM(E69,H69) -> 0 | J69: =ROUND(I69/2,0) -> 0 | K69: - | L69: =SUM(J69:K69) -> 0 | M69: =IF(L69>=35,"Pass","Fail") -> Fail
A70: Easy Result System By :- Sachin Wakchaure (9822882466)
B72: =MASTER!B15 -> श्री. कोटकर संदीप भास्कर | G72: =MASTER!B8 -> श्री. लेंडे किरण विठ्ठल
B73: विषय शिक्षक | G73: मुख्याध्यापक

Sheet प्र.भाषा-अ.मूल्यमापन
A1: =MASTER!B5 -> अनुदानित माध्यमिक आश्रमशाळा, एकदरे, ता. अकोले जि. अहिल्यानगर
A3: इ.- | B3: =MASTER!B6 -> 9 वी | H3: =MASTER!F15 -> विषय - मराठी
A4: =MASTER!H16 -> अंतर्गत मूल्यमापन (सन 2026-2027)
A5: =MASTER!C7 -> वर्ग शिक्षक- श्री. ढगे भरत बुधाजी | E5: =MASTER!C15 -> विषय शिक्षक- श्री. कोटकर संदीप भास्कर
A6: हजेरी क्र | B6: विद्यार्थ्याचे नाव | C6: प्रथम सत्र | H6: व्दितीय सत्र
C7: तोंडी श्रवण कौ. | D7: तोंडी भाषण.कौ. | E7: स्वाध्याय I | F7: स्वाध्याय II | G7: एकूण | H7: तोंडी श्रवण कौ. | I7: तोंडी भाषण.कौ. | J7: स्वाध्याय I | K7: स्वाध्याय II | L7: एकूण
C9: 5 | D9: 5 | E9: 5 | F9: 5 | G9: =SUM(C9:F9) -> 20 | H9: 5 | I9: 5 | J9: 5 | K9: 5 | L9: =SUM(H9:K9) -> 20
A10: ='विद्य्र्थ्याची माहिती'!A10 -> 1 | B10: ='विद्य्र्थ्याची माहिती'!B10 -> चि. समीर यशवंत देशमुख सखाराम | C10: 4 | D10: 5 | E10: 4 | F10: 5 | G10: =SUM(C10:F10) -> 18 | H10: 4 | I10: 3 | J10: 2 | K10: 1 | L10: =SUM(H10:K10) -> 10
A11: ='विद्य्र्थ्याची माहिती'!A11 -> 2 | B11: ='विद्य्र्थ्याची माहिती'!B11 -> 0 | G11: =SUM(C11:F11) -> 0 | L11: =SUM(H11:K11) -> 0
A12: ='विद्य्र्थ्याची माहिती'!A12 -> 3 | B12: ='विद्य्र्थ्याची माहिती'!B12 -> 0 | G12: =SUM(C12:F12) -> 0 | L12: =SUM(H12:K12) -> 0
A13: ='विद्य्र्थ्याची माहिती'!A13 -> 4 | B13: ='विद्य्र्थ्याची माहिती'!B13 -> 0 | G13: =SUM(C13:F13) -> 0 | L13: =SUM(H13:K13) -> 0
A14: ='विद्य्र्थ्याची माहिती'!A14 -> 5 | B14: ='विद्य्र्थ्याची माहिती'!B14 -> 0 | G14: =SUM(C14:F14) -> 0 | L14: =SUM(H14:K14) -> 0
A15: ='विद्य्र्थ्याची माहिती'!A15 -> 6 | B15: ='विद्य्र्थ्याची माहिती'!B15 -> 0 | G15: =SUM(C15:F15) -> 0 | L15: =SUM(H15:K15) -> 0
A16: ='विद्य्र्थ्याची माहिती'!A16 -> 7 | B16: ='विद्य्र्थ्याची माहिती'!B16 -> 0 | G16: =SUM(C16:F16) -> 0 | L16: =SUM(H16:K16) -> 0
A17: ='विद्य्र्थ्याची माहिती'!A17 -> 8 | B17: ='विद्य्र्थ्याची माहिती'!B17 -> 0 | G17: =SUM(C17:F17) -> 0 | L17: =SUM(H17:K17) -> 0
A18: ='विद्य्र्थ्याची माहिती'!A18 -> 9 | B18: ='विद्य्र्थ्याची माहिती'!B18 -> 0 | G18: =SUM(C18:F18) -> 0 | L18: =SUM(H18:K18) -> 0
A19: ='विद्य्र्थ्याची माहिती'!A19 -> 10 | B19: ='विद्य्र्थ्याची माहिती'!B19 -> 0 | G19: =SUM(C19:F19) -> 0 | L19: =SUM(H19:K19) -> 0
A20: ='विद्य्र्थ्याची माहिती'!A20 -> 11 | B20: ='विद्य्र्थ्याची माहिती'!B20 -> 0 | G20: =SUM(C20:F20) -> 0 | L20: =SUM(H20:K20) -> 0
A21: ='विद्य्र्थ्याची माहिती'!A21 -> 12 | B21: ='विद्य्र्थ्याची माहिती'!B21 -> 0 | G21: =SUM(C21:F21) -> 0 | L21: =SUM(H21:K21) -> 0
A22: ='विद्य्र्थ्याची माहिती'!A22 -> 13 | B22: ='विद्य्र्थ्याची माहिती'!B22 -> 0 | G22: =SUM(C22:F22) -> 0 | L22: =SUM(H22:K22) -> 0
... A69: ='विद्य्र्थ्याची माहिती'!A69 -> 60 | B69: ='विद्य्र्थ्याची माहिती'!B69 -> 0 | G69: =SUM(C69:F69) -> 0 | L69: =SUM(H69:K69) -> 0
A70: Easy Result System By :- Sachin Wakchaure (9822882466)
B72: =MASTER!B15 -> श्री. कोटकर संदीप भास्कर | H72: =MASTER!B8 -> श्री. लेंडे किरण विठ्ठल
B73: विषय शिक्षक | H73: मुख्याध्यापक

Sheet व्दि. भाषा अ.मूल्यमापन
A1: =MASTER!B5 -> अनुदानित माध्यमिक आश्रमशाळा, एकदरे, ता. अकोले जि. अहिल्यानगर
A3: इ.- | B3: =MASTER!B6 -> 9 वी | H3: =MASTER!F16 -> विषय - हिंदी
A4: =MASTER!H16 -> अंतर्गत मूल्यमापन (सन 2026-2027)
A5: =MASTER!C7 -> वर्ग शिक्षक- श्री. ढगे भरत बुधाजी | E5: =MASTER!C16 -> विषय शिक्षक- श्री. लेंडे किरण विठ्ठल
A6: हजेरी क्र | B6: विद्यार्थ्याचे नाव | C6: प्रथम सत्र | H6: व्दितीय सत्र
C7: तोंडी श्रवण कौ. | D7: तोंडी भाषण.कौ. | E7: स्वाध्याय I | F7: स्वाध्याय II | G7: एकूण | H7: तोंडी श्रवण कौ. | I7: तोंडी भाषण.कौ. | J7: स्वाध्याय I | K7: स्वाध्याय II | L7: एकूण
C9: ='संयुक्त भाषा-1 अ.मू.'!C9+'संयुक्त भाषा-2 अ.मू'!C9 -> 5 | D9: ='संयुक्त भाषा-1 अ.मू.'!D9+'संयुक्त भाषा-2 अ.मू'!D9 -> 5 | E9: ='संयुक्त भाषा-1 अ.मू.'!E9+'संयुक्त भाषा-2 अ.मू'!E9 -> 5 | F9: ='संयुक्त भाषा-1 अ.मू.'!F9+'संयुक्त भाषा-2 अ.मू'!F9 -> 5 | G9: =SUM(C9:F9) -> 20 | H9: ='संयुक्त भाषा-1 अ.मू.'!H9+'संयुक्त भाषा-2 अ.मू'!H9 -> 5 | I9: ='संयुक्त भाषा-1 अ.मू.'!I9+'संयुक्त भाषा-2 अ.मू'!I9 -> 5 | J9: ='संयुक्त भाषा-1 अ.मू.'!J9+'संयुक्त भाषा-2 अ.मू'!J9 -> 5 | K9: ='संयुक्त भाषा-1 अ.मू.'!K9+'संयुक्त भाषा-2 अ.मू'!K9 -> 5 | L9: =SUM(H9:K9) -> 20
A10: ='विद्य्र्थ्याची माहिती'!A10 -> 1 | B10: ='विद्य्र्थ्याची माहिती'!B10 -> चि. समीर यशवंत देशमुख सखाराम | C10: 5 | D10: 5 | E10: 5 | F10: 5 | G10: =SUM(C10:F10) -> 20 | H10: 4 | I10: 5 | J10: 4 | K10: 4 | L10: =SUM(H10:K10) -> 17
A11: ='विद्य्र्थ्याची माहिती'!A11 -> 2 | B11: ='विद्य्र्थ्याची माहिती'!B11 -> 0 | G11: =SUM(C11:F11) -> 0 | L11: =SUM(H11:K11) -> 0
A12: ='विद्य्र्थ्याची माहिती'!A12 -> 3 | B12: ='विद्य्र्थ्याची माहिती'!B12 -> 0 | G12: =SUM(C12:F12) -> 0 | L12: =SUM(H12:K12) -> 0
A13: ='विद्य्र्थ्याची माहिती'!A13 -> 4 | B13: ='विद्य्र्थ्याची माहिती'!B13 -> 0 | G13: =SUM(C13:F13) -> 0 | L13: =SUM(H13:K13) -> 0
A14: ='विद्य्र्थ्याची माहिती'!A14 -> 5 | B14: ='विद्य्र्थ्याची माहिती'!B14 -> 0 | G14: =SUM(C14:F14) -> 0 | L14: =SUM(H14:K14) -> 0
A15: ='विद्य्र्थ्याची माहिती'!A15 -> 6 | B15: ='विद्य्र्थ्याची माहिती'!B15 -> 0 | G15: =SUM(C15:F15) -> 0 | L15: =SUM(H15:K15) -> 0
A16: ='विद्य्र्थ्याची माहिती'!A16 -> 7 | B16: ='विद्य्र्थ्याची माहिती'!B16 -> 0 | G16: =SUM(C16:F16) -> 0 | L16: =SUM(H16:K16) -> 0
A17: ='विद्य्र्थ्याची माहिती'!A17 -> 8 | B17: ='विद्य्र्थ्याची माहिती'!B17 -> 0 | G17: =SUM(C17:F17) -> 0 | L17: =SUM(H17:K17) -> 0
A18: ='विद्य्र्थ्याची माहिती'!A18 -> 9 | B18: ='विद्य्र्थ्याची माहिती'!B18 -> 0 | G18: =SUM(C18:F18) -> 0 | L18: =SUM(H18:K18) -> 0
A19: ='विद्य्र्थ्याची माहिती'!A19 -> 10 | B19: ='विद्य्र्थ्याची माहिती'!B19 -> 0 | G19: =SUM(C19:F19) -> 0 | L19: =SUM(H19:K19) -> 0
A20: ='विद्य्र्थ्याची माहिती'!A20 -> 11 | B20: ='विद्य्र्थ्याची माहिती'!B20 -> 0 | G20: =SUM(C20:F20) -> 0 | L20: =SUM(H20:K20) -> 0
A21: ='विद्य्र्थ्याची माहिती'!A21 -> 12 | B21: ='विद्य्र्थ्याची माहिती'!B21 -> 0 | G21: =SUM(C21:F21) -> 0 | L21: =SUM(H21:K21) -> 0
A22: ='विद्य्र्थ्याची माहिती'!A22 -> 13 | B22: ='विद्य्र्थ्याची माहिती'!B22 -> 0 | G22: =SUM(C22:F22) -> 0 | L22: =SUM(H22:K22) -> 0
... A69: ='विद्य्र्थ्याची माहिती'!A69 -> 60 | B69: ='विद्य्र्थ्याची माहिती'!B69 -> 0 | G69: =SUM(C69:F69) -> 0 | L69: =SUM(H69:K69) -> 0
A70: Easy Result System By :- Sachin Wakchaure (9822882466)
B72: =MASTER!B16 -> श्री. लेंडे किरण विठ्ठल | H72: =MASTER!B8 -> श्री. लेंडे किरण विठ्ठल
B73: विषय शिक्षक | H73: मुख्याध्यापक

Sheet व्दि.or संयुक्त भा
A1: =MASTER!B5 -> अनुदानित माध्यमिक आश्रमशाळा, एकदरे, ता. अकोले जि. अहिल्यानगर
A3: इ.- | B3: =MASTER!B6 -> 9 वी | G3: =MASTER!F16 -> विषय - हिंदी
A4: =MASTER!H15 -> वार्षिक निकाल पत्रक (सन 2026-2027)
A5: =MASTER!C7 -> वर्ग शिक्षक- श्री. ढगे भरत बुधाजी | E5: =MASTER!C16 -> विषय शिक्षक- श्री. लेंडे किरण विठ्ठल
A6: हजेरी क्र | B6: विद्यार्थ्याचे नाव | C6: प्रथम सत्र (अ) | F6: व्दितीय सत्र (ब) | I6: वार्षिक निकाल
C7: लेखी | D7: अंतर्गत मू.मापन | E7: एकूण | F7: लेखी | G7: अंतर्गत मू.मापन | H7: एकूण | I7: एकूण (अ+ब) | J7: सरासरी | K7: सवलतीचे/ गट नि. गुण | L7: एकूण | M7: शेरा
C9: 80 | D9: ='व्दि. भाषा अ.मूल्यमापन'!G9 -> 20 | E9: =SUM(C9:D9) -> 100 | F9: 80 | G9: ='व्दि. भाषा अ.मूल्यमापन'!L9 -> 20 | H9: =SUM(F9:G9) -> 100 | I9: =SUM(E9,H9) -> 200 | J9: =ROUND(I9/2,0) -> 100 | K9: - | L9: =SUM(J9:K9) -> 100 | M9: =IF(L9>=35,"Pass","Fail") -> Pass
A10: ='विद्य्र्थ्याची माहिती'!A10 -> 1 | B10: ='विद्य्र्थ्याची माहिती'!B10 -> चि. समीर यशवंत देशमुख सखाराम | C10: 52 | D10: ='व्दि. भाषा अ.मूल्यमापन'!G10 -> 20 | E10: =SUM(C10:D10) -> 72 | F10: 46 | G10: ='व्दि. भाषा अ.मूल्यमापन'!L10 -> 17 | H10: =SUM(F10:G10) -> 63 | I10: =SUM(E10,H10) -> 135 | J10: =ROUND(I10/2,0) -> 68 | K10: 7 | L10: =SUM(J10:K10) -> 75 | M10: =IF(L10>=35,"Pass","Fail") -> Pass
A11: ='विद्य्र्थ्याची माहिती'!A11 -> 2 | B11: ='विद्य्र्थ्याची माहिती'!B11 -> 0 | D11: ='व्दि. भाषा अ.मूल्यमापन'!G11 -> 0 | E11: =SUM(C11:D11) -> 0 | G11: ='व्दि. भाषा अ.मूल्यमापन'!L11 -> 0 | H11: =SUM(F11:G11) -> 0 | I11: =SUM(E11,H11) -> 0 | J11: =ROUND(I11/2,0) -> 0 | K11: - | L11: =SUM(J11:K11) -> 0 | M11: =IF(L11>=35,"Pass","Fail") -> Fail
A12: ='विद्य्र्थ्याची माहिती'!A12 -> 3 | B12: ='विद्य्र्थ्याची माहिती'!B12 -> 0 | D12: ='व्दि. भाषा अ.मूल्यमापन'!G12 -> 0 | E12: =SUM(C12:D12) -> 0 | G12: ='व्दि. भाषा अ.मूल्यमापन'!L12 -> 0 | H12: =SUM(F12:G12) -> 0 | I12: =SUM(E12,H12) -> 0 | J12: =ROUND(I12/2,0) -> 0 | K12: - | L12: =SUM(J12:K12) -> 0 | M12: =IF(L12>=35,"Pass","Fail") -> Fail
A13: ='विद्य्र्थ्याची माहिती'!A13 -> 4 | B13: ='विद्य्र्थ्याची माहिती'!B13 -> 0 | D13: ='व्दि. भाषा अ.मूल्यमापन'!G13 -> 0 | E13: =SUM(C13:D13) -> 0 | G13: ='व्दि. भाषा अ.मूल्यमापन'!L13 -> 0 | H13: =SUM(F13:G13) -> 0 | I13: =SUM(E13,H13) -> 0 | J13: =ROUND(I13/2,0) -> 0 | K13: - | L13: =SUM(J13:K13) -> 0 | M13: =IF(L13>=35,"Pass","Fail") -> Fail
A14: ='विद्य्र्थ्याची माहिती'!A14 -> 5 | B14: ='विद्य्र्थ्याची माहिती'!B14 -> 0 | D14: ='व्दि. भाषा अ.मूल्यमापन'!G14 -> 0 | E14: =SUM(C14:D14) -> 0 | G14: ='व्दि. भाषा अ.मूल्यमापन'!L14 -> 0 | H14: =SUM(F14:G14) -> 0 | I14: =SUM(E14,H14) -> 0 | J14: =ROUND(I14/2,0) -> 0 | K14: - | L14: =SUM(J14:K14) -> 0 | M14: =IF(L14>=35,"Pass","Fail") -> Fail
A15: ='विद्य्र्थ्याची माहिती'!A15 -> 6 | B15: ='विद्य्र्थ्याची माहिती'!B15 -> 0 | D15: ='व्दि. भाषा अ.मूल्यमापन'!G15 -> 0 | E15: =SUM(C15:D15) -> 0 | G15: ='व्दि. भाषा अ.मूल्यमापन'!L15 -> 0 | H15: =SUM(F15:G15) -> 0 | I15: =SUM(E15,H15) -> 0 | J15: =ROUND(I15/2,0) -> 0 | K15: - | L15: =SUM(J15:K15) -> 0 | M15: =IF(L15>=35,"Pass","Fail") -> Fail
A16: ='विद्य्र्थ्याची माहिती'!A16 -> 7 | B16: ='विद्य्र्थ्याची माहिती'!B16 -> 0 | D16: ='व्दि. भाषा अ.मूल्यमापन'!G16 -> 0 | E16: =SUM(C16:D16) -> 0 | G16: ='व्दि. भाषा अ.मूल्यमापन'!L16 -> 0 | H16: =SUM(F16:G16) -> 0 | I16: =SUM(E16,H16) -> 0 | J16: =ROUND(I16/2,0) -> 0 | K16: - | L16: =SUM(J16:K16) -> 0 | M16: =IF(L16>=35,"Pass","Fail") -> Fail
A17: ='विद्य्र्थ्याची माहिती'!A17 -> 8 | B17: ='विद्य्र्थ्याची माहिती'!B17 -> 0 | D17: ='व्दि. भाषा अ.मूल्यमापन'!G17 -> 0 | E17: =SUM(C17:D17) -> 0 | G17: ='व्दि. भाषा अ.मूल्यमापन'!L17 -> 0 | H17: =SUM(F17:G17) -> 0 | I17: =SUM(E17,H17) -> 0 | J17: =ROUND(I17/2,0) -> 0 | K17: - | L17: =SUM(J17:K17) -> 0 | M17: =IF(L17>=35,"Pass","Fail") -> Fail
A18: ='विद्य्र्थ्याची माहिती'!A18 -> 9 | B18: ='विद्य्र्थ्याची माहिती'!B18 -> 0 | D18: ='व्दि. भाषा अ.मूल्यमापन'!G18 -> 0 | E18: =SUM(C18:D18) -> 0 | G18: ='व्दि. भाषा अ.मूल्यमापन'!L18 -> 0 | H18: =SUM(F18:G18) -> 0 | I18: =SUM(E18,H18) -> 0 | J18: =ROUND(I18/2,0) -> 0 | K18: - | L18: =SUM(J18:K18) -> 0 | M18: =IF(L18>=35,"Pass","Fail") -> Fail
A19: ='विद्य्र्थ्याची माहिती'!A19 -> 10 | B19: ='विद्य्र्थ्याची माहिती'!B19 -> 0 | D19: ='व्दि. भाषा अ.मूल्यमापन'!G19 -> 0 | E19: =SUM(C19:D19) -> 0 | G19: ='व्दि. भाषा अ.मूल्यमापन'!L19 -> 0 | H19: =SUM(F19:G19) -> 0 | I19: =SUM(E19,H19) -> 0 | J19: =ROUND(I19/2,0) -> 0 | K19: - | L19: =SUM(J19:K19) -> 0 | M19: =IF(L19>=35,"Pass","Fail") -> Fail
A20: ='विद्य्र्थ्याची माहिती'!A20 -> 11 | B20: ='विद्य्र्थ्याची माहिती'!B20 -> 0 | D20: ='व्दि. भाषा अ.मूल्यमापन'!G20 -> 0 | E20: =SUM(C20:D20) -> 0 | G20: ='व्दि. भाषा अ.मूल्यमापन'!L20 -> 0 | H20: =SUM(F20:G20) -> 0 | I20: =SUM(E20,H20) -> 0 | J20: =ROUND(I20/2,0) -> 0 | K20: - | L20: =SUM(J20:K20) -> 0 | M20: =IF(L20>=35,"Pass","Fail") -> Fail
A21: ='विद्य्र्थ्याची माहिती'!A21 -> 12 | B21: ='विद्य्र्थ्याची माहिती'!B21 -> 0 | D21: ='व्दि. भाषा अ.मूल्यमापन'!G21 -> 0 | E21: =SUM(C21:D21) -> 0 | G21: ='व्दि. भाषा अ.मूल्यमापन'!L21 -> 0 | H21: =SUM(F21:G21) -> 0 | I21: =SUM(E21,H21) -> 0 | J21: =ROUND(I21/2,0) -> 0 | K21: - | L21: =SUM(J21:K21) -> 0 | M21: =IF(L21>=35,"Pass","Fail") -> Fail
A22: ='विद्य्र्थ्याची माहिती'!A22 -> 13 | B22: ='विद्य्र्थ्याची माहिती'!B22 -> 0 | D22: ='व्दि. भाषा अ.मूल्यमापन'!G22 -> 0 | E22: =SUM(C22:D22) -> 0 | G22: ='व्दि. भाषा अ.मूल्यमापन'!L22 -> 0 | H22: =SUM(F22:G22) -> 0 | I22: =SUM(E22,H22) -> 0 | J22: =ROUND(I22/2,0) -> 0 | K22: - | L22: =SUM(J22:K22) -> 0 | M22: =IF(L22>=35,"Pass","Fail") -> Fail
... A69: ='विद्य्र्थ्याची माहिती'!A69 -> 60 | B69: ='विद्य्र्थ्याची माहिती'!B69 -> 0 | D69: ='व्दि. भाषा अ.मूल्यमापन'!G69 -> 0 | E69: =SUM(C69:D69) -> 0 | G69: ='व्दि. भाषा अ.मूल्यमापन'!L69 -> 0 | H69: =SUM(F69:G69) -> 0 | I69: =SUM(E69,H69) -> 0 | J69: =ROUND(I69/2,0) -> 0 | K69: - | L69: =SUM(J69:K69) -> 0 | M69: =IF(L69>=35,"Pass","Fail") -> Fail
A70: Easy Result System By :- Sachin Wakchaure (9822882466)
B72: =MASTER!B16 -> श्री. लेंडे किरण विठ्ठल | G72: =MASTER!B8 -> श्री. लेंडे किरण विठ्ठल
B73: विषय शिक्षक | G73: मुख्याध्यापक

Sheet संयुक्त भाषा-1 अ.मू.
A1: =MASTER!B5 -> अनुदानित माध्यमिक आश्रमशाळा, एकदरे, ता. अकोले जि. अहिल्यानगर
A3: इ.- | B3: =MASTER!B6 -> 9 वी | H3: =MASTER!F16 -> विषय - हिंदी
A4: =MASTER!H16 -> अंतर्गत मूल्यमापन (सन 2026-2027)
A5: =MASTER!C7 -> वर्ग शिक्षक- श्री. ढगे भरत बुधाजी | E5: =MASTER!C16 -> विषय शिक्षक- श्री. लेंडे किरण विठ्ठल
A6: हजेरी क्र | B6: विद्यार्थ्याचे नाव | C6: प्रथम सत्र | H6: व्दितीय सत्र
C7: तोंडी श्रवण कौ. | D7: तोंडी भाषण.कौ. | E7: स्वाध्याय I | F7: स्वाध्याय II | G7: एकूण | H7: तोंडी श्रवण कौ. | I7: तोंडी भाषण.कौ. | J7: स्वाध्याय I | K7: स्वाध्याय II | L7: एकूण
C9: 2 | D9: 3 | E9: 2 | F9: 3 | G9: =SUM(C9:F9) -> 10 | H9: 3 | I9: 2 | J9: 3 | K9: 2 | L9: =SUM(H9:K9) -> 10
A10: ='विद्य्र्थ्याची माहिती'!A10 -> 1 | B10: ='विद्य्र्थ्याची माहिती'!B10 -> चि. समीर यशवंत देशमुख सखाराम | G10: =SUM(C10:F10) -> 0 | L10: =SUM(H10:K10) -> 0
A11: ='विद्य्र्थ्याची माहिती'!A11 -> 2 | B11: ='विद्य्र्थ्याची माहिती'!B11 -> 0 | G11: =SUM(C11:F11) -> 0 | L11: =SUM(H11:K11) -> 0
A12: ='विद्य्र्थ्याची माहिती'!A12 -> 3 | B12: ='विद्य्र्थ्याची माहिती'!B12 -> 0 | G12: =SUM(C12:F12) -> 0 | L12: =SUM(H12:K12) -> 0
A13: ='विद्य्र्थ्याची माहिती'!A13 -> 4 | B13: ='विद्य्र्थ्याची माहिती'!B13 -> 0 | G13: =SUM(C13:F13) -> 0 | L13: =SUM(H13:K13) -> 0
A14: ='विद्य्र्थ्याची माहिती'!A14 -> 5 | B14: ='विद्य्र्थ्याची माहिती'!B14 -> 0 | G14: =SUM(C14:F14) -> 0 | L14: =SUM(H14:K14) -> 0
A15: ='विद्य्र्थ्याची माहिती'!A15 -> 6 | B15: ='विद्य्र्थ्याची माहिती'!B15 -> 0 | G15: =SUM(C15:F15) -> 0 | L15: =SUM(H15:K15) -> 0
A16: ='विद्य्र्थ्याची माहिती'!A16 -> 7 | B16: ='विद्य्र्थ्याची माहिती'!B16 -> 0 | G16: =SUM(C16:F16) -> 0 | L16: =SUM(H16:K16) -> 0
A17: ='विद्य्र्थ्याची माहिती'!A17 -> 8 | B17: ='विद्य्र्थ्याची माहिती'!B17 -> 0 | G17: =SUM(C17:F17) -> 0 | L17: =SUM(H17:K17) -> 0
A18: ='विद्य्र्थ्याची माहिती'!A18 -> 9 | B18: ='विद्य्र्थ्याची माहिती'!B18 -> 0 | G18: =SUM(C18:F18) -> 0 | L18: =SUM(H18:K18) -> 0
A19: ='विद्य्र्थ्याची माहिती'!A19 -> 10 | B19: ='विद्य्र्थ्याची माहिती'!B19 -> 0 | G19: =SUM(C19:F19) -> 0 | L19: =SUM(H19:K19) -> 0
A20: ='विद्य्र्थ्याची माहिती'!A20 -> 11 | B20: ='विद्य्र्थ्याची माहिती'!B20 -> 0 | G20: =SUM(C20:F20) -> 0 | L20: =SUM(H20:K20) -> 0
A21: ='विद्य्र्थ्याची माहिती'!A21 -> 12 | B21: ='विद्य्र्थ्याची माहिती'!B21 -> 0 | G21: =SUM(C21:F21) -> 0 | L21: =SUM(H21:K21) -> 0
... A69: ='विद्य्र्थ्याची माहिती'!A69 -> 60 | B69: ='विद्य्र्थ्याची माहिती'!B69 -> 0 | G69: =SUM(C69:F69) -> 0 | L69: =SUM(H69:K69) -> 0
A70: Easy Result System By :- Sachin Wakchaure (9822882466)
B72: =MASTER!B16 -> श्री. लेंडे किरण विठ्ठल | H72: =MASTER!B8 -> श्री. लेंडे किरण विठ्ठल
B73: विषय शिक्षक | H73: मुख्याध्यापक

Sheet संयुक्त भाषा-2 अ.मू
A1: =MASTER!B5 -> अनुदानित माध्यमिक आश्रमशाळा, एकदरे, ता. अकोले जि. अहिल्यानगर
A3: इ.- | B3: =MASTER!B6 -> 9 वी | H3: =MASTER!F16 -> विषय - हिंदी
A4: =MASTER!H16 -> अंतर्गत मूल्यमापन (सन 2026-2027)
A5: =MASTER!C7 -> वर्ग शिक्षक- श्री. ढगे भरत बुधाजी | E5: =MASTER!C16 -> विषय शिक्षक- श्री. लेंडे किरण विठ्ठल
A6: हजेरी क्र | B6: विद्यार्थ्याचे नाव | C6: प्रथम सत्र | H6: व्दितीय सत्र
C7: तोंडी श्रवण कौ. | D7: तोंडी भाषण.कौ. | E7: स्वाध्याय I | F7: स्वाध्याय II | G7: एकूण | H7: तोंडी श्रवण कौ. | I7: तोंडी भाषण.कौ. | J7: स्वाध्याय I | K7: स्वाध्याय II | L7: एकूण
C9: 3 | D9: 2 | E9: 3 | F9: 2 | G9: =SUM(C9:F9) -> 10 | H9: 2 | I9: 3 | J9: 2 | K9: 3 | L9: =SUM(H9:K9) -> 10
A10: ='विद्य्र्थ्याची माहिती'!A10 -> 1 | B10: ='विद्य्र्थ्याची माहिती'!B10 -> चि. समीर यशवंत देशमुख सखाराम | G10: =SUM(C10:F10) -> 0 | L10: =SUM(H10:K10) -> 0
A11: ='विद्य्र्थ्याची माहिती'!A11 -> 2 | B11: ='विद्य्र्थ्याची माहिती'!B11 -> 0 | G11: =SUM(C11:F11) -> 0 | L11: =SUM(H11:K11) -> 0
A12: ='विद्य्र्थ्याची माहिती'!A12 -> 3 | B12: ='विद्य्र्थ्याची माहिती'!B12 -> 0 | G12: =SUM(C12:F12) -> 0 | L12: =SUM(H12:K12) -> 0
A13: ='विद्य्र्थ्याची माहिती'!A13 -> 4 | B13: ='विद्य्र्थ्याची माहिती'!B13 -> 0 | G13: =SUM(C13:F13) -> 0 | L13: =SUM(H13:K13) -> 0
A14: ='विद्य्र्थ्याची माहिती'!A14 -> 5 | B14: ='विद्य्र्थ्याची माहिती'!B14 -> 0 | G14: =SUM(C14:F14) -> 0 | L14: =SUM(H14:K14) -> 0
A15: ='विद्य्र्थ्याची माहिती'!A15 -> 6 | B15: ='विद्य्र्थ्याची माहिती'!B15 -> 0 | G15: =SUM(C15:F15) -> 0 | L15: =SUM(H15:K15) -> 0
A16: ='विद्य्र्थ्याची माहिती'!A16 -> 7 | B16: ='विद्य्र्थ्याची माहिती'!B16 -> 0 | G16: =SUM(C16:F16) -> 0 | L16: =SUM(H16:K16) -> 0
A17: ='विद्य्र्थ्याची माहिती'!A17 -> 8 | B17: ='विद्य्र्थ्याची माहिती'!B17 -> 0 | G17: =SUM(C17:F17) -> 0 | L17: =SUM(H17:K17) -> 0
A18: ='विद्य्र्थ्याची माहिती'!A18 -> 9 | B18: ='विद्य्र्थ्याची माहिती'!B18 -> 0 | G18: =SUM(C18:F18) -> 0 | L18: =SUM(H18:K18) -> 0
A19: ='विद्य्र्थ्याची माहिती'!A19 -> 10 | B19: ='विद्य्र्थ्याची माहिती'!B19 -> 0 | G19: =SUM(C19:F19) -> 0 | L19: =SUM(H19:K19) -> 0
A20: ='विद्य्र्थ्याची माहिती'!A20 -> 11 | B20: ='विद्य्र्थ्याची माहिती'!B20 -> 0 | G20: =SUM(C20:F20) -> 0 | L20: =SUM(H20:K20) -> 0
A21: ='विद्य्र्थ्याची माहिती'!A21 -> 12 | B21: ='विद्य्र्थ्याची माहिती'!B21 -> 0 | G21: =SUM(C21:F21) -> 0 | L21: =SUM(H21:K21) -> 0
... A69: ='विद्य्र्थ्याची माहिती'!A69 -> 60 | B69: ='विद्य्र्थ्याची माहिती'!B69 -> 0 | G69: =SUM(C69:F69) -> 0 | L69: =SUM(H69:K69) -> 0
A70: Easy Result System By :- Sachin Wakchaure (9822882466)
B72: =MASTER!B16 -> श्री. लेंडे किरण विठ्ठल | H72: =MASTER!B8 -> श्री. लेंडे किरण विठ्ठल
B73: विषय शिक्षक | H73: मुख्याध्यापक

Sheet तृ. भाषा
A1: =MASTER!B5 -> अनुदानित माध्यमिक आश्रमशाळा, एकदरे, ता. अकोले जि. अहिल्यानगर
A3: इ.- | B3: =MASTER!B6 -> 9 वी | G3: =MASTER!F17 -> विषय - इंग्रजी
A4: =MASTER!H15 -> वार्षिक निकाल पत्रक (सन 2026-2027)
A5: =MASTER!C7 -> वर्ग शिक्षक- श्री. ढगे भरत बुधाजी | E5: =MASTER!C17 -> विषय शिक्षक- श्री. ढगे भरत बुधाजी
A6: हजेरी क्र | B6: विद्यार्थ्याचे नाव | C6: प्रथम सत्र (अ) | F6: व्दितीय सत्र (ब) | I6: वार्षिक निकाल
C7: लेखी | D7: अंतर्गत मू.मापन | E7: एकूण | F7: लेखी | G7: अंतर्गत मू.मापन | H7: एकूण | I7: एकूण (अ+ब) | J7: सरासरी | K7: सवलतीचे/ गट नि. गुण | L7: एकूण | M7: शेरा
C9: 80 | D9: ='तृ.भाषा-अ.मूल्यमापन'!G9 -> 20 | E9: =SUM(C9:D9) -> 100 | F9: 80 | G9: ='तृ.भाषा-अ.मूल्यमापन'!L9 -> 20 | H9: =SUM(F9:G9) -> 100 | I9: =SUM(E9,H9) -> 200 | J9: =ROUND(I9/2,0) -> 100 | K9: - | L9: =SUM(J9:K9) -> 100 | M9: =IF(L9>=35,"Pass","Fail") -> Pass
A10: ='विद्य्र्थ्याची माहिती'!A10 -> 1 | B10: ='विद्य्र्थ्याची माहिती'!B10 -> चि. समीर यशवंत देशमुख सखाराम | C10: 51 | D10: ='तृ.भाषा-अ.मूल्यमापन'!G10 -> 19 | E10: =SUM(C10:D10) -> 70 | F10: 53 | G10: ='तृ.भाषा-अ.मूल्यमापन'!L10 -> 16 | H10: =SUM(F10:G10) -> 69 | I10: =SUM(E10,H10) -> 139 | J10: =ROUND(I10/2,0) -> 70 | K10: 8 | L10: =SUM(J10:K10) -> 78 | M10: =IF(L10>=35,"Pass","Fail") -> Pass
A11: ='विद्य्र्थ्याची माहिती'!A11 -> 2 | B11: ='विद्य्र्थ्याची माहिती'!B11 -> 0 | D11: ='तृ.भाषा-अ.मूल्यमापन'!G11 -> 0 | E11: =SUM(C11:D11) -> 0 | G11: ='तृ.भाषा-अ.मूल्यमापन'!L11 -> 0 | H11: =SUM(F11:G11) -> 0 | I11: =SUM(E11,H11) -> 0 | J11: =ROUND(I11/2,0) -> 0 | K11: - | L11: =SUM(J11:K11) -> 0 | M11: =IF(L11>=35,"Pass","Fail") -> Fail
A12: ='विद्य्र्थ्याची माहिती'!A12 -> 3 | B12: ='विद्य्र्थ्याची माहिती'!B12 -> 0 | D12: ='तृ.भाषा-अ.मूल्यमापन'!G12 -> 0 | E12: =SUM(C12:D12) -> 0 | G12: ='तृ.भाषा-अ.मूल्यमापन'!L12 -> 0 | H12: =SUM(F12:G12) -> 0 | I12: =SUM(E12,H12) -> 0 | J12: =ROUND(I12/2,0) -> 0 | K12: - | L12: =SUM(J12:K12) -> 0 | M12: =IF(L12>=35,"Pass","Fail") -> Fail
A13: ='विद्य्र्थ्याची माहिती'!A13 -> 4 | B13: ='विद्य्र्थ्याची माहिती'!B13 -> 0 | D13: ='तृ.भाषा-अ.मूल्यमापन'!G13 -> 0 | E13: =SUM(C13:D13) -> 0 | G13: ='तृ.भाषा-अ.मूल्यमापन'!L13 -> 0 | H13: =SUM(F13:G13) -> 0 | I13: =SUM(E13,H13) -> 0 | J13: =ROUND(I13/2,0) -> 0 | K13: - | L13: =SUM(J13:K13) -> 0 | M13: =IF(L13>=35,"Pass","Fail") -> Fail
A14: ='विद्य्र्थ्याची माहिती'!A14 -> 5 | B14: ='विद्य्र्थ्याची माहिती'!B14 -> 0 | D14: ='तृ.भाषा-अ.मूल्यमापन'!G14 -> 0 | E14: =SUM(C14:D14) -> 0 | G14: ='तृ.भाषा-अ.मूल्यमापन'!L14 -> 0 | H14: =SUM(F14:G14) -> 0 | I14: =SUM(E14,H14) -> 0 | J14: =ROUND(I14/2,0) -> 0 | K14: - | L14: =SUM(J14:K14) -> 0 | M14: =IF(L14>=35,"Pass","Fail") -> Fail
A15: ='विद्य्र्थ्याची माहिती'!A15 -> 6 | B15: ='विद्य्र्थ्याची माहिती'!B15 -> 0 | D15: ='तृ.भाषा-अ.मूल्यमापन'!G15 -> 0 | E15: =SUM(C15:D15) -> 0 | G15: ='तृ.भाषा-अ.मूल्यमापन'!L15 -> 0 | H15: =SUM(F15:G15) -> 0 | I15: =SUM(E15,H15) -> 0 | J15: =ROUND(I15/2,0) -> 0 | K15: - | L15: =SUM(J15:K15) -> 0 | M15: =IF(L15>=35,"Pass","Fail") -> Fail
A16: ='विद्य्र्थ्याची माहिती'!A16 -> 7 | B16: ='विद्य्र्थ्याची माहिती'!B16 -> 0 | D16: ='तृ.भाषा-अ.मूल्यमापन'!G16 -> 0 | E16: =SUM(C16:D16) -> 0 | G16: ='तृ.भाषा-अ.मूल्यमापन'!L16 -> 0 | H16: =SUM(F16:G16) -> 0 | I16: =SUM(E16,H16) -> 0 | J16: =ROUND(I16/2,0) -> 0 | K16: - | L16: =SUM(J16:K16) -> 0 | M16: =IF(L16>=35,"Pass","Fail") -> Fail
A17: ='विद्य्र्थ्याची माहिती'!A17 -> 8 | B17: ='विद्य्र्थ्याची माहिती'!B17 -> 0 | D17: ='तृ.भाषा-अ.मूल्यमापन'!G17 -> 0 | E17: =SUM(C17:D17) -> 0 | G17: ='तृ.भाषा-अ.मूल्यमापन'!L17 -> 0 | H17: =SUM(F17:G17) -> 0 | I17: =SUM(E17,H17) -> 0 | J17: =ROUND(I17/2,0) -> 0 | K17: - | L17: =SUM(J17:K17) -> 0 | M17: =IF(L17>=35,"Pass","Fail") -> Fail
A18: ='विद्य्र्थ्याची माहिती'!A18 -> 9 | B18: ='विद्य्र्थ्याची माहिती'!B18 -> 0 | D18: ='तृ.भाषा-अ.मूल्यमापन'!G18 -> 0 | E18: =SUM(C18:D18) -> 0 | G18: ='तृ.भाषा-अ.मूल्यमापन'!L18 -> 0 | H18: =SUM(F18:G18) -> 0 | I18: =SUM(E18,H18) -> 0 | J18: =ROUND(I18/2,0) -> 0 | K18: - | L18: =SUM(J18:K18) -> 0 | M18: =IF(L18>=35,"Pass","Fail") -> Fail
A19: ='विद्य्र्थ्याची माहिती'!A19 -> 10 | B19: ='विद्य्र्थ्याची माहिती'!B19 -> 0 | D19: ='तृ.भाषा-अ.मूल्यमापन'!G19 -> 0 | E19: =SUM(C19:D19) -> 0 | G19: ='तृ.भाषा-अ.मूल्यमापन'!L19 -> 0 | H19: =SUM(F19:G19) -> 0 | I19: =SUM(E19,H19) -> 0 | J19: =ROUND(I19/2,0) -> 0 | K19: - | L19: =SUM(J19:K19) -> 0 | M19: =IF(L19>=35,"Pass","Fail") -> Fail
A20: ='विद्य्र्थ्याची माहिती'!A20 -> 11 | B20: ='विद्य्र्थ्याची माहिती'!B20 -> 0 | D20: ='तृ.भाषा-अ.मूल्यमापन'!G20 -> 0 | E20: =SUM(C20:D20) -> 0 | G20: ='तृ.भाषा-अ.मूल्यमापन'!L20 -> 0 | H20: =SUM(F20:G20) -> 0 | I20: =SUM(E20,H20) -> 0 | J20: =ROUND(I20/2,0) -> 0 | K20: - | L20: =SUM(J20:K20) -> 0 | M20: =IF(L20>=35,"Pass","Fail") -> Fail
A21: ='विद्य्र्थ्याची माहिती'!A21 -> 12 | B21: ='विद्य्र्थ्याची माहिती'!B21 -> 0 | D21: ='तृ.भाषा-अ.मूल्यमापन'!G21 -> 0 | E21: =SUM(C21:D21) -> 0 | G21: ='तृ.भाषा-अ.मूल्यमापन'!L21 -> 0 | H21: =SUM(F21:G21) -> 0 | I21: =SUM(E21,H21) -> 0 | J21: =ROUND(I21/2,0) -> 0 | K21: - | L21: =SUM(J21:K21) -> 0 | M21: =IF(L21>=35,"Pass","Fail") -> Fail
A22: ='विद्य्र्थ्याची माहिती'!A22 -> 13 | B22: ='विद्य्र्थ्याची माहिती'!B22 -> 0 | D22: ='तृ.भाषा-अ.मूल्यमापन'!G22 -> 0 | E22: =SUM(C22:D22) -> 0 | G22: ='तृ.भाषा-अ.मूल्यमापन'!L22 -> 0 | H22: =SUM(F22:G22) -> 0 | I22: =SUM(E22,H22) -> 0 | J22: =ROUND(I22/2,0) -> 0 | K22: - | L22: =SUM(J22:K22) -> 0 | M22: =IF(L22>=35,"Pass","Fail") -> Fail
... A69: ='विद्य्र्थ्याची माहिती'!A69 -> 60 | B69: ='विद्य्र्थ्याची माहिती'!B69 -> 0 | D69: ='तृ.भाषा-अ.मूल्यमापन'!G69 -> 0 | E69: =SUM(C69:D69) -> 0 | G69: ='तृ.भाषा-अ.मूल्यमापन'!L69 -> 0 | H69: =SUM(F69:G69) -> 0 | I69: =SUM(E69,H69) -> 0 | J69: =ROUND(I69/2,0) -> 0 | K69: - | L69: =SUM(J69:K69) -> 0 | M69: =IF(L69>=35,"Pass","Fail") -> Fail
A70: Easy Result System By :- Sachin Wakchaure (9822882466)
B72: =MASTER!B17 -> श्री. ढगे भरत बुधाजी | G72: =MASTER!B8 -> श्री. लेंडे किरण विठ्ठल
B73: विषय शिक्षक | G73: मुख्याध्यापक

Sheet तृ.भाषा-अ.मूल्यमापन
A1: =MASTER!B5 -> अनुदानित माध्यमिक आश्रमशाळा, एकदरे, ता. अकोले जि. अहिल्यानगर
A3: इ.- | B3: =MASTER!B6 -> 9 वी | H3: =MASTER!F17 -> विषय - इंग्रजी
A4: =MASTER!H16 -> अंतर्गत मूल्यमापन (सन 2026-2027)
A5: =MASTER!C7 -> वर्ग शिक्षक- श्री. ढगे भरत बुधाजी | E5: =MASTER!C17 -> विषय शिक्षक- श्री. ढगे भरत बुधाजी
A6: हजेरी क्र | B6: विद्यार्थ्याचे नाव | C6: प्रथम सत्र | H6: व्दितीय सत्र
C7: तोंडी श्रवण कौ. | D7: तोंडी भाषण.कौ. | E7: स्वाध्याय I | F7: स्वाध्याय II | G7: एकूण | H7: तोंडी श्रवण कौ. | I7: तोंडी भाषण.कौ. | J7: स्वाध्याय I | K7: स्वाध्याय II | L7: एकूण
C9: 5 | D9: 5 | E9: 5 | F9: 5 | G9: =SUM(C9:F9) -> 20 | H9: 5 | I9: 5 | J9: 5 | K9: 5 | L9: =SUM(H9:K9) -> 20
A10: ='विद्य्र्थ्याची माहिती'!A10 -> 1 | B10: ='विद्य्र्थ्याची माहिती'!B10 -> चि. समीर यशवंत देशमुख सखाराम | C10: 5 | D10: 5 | E10: 5 | F10: 4 | G10: =SUM(C10:F10) -> 19 | H10: 4 | I10: 4 | J10: 4 | K10: 4 | L10: =SUM(H10:K10) -> 16
A11: ='विद्य्र्थ्याची माहिती'!A11 -> 2 | B11: ='विद्य्र्थ्याची माहिती'!B11 -> 0 | G11: =SUM(C11:F11) -> 0 | L11: =SUM(H11:K11) -> 0
A12: ='विद्य्र्थ्याची माहिती'!A12 -> 3 | B12: ='विद्य्र्थ्याची माहिती'!B12 -> 0 | G12: =SUM(C12:F12) -> 0 | L12: =SUM(H12:K12) -> 0
A13: ='विद्य्र्थ्याची माहिती'!A13 -> 4 | B13: ='विद्य्र्थ्याची माहिती'!B13 -> 0 | G13: =SUM(C13:F13) -> 0 | L13: =SUM(H13:K13) -> 0
A14: ='विद्य्र्थ्याची माहिती'!A14 -> 5 | B14: ='विद्य्र्थ्याची माहिती'!B14 -> 0 | G14: =SUM(C14:F14) -> 0 | L14: =SUM(H14:K14) -> 0
A15: ='विद्य्र्थ्याची माहिती'!A15 -> 6 | B15: ='विद्य्र्थ्याची माहिती'!B15 -> 0 | G15: =SUM(C15:F15) -> 0 | L15: =SUM(H15:K15) -> 0
A16: ='विद्य्र्थ्याची माहिती'!A16 -> 7 | B16: ='विद्य्र्थ्याची माहिती'!B16 -> 0 | G16: =SUM(C16:F16) -> 0 | L16: =SUM(H16:K16) -> 0
A17: ='विद्य्र्थ्याची माहिती'!A17 -> 8 | B17: ='विद्य्र्थ्याची माहिती'!B17 -> 0 | G17: =SUM(C17:F17) -> 0 | L17: =SUM(H17:K17) -> 0
A18: ='विद्य्र्थ्याची माहिती'!A18 -> 9 | B18: ='विद्य्र्थ्याची माहिती'!B18 -> 0 | G18: =SUM(C18:F18) -> 0 | L18: =SUM(H18:K18) -> 0
A19: ='विद्य्र्थ्याची माहिती'!A19 -> 10 | B19: ='विद्य्र्थ्याची माहिती'!B19 -> 0 | G19: =SUM(C19:F19) -> 0 | L19: =SUM(H19:K19) -> 0
A20: ='विद्य्र्थ्याची माहिती'!A20 -> 11 | B20: ='विद्य्र्थ्याची माहिती'!B20 -> 0 | G20: =SUM(C20:F20) -> 0 | L20: =SUM(H20:K20) -> 0
A21: ='विद्य्र्थ्याची माहिती'!A21 -> 12 | B21: ='विद्य्र्थ्याची माहिती'!B21 -> 0 | G21: =SUM(C21:F21) -> 0 | L21: =SUM(H21:K21) -> 0
A22: ='विद्य्र्थ्याची माहिती'!A22 -> 13 | B22: ='विद्य्र्थ्याची माहिती'!B22 -> 0 | G22: =SUM(C22:F22) -> 0 | L22: =SUM(H22:K22) -> 0
... A69: ='विद्य्र्थ्याची माहिती'!A69 -> 60 | B69: ='विद्य्र्थ्याची माहिती'!B69 -> 0 | G69: =SUM(C69:F69) -> 0 | L69: =SUM(H69:K69) -> 0
A70: Easy Result System By :- Sachin Wakchaure (9822882466)
B72: =MASTER!B17 -> श्री. ढगे भरत बुधाजी | H72: =MASTER!B8 -> श्री. लेंडे किरण विठ्ठल
B73: विषय शिक्षक | H73: मुख्याध्यापक

Sheet गणित
A1: =MASTER!B5 -> अनुदानित माध्यमिक आश्रमशाळा, एकदरे, ता. अकोले जि. अहिल्यानगर
A3: इ.- | B3: =MASTER!B6 -> 9 वी | J3: =MASTER!F18 -> विषय - गणित
A4: =MASTER!H15 -> वार्षिक निकाल पत्रक (सन 2026-2027)
A5: =MASTER!C7 -> वर्ग शिक्षक- श्री. ढगे भरत बुधाजी | G5: =MASTER!C18 -> विषय शिक्षक- श्री. कानकाटे आसाराम शंकर
A6: हजेरी क्र | B6: विद्यार्थ्याचे नाव | C6: प्रथम सत्र (अ) | H6: व्दितीय सत्र सत्र (ब) | M6: एकूण अ+ब | N6: सरासरी (अ+ब)/2 | O6: सवलतीचे/ गट नि. गुण | P6: एकूण | Q6: शेरा
C7: लेखी बी.गणित | D7: लेखी भूमिती | E7: एकूण | F7: अ. मू.मापन | G7: एकूण | H7: लेखी बी.गणित | I7: लेखी भूमिती | J7: एकूण | K7: अ. मू.मापन | L7: एकूण
C9: 40 | D9: 40 | E9: =SUM(C9:D9) -> 80 | F9: ='अं.मु.गणित'!I9 -> 20 | G9: =SUM(E9:F9) -> 100 | H9: 40 | I9: 40 | J9: =SUM(H9:I9) -> 80 | K9: ='अं.मु.गणित'!P9 -> 20 | L9: =SUM(J9:K9) -> 100 | M9: =SUM(G9,L9) -> 200 | N9: =ROUND(M9/2,0) -> 100 | O9: - | P9: =SUM(N9:O9) -> 100 | Q9: =IF(P9>=35,"Pass","Fail") -> Pass
A10: ='विद्य्र्थ्याची माहिती'!A10 -> 1 | B10: ='विद्य्र्थ्याची माहिती'!B10 -> चि. समीर यशवंत देशमुख सखाराम | C10: 25 | D10: 26 | E10: =SUM(C10:D10) -> 51 | F10: ='अं.मु.गणित'!I10 -> 18 | G10: =SUM(E10:F10) -> 69 | H10: 15 | I10: 28 | J10: =SUM(H10:I10) -> 43 | K10: ='अं.मु.गणित'!P10 -> 15 | L10: =SUM(J10:K10) -> 58 | M10: =SUM(G10,L10) -> 127 | N10: =ROUND(M10/2,0) -> 64 | O10: 14 | P10: =SUM(N10:O10) -> 78 | Q10: =IF(P10>=35,"Pass","Fail") -> Pass
A11: ='विद्य्र्थ्याची माहिती'!A11 -> 2 | B11: ='विद्य्र्थ्याची माहिती'!B11 -> 0 | E11: =SUM(C11:D11) -> 0 | F11: ='अं.मु.गणित'!I11 -> 0 | G11: =SUM(E11:F11) -> 0 | J11: =SUM(H11:I11) -> 0 | K11: ='अं.मु.गणित'!P11 -> 0 | L11: =SUM(J11:K11) -> 0 | M11: =SUM(G11,L11) -> 0 | N11: =ROUND(M11/2,0) -> 0 | O11: - | P11: =SUM(N11:O11) -> 0 | Q11: =IF(P11>=35,"Pass","Fail") -> Fail
A12: ='विद्य्र्थ्याची माहिती'!A12 -> 3 | B12: ='विद्य्र्थ्याची माहिती'!B12 -> 0 | E12: =SUM(C12:D12) -> 0 | F12: ='अं.मु.गणित'!I12 -> 0 | G12: =SUM(E12:F12) -> 0 | J12: =SUM(H12:I12) -> 0 | K12: ='अं.मु.गणित'!P12 -> 0 | L12: =SUM(J12:K12) -> 0 | M12: =SUM(G12,L12) -> 0 | N12: =ROUND(M12/2,0) -> 0 | O12: - | P12: =SUM(N12:O12) -> 0 | Q12: =IF(P12>=35,"Pass","Fail") -> Fail
A13: ='विद्य्र्थ्याची माहिती'!A13 -> 4 | B13: ='विद्य्र्थ्याची माहिती'!B13 -> 0 | E13: =SUM(C13:D13) -> 0 | F13: ='अं.मु.गणित'!I13 -> 0 | G13: =SUM(E13:F13) -> 0 | J13: =SUM(H13:I13) -> 0 | K13: ='अं.मु.गणित'!P13 -> 0 | L13: =SUM(J13:K13) -> 0 | M13: =SUM(G13,L13) -> 0 | N13: =ROUND(M13/2,0) -> 0 | O13: - | P13: =SUM(N13:O13) -> 0 | Q13: =IF(P13>=35,"Pass","Fail") -> Fail
A14: ='विद्य्र्थ्याची माहिती'!A14 -> 5 | B14: ='विद्य्र्थ्याची माहिती'!B14 -> 0 | E14: =SUM(C14:D14) -> 0 | F14: ='अं.मु.गणित'!I14 -> 0 | G14: =SUM(E14:F14) -> 0 | J14: =SUM(H14:I14) -> 0 | K14: ='अं.मु.गणित'!P14 -> 0 | L14: =SUM(J14:K14) -> 0 | M14: =SUM(G14,L14) -> 0 | N14: =ROUND(M14/2,0) -> 0 | O14: - | P14: =SUM(N14:O14) -> 0 | Q14: =IF(P14>=35,"Pass","Fail") -> Fail
A15: ='विद्य्र्थ्याची माहिती'!A15 -> 6 | B15: ='विद्य्र्थ्याची माहिती'!B15 -> 0 | E15: =SUM(C15:D15) -> 0 | F15: ='अं.मु.गणित'!I15 -> 0 | G15: =SUM(E15:F15) -> 0 | J15: =SUM(H15:I15) -> 0 | K15: ='अं.मु.गणित'!P15 -> 0 | L15: =SUM(J15:K15) -> 0 | M15: =SUM(G15,L15) -> 0 | N15: =ROUND(M15/2,0) -> 0 | O15: - | P15: =SUM(N15:O15) -> 0 | Q15: =IF(P15>=35,"Pass","Fail") -> Fail
A16: ='विद्य्र्थ्याची माहिती'!A16 -> 7 | B16: ='विद्य्र्थ्याची माहिती'!B16 -> 0 | E16: =SUM(C16:D16) -> 0 | F16: ='अं.मु.गणित'!I16 -> 0 | G16: =SUM(E16:F16) -> 0 | J16: =SUM(H16:I16) -> 0 | K16: ='अं.मु.गणित'!P16 -> 0 | L16: =SUM(J16:K16) -> 0 | M16: =SUM(G16,L16) -> 0 | N16: =ROUND(M16/2,0) -> 0 | O16: - | P16: =SUM(N16:O16) -> 0 | Q16: =IF(P16>=35,"Pass","Fail") -> Fail
A17: ='विद्य्र्थ्याची माहिती'!A17 -> 8 | B17: ='विद्य्र्थ्याची माहिती'!B17 -> 0 | E17: =SUM(C17:D17) -> 0 | F17: ='अं.मु.गणित'!I17 -> 0 | G17: =SUM(E17:F17) -> 0 | J17: =SUM(H17:I17) -> 0 | K17: ='अं.मु.गणित'!P17 -> 0 | L17: =SUM(J17:K17) -> 0 | M17: =SUM(G17,L17) -> 0 | N17: =ROUND(M17/2,0) -> 0 | O17: - | P17: =SUM(N17:O17) -> 0 | Q17: =IF(P17>=35,"Pass","Fail") -> Fail
A18: ='विद्य्र्थ्याची माहिती'!A18 -> 9 | B18: ='विद्य्र्थ्याची माहिती'!B18 -> 0 | E18: =SUM(C18:D18) -> 0 | F18: ='अं.मु.गणित'!I18 -> 0 | G18: =SUM(E18:F18) -> 0 | J18: =SUM(H18:I18) -> 0 | K18: ='अं.मु.गणित'!P18 -> 0 | L18: =SUM(J18:K18) -> 0 | M18: =SUM(G18,L18) -> 0 | N18: =ROUND(M18/2,0) -> 0 | O18: - | P18: =SUM(N18:O18) -> 0 | Q18: =IF(P18>=35,"Pass","Fail") -> Fail
A19: ='विद्य्र्थ्याची माहिती'!A19 -> 10 | B19: ='विद्य्र्थ्याची माहिती'!B19 -> 0 | E19: =SUM(C19:D19) -> 0 | F19: ='अं.मु.गणित'!I19 -> 0 | G19: =SUM(E19:F19) -> 0 | J19: =SUM(H19:I19) -> 0 | K19: ='अं.मु.गणित'!P19 -> 0 | L19: =SUM(J19:K19) -> 0 | M19: =SUM(G19,L19) -> 0 | N19: =ROUND(M19/2,0) -> 0 | O19: - | P19: =SUM(N19:O19) -> 0 | Q19: =IF(P19>=35,"Pass","Fail") -> Fail
A20: ='विद्य्र्थ्याची माहिती'!A20 -> 11 | B20: ='विद्य्र्थ्याची माहिती'!B20 -> 0 | E20: =SUM(C20:D20) -> 0 | F20: ='अं.मु.गणित'!I20 -> 0 | G20: =SUM(E20:F20) -> 0 | J20: =SUM(H20:I20) -> 0 | K20: ='अं.मु.गणित'!P20 -> 0 | L20: =SUM(J20:K20) -> 0 | M20: =SUM(G20,L20) -> 0 | N20: =ROUND(M20/2,0) -> 0 | O20: - | P20: =SUM(N20:O20) -> 0 | Q20: =IF(P20>=35,"Pass","Fail") -> Fail
A21: ='विद्य्र्थ्याची माहिती'!A21 -> 12 | B21: ='विद्य्र्थ्याची माहिती'!B21 -> 0 | E21: =SUM(C21:D21) -> 0 | F21: ='अं.मु.गणित'!I21 -> 0 | G21: =SUM(E21:F21) -> 0 | J21: =SUM(H21:I21) -> 0 | K21: ='अं.मु.गणित'!P21 -> 0 | L21: =SUM(J21:K21) -> 0 | M21: =SUM(G21,L21) -> 0 | N21: =ROUND(M21/2,0) -> 0 | O21: - | P21: =SUM(N21:O21) -> 0 | Q21: =IF(P21>=35,"Pass","Fail") -> Fail
A22: ='विद्य्र्थ्याची माहिती'!A22 -> 13 | B22: ='विद्य्र्थ्याची माहिती'!B22 -> 0 | E22: =SUM(C22:D22) -> 0 | F22: ='अं.मु.गणित'!I22 -> 0 | G22: =SUM(E22:F22) -> 0 | J22: =SUM(H22:I22) -> 0 | K22: ='अं.मु.गणित'!P22 -> 0 | L22: =SUM(J22:K22) -> 0 | M22: =SUM(G22,L22) -> 0 | N22: =ROUND(M22/2,0) -> 0 | O22: - | P22: =SUM(N22:O22) -> 0 | Q22: =IF(P22>=35,"Pass","Fail") -> Fail
... A69: ='विद्य्र्थ्याची माहिती'!A69 -> 60 | B69: ='विद्य्र्थ्याची माहिती'!B69 -> 0 | E69: =SUM(C69:D69) -> 0 | F69: ='अं.मु.गणित'!I69 -> 0 | G69: =SUM(E69:F69) -> 0 | J69: =SUM(H69:I69) -> 0 | K69: ='अं.मु.गणित'!P69 -> 0 | L69: =SUM(J69:K69) -> 0 | M69: =SUM(G69,L69) -> 0 | N69: =ROUND(M69/2,0) -> 0 | O69: - | P69: =SUM(N69:O69) -> 0 | Q69: =IF(P69>=35,"Pass","Fail") -> Fail
A70: Easy Result System By :- Sachin Wakchaure (9822882466)
B72: =MASTER!B18 -> श्री. कानकाटे आसाराम शंकर | H72: =MASTER!B8 -> श्री. लेंडे किरण विठ्ठल
B73: विषय शिक्षिक | H73: मुख्याध्यापक

Sheet अं.मु.गणित
A1: =MASTER!B5 -> अनुदानित माध्यमिक आश्रमशाळा, एकदरे, ता. अकोले जि. अहिल्यानगर
A3: इ.- | B3: =MASTER!B6 -> 9 वी | C3: अंतर्गत मूल्यमापन | J3: =MASTER!F18 -> विषय - गणित
A4: =MASTER!C7 -> वर्ग शिक्षक- श्री. ढगे भरत बुधाजी | G4: =MASTER!C18 -> विषय शिक्षक- श्री. कानकाटे आसाराम शंकर
A5: परीक्षा नं. | B5: विद्यार्थ्याचे नाव | C5: प्रथम सत्र | J5: व्दितीय सत्र
C6: भाग 1 | F6: भाग 2 | I6: एकूण | J6: भाग 1 | M6: भाग 2 | P6: एकूण
C7: गृहपाठ | D7: प्रा.परीक्षा/ बहुप.प. | E7: एकूण | F7: गृहपाठ | G7: प्रा.परीक्षा/ बहुप.प. | H7: एकूण | J7: गृहपाठ | K7: प्रा.परीक्षा/ बहुप.प. | L7: एकूण | M7: गृहपाठ | N7: प्रा.परीक्षा/ बहुप.प. | O7: एकूण
C9: 5 | D9: 5 | E9: =SUM(C9:D9) -> 10 | F9: 5 | G9: 5 | H9: =SUM(F9:G9) -> 10 | I9: =SUM(E9,H9) -> 20 | J9: 5 | K9: 5 | L9: =SUM(J9:K9) -> 10 | M9: 5 | N9: 5 | O9: =SUM(M9:N9) -> 10 | P9: =SUM(L9,O9) -> 20
A10: ='विद्य्र्थ्याची माहिती'!A10 -> 1 | B10: ='विद्य्र्थ्याची माहिती'!B10 -> चि. समीर यशवंत देशमुख सखाराम | C10: 5 | D10: 4 | E10: =SUM(C10:D10) -> 9 | F10: 5 | G10: 4 | H10: =SUM(F10:G10) -> 9 | I10: =SUM(E10,H10) -> 18 | J10: 5 | K10: 4 | L10: =SUM(J10:K10) -> 9 | M10: 4 | N10: 2 | O10: =SUM(M10:N10) -> 6 | P10: =SUM(L10,O10) -> 15
A11: ='विद्य्र्थ्याची माहिती'!A11 -> 2 | B11: ='विद्य्र्थ्याची माहिती'!B11 -> 0 | E11: =SUM(C11:D11) -> 0 | H11: =SUM(F11:G11) -> 0 | I11: =SUM(E11,H11) -> 0 | L11: =SUM(J11:K11) -> 0 | O11: =SUM(M11:N11) -> 0 | P11: =SUM(L11,O11) -> 0
A12: ='विद्य्र्थ्याची माहिती'!A12 -> 3 | B12: ='विद्य्र्थ्याची माहिती'!B12 -> 0 | E12: =SUM(C12:D12) -> 0 | H12: =SUM(F12:G12) -> 0 | I12: =SUM(E12,H12) -> 0 | L12: =SUM(J12:K12) -> 0 | O12: =SUM(M12:N12) -> 0 | P12: =SUM(L12,O12) -> 0
A13: ='विद्य्र्थ्याची माहिती'!A13 -> 4 | B13: ='विद्य्र्थ्याची माहिती'!B13 -> 0 | E13: =SUM(C13:D13) -> 0 | H13: =SUM(F13:G13) -> 0 | I13: =SUM(E13,H13) -> 0 | L13: =SUM(J13:K13) -> 0 | O13: =SUM(M13:N13) -> 0 | P13: =SUM(L13,O13) -> 0
A14: ='विद्य्र्थ्याची माहिती'!A14 -> 5 | B14: ='विद्य्र्थ्याची माहिती'!B14 -> 0 | E14: =SUM(C14:D14) -> 0 | H14: =SUM(F14:G14) -> 0 | I14: =SUM(E14,H14) -> 0 | L14: =SUM(J14:K14) -> 0 | O14: =SUM(M14:N14) -> 0 | P14: =SUM(L14,O14) -> 0
A15: ='विद्य्र्थ्याची माहिती'!A15 -> 6 | B15: ='विद्य्र्थ्याची माहिती'!B15 -> 0 | E15: =SUM(C15:D15) -> 0 | H15: =SUM(F15:G15) -> 0 | I15: =SUM(E15,H15) -> 0 | L15: =SUM(J15:K15) -> 0 | O15: =SUM(M15:N15) -> 0 | P15: =SUM(L15,O15) -> 0
A16: ='विद्य्र्थ्याची माहिती'!A16 -> 7 | B16: ='विद्य्र्थ्याची माहिती'!B16 -> 0 | E16: =SUM(C16:D16) -> 0 | H16: =SUM(F16:G16) -> 0 | I16: =SUM(E16,H16) -> 0 | L16: =SUM(J16:K16) -> 0 | O16: =SUM(M16:N16) -> 0 | P16: =SUM(L16,O16) -> 0
A17: ='विद्य्र्थ्याची माहिती'!A17 -> 8 | B17: ='विद्य्र्थ्याची माहिती'!B17 -> 0 | E17: =SUM(C17:D17) -> 0 | H17: =SUM(F17:G17) -> 0 | I17: =SUM(E17,H17) -> 0 | L17: =SUM(J17:K17) -> 0 | O17: =SUM(M17:N17) -> 0 | P17: =SUM(L17,O17) -> 0
A18: ='विद्य्र्थ्याची माहिती'!A18 -> 9 | B18: ='विद्य्र्थ्याची माहिती'!B18 -> 0 | E18: =SUM(C18:D18) -> 0 | H18: =SUM(F18:G18) -> 0 | I18: =SUM(E18,H18) -> 0 | L18: =SUM(J18:K18) -> 0 | O18: =SUM(M18:N18) -> 0 | P18: =SUM(L18,O18) -> 0
A19: ='विद्य्र्थ्याची माहिती'!A19 -> 10 | B19: ='विद्य्र्थ्याची माहिती'!B19 -> 0 | E19: =SUM(C19:D19) -> 0 | H19: =SUM(F19:G19) -> 0 | I19: =SUM(E19,H19) -> 0 | L19: =SUM(J19:K19) -> 0 | O19: =SUM(M19:N19) -> 0 | P19: =SUM(L19,O19) -> 0
A20: ='विद्य्र्थ्याची माहिती'!A20 -> 11 | B20: ='विद्य्र्थ्याची माहिती'!B20 -> 0 | E20: =SUM(C20:D20) -> 0 | H20: =SUM(F20:G20) -> 0 | I20: =SUM(E20,H20) -> 0 | L20: =SUM(J20:K20) -> 0 | O20: =SUM(M20:N20) -> 0 | P20: =SUM(L20,O20) -> 0
A21: ='विद्य्र्थ्याची माहिती'!A21 -> 12 | B21: ='विद्य्र्थ्याची माहिती'!B21 -> 0 | E21: =SUM(C21:D21) -> 0 | H21: =SUM(F21:G21) -> 0 | I21: =SUM(E21,H21) -> 0 | L21: =SUM(J21:K21) -> 0 | O21: =SUM(M21:N21) -> 0 | P21: =SUM(L21,O21) -> 0
A22: ='विद्य्र्थ्याची माहिती'!A22 -> 13 | B22: ='विद्य्र्थ्याची माहिती'!B22 -> 0 | E22: =SUM(C22:D22) -> 0 | H22: =SUM(F22:G22) -> 0 | I22: =SUM(E22,H22) -> 0 | L22: =SUM(J22:K22) -> 0 | O22: =SUM(M22:N22) -> 0 | P22: =SUM(L22,O22) -> 0
... A69: ='विद्य्र्थ्याची माहिती'!A69 -> 60 | B69: ='विद्य्र्थ्याची माहिती'!B69 -> 0 | E69: =SUM(C69:D69) -> 0 | H69: =SUM(F69:G69) -> 0 | I69: =SUM(E69,H69) -> 0 | L69: =SUM(J69:K69) -> 0 | O69: =SUM(M69:N69) -> 0 | P69: =SUM(L69,O69) -> 0
A70: Easy Result System By :- Sachin Wakchaure (9822882466)
B72: =MASTER!B18 -> श्री. कानकाटे आसाराम शंकर | K72: =MASTER!B8 -> श्री. लेंडे किरण विठ्ठल
B73: विषय शिक्षक | K73: मुख्याध्यापक

Sheet विज्ञान 
A1: =MASTER!B5 -> अनुदानित माध्यमिक आश्रमशाळा, एकदरे, ता. अकोले जि. अहिल्यानगर
A3: इ.- | B3: =MASTER!B6 -> 9 वी | I3: =MASTER!F19 -> विषय - विज्ञान
A4: =MASTER!H15 -> वार्षिक निकाल पत्रक (सन 2026-2027)
A5: =MASTER!C7 -> वर्ग शिक्षक- श्री. ढगे भरत बुधाजी | G5: =MASTER!C19 -> विषय शिक्षक- श्री. वाकचौरे सचिन माधवराव
A6: हजेरी क्र | B6: विद्यार्थ्याचे नाव | C6: प्रथम सत्र (अ) | H6: व्दितीय सत्र सत्र (ब) | M6: एकूण अ+ब | N6: सरासरी (अ+ब)/2 | O6: सवलतीचे/ गट नि. गुण | P6: एकूण | Q6: शेरा
C7: भाग I | D7: भाग II | E7: एकूण | F7: अ. मू.मापन | G7: एकूण | H7: भाग I | I7: भाग II | J7: एकूण | K7: अ. मू.मापन | L7: एकूण
C9: 40 | D9: 40 | E9: =SUM(C9:D9) -> 80 | F9: ='विज्ञान अंतर्गत मूल्यमापन'!I9 -> 20 | G9: =SUM(E9:F9) -> 100 | H9: 40 | I9: 40 | J9: =SUM(H9:I9) -> 80 | K9: ='विज्ञान अंतर्गत मूल्यमापन'!P9 -> 20 | L9: =SUM(J9:K9) -> 100 | M9: =SUM(G9,L9) -> 200 | N9: =ROUND(M9/2,0) -> 100 | O9: - | P9: =SUM(N9:O9) -> 100 | Q9: =IF(P9>=35,"Pass","Fail") -> Pass
A10: ='विद्य्र्थ्याची माहिती'!A10 -> 1 | B10: ='विद्य्र्थ्याची माहिती'!B10 -> चि. समीर यशवंत देशमुख सखाराम | C10: 16 | D10: 19 | E10: =SUM(C10:D10) -> 35 | F10: ='विज्ञान अंतर्गत मूल्यमापन'!I10 -> 9 | G10: =SUM(E10:F10) -> 44 | H10: 20 | I10: 13 | J10: =SUM(H10:I10) -> 33 | K10: ='विज्ञान अंतर्गत मूल्यमापन'!P10 -> 16 | L10: =SUM(J10:K10) -> 49 | M10: =SUM(G10,L10) -> 93 | N10: =ROUND(M10/2,0) -> 47 | O10: 5 | P10: =SUM(N10:O10) -> 52 | Q10: =IF(P10>=35,"Pass","Fail") -> Pass
A11: ='विद्य्र्थ्याची माहिती'!A11 -> 2 | B11: ='विद्य्र्थ्याची माहिती'!B11 -> 0 | E11: =SUM(C11:D11) -> 0 | F11: ='विज्ञान अंतर्गत मूल्यमापन'!I11 -> 0 | G11: =SUM(E11:F11) -> 0 | J11: =SUM(H11:I11) -> 0 | K11: ='विज्ञान अंतर्गत मूल्यमापन'!P11 -> 0 | L11: =SUM(J11:K11) -> 0 | M11: =SUM(G11,L11) -> 0 | N11: =ROUND(M11/2,0) -> 0 | O11: - | P11: =SUM(N11:O11) -> 0 | Q11: =IF(P11>=35,"Pass","Fail") -> Fail
A12: ='विद्य्र्थ्याची माहिती'!A12 -> 3 | B12: ='विद्य्र्थ्याची माहिती'!B12 -> 0 | E12: =SUM(C12:D12) -> 0 | F12: ='विज्ञान अंतर्गत मूल्यमापन'!I12 -> 0 | G12: =SUM(E12:F12) -> 0 | J12: =SUM(H12:I12) -> 0 | K12: ='विज्ञान अंतर्गत मूल्यमापन'!P12 -> 0 | L12: =SUM(J12:K12) -> 0 | M12: =SUM(G12,L12) -> 0 | N12: =ROUND(M12/2,0) -> 0 | O12: - | P12: =SUM(N12:O12) -> 0 | Q12: =IF(P12>=35,"Pass","Fail") -> Fail
A13: ='विद्य्र्थ्याची माहिती'!A13 -> 4 | B13: ='विद्य्र्थ्याची माहिती'!B13 -> 0 | E13: =SUM(C13:D13) -> 0 | F13: ='विज्ञान अंतर्गत मूल्यमापन'!I13 -> 0 | G13: =SUM(E13:F13) -> 0 | J13: =SUM(H13:I13) -> 0 | K13: ='विज्ञान अंतर्गत मूल्यमापन'!P13 -> 0 | L13: =SUM(J13:K13) -> 0 | M13: =SUM(G13,L13) -> 0 | N13: =ROUND(M13/2,0) -> 0 | O13: - | P13: =SUM(N13:O13) -> 0 | Q13: =IF(P13>=35,"Pass","Fail") -> Fail
A14: ='विद्य्र्थ्याची माहिती'!A14 -> 5 | B14: ='विद्य्र्थ्याची माहिती'!B14 -> 0 | E14: =SUM(C14:D14) -> 0 | F14: ='विज्ञान अंतर्गत मूल्यमापन'!I14 -> 0 | G14: =SUM(E14:F14) -> 0 | J14: =SUM(H14:I14) -> 0 | K14: ='विज्ञान अंतर्गत मूल्यमापन'!P14 -> 0 | L14: =SUM(J14:K14) -> 0 | M14: =SUM(G14,L14) -> 0 | N14: =ROUND(M14/2,0) -> 0 | O14: - | P14: =SUM(N14:O14) -> 0 | Q14: =IF(P14>=35,"Pass","Fail") -> Fail
A15: ='विद्य्र्थ्याची माहिती'!A15 -> 6 | B15: ='विद्य्र्थ्याची माहिती'!B15 -> 0 | E15: =SUM(C15:D15) -> 0 | F15: ='विज्ञान अंतर्गत मूल्यमापन'!I15 -> 0 | G15: =SUM(E15:F15) -> 0 | J15: =SUM(H15:I15) -> 0 | K15: ='विज्ञान अंतर्गत मूल्यमापन'!P15 -> 0 | L15: =SUM(J15:K15) -> 0 | M15: =SUM(G15,L15) -> 0 | N15: =ROUND(M15/2,0) -> 0 | O15: - | P15: =SUM(N15:O15) -> 0 | Q15: =IF(P15>=35,"Pass","Fail") -> Fail
A16: ='विद्य्र्थ्याची माहिती'!A16 -> 7 | B16: ='विद्य्र्थ्याची माहिती'!B16 -> 0 | E16: =SUM(C16:D16) -> 0 | F16: ='विज्ञान अंतर्गत मूल्यमापन'!I16 -> 0 | G16: =SUM(E16:F16) -> 0 | J16: =SUM(H16:I16) -> 0 | K16: ='विज्ञान अंतर्गत मूल्यमापन'!P16 -> 0 | L16: =SUM(J16:K16) -> 0 | M16: =SUM(G16,L16) -> 0 | N16: =ROUND(M16/2,0) -> 0 | O16: - | P16: =SUM(N16:O16) -> 0 | Q16: =IF(P16>=35,"Pass","Fail") -> Fail
A17: ='विद्य्र्थ्याची माहिती'!A17 -> 8 | B17: ='विद्य्र्थ्याची माहिती'!B17 -> 0 | E17: =SUM(C17:D17) -> 0 | F17: ='विज्ञान अंतर्गत मूल्यमापन'!I17 -> 0 | G17: =SUM(E17:F17) -> 0 | J17: =SUM(H17:I17) -> 0 | K17: ='विज्ञान अंतर्गत मूल्यमापन'!P17 -> 0 | L17: =SUM(J17:K17) -> 0 | M17: =SUM(G17,L17) -> 0 | N17: =ROUND(M17/2,0) -> 0 | O17: - | P17: =SUM(N17:O17) -> 0 | Q17: =IF(P17>=35,"Pass","Fail") -> Fail
A18: ='विद्य्र्थ्याची माहिती'!A18 -> 9 | B18: ='विद्य्र्थ्याची माहिती'!B18 -> 0 | E18: =SUM(C18:D18) -> 0 | F18: ='विज्ञान अंतर्गत मूल्यमापन'!I18 -> 0 | G18: =SUM(E18:F18) -> 0 | J18: =SUM(H18:I18) -> 0 | K18: ='विज्ञान अंतर्गत मूल्यमापन'!P18 -> 0 | L18: =SUM(J18:K18) -> 0 | M18: =SUM(G18,L18) -> 0 | N18: =ROUND(M18/2,0) -> 0 | O18: - | P18: =SUM(N18:O18) -> 0 | Q18: =IF(P18>=35,"Pass","Fail") -> Fail
A19: ='विद्य्र्थ्याची माहिती'!A19 -> 10 | B19: ='विद्य्र्थ्याची माहिती'!B19 -> 0 | E19: =SUM(C19:D19) -> 0 | F19: ='विज्ञान अंतर्गत मूल्यमापन'!I19 -> 0 | G19: =SUM(E19:F19) -> 0 | J19: =SUM(H19:I19) -> 0 | K19: ='विज्ञान अंतर्गत मूल्यमापन'!P19 -> 0 | L19: =SUM(J19:K19) -> 0 | M19: =SUM(G19,L19) -> 0 | N19: =ROUND(M19/2,0) -> 0 | O19: - | P19: =SUM(N19:O19) -> 0 | Q19: =IF(P19>=35,"Pass","Fail") -> Fail
A20: ='विद्य्र्थ्याची माहिती'!A20 -> 11 | B20: ='विद्य्र्थ्याची माहिती'!B20 -> 0 | E20: =SUM(C20:D20) -> 0 | F20: ='विज्ञान अंतर्गत मूल्यमापन'!I20 -> 0 | G20: =SUM(E20:F20) -> 0 | J20: =SUM(H20:I20) -> 0 | K20: ='विज्ञान अंतर्गत मूल्यमापन'!P20 -> 0 | L20: =SUM(J20:K20) -> 0 | M20: =SUM(G20,L20) -> 0 | N20: =ROUND(M20/2,0) -> 0 | O20: - | P20: =SUM(N20:O20) -> 0 | Q20: =IF(P20>=35,"Pass","Fail") -> Fail
A21: ='विद्य्र्थ्याची माहिती'!A21 -> 12 | B21: ='विद्य्र्थ्याची माहिती'!B21 -> 0 | E21: =SUM(C21:D21) -> 0 | F21: ='विज्ञान अंतर्गत मूल्यमापन'!I21 -> 0 | G21: =SUM(E21:F21) -> 0 | J21: =SUM(H21:I21) -> 0 | K21: ='विज्ञान अंतर्गत मूल्यमापन'!P21 -> 0 | L21: =SUM(J21:K21) -> 0 | M21: =SUM(G21,L21) -> 0 | N21: =ROUND(M21/2,0) -> 0 | O21: - | P21: =SUM(N21:O21) -> 0 | Q21: =IF(P21>=35,"Pass","Fail") -> Fail
