Workbook
Name RTE: INDEX('[1]नोंद वही5-6-7-8'!$X$13:$X$24,MATCH('[1]नोंद वही5-6-7-8'!$W$13:$W$15,'[1]नोंद वही5-6-7-8'!$V$13:$V$24,0))
Name RTEI: INDEX(#REF!,MATCH(#REF!,#REF!,0))
Name RTEI: INDEX(#REF!,MATCH(#REF!,#REF!,0))
Name RTEI: INDEX(#REF!,MATCH(#REF!,#REF!,0))
Name RTEI: INDEX(#REF!,MATCH(#REF!,#REF!,0))
Name RTEI: INDEX(#REF!,MATCH(#REF!,#REF!,0))
Name RTEI: INDEX(#REF!,MATCH(#REF!,#REF!,0))
Name RTEI: INDEX(#REF!,MATCH(#REF!,#REF!,0))
Name RTEI: INDEX(#REF!,MATCH(#REF!,#REF!,0))
Name RTEI: INDEX(#REF!,MATCH(#REF!,#REF!,0))
Name RTEI: INDEX(#REF!,MATCH(#REF!,#REF!,0))
Name RTEI: INDEX(#REF!,MATCH(#REF!,#REF!,0))
Name RTEI: INDEX(#REF!,MATCH(#REF!,#REF!,0))
Name RTEI: INDEX(#REF!,MATCH(#REF!,#REF!,0))
Name RTEI: INDEX(#REF!,MATCH(#REF!,#REF!,0))
Name RTEI: INDEX(#REF!,MATCH(#REF!,#REF!,0))
Name RTEI: INDEX(#REF!,MATCH(#REF!,#REF!,0))
Name RTEI: INDEX(#REF!,MATCH(#REF!,#REF!,0))
Name RTEI: INDEX(#REF!,MATCH(#REF!,#REF!,0))
Name RTEIII: INDEX(#REF!,MATCH(#REF!,#REF!,0))
Name RTEIII: INDEX(#REF!,MATCH(#REF!,#REF!,0))
Name RTEIII: INDEX(#REF!,MATCH(#REF!,#REF!,0))
Name RTEIII: INDEX(#REF!,MATCH(#REF!,#REF!,0))
Name RTEIII: INDEX(#REF!,MATCH(#REF!,#REF!,0))
Name RTEIII: INDEX(#REF!,MATCH(#REF!,#REF!,0))
Name RTEIII: INDEX(#REF!,MATCH(#REF!,#REF!,0))
Name RTEIII: INDEX(#REF!,MATCH(#REF!,#REF!,0))
Name RTEIII: INDEX(#REF!,MATCH(#REF!,#REF!,0))
Name RTEIII: INDEX(#REF!,MATCH(#REF!,#REF!,0))
Name RTEIII: INDEX(#REF!,MATCH(#REF!,#REF!,0))
Name RTEIII: INDEX(#REF!,MATCH(#REF!,#REF!,0))
Name RTEIII: INDEX(#REF!,MATCH(#REF!,#REF!,0))
Name RTEIII: INDEX(#REF!,MATCH(#REF!,#REF!,0))
Name RTEIII: INDEX(#REF!,MATCH(#REF!,#REF!,0))
Name RTEIII: INDEX(#REF!,MATCH(#REF!,#REF!,0))
Name RTEIII: INDEX(#REF!,MATCH(#REF!,#REF!,0))
Name RTEIII: INDEX(#REF!,MATCH(#REF!,#REF!,0))
Name RTEV: INDEX(#REF!,MATCH(#REF!,#REF!,0))
Name RTEV: INDEX(#REF!,MATCH(#REF!,#REF!,0))
Name RTEV: INDEX(#REF!,MATCH(#REF!,#REF!,0))
Name RTEV: INDEX(#REF!,MATCH(#REF!,#REF!,0))
Name RTEV: INDEX(#REF!,MATCH(#REF!,#REF!,0))
Name RTEV: INDEX(#REF!,MATCH(#REF!,#REF!,0))
Name RTEV: INDEX(#REF!,MATCH(#REF!,#REF!,0))
Name RTEV: INDEX(#REF!,MATCH(#REF!,#REF!,0))
Name RTEV: INDEX(#REF!,MATCH(#REF!,#REF!,0))
Name RTEV: INDEX(#REF!,MATCH(#REF!,#REF!,0))
Name RTEV: INDEX(#REF!,MATCH(#REF!,#REF!,0))
Name RTEV: INDEX(#REF!,MATCH(#REF!,#REF!,0))
Name RTEV: INDEX(#REF!,MATCH(#REF!,#REF!,0))
Name RTEV: INDEX(#REF!,MATCH(#REF!,#REF!,0))
Name RTEV: INDEX(#REF!,MATCH(#REF!,#REF!,0))
Name RTEV: INDEX(#REF!,MATCH(#REF!,#REF!,0))
Name RTEV: INDEX(#REF!,MATCH(#REF!,#REF!,0))
Name RTEV: INDEX(#REF!,MATCH(#REF!,#REF!,0))

Sheet HOME

Sheet MASTER
A1: इयत्ता ९ वी/ १० वी मूल्यमापन (शासन निर्णय क्र.सं.२०१९/प्र.क्र.(२४३/१९/एसडी-४, दि. ०८ ऑगस्ट,२०१९ नुसार)
A2: शाळेची सविस्तर माहिती खालील प्रमाणे भरावी
A4: संस्थेचे नाव- | B4: आदिवासी उन्नती सेवा मंडळ, राजूर, ता. अकोले जि.अहिल्यानगर संचालित... | C4: सर्वात प्रथम मराठी टायपींग करिता GoogleInputToolsMarathi Arial Unicode MS हाच font वापरावा.
A5: शाळेचे नाव- | B5: अनुदानित माध्यमिक आश्रमशाळा, एकदरे, ता. अकोले जि. अहिल्यानगर
A6: इयत्ता- | B6: 9 वी | D6: =CONCATENATE(A6,B6) -> इयत्ता- 9 वी
A7: वर्गशिक्षक | B7: श्री. ढगे भरत बुधाजी | C7: =CONCATENATE(D7,B7) -> वर्ग शिक्षक- श्री. ढगे भरत बुधाजी | D7: वर्ग शिक्षक-
A8: मुख्याध्यापक | B8: श्री. लेंडे किरण विठ्ठल | C8: सूचना- सदर निकाल प्रणालीमध्ये माहिती फक्त पुढील शीट्स वर भरावी-1) master 2) विद्यार्थी माहिती ३) सर्व विषयांचे गुण, तसेच गुण याद्यांतील पटानुसार खालील रिकामा भाग काढून टाकावा, कोणतीही Cell अथवा Row डिलीट करू नये, Font / Font size/ page setting मध्ये देखील कोणताही बदल करू नये प्रिंट प्रत्येक शीट्सची स्वतंत्र काढावी...
A9: तपासणीस | B9: श्री. वाकचौरे सचिन माधवराव
A10: निकालाचा दिनांक- | B10: 1 मे 2026
A11: पुढील वर्षी शाळा सुरु होण्याचा दिवस- | B11: सोमवार दि. 15 जून 2026
A12: सन- | B12: (सन 2026-2027)
A13: विषय | B13: शिक्षकाचे नांव
A14: गरज असल्यास विषयाचे नाव बदला
A15: मराठी | B15: श्री. कोटकर संदीप भास्कर | C15: =CONCATENATE(D15,B15) -> विषय शिक्षक- श्री. कोटकर संदीप भास्कर | D15: विषय शिक्षक- | E15: विषय - | F15: =CONCATENATE(E15,A15) -> विषय - मराठी | G15: वार्षिक निकाल पत्रक | H15: =CONCATENATE(G15,B12) -> वार्षिक निकाल पत्रक (सन 2026-2027)
A16: हिंदी | B16: श्री. लेंडे किरण विठ्ठल | C16: =CONCATENATE(D16,B16) -> विषय शिक्षक- श्री. लेंडे किरण विठ्ठल | D16: विषय शिक्षक- | E16: विषय - | F16: =CONCATENATE(E16,A16) -> विषय - हिंदी | G16: अंतर्गत मूल्यमापन | H16: =CONCATENATE(G16,B12) -> अंतर्गत मूल्यमापन (सन 2026-2027)
A17: इंग्रजी | B17: श्री. ढगे भरत बुधाजी | C17: =CONCATENATE(D17,B17) -> विषय शिक्षक- श्री. ढगे भरत बुधाजी | D17: विषय शिक्षक- | E17: विषय - | F17: =CONCATENATE(E17,A17) -> विषय - इंग्रजी | G17: चाचणी 1 परीक्षा निकाल पत्रक | H17: =CONCATENATE(G17,B12) -> चाचणी 1 परीक्षा निकाल पत्रक (सन 2026-2027)
A18: गणित | B18: श्री. कानकाटे आसाराम शंकर | C18: =CONCATENATE(D18,B18) -> विषय शिक्षक- श्री. कानकाटे आसाराम शंकर | D18: विषय शिक्षक- | E18: विषय - | F18: =CONCATENATE(E18,A18) -> विषय - गणित | G18: चाचणी 2 परीक्षा निकाल पत्रक | H18: =CONCATENATE(G18,B12) -> चाचणी 2 परीक्षा निकाल पत्रक (सन 2026-2027)
A19: विज्ञान | B19: श्री. वाकचौरे सचिन माधवराव | C19: =CONCATENATE(D19,B19) -> विषय शिक्षक- श्री. वाकचौरे सचिन माधवराव | D19: विषय शिक्षक- | E19: विषय - | F19: =CONCATENATE(E19,A19) -> विषय - विज्ञान | G19: प्रथम सत्र परीक्षा निकाल पत्रक | H19: =CONCATENATE(G19,B12) -> प्रथम सत्र परीक्षा निकाल पत्रक (सन 2026-2027)
A20: समाजशास्रे | B20: श्री. लेंडे के. व्ही./ श्री.कोटकर एस.बी. | C20: =CONCATENATE(D20,B20) -> विषय शिक्षक- श्री. लेंडे के. व्ही./ श्री.कोटकर एस.बी. | D20: विषय शिक्षक- | E20: विषय - | F20: =CONCATENATE(E20,A20) -> विषय - समाजशास्रे | G20: व्दितीय सत्र परीक्षा निकाल पत्रक | H20: =CONCATENATE(G20,B12) -> व्दितीय सत्र परीक्षा निकाल पत्रक (सन 2026-2027)
A21: आरोग्य व शारीरिक शिक्षण | B21: श्री. खरात दिलीप मुरलीधर | C21: =CONCATENATE(D21,B21) -> विषय शिक्षक- श्री. खरात दिलीप मुरलीधर | D21: विषय शिक्षक- | E21: विषय - | F21: =CONCATENATE(E21,A21) -> विषय - आरोग्य व शारीरिक शिक्षण | G21: वार्षिक निकाल पत्रक | H21: =CONCATENATE(G21,B12) -> वार्षिक निकाल पत्रक (सन 2026-2027)
A22: जलसुरक्षा | B22: श्री. कासार नामदेव रामनाथ | C22: =CONCATENATE(D22,B22) -> विषय शिक्षक- श्री. कासार नामदेव रामनाथ | D22: विषय शिक्षक- | E22: विषय - | F22: =CONCATENATE(E22,A22) -> विषय - जलसुरक्षा | G22: वार्षिक निकाल पुस्तिका | H22: =CONCATENATE(G22,B12) -> वार्षिक निकाल पुस्तिका (सन 2026-2027)
A23: स्काऊट गाईड | B23: श्री. शेटे मनोज पंढरीनाथ | C23: =CONCATENATE(D23,B23) -> विषय शिक्षक- श्री. शेटे मनोज पंढरीनाथ | D23: विषय शिक्षक- | E23: विषय - | F23: =CONCATENATE(E23,A23) -> विषय - स्काऊट गाईड
A24: NSQF | B24: श्री. देशमुख शैलेंद्र दत्तात्रय | C24: =CONCATENATE(D24,B24) -> विषय शिक्षक- श्री. देशमुख शैलेंद्र दत्तात्रय | D24: विषय शिक्षक- | E24: विषय - | F24: =CONCATENATE(E24,A24) -> विषय - NSQF
A26: सदर निकाल प्रणाली संगणकावरच वापरावी COPY / PASTE करू नये. सर्व प्रथम शाळेची माहिती भरावी, नंतर विद्यार्थी माहिती भरावी व सर्व विषयांच्या गुण याद्यांत गुण भरावेत. | D26: 9 वी | E26: संरक्षणशास्र | F26: मराठी
A27: अद्यावत निकाल Formats डाउनलोड करण्याकरिता दिलेली लिंक Copy करून कोणत्याही इंटरनेट Browser मध्ये टाकून नवीन Formats डाउनलोड करून वापरावेत, कोणत्याही प्रकारे समस्या असल्यास 9822882466 या Whatsapp क्रमांकावर संपर्क करावा... | D27: 9 वी-अ | E27: स्काऊट गाईड | F27: हिंदी
D28: 9 वी-ब | E28: NCC | F28: इंग्रजी
A29: https://www.schooledutech.in/2021/09/vargaacha-varshik-nikaal-annual-result-sheet-of-1st-to-8th-10th-cce-rte-in-excel-file-software.html | D29: 9 वी-क | E29: MCC | F29: उर्दू
D30: 9 वी-ड | E30: ना.स.शास्र व वाहतूक | F30: गुजराथी
D31: 9 वी-इ | F31: कन्नड
D32: 9 वी-फ | F32: संयुक्त भाषा (मराठी+हिंदी)
F33: संयुक्त भाषा (हिंदी+संस्कृत)

Sheet मुख पृष्ठ
A3: =MASTER!B4 -> आदिवासी उन्नती सेवा मंडळ, राजूर, ता. अकोले जि.अहिल्यानगर संचालित...
A4: =MASTER!B5 -> अनुदानित माध्यमिक आश्रमशाळा, एकदरे, ता. अकोले जि. अहिल्यानगर
A7: * निकाल - पुस्तिका *
A12: =CONCATENATE(MASTER!A6,MASTER!B6) -> इयत्ता- 9 वी
A15: =MASTER!B12 -> (सन 2026-2027)
A17: =MASTER!C7 -> वर्ग शिक्षक- श्री. ढगे भरत बुधाजी
A19: हमीपत्र
A21: माध्यमिक शाळा संहिता सुधारित आवृत्ती १९८६ (३१-१२-१९८६ पर्यंत सुधारित आवृत्ती) मधील परिशिष्ट सात वार्गोन्नतीचे आदर्श नियम मी/आम्ही वाचले असून ते समजावून घेतले आहेत. या नियमांच्या आधीन राहून विषयवार निकालपत्रके तयार केली आहेत.
A26: संकलित निकालपत्रकातील बेरजा (अ+ब+क एकूण गुण व (अ+ब+क)/३ येणारे सरासरी गुण) व सरासरी वर्गशिक्षक / विषयशिक्षक मिळून केलेल्या आहेत. त्या तपासल्या आहेत त्या बरोबर आहेत. वर्गशिक्षक / विषय शिक्षक
B31: विषय | D31: शिक्षकाचे नाव | H31: सही
B33: =MASTER!A15 -> मराठी | D33: =MASTER!B15 -> श्री. कोटकर संदीप भास्कर
B34: =MASTER!A16 -> हिंदी | D34: =MASTER!B16 -> श्री. लेंडे किरण विठ्ठल
B35: =MASTER!A17 -> इंग्रजी | D35: =MASTER!B17 -> श्री. ढगे भरत बुधाजी
B36: =MASTER!A18 -> गणित | D36: =MASTER!B18 -> श्री. कानकाटे आसाराम शंकर
B37: =MASTER!A19 -> विज्ञान | D37: =MASTER!B19 -> श्री. वाकचौरे सचिन माधवराव
B38: =MASTER!A20 -> समाजशास्रे | D38: =MASTER!B20 -> श्री. लेंडे के. व्ही./ श्री.कोटकर एस.बी.
B39: =MASTER!A21 -> आरोग्य व शारीरिक शिक्षण | D39: =MASTER!B21 -> श्री. खरात दिलीप मुरलीधर
B40: =MASTER!A22 -> जलसुरक्षा | D40: =MASTER!B22 -> श्री. कासार नामदेव रामनाथ
B41: =MASTER!A23 -> स्काऊट गाईड | D41: =MASTER!B23 -> श्री. शेटे मनोज पंढरीनाथ
A45: Result Sheet Devoloped & Edited By :- Sachin Wakchaure(9822882466)

Sheet विद्य्र्थ्याची माहिती
A1: इयत्ता ९ वी व १० वी मूल्यमापन (शासन निर्णय क्र.सं.२०१९/प्र.क्र.(२४३/१९/एसडी-४, दि. ०८ ऑगस्ट,२०१९ नुसार)
A3: =MASTER!B6 -> 9 वी
A5: विद्यार्थ्याची सविस्तर माहिती संगणकावर खालील प्रमाणे भरावी. कोणतीही सेटिंग बदलू नये. कोणत्याही ठिकाणी पेज सेटिंग करू नये
A7: सदर माहिती एकदाच भरवायची असल्याने Copy-Paste करू नये माहिती खालील प्रमाणे टाईप करावी
A8: हजेरी क्र | B8: विद्यार्थ्याचे नाव | C8: पालकाचे नाव | D8: पत्ता | F8: रजिस्टर नंबर | G8: जन्मतारीख (dd-mm-yyyy)
D9: मू. बिताका, पो. एकदरे | E9: ता. अकोले, जि. अहिल्यानगर
A10: 1 | B10: चि. समीर यशवंत देशमुख सखाराम | C10: श्री. यशवंत रामनाथ देशमुख | D10: मू. बिताका, पो. एकदरे | E10: ता. अकोले, जि. अहिल्यामागर | F10: 533 | G10: 37707
A11: 2
A12: 3
A13: 4
A14: 5
A15: 6
A16: 7
A17: 8
A18: 9
A19: 10
A20: 11
A21: 12
A22: 13
... A69: 60
A70: Result Sheet Devoloped & Edited By :- Sachin Madhavrao Wakchaure(9822882466)

Sheet प्र.भाषा
A1: =MASTER!B5 -> अनुदानित माध्यमिक आश्रमशाळा, एकदरे, ता. अकोले जि. अहिल्यानगर
A3: इ.- | B3: =MASTER!B6 -> 9 वी | G3: =MASTER!F15 -> विषय - मराठी
A4: =MASTER!H15 -> वार्षिक निकाल पत्रक (सन 2026-2027)
A5: =MASTER!C7 -> वर्ग शिक्षक- श्री. ढगे भरत बुधाजी | E5: =MASTER!C15 -> विषय शिक्षक- श्री. कोटकर संदीप भास्कर
A6: हजेरी क्र | B6: विद्यार्थ्याचे नाव | C6: प्रथम सत्र (अ) | F6: व्दितीय सत्र (ब) | I6: वार्षिक निकाल
C7: लेखी | D7: अंतर्गत मू.मापन | E7: एकूण | F7: लेखी | G7: अंतर्गत मू.मापन | H7: एकूण | I7: एकूण (अ+ब) | J7: सरासरी | K7: सवलतीचे/ गट नि. गुण | L7: एकूण | M7: शेरा
C9: 80 | D9: ='प्र.भाषा-अ.मूल्यमापन'!G9 -> 20 | E9: =SUM(C9:D9) -> 100 | F9: 80 | G9: ='प्र.भाषा-अ.मूल्यमापन'!L9 -> 20 | H9: =SUM(F9:G9) -> 100 | I9: =SUM(E9,H9) -> 200 | J9: =ROUND(I9/2,0) -> 100 | K9: - | L9: =SUM(J9:K9) -> 100 | M9: =IF(L9>=35,"Pass","Fail") -> Pass
A10: ='विद्य्र्थ्याची माहिती'!A10 -> 1 | B10: ='विद्य्र्थ्याची माहिती'!B10 -> चि. समीर यशवंत देशमुख सखाराम | C10: 62 | D10: ='प्र.भाषा-अ.मूल्यमापन'!G10 -> 18 | E10: =SUM(C10:D10) -> 80 | F10: 60 | G10: ='प्र.भाषा-अ.मूल्यमापन'!L10 -> 10 | H10: =SUM(F10:G10) -> 70 | I10: =SUM(E10,H10) -> 150 | J10: =ROUND(I10/2,0) -> 75 | K10: 3 | L10: =SUM(J10:K10) -> 78 | M10: =IF(L10>=35,"Pass","Fail") -> Pass
A11: ='विद्य्र्थ्याची माहिती'!A11 -> 2 | B11: ='विद्य्र्थ्याची माहिती'!B11 -> 0 | D11: ='प्र.भाषा-अ.मूल्यमापन'!G11 -> 0 | E11: =SUM(C11:D11) -> 0 | F11: 75 | G11: ='प्र.भाषा-अ.मूल्यमापन'!L11 -> 0 | H11: =SUM(F11:G11) -> 75 | I11: =SUM(E11,H11) -> 75 | J11: =ROUND(I11/2,0) -> 38 | K11: - | L11: =SUM(J11:K11) -> 38 | M11: =IF(L11>=35,"Pass","Fail") -> Pass
A12: ='विद्य्र्थ्याची माहिती'!A12 -> 3 | B12: ='विद्य्र्थ्याची माहिती'!B12 -> 0 | D12: ='प्र.भाषा-अ.मूल्यमापन'!G12 -> 0 | E12: =SUM(C12:D12) -> 0 | F12: 85 | G12: ='प्र.भाषा-अ.मूल्यमापन'!L12 -> 0 | H12: =SUM(F12:G12) -> 85 | I12: =SUM(E12,H12) -> 85 | J12: =ROUND(I12/2,0) -> 43 | K12: - | L12: =SUM(J12:K12) -> 43 | M12: =IF(L12>=35,"Pass","Fail") -> Pass
A13: ='विद्य्र्थ्याची माहिती'!A13 -> 4 | B13: ='विद्य्र्थ्याची माहिती'!B13 -> 0 | D13: ='प्र.भाषा-अ.मूल्यमापन'!G13 -> 0 | E13: =SUM(C13:D13) -> 0 | G13: ='प्र.भाषा-अ.मूल्यमापन'!L13 -> 0 | H13: =SUM(F13:G13) -> 0 | I13: =SUM(E13,H13) -> 0 | J13: =ROUND(I13/2,0) -> 0 | K13: - | L13: =SUM(J13:K13) -> 0 | M13: =IF(L13>=35,"Pass","Fail") -> Fail
A14: ='विद्य्र्थ्याची माहिती'!A14 -> 5 | B14: ='विद्य्र्थ्याची माहिती'!B14 -> 0 | D14: ='प्र.भाषा-अ.मूल्यमापन'!G14 -> 0 | E14: =SUM(C14:D14) -> 0 | G14: ='प्र.भाषा-अ.मूल्यमापन'!L14 -> 0 | H14: =SUM(F14:G14) -> 0 | I14: =SUM(E14,H14) -> 0 | J14: =ROUND(I14/2,0) -> 0 | K14: - | L14: =SUM(J14:K14) -> 0 | M14: =IF(L14>=35,"Pass","Fail") -> Fail
A15: ='विद्य्र्थ्याची माहिती'!A15 -> 6 | B15: ='विद्य्र्थ्याची माहिती'!B15 -> 0 | D15: ='प्र.भाषा-अ.मूल्यमापन'!G15 -> 0 | E15: =SUM(C15:D15) -> 0 | G15: ='प्र.भाषा-अ.मूल्यमापन'!L15 -> 0 | H15: =SUM(F15:G15) -> 0 | I15: =SUM(E15,H15) -> 0 | J15: =ROUND(I15/2,0) -> 0 | K15: - | L15: =SUM(J15:K15) -> 0 | M15: =IF(L15>=35,"Pass","Fail") -> Fail
A16: ='विद्य्र्थ्याची माहिती'!A16 -> 7 | B16: ='विद्य्र्थ्याची माहिती'!B16 -> 0 | D16: ='प्र.भाषा-अ.मूल्यमापन'!G16 -> 0 | E16: =SUM(C16:D16) -> 0 | G16: ='प्र.भाषा-अ.मूल्यमापन'!L16 -> 0 | H16: =SUM(F16:G16) -> 0 | I16: =SUM(E16,H16) -> 0 | J16: =ROUND(I16/2,0) -> 0 | K16: - | L16: =SUM(J16:K16) -> 0 | M16: =IF(L16>=35,"Pass","Fail") -> Fail
A17: ='विद्य्र्थ्याची माहिती'!A17 -> 8 | B17: ='विद्य्र्थ्याची माहिती'!B17 -> 0 | D17: ='प्र.भाषा-अ.मूल्यमापन'!G17 -> 0 | E17: =SUM(C17:D17) -> 0 | G17: ='प्र.भाषा-अ.मूल्यमापन'!L17 -> 0 | H17: =SUM(F17:G17) -> 0 | I17: =SUM(E17,H17) -> 0 | J17: =ROUND(I17/2,0) -> 0 | K17: - | L17: =SUM(J17:K17) -> 0 | M17: =IF(L17>=35,"Pass","Fail") -> Fail
A18: ='विद्य्र्थ्याची माहिती'!A18 -> 9 | B18: ='विद्य्र्थ्याची माहिती'!B18 -> 0 | D18: ='प्र.भाषा-अ.मूल्यमापन'!G18 -> 0 | E18: =SUM(C18:D18) -> 0 | G18: ='प्र.भाषा-अ.मूल्यमापन'!L18 -> 0 | H18: =SUM(F18:G18) -> 0 | I18: =SUM(E18,H18) -> 0 | J18: =ROUND(I18/2,0) -> 0 | K18: - | L18: =SUM(J18:K18) -> 0 | M18: =IF(L18>=35,"Pass","Fail") -> Fail
A19: ='विद्य्र्थ्याची माहिती'!A19 -> 10 | B19: ='विद्य्र्थ्याची माहिती'!B19 -> 0 | D19: ='प्र.भाषा-अ.मूल्यमापन'!G19 -> 0 | E19: =SUM(C19:D19) -> 0 | G19: ='प्र.भाषा-अ.मूल्यमापन'!L19 -> 0 | H19: =SUM(F19:G19) -> 0 | I19: =SUM(E19,H19) -> 0 | J19: =ROUND(I19/2,0) -> 0 | K19: - | L19: =SUM(J19:K19) -> 0 | M19: =IF(L19>=35,"Pass","Fail") -> Fail
A20: ='विद्य्र्थ्याची माहिती'!A20 -> 11 | B20: ='विद्य्र्थ्याची माहिती'!B20 -> 0 | D20: ='प्र.भाषा-अ.मूल्यमापन'!G20 -> 0 | E20: =SUM(C20:D20) -> 0 | G20: ='प्र.भाषा-अ.मूल्यमापन'!L20 -> 0 | H20: =SUM(F20:G20) -> 0 | I20: =SUM(E20,H20) -> 0 | J20: =ROUND(I20/2,0) -> 0 | K20: - | L20: =SUM(J20:K20) -> 0 | M20: =IF(L20>=35,"Pass","Fail") -> Fail
A21: ='विद्य्र्थ्याची माहिती'!A21 -> 12 | B21: ='विद्य्र्थ्याची माहिती'!B21 -> 0 | D21: ='प्र.भाषा-अ.मूल्यमापन'!G21 -> 0 | E21: =SUM(C21:D21) -> 0 | G21: ='प्र.भाषा-अ.मूल्यमापन'!L21 -> 0 | H21: =SUM(F21:G21) -> 0 | I21: =SUM(E21,H21) -> 0 | J21: =ROUND(I21/2,0) -> 0 | K21: - | L21: =SUM(J21:K21) -> 0 | M21: =IF(L21>=35,"Pass","Fail") -> Fail
A22: ='विद्य्र्थ्याची माहिती'!A22 -> 13 | B22: ='विद्य्र्थ्याची माहिती'!B22 -> 0 | D22: ='प्र.भाषा-अ.मूल्यमापन'!G22 -> 0 | E22: =SUM(C22:D22) -> 0 | G22: ='प्र.भाषा-अ.मूल्यमापन'!L22 -> 0 | H22: =SUM(F22:G22) -> 0 | I22: =SUM(E22,H22) -> 0 | J22: =ROUND(I22/2,0) -> 0 | K22: - | L22: =SUM(J22:K22) -> 0 | M22: =IF(L22>=35,"Pass","Fail") -> Fail
A23: ='विद्य्र्थ्याची माहिती'!A23 -> 14 | B23: ='विद्य्र्थ्याची माहिती'!B23 -> 0 | D23: ='प्र.भाषा-अ.मूल्यमापन'!G23 -> 0 | E23: =SUM(C23:D23) -> 0 | G23: ='प्र.भाषा-अ.मूल्यमापन'!L23 -> 0 | H23: =SUM(F23:G23) -> 0 | I23: =SUM(E23,H23) -> 0 | J23: =ROUND(I23/2,0) -> 0 | K23: - | L23: =SUM(J23:K23) -> 0 | M23: =IF(L23>=35,"Pass","Fail") -> Fail
A24: ='विद्य्र्थ्याची माहिती'!A24 -> 15 | B24: ='विद्य्र्थ्याची माहिती'!B24 -> 0 | D24: ='प्र.भाषा-अ.मूल्यमापन'!G24 -> 0 | E24: =SUM(C24:D24) -> 0 | G24: ='प्र.भाषा-अ.मूल्यमापन'!L24 -> 0 | H24: =SUM(F24:G24) -> 0 | I24: =SUM(E24,H24) -> 0 | J24: =ROUND(I24/2,0) -> 0 | K24: - | L24: =SUM(J24:K24) -> 0 | M24: =IF(L24>=35,"Pass","Fail") -> Fail
... A69: ='विद्य्र्थ्याची माहिती'!A69 -> 60 | B69: ='विद्य्र्थ्याची माहिती'!B69 -> 0 | D69: ='प्र.भाषा-अ.मूल्यमापन'!G69 -> 0 | E69: =SUM(C69:D69) -> 0 | G69: ='प्र.भाषा-अ.मूल्यमापन'!L69 -> 0 | H69: =SUM(F69:G69) -> 0 | I69: =SUM(E69,H69) -> 0 | J69: =ROUND(I69/2,0) -> 0 | K69: - | L69: =SUM(J69:K69) -> 0 | M69: =IF(L69>=35,"Pass","Fail") -> Fail
A70: Easy Result System By :- Sachin Wakchaure (9822882466)
B72: =MASTER!B15 -> श्री. कोटकर संदीप भास्कर | G72: =MASTER!B8 -> श्री. लेंडे किरण विठ्ठल
B73: विषय शिक्षक | G73: मुख्याध्यापक

Sheet प्र.भाषा-अ.मूल्यमापन
A1: =MASTER!B5 -> अनुदानित माध्यमिक आश्रमशाळा, एकदरे, ता. अकोले जि. अहिल्यानगर
A3: इ.- | B3: =MASTER!B6 -> 9 वी | H3: =MASTER!F15 -> विषय - मराठी
A4: =MASTER!H16 -> अंतर्गत मूल्यमापन (सन 2026-2027)
A5: =MASTER!C7 -> वर्ग शिक्षक- श्री. ढगे भरत बुधाजी | E5: =MASTER!C15 -> विषय शिक्षक- श्री. कोटकर संदीप भास्कर
A6: हजेरी क्र | B6: विद्यार्थ्याचे नाव | C6: प्रथम सत्र | H6: व्दितीय सत्र
C7: तोंडी श्रवण कौ. | D7: तोंडी भाषण.कौ. | E7: स्वाध्याय I | F7: स्वाध्याय II | G7: एकूण | H7: तोंडी श्रवण कौ. | I7: तोंडी भाषण.कौ. | J7: स्वाध्याय I | K7: स्वाध्याय II | L7: एकूण
C9: 5 | D9: 5 | E9: 5 | F9: 5 | G9: =SUM(C9:F9) -> 20 | H9: 5 | I9: 5 | J9: 5 | K9: 5 | L9: =SUM(H9:K9) -> 20
A10: ='विद्य्र्थ्याची माहिती'!A10 -> 1 | B10: ='विद्य्र्थ्याची माहिती'!B10 -> चि. समीर यशवंत देशमुख सखाराम | C10: 4 | D10: 5 | E10: 4 | F10: 5 | G10: =SUM(C10:F10) -> 18 | H10: 4 | I10: 3 | J10: 2 | K10: 1 | L10: =SUM(H10:K10) -> 10
A11: ='विद्य्र्थ्याची माहिती'!A11 -> 2 | B11: ='विद्य्र्थ्याची माहिती'!B11 -> 0 | G11: =SUM(C11:F11) -> 0 | L11: =SUM(H11:K11) -> 0
A12: ='विद्य्र्थ्याची माहिती'!A12 -> 3 | B12: ='विद्य्र्थ्याची माहिती'!B12 -> 0 | G12: =SUM(C12:F12) -> 0 | L12: =SUM(H12:K12) -> 0
A13: ='विद्य्र्थ्याची माहिती'!A13 -> 4 | B13: ='विद्य्र्थ्याची माहिती'!B13 -> 0 | G13: =SUM(C13:F13) -> 0 | L13: =SUM(H13:K13) -> 0
A14: ='विद्य्र्थ्याची माहिती'!A14 -> 5 | B14: ='विद्य्र्थ्याची माहिती'!B14 -> 0 | G14: =SUM(C14:F14) -> 0 | L14: =SUM(H14:K14) -> 0
A15: ='विद्य्र्थ्याची माहिती'!A15 -> 6 | B15: ='विद्य्र्थ्याची माहिती'!B15 -> 0 | G15: =SUM(C15:F15) -> 0 | L15: =SUM(H15:K15) -> 0
A16: ='विद्य्र्थ्याची माहिती'!A16 -> 7 | B16: ='विद्य्र्थ्याची माहिती'!B16 -> 0 | G16: =SUM(C16:F16) -> 0 | L16: =SUM(H16:K16) -> 0
A17: ='विद्य्र्थ्याची माहिती'!A17 -> 8 | B17: ='विद्य्र्थ्याची माहिती'!B17 -> 0 | G17: =SUM(C17:F17) -> 0 | L17: =SUM(H17:K17) -> 0
A18: ='विद्य्र्थ्याची माहिती'!A18 -> 9 | B18: ='विद्य्र्थ्याची माहिती'!B18 -> 0 | G18: =SUM(C18:F18) -> 0 | L18: =SUM(H18:K18) -> 0
A19: ='विद्य्र्थ्याची माहिती'!A19 -> 10 | B19: ='विद्य्र्थ्याची माहिती'!B19 -> 0 | G19: =SUM(C19:F19) -> 0 | L19: =SUM(H19:K19) -> 0
A20: ='विद्य्र्थ्याची माहिती'!A20 -> 11 | B20: ='विद्य्र्थ्याची माहिती'!B20 -> 0 | G20: =SUM(C20:F20) -> 0 | L20: =SUM(H20:K20) -> 0
A21: ='विद्य्र्थ्याची माहिती'!A21 -> 12 | B21: ='विद्य्र्थ्याची माहिती'!B21 -> 0 | G21: =SUM(C21:F21) -> 0 | L21: =SUM(H21:K21) -> 0
A22: ='विद्य्र्थ्याची माहिती'!A22 -> 13 | B22: ='विद्य्र्थ्याची माहिती'!B22 -> 0 | G22: =SUM(C22:F22) -> 0 | L22: =SUM(H22:K22) -> 0
... A69: ='विद्य्र्थ्याची माहिती'!A69 -> 60 | B69: ='विद्य्र्थ्याची माहिती'!B69 -> 0 | G69: =SUM(C69:F69) -> 0 | L69: =SUM(H69:K69) -> 0
A70: Easy Result System By :- Sachin Wakchaure (9822882466)
B72: =MASTER!B15 -> श्री. कोटकर संदीप भास्कर | H72: =MASTER!B8 -> श्री. लेंडे किरण विठ्ठल
B73: विषय शिक्षक | H73: मुख्याध्यापक

Sheet व्दि. भाषा अ.मूल्यमापन
A1: =MASTER!B5 -> अनुदानित माध्यमिक आश्रमशाळा, एकदरे, ता. अकोले जि. अहिल्यानगर
A3: इ.- | B3: =MASTER!B6 -> 9 वी | H3: =MASTER!F16 -> विषय - हिंदी
A4: =MASTER!H16 -> अंतर्गत मूल्यमापन (सन 2026-2027)
A5: =MASTER!C7 -> वर्ग शिक्षक- श्री. ढगे भरत बुधाजी | E5: =MASTER!C16 -> विषय शिक्षक- श्री. लेंडे किरण विठ्ठल
A6: हजेरी क्र | B6: विद्यार्थ्याचे नाव | C6: प्रथम सत्र | H6: व्दितीय सत्र
C7: तोंडी श्रवण कौ. | D7: तोंडी भाषण.कौ. | E7: स्वाध्याय I | F7: स्वाध्याय II | G7: एकूण | H7: तोंडी श्रवण कौ. | I7: तोंडी भाषण.कौ. | J7: स्वाध्याय I | K7: स्वाध्याय II | L7: एकूण
C9: ='संयुक्त भाषा-1 अ.मू.'!C9+'संयुक्त भाषा-2 अ.मू'!C9 -> 5 | D9: ='संयुक्त भाषा-1 अ.मू.'!D9+'संयुक्त भाषा-2 अ.मू'!D9 -> 5 | E9: ='संयुक्त भाषा-1 अ.मू.'!E9+'संयुक्त भाषा-2 अ.मू'!E9 -> 5 | F9: ='संयुक्त भाषा-1 अ.मू.'!F9+'संयुक्त भाषा-2 अ.मू'!F9 -> 5 | G9: =SUM(C9:F9) -> 20 | H9: ='संयुक्त भाषा-1 अ.मू.'!H9+'संयुक्त भाषा-2 अ.मू'!H9 -> 5 | I9: ='संयुक्त भाषा-1 अ.मू.'!I9+'संयुक्त भाषा-2 अ.मू'!I9 -> 5 | J9: ='संयुक्त भाषा-1 अ.मू.'!J9+'संयुक्त भाषा-2 अ.मू'!J9 -> 5 | K9: ='संयुक्त भाषा-1 अ.मू.'!K9+'संयुक्त भाषा-2 अ.मू'!K9 -> 5 | L9: =SUM(H9:K9) -> 20
A10: ='विद्य्र्थ्याची माहिती'!A10 -> 1 | B10: ='विद्य्र्थ्याची माहिती'!B10 -> चि. समीर यशवंत देशमुख सखाराम | C10: 5 | D10: 5 | E10: 5 | F10: 5 | G10: =SUM(C10:F10) -> 20 | H10: 4 | I10: 5 | J10: 4 | K10: 4 | L10: =SUM(H10:K10) -> 17
A11: ='विद्य्र्थ्याची माहिती'!A11 -> 2 | B11: ='विद्य्र्थ्याची माहिती'!B11 -> 0 | G11: =SUM(C11:F11) -> 0 | L11: =SUM(H11:K11) -> 0
A12: ='विद्य्र्थ्याची माहिती'!A12 -> 3 | B12: ='विद्य्र्थ्याची माहिती'!B12 -> 0 | G12: =SUM(C12:F12) -> 0 | L12: =SUM(H12:K12) -> 0
A13: ='विद्य्र्थ्याची माहिती'!A13 -> 4 | B13: ='विद्य्र्थ्याची माहिती'!B13 -> 0 | G13: =SUM(C13:F13) -> 0 | L13: =SUM(H13:K13) -> 0
A14: ='विद्य्र्थ्याची माहिती'!A14 -> 5 | B14: ='विद्य्र्थ्याची माहिती'!B14 -> 0 | G14: =SUM(C14:F14) -> 0 | L14: =SUM(H14:K14) -> 0
A15: ='विद्य्र्थ्याची माहिती'!A15 -> 6 | B15: ='विद्य्र्थ्याची माहिती'!B15 -> 0 | G15: =SUM(C15:F15) -> 0 | L15: =SUM(H15:K15) -> 0
A16: ='विद्य्र्थ्याची माहिती'!A16 -> 7 | B16: ='विद्य्र्थ्याची माहिती'!B16 -> 0 | G16: =SUM(C16:F16) -> 0 | L16: =SUM(H16:K16) -> 0
A17: ='विद्य्र्थ्याची माहिती'!A17 -> 8 | B17: ='विद्य्र्थ्याची माहिती'!B17 -> 0 | G17: =SUM(C17:F17) -> 0 | L17: =SUM(H17:K17) -> 0
A18: ='विद्य्र्थ्याची माहिती'!A18 -> 9 | B18: ='विद्य्र्थ्याची माहिती'!B18 -> 0 | G18: =SUM(C18:F18) -> 0 | L18: =SUM(H18:K18) -> 0
A19: ='विद्य्र्थ्याची माहिती'!A19 -> 10 | B19: ='विद्य्र्थ्याची माहिती'!B19 -> 0 | G19: =SUM(C19:F19) -> 0 | L19: =SUM(H19:K19) -> 0
A20: ='विद्य्र्थ्याची माहिती'!A20 -> 11 | B20: ='विद्य्र्थ्याची माहिती'!B20 -> 0 | G20: =SUM(C20:F20) -> 0 | L20: =SUM(H20:K20) -> 0
A21: ='विद्य्र्थ्याची माहिती'!A21 -> 12 | B21: ='विद्य्र्थ्याची माहिती'!B21 -> 0 | G21: =SUM(C21:F21) -> 0 | L21: =SUM(H21:K21) -> 0
A22: ='विद्य्र्थ्याची माहिती'!A22 -> 13 | B22: ='विद्य्र्थ्याची माहिती'!B22 -> 0 | G22: =SUM(C22:F22) -> 0 | L22: =SUM(H22:K22) -> 0
... A69: ='विद्य्र्थ्याची माहिती'!A69 -> 60 | B69: ='विद्य्र्थ्याची माहिती'!B69 -> 0 | G69: =SUM(C69:F69) -> 0 | L69: =SUM(H69:K69) -> 0
A70: Easy Result System By :- Sachin Wakchaure (9822882466)
B72: =MASTER!B16 -> श्री. लेंडे किरण विठ्ठल | H72: =MASTER!B8 -> श्री. लेंडे किरण विठ्ठल
B73: विषय शिक्षक | H73: मुख्याध्यापक

Sheet व्दि.or संयुक्त भा
A1: =MASTER!B5 -> अनुदानित माध्यमिक आश्रमशाळा, एकदरे, ता. अकोले जि. अहिल्यानगर
A3: इ.- | B3: =MASTER!B6 -> 9 वी | G3: =MASTER!F16 -> विषय - हिंदी
A4: =MASTER!H15 -> वार्षिक निकाल पत्रक (सन 2026-2027)
A5: =MASTER!C7 -> वर्ग शिक्षक- श्री. ढगे भरत बुधाजी | E5: =MASTER!C16 -> विषय शिक्षक- श्री. लेंडे किरण विठ्ठल
A6: हजेरी क्र | B6: विद्यार्थ्याचे नाव | C6: प्रथम सत्र (अ) | F6: व्दितीय सत्र (ब) | I6: वार्षिक निकाल
C7: लेखी | D7: अंतर्गत मू.मापन | E7: एकूण | F7: लेखी | G7: अंतर्गत मू.मापन | H7: एकूण | I7: एकूण (अ+ब) | J7: सरासरी | K7: सवलतीचे/ गट नि. गुण | L7: एकूण | M7: शेरा
C9: 80 | D9: ='व्दि. भाषा अ.मूल्यमापन'!G9 -> 20 | E9: =SUM(C9:D9) -> 100 | F9: 80 | G9: ='व्दि. भाषा अ.मूल्यमापन'!L9 -> 20 | H9: =SUM(F9:G9) -> 100 | I9: =SUM(E9,H9) -> 200 | J9: =ROUND(I9/2,0) -> 100 | K9: - | L9: =SUM(J9:K9) -> 100 | M9: =IF(L9>=35,"Pass","Fail") -> Pass
A10: ='विद्य्र्थ्याची माहिती'!A10 -> 1 | B10: ='विद्य्र्थ्याची माहिती'!B10 -> चि. समीर यशवंत देशमुख सखाराम | C10: 52 | D10: ='व्दि. भाषा अ.मूल्यमापन'!G10 -> 20 | E10: =SUM(C10:D10) -> 72 | F10: 46 | G10: ='व्दि. भाषा अ.मूल्यमापन'!L10 -> 17 | H10: =SUM(F10:G10) -> 63 | I10: =SUM(E10,H10) -> 135 | J10: =ROUND(I10/2,0) -> 68 | K10: 7 | L10: =SUM(J10:K10) -> 75 | M10: =IF(L10>=35,"Pass","Fail") -> Pass
A11: ='विद्य्र्थ्याची माहिती'!A11 -> 2 | B11: ='विद्य्र्थ्याची माहिती'!B11 -> 0 | D11: ='व्दि. भाषा अ.मूल्यमापन'!G11 -> 0 | E11: =SUM(C11:D11) -> 0 | G11: ='व्दि. भाषा अ.मूल्यमापन'!L11 -> 0 | H11: =SUM(F11:G11) -> 0 | I11: =SUM(E11,H11) -> 0 | J11: =ROUND(I11/2,0) -> 0 | K11: - | L11: =SUM(J11:K11) -> 0 | M11: =IF(L11>=35,"Pass","Fail") -> Fail
A12: ='विद्य्र्थ्याची माहिती'!A12 -> 3 | B12: ='विद्य्र्थ्याची माहिती'!B12 -> 0 | D12: ='व्दि. भाषा अ.मूल्यमापन'!G12 -> 0 | E12: =SUM(C12:D12) -> 0 | G12: ='व्दि. भाषा अ.मूल्यमापन'!L12 -> 0 | H12: =SUM(F12:G12) -> 0 | I12: =SUM(E12,H12) -> 0 | J12: =ROUND(I12/2,0) -> 0 | K12: - | L12: =SUM(J12:K12) -> 0 | M12: =IF(L12>=35,"Pass","Fail") -> Fail
A13: ='विद्य्र्थ्याची माहिती'!A13 -> 4 | B13: ='विद्य्र्थ्याची माहिती'!B13 -> 0 | D13: ='व्दि. भाषा अ.मूल्यमापन'!G13 -> 0 | E13: =SUM(C13:D13) -> 0 | G13: ='व्दि. भाषा अ.मूल्यमापन'!L13 -> 0 | H13: =SUM(F13:G13) -> 0 | I13: =SUM(E13,H13) -> 0 | J13: =ROUND(I13/2,0) -> 0 | K13: - | L13: =SUM(J13:K13) -> 0 | M13: =IF(L13>=35,"Pass","Fail") -> Fail
A14: ='विद्य्र्थ्याची माहिती'!A14 -> 5 | B14: ='विद्य्र्थ्याची माहिती'!B14 -> 0 | D14: ='व्दि. भाषा अ.मूल्यमापन'!G14 -> 0 | E14: =SUM(C14:D14) -> 0 | G14: ='व्दि. भाषा अ.मूल्यमापन'!L14 -> 0 | H14: =SUM(F14:G14) -> 0 | I14: =SUM(E14,H14) -> 0 | J14: =ROUND(I14/2,0) -> 0 | K14: - | L14: =SUM(J14:K14) -> 0 | M14: =IF(L14>=35,"Pass","Fail") -> Fail
A15: ='विद्य्र्थ्याची माहिती'!A15 -> 6 | B15: ='विद्य्र्थ्याची माहिती'!B15 -> 0 | D15: ='व्दि. भाषा अ.मूल्यमापन'!G15 -> 0 | E15: =SUM(C15:D15) -> 0 | G15: ='व्दि. भाषा अ.मूल्यमापन'!L15 -> 0 | H15: =SUM(F15:G15) -> 0 | I15: =SUM(E15,H15) -> 0 | J15: =ROUND(I15/2,0) -> 0 | K15: - | L15: =SUM(J15:K15) -> 0 | M15: =IF(L15>=35,"Pass","Fail") -> Fail
A16: ='विद्य्र्थ्याची माहिती'!A16 -> 7 | B16: ='विद्य्र्थ्याची माहिती'!B16 -> 0 | D16: ='व्दि. भाषा अ.मूल्यमापन'!G16 -> 0 | E16: =SUM(C16:D16) -> 0 | G16: ='व्दि. भाषा अ.मूल्यमापन'!L16 -> 0 | H16: =SUM(F16:G16) -> 0 | I16: =SUM(E16,H16) -> 0 | J16: =ROUND(I16/2,0) -> 0 | K16: - | L16: =SUM(J16:K16) -> 0 | M16: =IF(L16>=35,"Pass","Fail") -> Fail
A17: ='विद्य्र्थ्याची माहिती'!A17 -> 8 | B17: ='विद्य्र्थ्याची माहिती'!B17 -> 0 | D17: ='व्दि. भाषा अ.मूल्यमापन'!G17 -> 0 | E17: =SUM(C17:D17) -> 0 | G17: ='व्दि. भाषा अ.मूल्यमापन'!L17 -> 0 | H17: =SUM(F17:G17) -> 0 | I17: =SUM(E17,H17) -> 0 | J17: =ROUND(I17/2,0) -> 0 | K17: - | L17: =SUM(J17:K17) -> 0 | M17: =IF(L17>=35,"Pass","Fail") -> Fail
A18: ='विद्य्र्थ्याची माहिती'!A18 -> 9 | B18: ='विद्य्र्थ्याची माहिती'!B18 -> 0 | D18: ='व्दि. भाषा अ.मूल्यमापन'!G18 -> 0 | E18: =SUM(C18:D18) -> 0 | G18: ='व्दि. भाषा अ.मूल्यमापन'!L18 -> 0 | H18: =SUM(F18:G18) -> 0 | I18: =SUM(E18,H18) -> 0 | J18: =ROUND(I18/2,0) -> 0 | K18: - | L18: =SUM(J18:K18) -> 0 | M18: =IF(L18>=35,"Pass","Fail") -> Fail
A19: ='विद्य्र्थ्याची माहिती'!A19 -> 10 | B19: ='विद्य्र्थ्याची माहिती'!B19 -> 0 | D19: ='व्दि. भाषा अ.मूल्यमापन'!G19 -> 0 | E19: =SUM(C19:D19) -> 0 | G19: ='व्दि. भाषा अ.मूल्यमापन'!L19 -> 0 | H19: =SUM(F19:G19) -> 0 | I19: =SUM(E19,H19) -> 0 | J19: =ROUND(I19/2,0) -> 0 | K19: - | L19: =SUM(J19:K19) -> 0 | M19: =IF(L19>=35,"Pass","Fail") -> Fail
A20: ='विद्य्र्थ्याची माहिती'!A20 -> 11 | B20: ='विद्य्र्थ्याची माहिती'!B20 -> 0 | D20: ='व्दि. भाषा अ.मूल्यमापन'!G20 -> 0 | E20: =SUM(C20:D20) -> 0 | G20: ='व्दि. भाषा अ.मूल्यमापन'!L20 -> 0 | H20: =SUM(F20:G20) -> 0 | I20: =SUM(E20,H20) -> 0 | J20: =ROUND(I20/2,0) -> 0 | K20: - | L20: =SUM(J20:K20) -> 0 | M20: =IF(L20>=35,"Pass","Fail") -> Fail
A21: ='विद्य्र्थ्याची माहिती'!A21 -> 12 | B21: ='विद्य्र्थ्याची माहिती'!B21 -> 0 | D21: ='व्दि. भाषा अ.मूल्यमापन'!G21 -> 0 | E21: =SUM(C21:D21) -> 0 | G21: ='व्दि. भाषा अ.मूल्यमापन'!L21 -> 0 | H21: =SUM(F21:G21) -> 0 | I21: =SUM(E21,H21) -> 0 | J21: =ROUND(I21/2,0) -> 0 | K21: - | L21: =SUM(J21:K21) -> 0 | M21: =IF(L21>=35,"Pass","Fail") -> Fail
A22: ='विद्य्र्थ्याची माहिती'!A22 -> 13 | B22: ='विद्य्र्थ्याची माहिती'!B22 -> 0 | D22: ='व्दि. भाषा अ.मूल्यमापन'!G22 -> 0 | E22: =SUM(C22:D22) -> 0 | G22: ='व्दि. भाषा अ.मूल्यमापन'!L22 -> 0 | H22: =SUM(F22:G22) -> 0 | I22: =SUM(E22,H22) -> 0 | J22: =ROUND(I22/2,0) -> 0 | K22: - | L22: =SUM(J22:K22) -> 0 | M22: =IF(L22>=35,"Pass","Fail") -> Fail
... A69: ='विद्य्र्थ्याची माहिती'!A69 -> 60 | B69: ='विद्य्र्थ्याची माहिती'!B69 -> 0 | D69: ='व्दि. भाषा अ.मूल्यमापन'!G69 -> 0 | E69: =SUM(C69:D69) -> 0 | G69: ='व्दि. भाषा अ.मूल्यमापन'!L69 -> 0 | H69: =SUM(F69:G69) -> 0 | I69: =SUM(E69,H69) -> 0 | J69: =ROUND(I69/2,0) -> 0 | K69: - | L69: =SUM(J69:K69) -> 0 | M69: =IF(L69>=35,"Pass","Fail") -> Fail
A70: Easy Result System By :- Sachin Wakchaure (9822882466)
B72: =MASTER!B16 -> श्री. लेंडे किरण विठ्ठल | G72: =MASTER!B8 -> श्री. लेंडे किरण विठ्ठल
B73: विषय शिक्षक | G73: मुख्याध्यापक

Sheet संयुक्त भाषा-1 अ.मू.
A1: =MASTER!B5 -> अनुदानित माध्यमिक आश्रमशाळा, एकदरे, ता. अकोले जि. अहिल्यानगर
A3: इ.- | B3: =MASTER!B6 -> 9 वी | H3: =MASTER!F16 -> विषय - हिंदी
A4: =MASTER!H16 -> अंतर्गत मूल्यमापन (सन 2026-2027)
A5: =MASTER!C7 -> वर्ग शिक्षक- श्री. ढगे भरत बुधाजी | E5: =MASTER!C16 -> विषय शिक्षक- श्री. लेंडे किरण विठ्ठल
A6: हजेरी क्र | B6: विद्यार्थ्याचे नाव | C6: प्रथम सत्र | H6: व्दितीय सत्र
C7: तोंडी श्रवण कौ. | D7: तोंडी भाषण.कौ. | E7: स्वाध्याय I | F7: स्वाध्याय II | G7: एकूण | H7: तोंडी श्रवण कौ. | I7: तोंडी भाषण.कौ. | J7: स्वाध्याय I | K7: स्वाध्याय II | L7: एकूण
C9: 2 | D9: 3 | E9: 2 | F9: 3 | G9: =SUM(C9:F9) -> 10 | H9: 3 | I9: 2 | J9: 3 | K9: 2 | L9: =SUM(H9:K9) -> 10
A10: ='विद्य्र्थ्याची माहिती'!A10 -> 1 | B10: ='विद्य्र्थ्याची माहिती'!B10 -> चि. समीर यशवंत देशमुख सखाराम | G10: =SUM(C10:F10) -> 0 | L10: =SUM(H10:K10) -> 0
A11: ='विद्य्र्थ्याची माहिती'!A11 -> 2 | B11: ='विद्य्र्थ्याची माहिती'!B11 -> 0 | G11: =SUM(C11:F11) -> 0 | L11: =SUM(H11:K11) -> 0
A12: ='विद्य्र्थ्याची माहिती'!A12 -> 3 | B12: ='विद्य्र्थ्याची माहिती'!B12 -> 0 | G12: =SUM(C12:F12) -> 0 | L12: =SUM(H12:K12) -> 0
A13: ='विद्य्र्थ्याची माहिती'!A13 -> 4 | B13: ='विद्य्र्थ्याची माहिती'!B13 -> 0 | G13: =SUM(C13:F13) -> 0 | L13: =SUM(H13:K13) -> 0
A14: ='विद्य्र्थ्याची माहिती'!A14 -> 5 | B14: ='विद्य्र्थ्याची माहिती'!B14 -> 0 | G14: =SUM(C14:F14) -> 0 | L14: =SUM(H14:K14) -> 0
A15: ='विद्य्र्थ्याची माहिती'!A15 -> 6 | B15: ='विद्य्र्थ्याची माहिती'!B15 -> 0 | G15: =SUM(C15:F15) -> 0 | L15: =SUM(H15:K15) -> 0
A16: ='विद्य्र्थ्याची माहिती'!A16 -> 7 | B16: ='विद्य्र्थ्याची माहिती'!B16 -> 0 | G16: =SUM(C16:F16) -> 0 | L16: =SUM(H16:K16) -> 0
A17: ='विद्य्र्थ्याची माहिती'!A17 -> 8 | B17: ='विद्य्र्थ्याची माहिती'!B17 -> 0 | G17: =SUM(C17:F17) -> 0 | L17: =SUM(H17:K17) -> 0
A18: ='विद्य्र्थ्याची माहिती'!A18 -> 9 | B18: ='विद्य्र्थ्याची माहिती'!B18 -> 0 | G18: =SUM(C18:F18) -> 0 | L18: =SUM(H18:K18) -> 0
A19: ='विद्य्र्थ्याची माहिती'!A19 -> 10 | B19: ='विद्य्र्थ्याची माहिती'!B19 -> 0 | G19: =SUM(C19:F19) -> 0 | L19: =SUM(H19:K19) -> 0
A20: ='विद्य्र्थ्याची माहिती'!A20 -> 11 | B20: ='विद्य्र्थ्याची माहिती'!B20 -> 0 | G20: =SUM(C20:F20) -> 0 | L20: =SUM(H20:K20) -> 0
A21: ='विद्य्र्थ्याची माहिती'!A21 -> 12 | B21: ='विद्य्र्थ्याची माहिती'!B21 -> 0 | G21: =SUM(C21:F21) -> 0 | L21: =SUM(H21:K21) -> 0
... A69: ='विद्य्र्थ्याची माहिती'!A69 -> 60 | B69: ='विद्य्र्थ्याची माहिती'!B69 -> 0 | G69: =SUM(C69:F69) -> 0 | L69: =SUM(H69:K69) -> 0
A70: Easy Result System By :- Sachin Wakchaure (9822882466)
B72: =MASTER!B16 -> श्री. लेंडे किरण विठ्ठल | H72: =MASTER!B8 -> श्री. लेंडे किरण विठ्ठल
B73: विषय शिक्षक | H73: मुख्याध्यापक

Sheet संयुक्त भाषा-2 अ.मू
A1: =MASTER!B5 -> अनुदानित माध्यमिक आश्रमशाळा, एकदरे, ता. अकोले जि. अहिल्यानगर
A3: इ.- | B3: =MASTER!B6 -> 9 वी | H3: =MASTER!F16 -> विषय - हिंदी
A4: =MASTER!H16 -> अंतर्गत मूल्यमापन (सन 2026-2027)
A5: =MASTER!C7 -> वर्ग शिक्षक- श्री. ढगे भरत बुधाजी | E5: =MASTER!C16 -> विषय शिक्षक- श्री. लेंडे किरण विठ्ठल
A6: हजेरी क्र | B6: विद्यार्थ्याचे नाव | C6: प्रथम सत्र | H6: व्दितीय सत्र
C7: तोंडी श्रवण कौ. | D7: तोंडी भाषण.कौ. | E7: स्वाध्याय I | F7: स्वाध्याय II | G7: एकूण | H7: तोंडी श्रवण कौ. | I7: तोंडी भाषण.कौ. | J7: स्वाध्याय I | K7: स्वाध्याय II | L7: एकूण
C9: 3 | D9: 2 | E9: 3 | F9: 2 | G9: =SUM(C9:F9) -> 10 | H9: 2 | I9: 3 | J9: 2 | K9: 3 | L9: =SUM(H9:K9) -> 10
A10: ='विद्य्र्थ्याची माहिती'!A10 -> 1 | B10: ='विद्य्र्थ्याची माहिती'!B10 -> चि. समीर यशवंत देशमुख सखाराम | G10: =SUM(C10:F10) -> 0 | L10: =SUM(H10:K10) -> 0
A11: ='विद्य्र्थ्याची माहिती'!A11 -> 2 | B11: ='विद्य्र्थ्याची माहिती'!B11 -> 0 | G11: =SUM(C11:F11) -> 0 | L11: =SUM(H11:K11) -> 0
A12: ='विद्य्र्थ्याची माहिती'!A12 -> 3 | B12: ='विद्य्र्थ्याची माहिती'!B12 -> 0 | G12: =SUM(C12:F12) -> 0 | L12: =SUM(H12:K12) -> 0
A13: ='विद्य्र्थ्याची माहिती'!A13 -> 4 | B13: ='विद्य्र्थ्याची माहिती'!B13 -> 0 | G13: =SUM(C13:F13) -> 0 | L13: =SUM(H13:K13) -> 0
A14: ='विद्य्र्थ्याची माहिती'!A14 -> 5 | B14: ='विद्य्र्थ्याची माहिती'!B14 -> 0 | G14: =SUM(C14:F14) -> 0 | L14: =SUM(H14:K14) -> 0
A15: ='विद्य्र्थ्याची माहिती'!A15 -> 6 | B15: ='विद्य्र्थ्याची माहिती'!B15 -> 0 | G15: =SUM(C15:F15) -> 0 | L15: =SUM(H15:K15) -> 0
A16: ='विद्य्र्थ्याची माहिती'!A16 -> 7 | B16: ='विद्य्र्थ्याची माहिती'!B16 -> 0 | G16: =SUM(C16:F16) -> 0 | L16: =SUM(H16:K16) -> 0
A17: ='विद्य्र्थ्याची माहिती'!A17 -> 8 | B17: ='विद्य्र्थ्याची माहिती'!B17 -> 0 | G17: =SUM(C17:F17) -> 0 | L17: =SUM(H17:K17) -> 0
A18: ='विद्य्र्थ्याची माहिती'!A18 -> 9 | B18: ='विद्य्र्थ्याची माहिती'!B18 -> 0 | G18: =SUM(C18:F18) -> 0 | L18: =SUM(H18:K18) -> 0
A19: ='विद्य्र्थ्याची माहिती'!A19 -> 10 | B19: ='विद्य्र्थ्याची माहिती'!B19 -> 0 | G19: =SUM(C19:F19) -> 0 | L19: =SUM(H19:K19) -> 0
A20: ='विद्य्र्थ्याची माहिती'!A20 -> 11 | B20: ='विद्य्र्थ्याची माहिती'!B20 -> 0 | G20: =SUM(C20:F20) -> 0 | L20: =SUM(H20:K20) -> 0
A21: ='विद्य्र्थ्याची माहिती'!A21 -> 12 | B21: ='विद्य्र्थ्याची माहिती'!B21 -> 0 | G21: =SUM(C21:F21) -> 0 | L21: =SUM(H21:K21) -> 0
... A69: ='विद्य्र्थ्याची माहिती'!A69 -> 60 | B69: ='विद्य्र्थ्याची माहिती'!B69 -> 0 | G69: =SUM(C69:F69) -> 0 | L69: =SUM(H69:K69) -> 0
A70: Easy Result System By :- Sachin Wakchaure (9822882466)
B72: =MASTER!B16 -> श्री. लेंडे किरण विठ्ठल | H72: =MASTER!B8 -> श्री. लेंडे किरण विठ्ठल
B73: विषय शिक्षक | H73: मुख्याध्यापक

Sheet तृ. भाषा
A1: =MASTER!B5 -> अनुदानित माध्यमिक आश्रमशाळा, एकदरे, ता. अकोले जि. अहिल्यानगर
A3: इ.- | B3: =MASTER!B6 -> 9 वी | G3: =MASTER!F17 -> विषय - इंग्रजी
A4: =MASTER!H15 -> वार्षिक निकाल पत्रक (सन 2026-2027)
A5: =MASTER!C7 -> वर्ग शिक्षक- श्री. ढगे भरत बुधाजी | E5: =MASTER!C17 -> विषय शिक्षक- श्री. ढगे भरत बुधाजी
A6: हजेरी क्र | B6: विद्यार्थ्याचे नाव | C6: प्रथम सत्र (अ) | F6: व्दितीय सत्र (ब) | I6: वार्षिक निकाल
C7: लेखी | D7: अंतर्गत मू.मापन | E7: एकूण | F7: लेखी | G7: अंतर्गत मू.मापन | H7: एकूण | I7: एकूण (अ+ब) | J7: सरासरी | K7: सवलतीचे/ गट नि. गुण | L7: एकूण | M7: शेरा
C9: 80 | D9: ='तृ.भाषा-अ.मूल्यमापन'!G9 -> 20 | E9: =SUM(C9:D9) -> 100 | F9: 80 | G9: ='तृ.भाषा-अ.मूल्यमापन'!L9 -> 20 | H9: =SUM(F9:G9) -> 100 | I9: =SUM(E9,H9) -> 200 | J9: =ROUND(I9/2,0) -> 100 | K9: - | L9: =SUM(J9:K9) -> 100 | M9: =IF(L9>=35,"Pass","Fail") -> Pass
A10: ='विद्य्र्थ्याची माहिती'!A10 -> 1 | B10: ='विद्य्र्थ्याची माहिती'!B10 -> चि. समीर यशवंत देशमुख सखाराम | C10: 51 | D10: ='तृ.भाषा-अ.मूल्यमापन'!G10 -> 19 | E10: =SUM(C10:D10) -> 70 | F10: 53 | G10: ='तृ.भाषा-अ.मूल्यमापन'!L10 -> 16 | H10: =SUM(F10:G10) -> 69 | I10: =SUM(E10,H10) -> 139 | J10: =ROUND(I10/2,0) -> 70 | K10: 8 | L10: =SUM(J10:K10) -> 78 | M10: =IF(L10>=35,"Pass","Fail") -> Pass
A11: ='विद्य्र्थ्याची माहिती'!A11 -> 2 | B11: ='विद्य्र्थ्याची माहिती'!B11 -> 0 | D11: ='तृ.भाषा-अ.मूल्यमापन'!G11 -> 0 | E11: =SUM(C11:D11) -> 0 | G11: ='तृ.भाषा-अ.मूल्यमापन'!L11 -> 0 | H11: =SUM(F11:G11) -> 0 | I11: =SUM(E11,H11) -> 0 | J11: =ROUND(I11/2,0) -> 0 | K11: - | L11: =SUM(J11:K11) -> 0 | M11: =IF(L11>=35,"Pass","Fail") -> Fail
A12: ='विद्य्र्थ्याची माहिती'!A12 -> 3 | B12: ='विद्य्र्थ्याची माहिती'!B12 -> 0 | D12: ='तृ.भाषा-अ.मूल्यमापन'!G12 -> 0 | E12: =SUM(C12:D12) -> 0 | G12: ='तृ.भाषा-अ.मूल्यमापन'!L12 -> 0 | H12: =SUM(F12:G12) -> 0 | I12: =SUM(E12,H12) -> 0 | J12: =ROUND(I12/2,0) -> 0 | K12: - | L12: =SUM(J12:K12) -> 0 | M12: =IF(L12>=35,"Pass","Fail") -> Fail
A13: ='विद्य्र्थ्याची माहिती'!A13 -> 4 | B13: ='विद्य्र्थ्याची माहिती'!B13 -> 0 | D13: ='तृ.भाषा-अ.मूल्यमापन'!G13 -> 0 | E13: =SUM(C13:D13) -> 0 | G13: ='तृ.भाषा-अ.मूल्यमापन'!L13 -> 0 | H13: =SUM(F13:G13) -> 0 | I13: =SUM(E13,H13) -> 0 | J13: =ROUND(I13/2,0) -> 0 | K13: - | L13: =SUM(J13:K13) -> 0 | M13: =IF(L13>=35,"Pass","Fail") -> Fail
A14: ='विद्य्र्थ्याची माहिती'!A14 -> 5 | B14: ='विद्य्र्थ्याची माहिती'!B14 -> 0 | D14: ='तृ.भाषा-अ.मूल्यमापन'!G14 -> 0 | E14: =SUM(C14:D14) -> 0 | G14: ='तृ.भाषा-अ.मूल्यमापन'!L14 -> 0 | H14: =SUM(F14:G14) -> 0 | I14: =SUM(E14,H14) -> 0 | J14: =ROUND(I14/2,0) -> 0 | K14: - | L14: =SUM(J14:K14) -> 0 | M14: =IF(L14>=35,"Pass","Fail") -> Fail
A15: ='विद्य्र्थ्याची माहिती'!A15 -> 6 | B15: ='विद्य्र्थ्याची माहिती'!B15 -> 0 | D15: ='तृ.भाषा-अ.मूल्यमापन'!G15 -> 0 | E15: =SUM(C15:D15) -> 0 | G15: ='तृ.भाषा-अ.मूल्यमापन'!L15 -> 0 | H15: =SUM(F15:G15) -> 0 | I15: =SUM(E15,H15) -> 0 | J15: =ROUND(I15/2,0) -> 0 | K15: - | L15: =SUM(J15:K15) -> 0 | M15: =IF(L15>=35,"Pass","Fail") -> Fail
A16: ='विद्य्र्थ्याची माहिती'!A16 -> 7 | B16: ='विद्य्र्थ्याची माहिती'!B16 -> 0 | D16: ='तृ.भाषा-अ.मूल्यमापन'!G16 -> 0 | E16: =SUM(C16:D16) -> 0 | G16: ='तृ.भाषा-अ.मूल्यमापन'!L16 -> 0 | H16: =SUM(F16:G16) -> 0 | I16: =SUM(E16,H16) -> 0 | J16: =ROUND(I16/2,0) -> 0 | K16: - | L16: =SUM(J16:K16) -> 0 | M16: =IF(L16>=35,"Pass","Fail") -> Fail
A17: ='विद्य्र्थ्याची माहिती'!A17 -> 8 | B17: ='विद्य्र्थ्याची माहिती'!B17 -> 0 | D17: ='तृ.भाषा-अ.मूल्यमापन'!G17 -> 0 | E17: =SUM(C17:D17) -> 0 | G17: ='तृ.भाषा-अ.मूल्यमापन'!L17 -> 0 | H17: =SUM(F17:G17) -> 0 | I17: =SUM(E17,H17) -> 0 | J17: =ROUND(I17/2,0) -> 0 | K17: - | L17: =SUM(J17:K17) -> 0 | M17: =IF(L17>=35,"Pass","Fail") -> Fail
A18: ='विद्य्र्थ्याची माहिती'!A18 -> 9 | B18: ='विद्य्र्थ्याची माहिती'!B18 -> 0 | D18: ='तृ.भाषा-अ.मूल्यमापन'!G18 -> 0 | E18: =SUM(C18:D18) -> 0 | G18: ='तृ.भाषा-अ.मूल्यमापन'!L18 -> 0 | H18: =SUM(F18:G18) -> 0 | I18: =SUM(E18,H18) -> 0 | J18: =ROUND(I18/2,0) -> 0 | K18: - | L18: =SUM(J18:K18) -> 0 | M18: =IF(L18>=35,"Pass","Fail") -> Fail
A19: ='विद्य्र्थ्याची माहिती'!A19 -> 10 | B19: ='विद्य्र्थ्याची माहिती'!B19 -> 0 | D19: ='तृ.भाषा-अ.मूल्यमापन'!G19 -> 0 | E19: =SUM(C19:D19) -> 0 | G19: ='तृ.भाषा-अ.मूल्यमापन'!L19 -> 0 | H19: =SUM(F19:G19) -> 0 | I19: =SUM(E19,H19) -> 0 | J19: =ROUND(I19/2,0) -> 0 | K19: - | L19: =SUM(J19:K19) -> 0 | M19: =IF(L19>=35,"Pass","Fail") -> Fail
A20: ='विद्य्र्थ्याची माहिती'!A20 -> 11 | B20: ='विद्य्र्थ्याची माहिती'!B20 -> 0 | D20: ='तृ.भाषा-अ.मूल्यमापन'!G20 -> 0 | E20: =SUM(C20:D20) -> 0 | G20: ='तृ.भाषा-अ.मूल्यमापन'!L20 -> 0 | H20: =SUM(F20:G20) -> 0 | I20: =SUM(E20,H20) -> 0 | J20: =ROUND(I20/2,0) -> 0 | K20: - | L20: =SUM(J20:K20) -> 0 | M20: =IF(L20>=35,"Pass","Fail") -> Fail
A21: ='विद्य्र्थ्याची माहिती'!A21 -> 12 | B21: ='विद्य्र्थ्याची माहिती'!B21 -> 0 | D21: ='तृ.भाषा-अ.मूल्यमापन'!G21 -> 0 | E21: =SUM(C21:D21) -> 0 | G21: ='तृ.भाषा-अ.मूल्यमापन'!L21 -> 0 | H21: =SUM(F21:G21) -> 0 | I21: =SUM(E21,H21) -> 0 | J21: =ROUND(I21/2,0) -> 0 | K21: - | L21: =SUM(J21:K21) -> 0 | M21: =IF(L21>=35,"Pass","Fail") -> Fail
A22: ='विद्य्र्थ्याची माहिती'!A22 -> 13 | B22: ='विद्य्र्थ्याची माहिती'!B22 -> 0 | D22: ='तृ.भाषा-अ.मूल्यमापन'!G22 -> 0 | E22: =SUM(C22:D22) -> 0 | G22: ='तृ.भाषा-अ.मूल्यमापन'!L22 -> 0 | H22: =SUM(F22:G22) -> 0 | I22: =SUM(E22,H22) -> 0 | J22: =ROUND(I22/2,0) -> 0 | K22: - | L22: =SUM(J22:K22) -> 0 | M22: =IF(L22>=35,"Pass","Fail") -> Fail
... A69: ='विद्य्र्थ्याची माहिती'!A69 -> 60 | B69: ='विद्य्र्थ्याची माहिती'!B69 -> 0 | D69: ='तृ.भाषा-अ.मूल्यमापन'!G69 -> 0 | E69: =SUM(C69:D69) -> 0 | G69: ='तृ.भाषा-अ.मूल्यमापन'!L69 -> 0 | H69: =SUM(F69:G69) -> 0 | I69: =SUM(E69,H69) -> 0 | J69: =ROUND(I69/2,0) -> 0 | K69: - | L69: =SUM(J69:K69) -> 0 | M69: =IF(L69>=35,"Pass","Fail") -> Fail
A70: Easy Result System By :- Sachin Wakchaure (9822882466)
B72: =MASTER!B17 -> श्री. ढगे भरत बुधाजी | G72: =MASTER!B8 -> श्री. लेंडे किरण विठ्ठल
B73: विषय शिक्षक | G73: मुख्याध्यापक

Sheet तृ.भाषा-अ.मूल्यमापन
A1: =MASTER!B5 -> अनुदानित माध्यमिक आश्रमशाळा, एकदरे, ता. अकोले जि. अहिल्यानगर
A3: इ.- | B3: =MASTER!B6 -> 9 वी | H3: =MASTER!F17 -> विषय - इंग्रजी
A4: =MASTER!H16 -> अंतर्गत मूल्यमापन (सन 2026-2027)
A5: =MASTER!C7 -> वर्ग शिक्षक- श्री. ढगे भरत बुधाजी | E5: =MASTER!C17 -> विषय शिक्षक- श्री. ढगे भरत बुधाजी
A6: हजेरी क्र | B6: विद्यार्थ्याचे नाव | C6: प्रथम सत्र | H6: व्दितीय सत्र
C7: तोंडी श्रवण कौ. | D7: तोंडी भाषण.कौ. | E7: स्वाध्याय I | F7: स्वाध्याय II | G7: एकूण | H7: तोंडी श्रवण कौ. | I7: तोंडी भाषण.कौ. | J7: स्वाध्याय I | K7: स्वाध्याय II | L7: एकूण
C9: 5 | D9: 5 | E9: 5 | F9: 5 | G9: =SUM(C9:F9) -> 20 | H9: 5 | I9: 5 | J9: 5 | K9: 5 | L9: =SUM(H9:K9) -> 20
A10: ='विद्य्र्थ्याची माहिती'!A10 -> 1 | B10: ='विद्य्र्थ्याची माहिती'!B10 -> चि. समीर यशवंत देशमुख सखाराम | C10: 5 | D10: 5 | E10: 5 | F10: 4 | G10: =SUM(C10:F10) -> 19 | H10: 4 | I10: 4 | J10: 4 | K10: 4 | L10: =SUM(H10:K10) -> 16
A11: ='विद्य्र्थ्याची माहिती'!A11 -> 2 | B11: ='विद्य्र्थ्याची माहिती'!B11 -> 0 | G11: =SUM(C11:F11) -> 0 | L11: =SUM(H11:K11) -> 0
A12: ='विद्य्र्थ्याची माहिती'!A12 -> 3 | B12: ='विद्य्र्थ्याची माहिती'!B12 -> 0 | G12: =SUM(C12:F12) -> 0 | L12: =SUM(H12:K12) -> 0
A13: ='विद्य्र्थ्याची माहिती'!A13 -> 4 | B13: ='विद्य्र्थ्याची माहिती'!B13 -> 0 | G13: =SUM(C13:F13) -> 0 | L13: =SUM(H13:K13) -> 0
A14: ='विद्य्र्थ्याची माहिती'!A14 -> 5 | B14: ='विद्य्र्थ्याची माहिती'!B14 -> 0 | G14: =SUM(C14:F14) -> 0 | L14: =SUM(H14:K14) -> 0
A15: ='विद्य्र्थ्याची माहिती'!A15 -> 6 | B15: ='विद्य्र्थ्याची माहिती'!B15 -> 0 | G15: =SUM(C15:F15) -> 0 | L15: =SUM(H15:K15) -> 0
A16: ='विद्य्र्थ्याची माहिती'!A16 -> 7 | B16: ='विद्य्र्थ्याची माहिती'!B16 -> 0 | G16: =SUM(C16:F16) -> 0 | L16: =SUM(H16:K16) -> 0
A17: ='विद्य्र्थ्याची माहिती'!A17 -> 8 | B17: ='विद्य्र्थ्याची माहिती'!B17 -> 0 | G17: =SUM(C17:F17) -> 0 | L17: =SUM(H17:K17) -> 0
A18: ='विद्य्र्थ्याची माहिती'!A18 -> 9 | B18: ='विद्य्र्थ्याची माहिती'!B18 -> 0 | G18: =SUM(C18:F18) -> 0 | L18: =SUM(H18:K18) -> 0
A19: ='विद्य्र्थ्याची माहिती'!A19 -> 10 | B19: ='विद्य्र्थ्याची माहिती'!B19 -> 0 | G19: =SUM(C19:F19) -> 0 | L19: =SUM(H19:K19) -> 0
A20: ='विद्य्र्थ्याची माहिती'!A20 -> 11 | B20: ='विद्य्र्थ्याची माहिती'!B20 -> 0 | G20: =SUM(C20:F20) -> 0 | L20: =SUM(H20:K20) -> 0
A21: ='विद्य्र्थ्याची माहिती'!A21 -> 12 | B21: ='विद्य्र्थ्याची माहिती'!B21 -> 0 | G21: =SUM(C21:F21) -> 0 | L21: =SUM(H21:K21) -> 0
A22: ='विद्य्र्थ्याची माहिती'!A22 -> 13 | B22: ='विद्य्र्थ्याची माहिती'!B22 -> 0 | G22: =SUM(C22:F22) -> 0 | L22: =SUM(H22:K22) -> 0
... A69: ='विद्य्र्थ्याची माहिती'!A69 -> 60 | B69: ='विद्य्र्थ्याची माहिती'!B69 -> 0 | G69: =SUM(C69:F69) -> 0 | L69: =SUM(H69:K69) -> 0
A70: Easy Result System By :- Sachin Wakchaure (9822882466)
B72: =MASTER!B17 -> श्री. ढगे भरत बुधाजी | H72: =MASTER!B8 -> श्री. लेंडे किरण विठ्ठल
B73: विषय शिक्षक | H73: मुख्याध्यापक

Sheet गणित
A1: =MASTER!B5 -> अनुदानित माध्यमिक आश्रमशाळा, एकदरे, ता. अकोले जि. अहिल्यानगर
A3: इ.- | B3: =MASTER!B6 -> 9 वी | J3: =MASTER!F18 -> विषय - गणित
A4: =MASTER!H15 -> वार्षिक निकाल पत्रक (सन 2026-2027)
A5: =MASTER!C7 -> वर्ग शिक्षक- श्री. ढगे भरत बुधाजी | G5: =MASTER!C18 -> विषय शिक्षक- श्री. कानकाटे आसाराम शंकर
A6: हजेरी क्र | B6: विद्यार्थ्याचे नाव | C6: प्रथम सत्र (अ) | H6: व्दितीय सत्र सत्र (ब) | M6: एकूण अ+ब | N6: सरासरी (अ+ब)/2 | O6: सवलतीचे/ गट नि. गुण | P6: एकूण | Q6: शेरा
C7: लेखी बी.गणित | D7: लेखी भूमिती | E7: एकूण | F7: अ. मू.मापन | G7: एकूण | H7: लेखी बी.गणित | I7: लेखी भूमिती | J7: एकूण | K7: अ. मू.मापन | L7: एकूण
C9: 40 | D9: 40 | E9: =SUM(C9:D9) -> 80 | F9: ='अं.मु.गणित'!I9 -> 20 | G9: =SUM(E9:F9) -> 100 | H9: 40 | I9: 40 | J9: =SUM(H9:I9) -> 80 | K9: ='अं.मु.गणित'!P9 -> 20 | L9: =SUM(J9:K9) -> 100 | M9: =SUM(G9,L9) -> 200 | N9: =ROUND(M9/2,0) -> 100 | O9: - | P9: =SUM(N9:O9) -> 100 | Q9: =IF(P9>=35,"Pass","Fail") -> Pass
A10: ='विद्य्र्थ्याची माहिती'!A10 -> 1 | B10: ='विद्य्र्थ्याची माहिती'!B10 -> चि. समीर यशवंत देशमुख सखाराम | C10: 25 | D10: 26 | E10: =SUM(C10:D10) -> 51 | F10: ='अं.मु.गणित'!I10 -> 18 | G10: =SUM(E10:F10) -> 69 | H10: 15 | I10: 28 | J10: =SUM(H10:I10) -> 43 | K10: ='अं.मु.गणित'!P10 -> 15 | L10: =SUM(J10:K10) -> 58 | M10: =SUM(G10,L10) -> 127 | N10: =ROUND(M10/2,0) -> 64 | O10: 14 | P10: =SUM(N10:O10) -> 78 | Q10: =IF(P10>=35,"Pass","Fail") -> Pass
A11: ='विद्य्र्थ्याची माहिती'!A11 -> 2 | B11: ='विद्य्र्थ्याची माहिती'!B11 -> 0 | E11: =SUM(C11:D11) -> 0 | F11: ='अं.मु.गणित'!I11 -> 0 | G11: =SUM(E11:F11) -> 0 | J11: =SUM(H11:I11) -> 0 | K11: ='अं.मु.गणित'!P11 -> 0 | L11: =SUM(J11:K11) -> 0 | M11: =SUM(G11,L11) -> 0 | N11: =ROUND(M11/2,0) -> 0 | O11: - | P11: =SUM(N11:O11) -> 0 | Q11: =IF(P11>=35,"Pass","Fail") -> Fail
A12: ='विद्य्र्थ्याची माहिती'!A12 -> 3 | B12: ='विद्य्र्थ्याची माहिती'!B12 -> 0 | E12: =SUM(C12:D12) -> 0 | F12: ='अं.मु.गणित'!I12 -> 0 | G12: =SUM(E12:F12) -> 0 | J12: =SUM(H12:I12) -> 0 | K12: ='अं.मु.गणित'!P12 -> 0 | L12: =SUM(J12:K12) -> 0 | M12: =SUM(G12,L12) -> 0 | N12: =ROUND(M12/2,0) -> 0 | O12: - | P12: =SUM(N12:O12) -> 0 | Q12: =IF(P12>=35,"Pass","Fail") -> Fail
A13: ='विद्य्र्थ्याची माहिती'!A13 -> 4 | B13: ='विद्य्र्थ्याची माहिती'!B13 -> 0 | E13: =SUM(C13:D13) -> 0 | F13: ='अं.मु.गणित'!I13 -> 0 | G13: =SUM(E13:F13) -> 0 | J13: =SUM(H13:I13) -> 0 | K13: ='अं.मु.गणित'!P13 -> 0 | L13: =SUM(J13:K13) -> 0 | M13: =SUM(G13,L13) -> 0 | N13: =ROUND(M13/2,0) -> 0 | O13: - | P13: =SUM(N13:O13) -> 0 | Q13: =IF(P13>=35,"Pass","Fail") -> Fail
A14: ='विद्य्र्थ्याची माहिती'!A14 -> 5 | B14: ='विद्य्र्थ्याची माहिती'!B14 -> 0 | E14: =SUM(C14:D14) -> 0 | F14: ='अं.मु.गणित'!I14 -> 0 | G14: =SUM(E14:F14) -> 0 | J14: =SUM(H14:I14) -> 0 | K14: ='अं.मु.गणित'!P14 -> 0 | L14: =SUM(J14:K14) -> 0 | M14: =SUM(G14,L14) -> 0 | N14: =ROUND(M14/2,0) -> 0 | O14: - | P14: =SUM(N14:O14) -> 0 | Q14: =IF(P14>=35,"Pass","Fail") -> Fail
A15: ='विद्य्र्थ्याची माहिती'!A15 -> 6 | B15: ='विद्य्र्थ्याची माहिती'!B15 -> 0 | E15: =SUM(C15:D15) -> 0 | F15: ='अं.मु.गणित'!I15 -> 0 | G15: =SUM(E15:F15) -> 0 | J15: =SUM(H15:I15) -> 0 | K15: ='अं.मु.गणित'!P15 -> 0 | L15: =SUM(J15:K15) -> 0 | M15: =SUM(G15,L15) -> 0 | N15: =ROUND(M15/2,0) -> 0 | O15: - | P15: =SUM(N15:O15) -> 0 | Q15: =IF(P15>=35,"Pass","Fail") -> Fail
A16: ='विद्य्र्थ्याची माहिती'!A16 -> 7 | B16: ='विद्य्र्थ्याची माहिती'!B16 -> 0 | E16: =SUM(C16:D16) -> 0 | F16: ='अं.मु.गणित'!I16 -> 0 | G16: =SUM(E16:F16) -> 0 | J16: =SUM(H16:I16) -> 0 | K16: ='अं.मु.गणित'!P16 -> 0 | L16: =SUM(J16:K16) -> 0 | M16: =SUM(G16,L16) -> 0 | N16: =ROUND(M16/2,0) -> 0 | O16: - | P16: =SUM(N16:O16) -> 0 | Q16: =IF(P16>=35,"Pass","Fail") -> Fail
A17: ='विद्य्र्थ्याची माहिती'!A17 -> 8 | B17: ='विद्य्र्थ्याची माहिती'!B17 -> 0 | E17: =SUM(C17:D17) -> 0 | F17: ='अं.मु.गणित'!I17 -> 0 | G17: =SUM(E17:F17) -> 0 | J17: =SUM(H17:I17) -> 0 | K17: ='अं.मु.गणित'!P17 -> 0 | L17: =SUM(J17:K17) -> 0 | M17: =SUM(G17,L17) -> 0 | N17: =ROUND(M17/2,0) -> 0 | O17: - | P17: =SUM(N17:O17) -> 0 | Q17: =IF(P17>=35,"Pass","Fail") -> Fail
A18: ='विद्य्र्थ्याची माहिती'!A18 -> 9 | B18: ='विद्य्र्थ्याची माहिती'!B18 -> 0 | E18: =SUM(C18:D18) -> 0 | F18: ='अं.मु.गणित'!I18 -> 0 | G18: =SUM(E18:F18) -> 0 | J18: =SUM(H18:I18) -> 0 | K18: ='अं.मु.गणित'!P18 -> 0 | L18: =SUM(J18:K18) -> 0 | M18: =SUM(G18,L18) -> 0 | N18: =ROUND(M18/2,0) -> 0 | O18: - | P18: =SUM(N18:O18) -> 0 | Q18: =IF(P18>=35,"Pass","Fail") -> Fail
A19: ='विद्य्र्थ्याची माहिती'!A19 -> 10 | B19: ='विद्य्र्थ्याची माहिती'!B19 -> 0 | E19: =SUM(C19:D19) -> 0 | F19: ='अं.मु.गणित'!I19 -> 0 | G19: =SUM(E19:F19) -> 0 | J19: =SUM(H19:I19) -> 0 | K19: ='अं.मु.गणित'!P19 -> 0 | L19: =SUM(J19:K19) -> 0 | M19: =SUM(G19,L19) -> 0 | N19: =ROUND(M19/2,0) -> 0 | O19: - | P19: =SUM(N19:O19) -> 0 | Q19: =IF(P19>=35,"Pass","Fail") -> Fail
A20: ='विद्य्र्थ्याची माहिती'!A20 -> 11 | B20: ='विद्य्र्थ्याची माहिती'!B20 -> 0 | E20: =SUM(C20:D20) -> 0 | F20: ='अं.मु.गणित'!I20 -> 0 | G20: =SUM(E20:F20) -> 0 | J20: =SUM(H20:I20) -> 0 | K20: ='अं.मु.गणित'!P20 -> 0 | L20: =SUM(J20:K20) -> 0 | M20: =SUM(G20,L20) -> 0 | N20: =ROUND(M20/2,0) -> 0 | O20: - | P20: =SUM(N20:O20) -> 0 | Q20: =IF(P20>=35,"Pass","Fail") -> Fail
A21: ='विद्य्र्थ्याची माहिती'!A21 -> 12 | B21: ='विद्य्र्थ्याची माहिती'!B21 -> 0 | E21: =SUM(C21:D21) -> 0 | F21: ='अं.मु.गणित'!I21 -> 0 | G21: =SUM(E21:F21) -> 0 | J21: =SUM(H21:I21) -> 0 | K21: ='अं.मु.गणित'!P21 -> 0 | L21: =SUM(J21:K21) -> 0 | M21: =SUM(G21,L21) -> 0 | N21: =ROUND(M21/2,0) -> 0 | O21: - | P21: =SUM(N21:O21) -> 0 | Q21: =IF(P21>=35,"Pass","Fail") -> Fail
A22: ='विद्य्र्थ्याची माहिती'!A22 -> 13 | B22: ='विद्य्र्थ्याची माहिती'!B22 -> 0 | E22: =SUM(C22:D22) -> 0 | F22: ='अं.मु.गणित'!I22 -> 0 | G22: =SUM(E22:F22) -> 0 | J22: =SUM(H22:I22) -> 0 | K22: ='अं.मु.गणित'!P22 -> 0 | L22: =SUM(J22:K22) -> 0 | M22: =SUM(G22,L22) -> 0 | N22: =ROUND(M22/2,0) -> 0 | O22: - | P22: =SUM(N22:O22) -> 0 | Q22: =IF(P22>=35,"Pass","Fail") -> Fail
... A69: ='विद्य्र्थ्याची माहिती'!A69 -> 60 | B69: ='विद्य्र्थ्याची माहिती'!B69 -> 0 | E69: =SUM(C69:D69) -> 0 | F69: ='अं.मु.गणित'!I69 -> 0 | G69: =SUM(E69:F69) -> 0 | J69: =SUM(H69:I69) -> 0 | K69: ='अं.मु.गणित'!P69 -> 0 | L69: =SUM(J69:K69) -> 0 | M69: =SUM(G69,L69) -> 0 | N69: =ROUND(M69/2,0) -> 0 | O69: - | P69: =SUM(N69:O69) -> 0 | Q69: =IF(P69>=35,"Pass","Fail") -> Fail
A70: Easy Result System By :- Sachin Wakchaure (9822882466)
B72: =MASTER!B18 -> श्री. कानकाटे आसाराम शंकर | H72: =MASTER!B8 -> श्री. लेंडे किरण विठ्ठल
B73: विषय शिक्षिक | H73: मुख्याध्यापक

Sheet अं.मु.गणित
A1: =MASTER!B5 -> अनुदानित माध्यमिक आश्रमशाळा, एकदरे, ता. अकोले जि. अहिल्यानगर
A3: इ.- | B3: =MASTER!B6 -> 9 वी | C3: अंतर्गत मूल्यमापन | J3: =MASTER!F18 -> विषय - गणित
A4: =MASTER!C7 -> वर्ग शिक्षक- श्री. ढगे भरत बुधाजी | G4: =MASTER!C18 -> विषय शिक्षक- श्री. कानकाटे आसाराम शंकर
A5: परीक्षा नं. | B5: विद्यार्थ्याचे नाव | C5: प्रथम सत्र | J5: व्दितीय सत्र
C6: भाग 1 | F6: भाग 2 | I6: एकूण | J6: भाग 1 | M6: भाग 2 | P6: एकूण
C7: गृहपाठ | D7: प्रा.परीक्षा/ बहुप.प. | E7: एकूण | F7: गृहपाठ | G7: प्रा.परीक्षा/ बहुप.प. | H7: एकूण | J7: गृहपाठ | K7: प्रा.परीक्षा/ बहुप.प. | L7: एकूण | M7: गृहपाठ | N7: प्रा.परीक्षा/ बहुप.प. | O7: एकूण
C9: 5 | D9: 5 | E9: =SUM(C9:D9) -> 10 | F9: 5 | G9: 5 | H9: =SUM(F9:G9) -> 10 | I9: =SUM(E9,H9) -> 20 | J9: 5 | K9: 5 | L9: =SUM(J9:K9) -> 10 | M9: 5 | N9: 5 | O9: =SUM(M9:N9) -> 10 | P9: =SUM(L9,O9) -> 20
A10: ='विद्य्र्थ्याची माहिती'!A10 -> 1 | B10: ='विद्य्र्थ्याची माहिती'!B10 -> चि. समीर यशवंत देशमुख सखाराम | C10: 5 | D10: 4 | E10: =SUM(C10:D10) -> 9 | F10: 5 | G10: 4 | H10: =SUM(F10:G10) -> 9 | I10: =SUM(E10,H10) -> 18 | J10: 5 | K10: 4 | L10: =SUM(J10:K10) -> 9 | M10: 4 | N10: 2 | O10: =SUM(M10:N10) -> 6 | P10: =SUM(L10,O10) -> 15
A11: ='विद्य्र्थ्याची माहिती'!A11 -> 2 | B11: ='विद्य्र्थ्याची माहिती'!B11 -> 0 | E11: =SUM(C11:D11) -> 0 | H11: =SUM(F11:G11) -> 0 | I11: =SUM(E11,H11) -> 0 | L11: =SUM(J11:K11) -> 0 | O11: =SUM(M11:N11) -> 0 | P11: =SUM(L11,O11) -> 0
A12: ='विद्य्र्थ्याची माहिती'!A12 -> 3 | B12: ='विद्य्र्थ्याची माहिती'!B12 -> 0 | E12: =SUM(C12:D12) -> 0 | H12: =SUM(F12:G12) -> 0 | I12: =SUM(E12,H12) -> 0 | L12: =SUM(J12:K12) -> 0 | O12: =SUM(M12:N12) -> 0 | P12: =SUM(L12,O12) -> 0
A13: ='विद्य्र्थ्याची माहिती'!A13 -> 4 | B13: ='विद्य्र्थ्याची माहिती'!B13 -> 0 | E13: =SUM(C13:D13) -> 0 | H13: =SUM(F13:G13) -> 0 | I13: =SUM(E13,H13) -> 0 | L13: =SUM(J13:K13) -> 0 | O13: =SUM(M13:N13) -> 0 | P13: =SUM(L13,O13) -> 0
A14: ='विद्य्र्थ्याची माहिती'!A14 -> 5 | B14: ='विद्य्र्थ्याची माहिती'!B14 -> 0 | E14: =SUM(C14:D14) -> 0 | H14: =SUM(F14:G14) -> 0 | I14: =SUM(E14,H14) -> 0 | L14: =SUM(J14:K14) -> 0 | O14: =SUM(M14:N14) -> 0 | P14: =SUM(L14,O14) -> 0
A15: ='विद्य्र्थ्याची माहिती'!A15 -> 6 | B15: ='विद्य्र्थ्याची माहिती'!B15 -> 0 | E15: =SUM(C15:D15) -> 0 | H15: =SUM(F15:G15) -> 0 | I15: =SUM(E15,H15) -> 0 | L15: =SUM(J15:K15) -> 0 | O15: =SUM(M15:N15) -> 0 | P15: =SUM(L15,O15) -> 0
A16: ='विद्य्र्थ्याची माहिती'!A16 -> 7 | B16: ='विद्य्र्थ्याची माहिती'!B16 -> 0 | E16: =SUM(C16:D16) -> 0 | H16: =SUM(F16:G16) -> 0 | I16: =SUM(E16,H16) -> 0 | L16: =SUM(J16:K16) -> 0 | O16: =SUM(M16:N16) -> 0 | P16: =SUM(L16,O16) -> 0
A17: ='विद्य्र्थ्याची माहिती'!A17 -> 8 | B17: ='विद्य्र्थ्याची माहिती'!B17 -> 0 | E17: =SUM(C17:D17) -> 0 | H17: =SUM(F17:G17) -> 0 | I17: =SUM(E17,H17) -> 0 | L17: =SUM(J17:K17) -> 0 | O17: =SUM(M17:N17) -> 0 | P17: =SUM(L17,O17) -> 0
A18: ='विद्य्र्थ्याची माहिती'!A18 -> 9 | B18: ='विद्य्र्थ्याची माहिती'!B18 -> 0 | E18: =SUM(C18:D18) -> 0 | H18: =SUM(F18:G18) -> 0 | I18: =SUM(E18,H18) -> 0 | L18: =SUM(J18:K18) -> 0 | O18: =SUM(M18:N18) -> 0 | P18: =SUM(L18,O18) -> 0
A19: ='विद्य्र्थ्याची माहिती'!A19 -> 10 | B19: ='विद्य्र्थ्याची माहिती'!B19 -> 0 | E19: =SUM(C19:D19) -> 0 | H19: =SUM(F19:G19) -> 0 | I19: =SUM(E19,H19) -> 0 | L19: =SUM(J19:K19) -> 0 | O19: =SUM(M19:N19) -> 0 | P19: =SUM(L19,O19) -> 0
A20: ='विद्य्र्थ्याची माहिती'!A20 -> 11 | B20: ='विद्य्र्थ्याची माहिती'!B20 -> 0 | E20: =SUM(C20:D20) -> 0 | H20: =SUM(F20:G20) -> 0 | I20: =SUM(E20,H20) -> 0 | L20: =SUM(J20:K20) -> 0 | O20: =SUM(M20:N20) -> 0 | P20: =SUM(L20,O20) -> 0
A21: ='विद्य्र्थ्याची माहिती'!A21 -> 12 | B21: ='विद्य्र्थ्याची माहिती'!B21 -> 0 | E21: =SUM(C21:D21) -> 0 | H21: =SUM(F21:G21) -> 0 | I21: =SUM(E21,H21) -> 0 | L21: =SUM(J21:K21) -> 0 | O21: =SUM(M21:N21) -> 0 | P21: =SUM(L21,O21) -> 0
A22: ='विद्य्र्थ्याची माहिती'!A22 -> 13 | B22: ='विद्य्र्थ्याची माहिती'!B22 -> 0 | E22: =SUM(C22:D22) -> 0 | H22: =SUM(F22:G22) -> 0 | I22: =SUM(E22,H22) -> 0 | L22: =SUM(J22:K22) -> 0 | O22: =SUM(M22:N22) -> 0 | P22: =SUM(L22,O22) -> 0
... A69: ='विद्य्र्थ्याची माहिती'!A69 -> 60 | B69: ='विद्य्र्थ्याची माहिती'!B69 -> 0 | E69: =SUM(C69:D69) -> 0 | H69: =SUM(F69:G69) -> 0 | I69: =SUM(E69,H69) -> 0 | L69: =SUM(J69:K69) -> 0 | O69: =SUM(M69:N69) -> 0 | P69: =SUM(L69,O69) -> 0
A70: Easy Result System By :- Sachin Wakchaure (9822882466)
B72: =MASTER!B18 -> श्री. कानकाटे आसाराम शंकर | K72: =MASTER!B8 -> श्री. लेंडे किरण विठ्ठल
B73: विषय शिक्षक | K73: मुख्याध्यापक

Sheet विज्ञान 
A1: =MASTER!B5 -> अनुदानित माध्यमिक आश्रमशाळा, एकदरे, ता. अकोले जि. अहिल्यानगर
A3: इ.- | B3: =MASTER!B6 -> 9 वी | I3: =MASTER!F19 -> विषय - विज्ञान
A4: =MASTER!H15 -> वार्षिक निकाल पत्रक (सन 2026-2027)
A5: =MASTER!C7 -> वर्ग शिक्षक- श्री. ढगे भरत बुधाजी | G5: =MASTER!C19 -> विषय शिक्षक- श्री. वाकचौरे सचिन माधवराव
A6: हजेरी क्र | B6: विद्यार्थ्याचे नाव | C6: प्रथम सत्र (अ) | H6: व्दितीय सत्र सत्र (ब) | M6: एकूण अ+ब | N6: सरासरी (अ+ब)/2 | O6: सवलतीचे/ गट नि. गुण | P6: एकूण | Q6: शेरा
C7: भाग I | D7: भाग II | E7: एकूण | F7: अ. मू.मापन | G7: एकूण | H7: भाग I | I7: भाग II | J7: एकूण | K7: अ. मू.मापन | L7: एकूण
C9: 40 | D9: 40 | E9: =SUM(C9:D9) -> 80 | F9: ='विज्ञान अंतर्गत मूल्यमापन'!I9 -> 20 | G9: =SUM(E9:F9) -> 100 | H9: 40 | I9: 40 | J9: =SUM(H9:I9) -> 80 | K9: ='विज्ञान अंतर्गत मूल्यमापन'!P9 -> 20 | L9: =SUM(J9:K9) -> 100 | M9: =SUM(G9,L9) -> 200 | N9: =ROUND(M9/2,0) -> 100 | O9: - | P9: =SUM(N9:O9) -> 100 | Q9: =IF(P9>=35,"Pass","Fail") -> Pass
A10: ='विद्य्र्थ्याची माहिती'!A10 -> 1 | B10: ='विद्य्र्थ्याची माहिती'!B10 -> चि. समीर यशवंत देशमुख सखाराम | C10: 16 | D10: 19 | E10: =SUM(C10:D10) -> 35 | F10: ='विज्ञान अंतर्गत मूल्यमापन'!I10 -> 9 | G10: =SUM(E10:F10) -> 44 | H10: 20 | I10: 13 | J10: =SUM(H10:I10) -> 33 | K10: ='विज्ञान अंतर्गत मूल्यमापन'!P10 -> 16 | L10: =SUM(J10:K10) -> 49 | M10: =SUM(G10,L10) -> 93 | N10: =ROUND(M10/2,0) -> 47 | O10: 5 | P10: =SUM(N10:O10) -> 52 | Q10: =IF(P10>=35,"Pass","Fail") -> Pass
A11: ='विद्य्र्थ्याची माहिती'!A11 -> 2 | B11: ='विद्य्र्थ्याची माहिती'!B11 -> 0 | E11: =SUM(C11:D11) -> 0 | F11: ='विज्ञान अंतर्गत मूल्यमापन'!I11 -> 0 | G11: =SUM(E11:F11) -> 0 | J11: =SUM(H11:I11) -> 0 | K11: ='विज्ञान अंतर्गत मूल्यमापन'!P11 -> 0 | L11: =SUM(J11:K11) -> 0 | M11: =SUM(G11,L11) -> 0 | N11: =ROUND(M11/2,0) -> 0 | O11: - | P11: =SUM(N11:O11) -> 0 | Q11: =IF(P11>=35,"Pass","Fail") -> Fail
A12: ='विद्य्र्थ्याची माहिती'!A12 -> 3 | B12: ='विद्य्र्थ्याची माहिती'!B12 -> 0 | E12: =SUM(C12:D12) -> 0 | F12: ='विज्ञान अंतर्गत मूल्यमापन'!I12 -> 0 | G12: =SUM(E12:F12) -> 0 | J12: =SUM(H12:I12) -> 0 | K12: ='विज्ञान अंतर्गत मूल्यमापन'!P12 -> 0 | L12: =SUM(J12:K12) -> 0 | M12: =SUM(G12,L12) -> 0 | N12: =ROUND(M12/2,0) -> 0 | O12: - | P12: =SUM(N12:O12) -> 0 | Q12: =IF(P12>=35,"Pass","Fail") -> Fail
A13: ='विद्य्र्थ्याची माहिती'!A13 -> 4 | B13: ='विद्य्र्थ्याची माहिती'!B13 -> 0 | E13: =SUM(C13:D13) -> 0 | F13: ='विज्ञान अंतर्गत मूल्यमापन'!I13 -> 0 | G13: =SUM(E13:F13) -> 0 | J13: =SUM(H13:I13) -> 0 | K13: ='विज्ञान अंतर्गत मूल्यमापन'!P13 -> 0 | L13: =SUM(J13:K13) -> 0 | M13: =SUM(G13,L13) -> 0 | N13: =ROUND(M13/2,0) -> 0 | O13: - | P13: =SUM(N13:O13) -> 0 | Q13: =IF(P13>=35,"Pass","Fail") -> Fail
A14: ='विद्य्र्थ्याची माहिती'!A14 -> 5 | B14: ='विद्य्र्थ्याची माहिती'!B14 -> 0 | E14: =SUM(C14:D14) -> 0 | F14: ='विज्ञान अंतर्गत मूल्यमापन'!I14 -> 0 | G14: =SUM(E14:F14) -> 0 | J14: =SUM(H14:I14) -> 0 | K14: ='विज्ञान अंतर्गत मूल्यमापन'!P14 -> 0 | L14: =SUM(J14:K14) -> 0 | M14: =SUM(G14,L14) -> 0 | N14: =ROUND(M14/2,0) -> 0 | O14: - | P14: =SUM(N14:O14) -> 0 | Q14: =IF(P14>=35,"Pass","Fail") -> Fail
A15: ='विद्य्र्थ्याची माहिती'!A15 -> 6 | B15: ='विद्य्र्थ्याची माहिती'!B15 -> 0 | E15: =SUM(C15:D15) -> 0 | F15: ='विज्ञान अंतर्गत मूल्यमापन'!I15 -> 0 | G15: =SUM(E15:F15) -> 0 | J15: =SUM(H15:I15) -> 0 | K15: ='विज्ञान अंतर्गत मूल्यमापन'!P15 -> 0 | L15: =SUM(J15:K15) -> 0 | M15: =SUM(G15,L15) -> 0 | N15: =ROUND(M15/2,0) -> 0 | O15: - | P15: =SUM(N15:O15) -> 0 | Q15: =IF(P15>=35,"Pass","Fail") -> Fail
A16: ='विद्य्र्थ्याची माहिती'!A16 -> 7 | B16: ='विद्य्र्थ्याची माहिती'!B16 -> 0 | E16: =SUM(C16:D16) -> 0 | F16: ='विज्ञान अंतर्गत मूल्यमापन'!I16 -> 0 | G16: =SUM(E16:F16) -> 0 | J16: =SUM(H16:I16) -> 0 | K16: ='विज्ञान अंतर्गत मूल्यमापन'!P16 -> 0 | L16: =SUM(J16:K16) -> 0 | M16: =SUM(G16,L16) -> 0 | N16: =ROUND(M16/2,0) -> 0 | O16: - | P16: =SUM(N16:O16) -> 0 | Q16: =IF(P16>=35,"Pass","Fail") -> Fail
A17: ='विद्य्र्थ्याची माहिती'!A17 -> 8 | B17: ='विद्य्र्थ्याची माहिती'!B17 -> 0 | E17: =SUM(C17:D17) -> 0 | F17: ='विज्ञान अंतर्गत मूल्यमापन'!I17 -> 0 | G17: =SUM(E17:F17) -> 0 | J17: =SUM(H17:I17) -> 0 | K17: ='विज्ञान अंतर्गत मूल्यमापन'!P17 -> 0 | L17: =SUM(J17:K17) -> 0 | M17: =SUM(G17,L17) -> 0 | N17: =ROUND(M17/2,0) -> 0 | O17: - | P17: =SUM(N17:O17) -> 0 | Q17: =IF(P17>=35,"Pass","Fail") -> Fail
A18: ='विद्य्र्थ्याची माहिती'!A18 -> 9 | B18: ='विद्य्र्थ्याची माहिती'!B18 -> 0 | E18: =SUM(C18:D18) -> 0 | F18: ='विज्ञान अंतर्गत मूल्यमापन'!I18 -> 0 | G18: =SUM(E18:F18) -> 0 | J18: =SUM(H18:I18) -> 0 | K18: ='विज्ञान अंतर्गत मूल्यमापन'!P18 -> 0 | L18: =SUM(J18:K18) -> 0 | M18: =SUM(G18,L18) -> 0 | N18: =ROUND(M18/2,0) -> 0 | O18: - | P18: =SUM(N18:O18) -> 0 | Q18: =IF(P18>=35,"Pass","Fail") -> Fail
A19: ='विद्य्र्थ्याची माहिती'!A19 -> 10 | B19: ='विद्य्र्थ्याची माहिती'!B19 -> 0 | E19: =SUM(C19:D19) -> 0 | F19: ='विज्ञान अंतर्गत मूल्यमापन'!I19 -> 0 | G19: =SUM(E19:F19) -> 0 | J19: =SUM(H19:I19) -> 0 | K19: ='विज्ञान अंतर्गत मूल्यमापन'!P19 -> 0 | L19: =SUM(J19:K19) -> 0 | M19: =SUM(G19,L19) -> 0 | N19: =ROUND(M19/2,0) -> 0 | O19: - | P19: =SUM(N19:O19) -> 0 | Q19: =IF(P19>=35,"Pass","Fail") -> Fail
A20: ='विद्य्र्थ्याची माहिती'!A20 -> 11 | B20: ='विद्य्र्थ्याची माहिती'!B20 -> 0 | E20: =SUM(C20:D20) -> 0 | F20: ='विज्ञान अंतर्गत मूल्यमापन'!I20 -> 0 | G20: =SUM(E20:F20) -> 0 | J20: =SUM(H20:I20) -> 0 | K20: ='विज्ञान अंतर्गत मूल्यमापन'!P20 -> 0 | L20: =SUM(J20:K20) -> 0 | M20: =SUM(G20,L20) -> 0 | N20: =ROUND(M20/2,0) -> 0 | O20: - | P20: =SUM(N20:O20) -> 0 | Q20: =IF(P20>=35,"Pass","Fail") -> Fail
A21: ='विद्य्र्थ्याची माहिती'!A21 -> 12 | B21: ='विद्य्र्थ्याची माहिती'!B21 -> 0 | E21: =SUM(C21:D21) -> 0 | F21: ='विज्ञान अंतर्गत मूल्यमापन'!I21 -> 0 | G21: =SUM(E21:F21) -> 0 | J21: =SUM(H21:I21) -> 0 | K21: ='विज्ञान अंतर्गत मूल्यमापन'!P21 -> 0 | L21: =SUM(J21:K21) -> 0 | M21: =SUM(G21,L21) -> 0 | N21: =ROUND(M21/2,0) -> 0 | O21: - | P21: =SUM(N21:O21) -> 0 | Q21: =IF(P21>=35,"Pass","Fail") -> Fail
A22: ='विद्य्र्थ्याची माहिती'!A22 -> 13 | B22: ='विद्य्र्थ्याची माहिती'!B22 -> 0 | E22: =SUM(C22:D22) -> 0 | F22: ='विज्ञान अंतर्गत मूल्यमापन'!I22 -> 0 | G22: =SUM(E22:F22) -> 0 | J22: =SUM(H22:I22) -> 0 | K22: ='विज्ञान अंतर्गत मूल्यमापन'!P22 -> 0 | L22: =SUM(J22:K22) -> 0 | M22: =SUM(G22,L22) -> 0 | N22: =ROUND(M22/2,0) -> 0 | O22: - | P22: =SUM(N22:O22) -> 0 | Q22: =IF(P22>=35,"Pass","Fail") -> Fail
... A69: ='विद्य्र्थ्याची माहिती'!A69 -> 60 | B69: ='विद्य्र्थ्याची माहिती'!B69 -> 0 | E69: =SUM(C69:D69) -> 0 | F69: ='विज्ञान अंतर्गत मूल्यमापन'!I69 -> 0 | G69: =SUM(E69:F69) -> 0 | J69: =SUM(H69:I69) -> 0 | K69: ='विज्ञान अंतर्गत मूल्यमापन'!P69 -> 0 | L69: =SUM(J69:K69) -> 0 | M69: =SUM(G69,L69) -> 0 | N69: =ROUND(M69/2,0) -> 0 | O69: - | P69: =SUM(N69:O69) -> 0 | Q69: =IF(P69>=35,"Pass","Fail") -> Fail
A70: Easy Result System By :- Sachin Wakchaure (9822882466)
B72: =MASTER!B19 -> श्री. वाकचौरे सचिन माधवराव | H72: =MASTER!B8 -> श्री. लेंडे किरण विठ्ठल
B73: विषय शिक्षिक | H73: मुख्याध्यापक

Sheet विज्ञान अंतर्गत मूल्यमापन
A1: =MASTER!B5 -> अनुदानित माध्यमिक आश्रमशाळा, एकदरे, ता. अकोले जि. अहिल्यानगर
A3: इ.- | B3: =MASTER!B6 -> 9 वी | C3: अंतर्गत मूल्यमापन | I3: =MASTER!F19 -> विषय - विज्ञान
A4: =MASTER!C7 -> वर्ग शिक्षक- श्री. ढगे भरत बुधाजी | G4: =MASTER!C19 -> विषय शिक्षक- श्री. वाकचौरे सचिन माधवराव
A5: परीक्षा नं. | B5: विद्यार्थ्याचे नाव | C5: प्रथम सत्र | J5: व्दितीय सत्र
C6: भाग I | F6: भाग II | I6: एकूण | J6: भाग I | M6: भाग II | P6: एकूण
C7: प्रात्य.परीक्षा | D7: प्रा.नोंदवही | E7: उ.नोंदवही | F7: प्रात्य.परीक्षा | G7: प्रा.नोंदवही | H7: उ.नोंदवही | J7: प्रात्य.परीक्षा | K7: प्रा.नोंदवही | L7: उ.नोंदवही | M7: प्रात्य.परीक्षा | N7: प्रा.नोंदवही | O7: उ.नोंदवही
C9: 6 | D9: 2 | E9: 2 | F9: 6 | G9: 2 | H9: 2 | I9: =SUM(C9:H9) -> 20 | J9: 6 | K9: 2 | L9: 2 | M9: 6 | N9: 2 | O9: 2 | P9: =SUM(J9:O9) -> 20
A10: ='विद्य्र्थ्याची माहिती'!A10 -> 1 | B10: ='विद्य्र्थ्याची माहिती'!B10 -> चि. समीर यशवंत देशमुख सखाराम | C10: 1 | D10: 2 | E10: 1 | F10: 2 | G10: 1 | H10: 2 | I10: =SUM(C10:H10) -> 9 | J10: 5 | K10: 5 | L10: 1 | M10: 2 | N10: 1 | O10: 2 | P10: =SUM(J10:O10) -> 16
A11: ='विद्य्र्थ्याची माहिती'!A11 -> 2 | B11: ='विद्य्र्थ्याची माहिती'!B11 -> 0 | I11: =SUM(C11:H11) -> 0 | P11: =SUM(J11:O11) -> 0
A12: ='विद्य्र्थ्याची माहिती'!A12 -> 3 | B12: ='विद्य्र्थ्याची माहिती'!B12 -> 0 | I12: =SUM(C12:H12) -> 0 | P12: =SUM(J12:O12) -> 0
A13: ='विद्य्र्थ्याची माहिती'!A13 -> 4 | B13: ='विद्य्र्थ्याची माहिती'!B13 -> 0 | I13: =SUM(C13:H13) -> 0 | P13: =SUM(J13:O13) -> 0
A14: ='विद्य्र्थ्याची माहिती'!A14 -> 5 | B14: ='विद्य्र्थ्याची माहिती'!B14 -> 0 | I14: =SUM(C14:H14) -> 0 | P14: =SUM(J14:O14) -> 0
A15: ='विद्य्र्थ्याची माहिती'!A15 -> 6 | B15: ='विद्य्र्थ्याची माहिती'!B15 -> 0 | I15: =SUM(C15:H15) -> 0 | P15: =SUM(J15:O15) -> 0
A16: ='विद्य्र्थ्याची माहिती'!A16 -> 7 | B16: ='विद्य्र्थ्याची माहिती'!B16 -> 0 | I16: =SUM(C16:H16) -> 0 | P16: =SUM(J16:O16) -> 0
A17: ='विद्य्र्थ्याची माहिती'!A17 -> 8 | B17: ='विद्य्र्थ्याची माहिती'!B17 -> 0 | I17: =SUM(C17:H17) -> 0 | P17: =SUM(J17:O17) -> 0
A18: ='विद्य्र्थ्याची माहिती'!A18 -> 9 | B18: ='विद्य्र्थ्याची माहिती'!B18 -> 0 | I18: =SUM(C18:H18) -> 0 | P18: =SUM(J18:O18) -> 0
A19: ='विद्य्र्थ्याची माहिती'!A19 -> 10 | B19: ='विद्य्र्थ्याची माहिती'!B19 -> 0 | I19: =SUM(C19:H19) -> 0 | P19: =SUM(J19:O19) -> 0
A20: ='विद्य्र्थ्याची माहिती'!A20 -> 11 | B20: ='विद्य्र्थ्याची माहिती'!B20 -> 0 | I20: =SUM(C20:H20) -> 0 | P20: =SUM(J20:O20) -> 0
A21: ='विद्य्र्थ्याची माहिती'!A21 -> 12 | B21: ='विद्य्र्थ्याची माहिती'!B21 -> 0 | I21: =SUM(C21:H21) -> 0 | P21: =SUM(J21:O21) -> 0
A22: ='विद्य्र्थ्याची माहिती'!A22 -> 13 | B22: ='विद्य्र्थ्याची माहिती'!B22 -> 0 | I22: =SUM(C22:H22) -> 0 | P22: =SUM(J22:O22) -> 0
... A69: ='विद्य्र्थ्याची माहिती'!A69 -> 60 | B69: ='विद्य्र्थ्याची माहिती'!B69 -> 0 | I69: =SUM(C69:H69) -> 0 | P69: =SUM(J69:O69) -> 0
A70: Easy Result System By :- Sachin Wakchaure (9822882466)
B72: =MASTER!B19 -> श्री. वाकचौरे सचिन माधवराव | K72: =MASTER!B8 -> श्री. लेंडे किरण विठ्ठल
B73: विषय शिक्षक | K73: मुख्याध्यापक

Sheet समाज शास्र
A1: =MASTER!B5 -> अनुदानित माध्यमिक आश्रमशाळा, एकदरे, ता. अकोले जि. अहिल्यानगर
A3: इ.- | B3: =MASTER!B6 -> 9 वी | I3: =MASTER!F20 -> विषय - समाजशास्रे
A4: =MASTER!H15 -> वार्षिक निकाल पत्रक (सन 2026-2027)
A5: =MASTER!C7 -> वर्ग शिक्षक- श्री. ढगे भरत बुधाजी | G5: =MASTER!C20 -> विषय शिक्षक- श्री. लेंडे के. व्ही./ श्री.कोटकर एस.बी.
A6: हजेरी क्र | B6: विद्यार्थ्याचे नाव | C6: प्रथम सत्र (अ) | H6: व्दितीय सत्र सत्र (ब) | M6: एकूण अ+ब | N6: सरासरी (अ+ब)/2 | O6: सवलतीचे/ गट नि. गुण | P6: एकूण | Q6: शेरा
C7: इति.+रा.शा | D7: भूगोल | E7: एकूण | F7: अ. मू.मापन | G7: एकूण | H7: इति.+रा.शा | I7: भूगोल | J7: एकूण | K7: अ. मू.मापन | L7: एकूण
C9: 40 | D9: 40 | E9: =SUM(C9:D9) -> 80 | F9: ='अं.मु.समाज शास्र'!H9 -> 20 | G9: =SUM(E9:F9) -> 100 | H9: 40 | I9: 40 | J9: =SUM(H9:I9) -> 80 | K9: ='अं.मु.समाज शास्र'!N9 -> 20 | L9: =SUM(J9:K9) -> 100 | M9: =SUM(G9,L9) -> 200 | N9: =ROUND(M9/2,0) -> 100 | O9: - | P9: =SUM(N9:O9) -> 100 | Q9: =IF(P9>=35,"Pass","Fail") -> Pass
A10: ='विद्य्र्थ्याची माहिती'!A10 -> 1 | B10: ='विद्य्र्थ्याची माहिती'!B10 -> चि. समीर यशवंत देशमुख सखाराम | C10: 1 | D10: 10 | E10: =SUM(C10:D10) -> 11 | F10: ='अं.मु.समाज शास्र'!H10 -> 11 | G10: =SUM(E10:F10) -> 22 | H10: 24 | I10: 23 | J10: =SUM(H10:I10) -> 47 | K10: ='अं.मु.समाज शास्र'!N10 -> 16 | L10: =SUM(J10:K10) -> 63 | M10: =SUM(G10,L10) -> 85 | N10: =ROUND(M10/2,0) -> 43 | O10: 10 | P10: =SUM(N10:O10) -> 53 | Q10: =IF(P10>=35,"Pass","Fail") -> Pass
A11: ='विद्य्र्थ्याची माहिती'!A11 -> 2 | B11: ='विद्य्र्थ्याची माहिती'!B11 -> 0 | E11: =SUM(C11:D11) -> 0 | F11: ='अं.मु.समाज शास्र'!H11 -> 0 | G11: =SUM(E11:F11) -> 0 | J11: =SUM(H11:I11) -> 0 | K11: ='अं.मु.समाज शास्र'!N11 -> 0 | L11: =SUM(J11:K11) -> 0 | M11: =SUM(G11,L11) -> 0 | N11: =ROUND(M11/2,0) -> 0 | O11: - | P11: =SUM(N11:O11) -> 0 | Q11: =IF(P11>=35,"Pass","Fail") -> Fail
A12: ='विद्य्र्थ्याची माहिती'!A12 -> 3 | B12: ='विद्य्र्थ्याची माहिती'!B12 -> 0 | E12: =SUM(C12:D12) -> 0 | F12: ='अं.मु.समाज शास्र'!H12 -> 0 | G12: =SUM(E12:F12) -> 0 | J12: =SUM(H12:I12) -> 0 | K12: ='अं.मु.समाज शास्र'!N12 -> 0 | L12: =SUM(J12:K12) -> 0 | M12: =SUM(G12,L12) -> 0 | N12: =ROUND(M12/2,0) -> 0 | O12: - | P12: =SUM(N12:O12) -> 0 | Q12: =IF(P12>=35,"Pass","Fail") -> Fail
A13: ='विद्य्र्थ्याची माहिती'!A13 -> 4 | B13: ='विद्य्र्थ्याची माहिती'!B13 -> 0 | E13: =SUM(C13:D13) -> 0 | F13: ='अं.मु.समाज शास्र'!H13 -> 0 | G13: =SUM(E13:F13) -> 0 | J13: =SUM(H13:I13) -> 0 | K13: ='अं.मु.समाज शास्र'!N13 -> 0 | L13: =SUM(J13:K13) -> 0 | M13: =SUM(G13,L13) -> 0 | N13: =ROUND(M13/2,0) -> 0 | O13: - | P13: =SUM(N13:O13) -> 0 | Q13: =IF(P13>=35,"Pass","Fail") -> Fail
A14: ='विद्य्र्थ्याची माहिती'!A14 -> 5 | B14: ='विद्य्र्थ्याची माहिती'!B14 -> 0 | E14: =SUM(C14:D14) -> 0 | F14: ='अं.मु.समाज शास्र'!H14 -> 0 | G14: =SUM(E14:F14) -> 0 | J14: =SUM(H14:I14) -> 0 | K14: ='अं.मु.समाज शास्र'!N14 -> 0 | L14: =SUM(J14:K14) -> 0 | M14: =SUM(G14,L14) -> 0 | N14: =ROUND(M14/2,0) -> 0 | O14: - | P14: =SUM(N14:O14) -> 0 | Q14: =IF(P14>=35,"Pass","Fail") -> Fail
A15: ='विद्य्र्थ्याची माहिती'!A15 -> 6 | B15: ='विद्य्र्थ्याची माहिती'!B15 -> 0 | E15: =SUM(C15:D15) -> 0 | F15: ='अं.मु.समाज शास्र'!H15 -> 0 | G15: =SUM(E15:F15) -> 0 | J15: =SUM(H15:I15) -> 0 | K15: ='अं.मु.समाज शास्र'!N15 -> 0 | L15: =SUM(J15:K15) -> 0 | M15: =SUM(G15,L15) -> 0 | N15: =ROUND(M15/2,0) -> 0 | O15: - | P15: =SUM(N15:O15) -> 0 | Q15: =IF(P15>=35,"Pass","Fail") -> Fail
A16: ='विद्य्र्थ्याची माहिती'!A16 -> 7 | B16: ='विद्य्र्थ्याची माहिती'!B16 -> 0 | E16: =SUM(C16:D16) -> 0 | F16: ='अं.मु.समाज शास्र'!H16 -> 0 | G16: =SUM(E16:F16) -> 0 | J16: =SUM(H16:I16) -> 0 | K16: ='अं.मु.समाज शास्र'!N16 -> 0 | L16: =SUM(J16:K16) -> 0 | M16: =SUM(G16,L16) -> 0 | N16: =ROUND(M16/2,0) -> 0 | O16: - | P16: =SUM(N16:O16) -> 0 | Q16: =IF(P16>=35,"Pass","Fail") -> Fail
A17: ='विद्य्र्थ्याची माहिती'!A17 -> 8 | B17: ='विद्य्र्थ्याची माहिती'!B17 -> 0 | E17: =SUM(C17:D17) -> 0 | F17: ='अं.मु.समाज शास्र'!H17 -> 0 | G17: =SUM(E17:F17) -> 0 | J17: =SUM(H17:I17) -> 0 | K17: ='अं.मु.समाज शास्र'!N17 -> 0 | L17: =SUM(J17:K17) -> 0 | M17: =SUM(G17,L17) -> 0 | N17: =ROUND(M17/2,0) -> 0 | O17: - | P17: =SUM(N17:O17) -> 0 | Q17: =IF(P17>=35,"Pass","Fail") -> Fail
A18: ='विद्य्र्थ्याची माहिती'!A18 -> 9 | B18: ='विद्य्र्थ्याची माहिती'!B18 -> 0 | E18: =SUM(C18:D18) -> 0 | F18: ='अं.मु.समाज शास्र'!H18 -> 0 | G18: =SUM(E18:F18) -> 0 | J18: =SUM(H18:I18) -> 0 | K18: ='अं.मु.समाज शास्र'!N18 -> 0 | L18: =SUM(J18:K18) -> 0 | M18: =SUM(G18,L18) -> 0 | N18: =ROUND(M18/2,0) -> 0 | O18: - | P18: =SUM(N18:O18) -> 0 | Q18: =IF(P18>=35,"Pass","Fail") -> Fail
A19: ='विद्य्र्थ्याची माहिती'!A19 -> 10 | B19: ='विद्य्र्थ्याची माहिती'!B19 -> 0 | E19: =SUM(C19:D19) -> 0 | F19: ='अं.मु.समाज शास्र'!H19 -> 0 | G19: =SUM(E19:F19) -> 0 | J19: =SUM(H19:I19) -> 0 | K19: ='अं.मु.समाज शास्र'!N19 -> 0 | L19: =SUM(J19:K19) -> 0 | M19: =SUM(G19,L19) -> 0 | N19: =ROUND(M19/2,0) -> 0 | O19: - | P19: =SUM(N19:O19) -> 0 | Q19: =IF(P19>=35,"Pass","Fail") -> Fail
A20: ='विद्य्र्थ्याची माहिती'!A20 -> 11 | B20: ='विद्य्र्थ्याची माहिती'!B20 -> 0 | E20: =SUM(C20:D20) -> 0 | F20: ='अं.मु.समाज शास्र'!H20 -> 0 | G20: =SUM(E20:F20) -> 0 | J20: =SUM(H20:I20) -> 0 | K20: ='अं.मु.समाज शास्र'!N20 -> 0 | L20: =SUM(J20:K20) -> 0 | M20: =SUM(G20,L20) -> 0 | N20: =ROUND(M20/2,0) -> 0 | O20: - | P20: =SUM(N20:O20) -> 0 | Q20: =IF(P20>=35,"Pass","Fail") -> Fail
A21: ='विद्य्र्थ्याची माहिती'!A21 -> 12 | B21: ='विद्य्र्थ्याची माहिती'!B21 -> 0 | E21: =SUM(C21:D21) -> 0 | F21: ='अं.मु.समाज शास्र'!H21 -> 0 | G21: =SUM(E21:F21) -> 0 | J21: =SUM(H21:I21) -> 0 | K21: ='अं.मु.समाज शास्र'!N21 -> 0 | L21: =SUM(J21:K21) -> 0 | M21: =SUM(G21,L21) -> 0 | N21: =ROUND(M21/2,0) -> 0 | O21: - | P21: =SUM(N21:O21) -> 0 | Q21: =IF(P21>=35,"Pass","Fail") -> Fail
A22: ='विद्य्र्थ्याची माहिती'!A22 -> 13 | B22: ='विद्य्र्थ्याची माहिती'!B22 -> 0 | E22: =SUM(C22:D22) -> 0 | F22: ='अं.मु.समाज शास्र'!H22 -> 0 | G22: =SUM(E22:F22) -> 0 | J22: =SUM(H22:I22) -> 0 | K22: ='अं.मु.समाज शास्र'!N22 -> 0 | L22: =SUM(J22:K22) -> 0 | M22: =SUM(G22,L22) -> 0 | N22: =ROUND(M22/2,0) -> 0 | O22: - | P22: =SUM(N22:O22) -> 0 | Q22: =IF(P22>=35,"Pass","Fail") -> Fail
... A69: ='विद्य्र्थ्याची माहिती'!A69 -> 60 | B69: ='विद्य्र्थ्याची माहिती'!B69 -> 0 | E69: =SUM(C69:D69) -> 0 | F69: ='अं.मु.समाज शास्र'!H69 -> 0 | G69: =SUM(E69:F69) -> 0 | J69: =SUM(H69:I69) -> 0 | K69: ='अं.मु.समाज शास्र'!N69 -> 0 | L69: =SUM(J69:K69) -> 0 | M69: =SUM(G69,L69) -> 0 | N69: =ROUND(M69/2,0) -> 0 | O69: - | P69: =SUM(N69:O69) -> 0 | Q69: =IF(P69>=35,"Pass","Fail") -> Fail
A70: Easy Result System By :- Sachin Wakchaure (9822882466)
B72: =MASTER!B20 -> श्री. लेंडे के. व्ही./ श्री.कोटकर एस.बी. | H72: =MASTER!B8 -> श्री. लेंडे किरण विठ्ठल
B73: विषय शिक्षिक | H73: मुख्याध्यापक

Sheet अं.मु.समाज शास्र
A1: =MASTER!B5 -> अनुदानित माध्यमिक आश्रमशाळा, एकदरे, ता. अकोले जि. अहिल्यानगर
A3: इ.- | B3: =MASTER!B6 -> 9 वी | C3: अंतर्गत मूल्यमापन | H3: =MASTER!F20 -> विषय - समाजशास्रे
A4: =MASTER!C7 -> वर्ग शिक्षक- श्री. ढगे भरत बुधाजी | E4: =MASTER!C20 -> विषय शिक्षक- श्री. लेंडे के. व्ही./ श्री.कोटकर एस.बी.
A5: परीक्षा नं. | B5: विद्यार्थ्याचे नाव | C5: प्रथम सत्र | I5: व्दितीय सत्र
C6: इति.+रा.शा | E6: भूगोल | G6: एकूण | H6: रुपांतरीएकूण | I6: इति.+रा.शा | K6: भूगोल | M6: एकूण | N6: रुपांतरीएकूण
C7: गृहपाठ | D7: बहुपर्यायी चा. | E7: गृहपाठ | F7: बहुपर्यायी चा. | I7: गृहपाठ | J7: बहुपर्यायी चा. | K7: गृहपाठ | L7: बहुपर्यायी चा.
C9: 10 | D9: 10 | E9: 10 | F9: 10 | G9: =SUM(C9:F9) -> 40 | H9: =ROUND(G9/2,0) -> 20 | I9: 10 | J9: 10 | K9: 10 | L9: 10 | M9: =SUM(I9:L9) -> 40 | N9: =ROUND(M9/2,0) -> 20
A10: ='विद्य्र्थ्याची माहिती'!A10 -> 1 | B10: ='विद्य्र्थ्याची माहिती'!B10 -> चि. समीर यशवंत देशमुख सखाराम | C10: 5 | D10: 6 | E10: 6 | F10: 4 | G10: =SUM(C10:F10) -> 21 | H10: =ROUND(G10/2,0) -> 11 | I10: 8 | J10: 8 | K10: 9 | L10: 6 | M10: =SUM(I10:L10) -> 31 | N10: =ROUND(M10/2,0) -> 16
A11: ='विद्य्र्थ्याची माहिती'!A11 -> 2 | B11: ='विद्य्र्थ्याची माहिती'!B11 -> 0 | G11: =SUM(C11:F11) -> 0 | H11: =ROUND(G11/2,0) -> 0 | M11: =SUM(I11:L11) -> 0 | N11: =ROUND(M11/2,0) -> 0
A12: ='विद्य्र्थ्याची माहिती'!A12 -> 3 | B12: ='विद्य्र्थ्याची माहिती'!B12 -> 0 | G12: =SUM(C12:F12) -> 0 | H12: =ROUND(G12/2,0) -> 0 | M12: =SUM(I12:L12) -> 0 | N12: =ROUND(M12/2,0) -> 0
A13: ='विद्य्र्थ्याची माहिती'!A13 -> 4 | B13: ='विद्य्र्थ्याची माहिती'!B13 -> 0 | G13: =SUM(C13:F13) -> 0 | H13: =ROUND(G13/2,0) -> 0 | M13: =SUM(I13:L13) -> 0 | N13: =ROUND(M13/2,0) -> 0
A14: ='विद्य्र्थ्याची माहिती'!A14 -> 5 | B14: ='विद्य्र्थ्याची माहिती'!B14 -> 0 | G14: =SUM(C14:F14) -> 0 | H14: =ROUND(G14/2,0) -> 0 | M14: =SUM(I14:L14) -> 0 | N14: =ROUND(M14/2,0) -> 0
A15: ='विद्य्र्थ्याची माहिती'!A15 -> 6 | B15: ='विद्य्र्थ्याची माहिती'!B15 -> 0 | G15: =SUM(C15:F15) -> 0 | H15: =ROUND(G15/2,0) -> 0 | M15: =SUM(I15:L15) -> 0 | N15: =ROUND(M15/2,0) -> 0
A16: ='विद्य्र्थ्याची माहिती'!A16 -> 7 | B16: ='विद्य्र्थ्याची माहिती'!B16 -> 0 | G16: =SUM(C16:F16) -> 0 | H16: =ROUND(G16/2,0) -> 0 | M16: =SUM(I16:L16) -> 0 | N16: =ROUND(M16/2,0) -> 0
A17: ='विद्य्र्थ्याची माहिती'!A17 -> 8 | B17: ='विद्य्र्थ्याची माहिती'!B17 -> 0 | G17: =SUM(C17:F17) -> 0 | H17: =ROUND(G17/2,0) -> 0 | M17: =SUM(I17:L17) -> 0 | N17: =ROUND(M17/2,0) -> 0
A18: ='विद्य्र्थ्याची माहिती'!A18 -> 9 | B18: ='विद्य्र्थ्याची माहिती'!B18 -> 0 | G18: =SUM(C18:F18) -> 0 | H18: =ROUND(G18/2,0) -> 0 | M18: =SUM(I18:L18) -> 0 | N18: =ROUND(M18/2,0) -> 0
A19: ='विद्य्र्थ्याची माहिती'!A19 -> 10 | B19: ='विद्य्र्थ्याची माहिती'!B19 -> 0 | G19: =SUM(C19:F19) -> 0 | H19: =ROUND(G19/2,0) -> 0 | M19: =SUM(I19:L19) -> 0 | N19: =ROUND(M19/2,0) -> 0
A20: ='विद्य्र्थ्याची माहिती'!A20 -> 11 | B20: ='विद्य्र्थ्याची माहिती'!B20 -> 0 | G20: =SUM(C20:F20) -> 0 | H20: =ROUND(G20/2,0) -> 0 | M20: =SUM(I20:L20) -> 0 | N20: =ROUND(M20/2,0) -> 0
A21: ='विद्य्र्थ्याची माहिती'!A21 -> 12 | B21: ='विद्य्र्थ्याची माहिती'!B21 -> 0 | G21: =SUM(C21:F21) -> 0 | H21: =ROUND(G21/2,0) -> 0 | M21: =SUM(I21:L21) -> 0 | N21: =ROUND(M21/2,0) -> 0
A22: ='विद्य्र्थ्याची माहिती'!A22 -> 13 | B22: ='विद्य्र्थ्याची माहिती'!B22 -> 0 | G22: =SUM(C22:F22) -> 0 | H22: =ROUND(G22/2,0) -> 0 | M22: =SUM(I22:L22) -> 0 | N22: =ROUND(M22/2,0) -> 0
... A69: ='विद्य्र्थ्याची माहिती'!A69 -> 60 | B69: ='विद्य्र्थ्याची माहिती'!B69 -> 0 | G69: =SUM(C69:F69) -> 0 | H69: =ROUND(G69/2,0) -> 0 | M69: =SUM(I69:L69) -> 0 | N69: =ROUND(M69/2,0) -> 0
A70: Easy Result System By :- Sachin Wakchaure (9822882466)
B72: =MASTER!B20 -> श्री. लेंडे के. व्ही./ श्री.कोटकर एस.बी. | J72: =MASTER!B8 -> श्री. लेंडे किरण विठ्ठल
B73: विषय शिक्षक | J73: मुख्याध्यापक

Sheet आ.शा.शिक्षण
A1: =MASTER!B5 -> अनुदानित माध्यमिक आश्रमशाळा, एकदरे, ता. अकोले जि. अहिल्यानगर
A3: इ.- | B3: =MASTER!B6 -> 9 वी | J3: विषय- आरोग्य व शारीरिक शिक्षण
A4: =MASTER!H15 -> वार्षिक निकाल पत्रक (सन 2026-2027)
A5: =MASTER!C7 -> वर्ग शिक्षक- श्री. ढगे भरत बुधाजी | G5: =MASTER!C21 -> विषय शिक्षक- श्री. खरात दिलीप मुरलीधर
A6: हजेरी क्र | B6: विद्यार्थ्याचे नाव | C6: प्रथम सत्र (अ) | I6: द्वितीय सत्र (ब) | O6: महान एकूण (अ+ब)/2 | P6: श्रेणी
C7: बेंट नी सिट-अप्स / पूल अप्स | D7: रन-वॉक-रन मुली-९मी/ मुले १२ मी | E7: सिट & रिच | F7: पुश-अप्स(मुले)/ मॉ.पुश-अप्स(मुली) | G7: सिटींग बॉल थ्रो | H7: एकूण | I7: ५०मी. धावणे | J7: ४X१० शटल रन | K7: स्टॅडिंग ब्रॉड जंम्प | L7: रोप स्किपींग-१मी. | M7: वॉल-व्हॉली (१मी.) | N7: एकूण
C9: 20 | D9: 20 | E9: 20 | F9: 20 | G9: 20 | H9: =SUM(C9:G9) -> 100 | I9: 20 | J9: 20 | K9: 20 | L9: 20 | M9: 20 | N9: =SUM(I9:M9) -> 100 | O9: =ROUND((H9+N9)/2,0) -> 100 | P9: =IF(O9>=60,"A",IF(O9>=45,"B",IF(O9>=35,"C",IF(O9>=35,"D","D")))) -> A
A10: ='विद्य्र्थ्याची माहिती'!A10 -> 1 | B10: ='विद्य्र्थ्याची माहिती'!B10 -> चि. समीर यशवंत देशमुख सखाराम | C10: 12 | D10: 14 | E10: 16 | F10: 11 | G10: 14 | H10: =SUM(C10:G10) -> 67 | I10: 14 | J10: 16 | K10: 15 | L10: 13 | M10: 15 | N10: =SUM(I10:M10) -> 73 | O10: =ROUND((H10+N10)/2,0) -> 70 | P10: =IF(O10>=60,"A",IF(O10>=45,"B",IF(O10>=35,"C",IF(O10>=35,"D","D")))) -> A
A11: ='विद्य्र्थ्याची माहिती'!A11 -> 2 | B11: ='विद्य्र्थ्याची माहिती'!B11 -> 0 | H11: =SUM(C11:G11) -> 0 | N11: =SUM(I11:M11) -> 0 | O11: =ROUND((H11+N11)/2,0) -> 0 | P11: =IF(O11>=60,"A",IF(O11>=45,"B",IF(O11>=35,"C",IF(O11>=35,"D","D")))) -> D
A12: ='विद्य्र्थ्याची माहिती'!A12 -> 3 | B12: ='विद्य्र्थ्याची माहिती'!B12 -> 0 | H12: =SUM(C12:G12) -> 0 | N12: =SUM(I12:M12) -> 0 | O12: =ROUND((H12+N12)/2,0) -> 0 | P12: =IF(O12>=60,"A",IF(O12>=45,"B",IF(O12>=35,"C",IF(O12>=35,"D","D")))) -> D
A13: ='विद्य्र्थ्याची माहिती'!A13 -> 4 | B13: ='विद्य्र्थ्याची माहिती'!B13 -> 0 | H13: =SUM(C13:G13) -> 0 | N13: =SUM(I13:M13) -> 0 | O13: =ROUND((H13+N13)/2,0) -> 0 | P13: =IF(O13>=60,"A",IF(O13>=45,"B",IF(O13>=35,"C",IF(O13>=35,"D","D")))) -> D
A14: ='विद्य्र्थ्याची माहिती'!A14 -> 5 | B14: ='विद्य्र्थ्याची माहिती'!B14 -> 0 | H14: =SUM(C14:G14) -> 0 | N14: =SUM(I14:M14) -> 0 | O14: =ROUND((H14+N14)/2,0) -> 0 | P14: =IF(O14>=60,"A",IF(O14>=45,"B",IF(O14>=35,"C",IF(O14>=35,"D","D")))) -> D
A15: ='विद्य्र्थ्याची माहिती'!A15 -> 6 | B15: ='विद्य्र्थ्याची माहिती'!B15 -> 0 | H15: =SUM(C15:G15) -> 0 | N15: =SUM(I15:M15) -> 0 | O15: =ROUND((H15+N15)/2,0) -> 0 | P15: =IF(O15>=60,"A",IF(O15>=45,"B",IF(O15>=35,"C",IF(O15>=35,"D","D")))) -> D
A16: ='विद्य्र्थ्याची माहिती'!A16 -> 7 | B16: ='विद्य्र्थ्याची माहिती'!B16 -> 0 | H16: =SUM(C16:G16) -> 0 | N16: =SUM(I16:M16) -> 0 | O16: =ROUND((H16+N16)/2,0) -> 0 | P16: =IF(O16>=60,"A",IF(O16>=45,"B",IF(O16>=35,"C",IF(O16>=35,"D","D")))) -> D
A17: ='विद्य्र्थ्याची माहिती'!A17 -> 8 | B17: ='विद्य्र्थ्याची माहिती'!B17 -> 0 | H17: =SUM(C17:G17) -> 0 | N17: =SUM(I17:M17) -> 0 | O17: =ROUND((H17+N17)/2,0) -> 0 | P17: =IF(O17>=60,"A",IF(O17>=45,"B",IF(O17>=35,"C",IF(O17>=35,"D","D")))) -> D
A18: ='विद्य्र्थ्याची माहिती'!A18 -> 9 | B18: ='विद्य्र्थ्याची माहिती'!B18 -> 0 | H18: =SUM(C18:G18) -> 0 | N18: =SUM(I18:M18) -> 0 | O18: =ROUND((H18+N18)/2,0) -> 0 | P18: =IF(O18>=60,"A",IF(O18>=45,"B",IF(O18>=35,"C",IF(O18>=35,"D","D")))) -> D
A19: ='विद्य्र्थ्याची माहिती'!A19 -> 10 | B19: ='विद्य्र्थ्याची माहिती'!B19 -> 0 | H19: =SUM(C19:G19) -> 0 | N19: =SUM(I19:M19) -> 0 | O19: =ROUND((H19+N19)/2,0) -> 0 | P19: =IF(O19>=60,"A",IF(O19>=45,"B",IF(O19>=35,"C",IF(O19>=35,"D","D")))) -> D
A20: ='विद्य्र्थ्याची माहिती'!A20 -> 11 | B20: ='विद्य्र्थ्याची माहिती'!B20 -> 0 | H20: =SUM(C20:G20) -> 0 | N20: =SUM(I20:M20) -> 0 | O20: =ROUND((H20+N20)/2,0) -> 0 | P20: =IF(O20>=60,"A",IF(O20>=45,"B",IF(O20>=35,"C",IF(O20>=35,"D","D")))) -> D
A21: ='विद्य्र्थ्याची माहिती'!A21 -> 12 | B21: ='विद्य्र्थ्याची माहिती'!B21 -> 0 | H21: =SUM(C21:G21) -> 0 | N21: =SUM(I21:M21) -> 0 | O21: =ROUND((H21+N21)/2,0) -> 0 | P21: =IF(O21>=60,"A",IF(O21>=45,"B",IF(O21>=35,"C",IF(O21>=35,"D","D")))) -> D
A22: ='विद्य्र्थ्याची माहिती'!A22 -> 13 | B22: ='विद्य्र्थ्याची माहिती'!B22 -> 0 | H22: =SUM(C22:G22) -> 0 | N22: =SUM(I22:M22) -> 0 | O22: =ROUND((H22+N22)/2,0) -> 0 | P22: =IF(O22>=60,"A",IF(O22>=45,"B",IF(O22>=35,"C",IF(O22>=35,"D","D")))) -> D
... A69: ='विद्य्र्थ्याची माहिती'!A69 -> 60 | B69: ='विद्य्र्थ्याची माहिती'!B69 -> 0 | H69: =SUM(C69:G69) -> 0 | N69: =SUM(I69:M69) -> 0 | O69: =ROUND((H69+N69)/2,0) -> 0 | P69: =IF(O69>=60,"A",IF(O69>=45,"B",IF(O69>=35,"C",IF(O69>=35,"D","D")))) -> D
A70: Easy Result System By :- Sachin Wakchaure (9822882466)
A72: =MASTER!B21 -> श्री. खरात दिलीप मुरलीधर | I72: =MASTER!B8 -> श्री. लेंडे किरण विठ्ठल
A73: विषय शिक्षक | I73: मुख्याध्यापक

Sheet जलसुरक्षा
A1: =MASTER!B5 -> अनुदानित माध्यमिक आश्रमशाळा, एकदरे, ता. अकोले जि. अहिल्यानगर
A3: इ.- | B3: =MASTER!B6 -> 9 वी | L3: विषय- जलसुरक्षा
A4: =MASTER!H15 -> वार्षिक निकाल पत्रक (सन 2026-2027)
A5: =MASTER!C7 -> वर्ग शिक्षक- श्री. ढगे भरत बुधाजी | F5: =MASTER!C22 -> विषय शिक्षक- श्री. कासार नामदेव रामनाथ
A6: हजेरी क्र | B6: विद्यार्थ्याचे नाव | C6: प्रथम सत्र (अ) | K6: द्वितीय सत्र (ब) | S6: अ+ब | T6: श्रेणी
C7: उपक्रम | D7: उपक्रम | E7: उपक्रम | F7: उपक्रम | G7: प्रकल्प | H7: तोंडी/लेखी | I7: नोंदवही | J7: एकूण | K7: उपक्रम | L7: उपक्रम | M7: उपक्रम | N7: उपक्रम | O7: प्रकल्प | P7: तोंडी/लेखी | Q7: नोंदवही | R7: एकूण
C9: 5 | D9: 5 | E9: 5 | F9: 5 | G9: 15 | H9: 10 | I9: 5 | J9: =SUM(C9:I9) -> 50 | K9: 5 | L9: 5 | M9: 5 | N9: 5 | O9: 15 | P9: 10 | Q9: 5 | R9: =SUM(K9:Q9) -> 50 | S9: =ROUND(R9+J9,0) -> 100 | T9: =IF(S9>=60,"A",IF(S9>=45,"B",IF(S9>=35,"C",IF(S9>=35,"D","D")))) -> A
A10: ='विद्य्र्थ्याची माहिती'!A10 -> 1 | B10: ='विद्य्र्थ्याची माहिती'!B10 -> चि. समीर यशवंत देशमुख सखाराम | E10: 7 | F10: 6 | G10: 6 | I10: 12 | J10: =SUM(C10:I10) -> 31 | M10: 6 | N10: 7 | O10: 7 | P10: 12 | R10: =SUM(K10:Q10) -> 32 | S10: =ROUND(R10+J10,0) -> 63 | T10: =IF(S10>=60,"A",IF(S10>=45,"B",IF(S10>=35,"C",IF(S10>=35,"D","D")))) -> A
A11: ='विद्य्र्थ्याची माहिती'!A11 -> 2 | B11: ='विद्य्र्थ्याची माहिती'!B11 -> 0 | J11: =SUM(C11:I11) -> 0 | R11: =SUM(K11:Q11) -> 0 | S11: =ROUND(R11+J11,0) -> 0 | T11: =IF(S11>=60,"A",IF(S11>=45,"B",IF(S11>=35,"C",IF(S11>=35,"D","D")))) -> D
A12: ='विद्य्र्थ्याची माहिती'!A12 -> 3 | B12: ='विद्य्र्थ्याची माहिती'!B12 -> 0 | J12: =SUM(C12:I12) -> 0 | R12: =SUM(K12:Q12) -> 0 | S12: =ROUND(R12+J12,0) -> 0 | T12: =IF(S12>=60,"A",IF(S12>=45,"B",IF(S12>=35,"C",IF(S12>=35,"D","D")))) -> D
A13: ='विद्य्र्थ्याची माहिती'!A13 -> 4 | B13: ='विद्य्र्थ्याची माहिती'!B13 -> 0 | J13: =SUM(C13:I13) -> 0 | R13: =SUM(K13:Q13) -> 0 | S13: =ROUND(R13+J13,0) -> 0 | T13: =IF(S13>=60,"A",IF(S13>=45,"B",IF(S13>=35,"C",IF(S13>=35,"D","D")))) -> D
A14: ='विद्य्र्थ्याची माहिती'!A14 -> 5 | B14: ='विद्य्र्थ्याची माहिती'!B14 -> 0 | J14: =SUM(C14:I14) -> 0 | R14: =SUM(K14:Q14) -> 0 | S14: =ROUND(R14+J14,0) -> 0 | T14: =IF(S14>=60,"A",IF(S14>=45,"B",IF(S14>=35,"C",IF(S14>=35,"D","D")))) -> D
A15: ='विद्य्र्थ्याची माहिती'!A15 -> 6 | B15: ='विद्य्र्थ्याची माहिती'!B15 -> 0 | J15: =SUM(C15:I15) -> 0 | R15: =SUM(K15:Q15) -> 0 | S15: =ROUND(R15+J15,0) -> 0 | T15: =IF(S15>=60,"A",IF(S15>=45,"B",IF(S15>=35,"C",IF(S15>=35,"D","D")))) -> D
A16: ='विद्य्र्थ्याची माहिती'!A16 -> 7 | B16: ='विद्य्र्थ्याची माहिती'!B16 -> 0 | J16: =SUM(C16:I16) -> 0 | R16: =SUM(K16:Q16) -> 0 | S16: =ROUND(R16+J16,0) -> 0 | T16: =IF(S16>=60,"A",IF(S16>=45,"B",IF(S16>=35,"C",IF(S16>=35,"D","D")))) -> D
A17: ='विद्य्र्थ्याची माहिती'!A17 -> 8 | B17: ='विद्य्र्थ्याची माहिती'!B17 -> 0 | J17: =SUM(C17:I17) -> 0 | R17: =SUM(K17:Q17) -> 0 | S17: =ROUND(R17+J17,0) -> 0 | T17: =IF(S17>=60,"A",IF(S17>=45,"B",IF(S17>=35,"C",IF(S17>=35,"D","D")))) -> D
A18: ='विद्य्र्थ्याची माहिती'!A18 -> 9 | B18: ='विद्य्र्थ्याची माहिती'!B18 -> 0 | J18: =SUM(C18:I18) -> 0 | R18: =SUM(K18:Q18) -> 0 | S18: =ROUND(R18+J18,0) -> 0 | T18: =IF(S18>=60,"A",IF(S18>=45,"B",IF(S18>=35,"C",IF(S18>=35,"D","D")))) -> D
A19: ='विद्य्र्थ्याची माहिती'!A19 -> 10 | B19: ='विद्य्र्थ्याची माहिती'!B19 -> 0 | J19: =SUM(C19:I19) -> 0 | R19: =SUM(K19:Q19) -> 0 | S19: =ROUND(R19+J19,0) -> 0 | T19: =IF(S19>=60,"A",IF(S19>=45,"B",IF(S19>=35,"C",IF(S19>=35,"D","D")))) -> D
A20: ='विद्य्र्थ्याची माहिती'!A20 -> 11 | B20: ='विद्य्र्थ्याची माहिती'!B20 -> 0 | J20: =SUM(C20:I20) -> 0 | R20: =SUM(K20:Q20) -> 0 | S20: =ROUND(R20+J20,0) -> 0 | T20: =IF(S20>=60,"A",IF(S20>=45,"B",IF(S20>=35,"C",IF(S20>=35,"D","D")))) -> D
A21: ='विद्य्र्थ्याची माहिती'!A21 -> 12 | B21: ='विद्य्र्थ्याची माहिती'!B21 -> 0 | J21: =SUM(C21:I21) -> 0 | R21: =SUM(K21:Q21) -> 0 | S21: =ROUND(R21+J21,0) -> 0 | T21: =IF(S21>=60,"A",IF(S21>=45,"B",IF(S21>=35,"C",IF(S21>=35,"D","D")))) -> D
A22: ='विद्य्र्थ्याची माहिती'!A22 -> 13 | B22: ='विद्य्र्थ्याची माहिती'!B22 -> 0 | J22: =SUM(C22:I22) -> 0 | R22: =SUM(K22:Q22) -> 0 | S22: =ROUND(R22+J22,0) -> 0 | T22: =IF(S22>=60,"A",IF(S22>=45,"B",IF(S22>=35,"C",IF(S22>=35,"D","D")))) -> D
... A56: ='विद्य्र्थ्याची माहिती'!A56 -> 47 | B56: ='विद्य्र्थ्याची माहिती'!B56 -> 0 | J56: =SUM(C56:I56) -> 0 | R56: =SUM(K56:Q56) -> 0 | S56: =ROUND(R56+J56,0) -> 0 | T56: =IF(S56>=60,"A",IF(S56>=45,"B",IF(S56>=35,"C",IF(S56>=35,"D","D")))) -> D
A57: ='विद्य्र्थ्याची माहिती'!A57 -> 48 | B57: ='विद्य्र्थ्याची माहिती'!B57 -> 0 | C57: 5 | D57: 6 | E57: 6 | F57: 4 | J57: =SUM(C57:I57) -> 21 | M57: 9.4666667 | N57: 10.266667 | O57: 5 | P57: 6 | R57: =SUM(K57:Q57) -> 30.733333 | S57: =ROUND(R57+J57,0) -> 52 | T57: =IF(S57>=60,"A",IF(S57>=45,"B",IF(S57>=35,"C",IF(S57>=35,"D","D")))) -> B
A58: ='विद्य्र्थ्याची माहिती'!A58 -> 49 | B58: ='विद्य्र्थ्याची माहिती'!B58 -> 0 | C58: 6 | D58: 4 | E58: 4 | F58: 8 | J58: =SUM(C58:I58) -> 22 | M58: 10.266667 | N58: 5 | O58: 6 | P58: 4 | R58: =SUM(K58:Q58) -> 25.266667 | S58: =ROUND(R58+J58,0) -> 47 | T58: =IF(S58>=60,"A",IF(S58>=45,"B",IF(S58>=35,"C",IF(S58>=35,"D","D")))) -> B
A59: ='विद्य्र्थ्याची माहिती'!A59 -> 50 | B59: ='विद्य्र्थ्याची माहिती'!B59 -> 0 | C59: 4 | D59: 8 | E59: 8 | F59: 9 | J59: =SUM(C59:I59) -> 29 | M59: 5 | N59: 6 | O59: 4 | P59: 8 | R59: =SUM(K59:Q59) -> 23 | S59: =ROUND(R59+J59,0) -> 52 | T59: =IF(S59>=60,"A",IF(S59>=45,"B",IF(S59>=35,"C",IF(S59>=35,"D","D")))) -> B
A60: ='विद्य्र्थ्याची माहिती'!A60 -> 51 | B60: ='विद्य्र्थ्याची माहिती'!B60 -> 0 | C60: 8 | D60: 9 | E60: 9 | F60: 8 | J60: =SUM(C60:I60) -> 34 | M60: 6 | N60: 4 | O60: 8 | P60: 9 | R60: =SUM(K60:Q60) -> 27 | S60: =ROUND(R60+J60,0) -> 61 | T60: =IF(S60>=60,"A",IF(S60>=45,"B",IF(S60>=35,"C",IF(S60>=35,"D","D")))) -> A
A61: ='विद्य्र्थ्याची माहिती'!A61 -> 52 | B61: ='विद्य्र्थ्याची माहिती'!B61 -> 0 | C61: 9 | D61: 8 | E61: 8 | F61: 5 | J61: =SUM(C61:I61) -> 30 | M61: 4 | N61: 8 | O61: 9 | P61: 8 | R61: =SUM(K61:Q61) -> 29 | S61: =ROUND(R61+J61,0) -> 59 | T61: =IF(S61>=60,"A",IF(S61>=45,"B",IF(S61>=35,"C",IF(S61>=35,"D","D")))) -> B
A62: ='विद्य्र्थ्याची माहिती'!A62 -> 53 | B62: ='विद्य्र्थ्याची माहिती'!B62 -> 0 | C62: 8 | D62: 9.4666667 | E62: 5 | F62: 6 | J62: =SUM(C62:I62) -> 28.466667 | M62: 8 | N62: 9 | O62: 8 | P62: 9.4666667 | R62: =SUM(K62:Q62) -> 34.466667 | S62: =ROUND(R62+J62,0) -> 63 | T62: =IF(S62>=60,"A",IF(S62>=45,"B",IF(S62>=35,"C",IF(S62>=35,"D","D")))) -> A
A63: ='विद्य्र्थ्याची माहिती'!A63 -> 54 | B63: ='विद्य्र्थ्याची माहिती'!B63 -> 0 | C63: 9.4666667 | D63: 10.266667 | E63: 6 | F63: 4 | J63: =SUM(C63:I63) -> 29.733333 | M63: 9 | N63: 8 | O63: 9.4666667 | P63: 10.266667 | R63: =SUM(K63:Q63) -> 36.733333 | S63: =ROUND(R63+J63,0) -> 66 | T63: =IF(S63>=60,"A",IF(S63>=45,"B",IF(S63>=35,"C",IF(S63>=35,"D","D")))) -> A
A64: ='विद्य्र्थ्याची माहिती'!A64 -> 55 | B64: ='विद्य्र्थ्याची माहिती'!B64 -> 0 | C64: 10.266667 | D64: 5 | E64: 4 | F64: 8 | J64: =SUM(C64:I64) -> 27.266667 | M64: 8 | N64: 5 | O64: 10.266667 | P64: 5 | R64: =SUM(K64:Q64) -> 28.266667 | S64: =ROUND(R64+J64,0) -> 56 | T64: =IF(S64>=60,"A",IF(S64>=45,"B",IF(S64>=35,"C",IF(S64>=35,"D","D")))) -> B
A65: ='विद्य्र्थ्याची माहिती'!A65 -> 56 | B65: ='विद्य्र्थ्याची माहिती'!B65 -> 0 | C65: 5 | D65: 6 | E65: 8 | F65: 9 | J65: =SUM(C65:I65) -> 28 | M65: 6 | N65: 4 | O65: 4 | P65: 8 | R65: =SUM(K65:Q65) -> 22 | S65: =ROUND(R65+J65,0) -> 50 | T65: =IF(S65>=60,"A",IF(S65>=45,"B",IF(S65>=35,"C",IF(S65>=35,"D","D")))) -> B
A66: ='विद्य्र्थ्याची माहिती'!A66 -> 57 | B66: ='विद्य्र्थ्याची माहिती'!B66 -> 0 | C66: 6 | D66: 4 | E66: 9 | F66: 8 | J66: =SUM(C66:I66) -> 27 | M66: 4 | N66: 8 | O66: 8 | P66: 9 | R66: =SUM(K66:Q66) -> 29 | S66: =ROUND(R66+J66,0) -> 56 | T66: =IF(S66>=60,"A",IF(S66>=45,"B",IF(S66>=35,"C",IF(S66>=35,"D","D")))) -> B
A67: ='विद्य्र्थ्याची माहिती'!A67 -> 58 | B67: ='विद्य्र्थ्याची माहिती'!B67 -> 0 | C67: 4 | D67: 8 | E67: 8 | F67: 9.4666667 | J67: =SUM(C67:I67) -> 29.466667 | M67: 8 | N67: 9 | O67: 9 | P67: 8 | R67: =SUM(K67:Q67) -> 34 | S67: =ROUND(R67+J67,0) -> 63 | T67: =IF(S67>=60,"A",IF(S67>=45,"B",IF(S67>=35,"C",IF(S67>=35,"D","D")))) -> A
A68: ='विद्य्र्थ्याची माहिती'!A68 -> 59 | B68: ='विद्य्र्थ्याची माहिती'!B68 -> 0 | C68: 8 | D68: 9 | E68: 9.4666667 | F68: 10.266667 | J68: =SUM(C68:I68) -> 36.733333 | M68: 9 | N68: 8 | O68: 8 | P68: 5 | R68: =SUM(K68:Q68) -> 30 | S68: =ROUND(R68+J68,0) -> 67 | T68: =IF(S68>=60,"A",IF(S68>=45,"B",IF(S68>=35,"C",IF(S68>=35,"D","D")))) -> A
A69: ='विद्य्र्थ्याची माहिती'!A69 -> 60 | B69: ='विद्य्र्थ्याची माहिती'!B69 -> 0 | C69: 9 | D69: 8 | E69: 10.266667 | F69: 5 | J69: =SUM(C69:I69) -> 32.266667 | M69: 8 | N69: 9.4666667 | O69: 5 | P69: 6 | R69: =SUM(K69:Q69) -> 28.466667 | S69: =ROUND(R69+J69,0) -> 61 | T69: =IF(S69>=60,"A",IF(S69>=45,"B",IF(S69>=35,"C",IF(S69>=35,"D","D")))) -> A
A70: Easy Result System By :- Sachin Wakchaure (9822882466)
A72: =MASTER!B22 -> श्री. कासार नामदेव रामनाथ | M72: =MASTER!B8 -> श्री. लेंडे किरण विठ्ठल
A73: विषय शिक्षक | M73: मुख्याध्यापक

Sheet संरक्षणशास्र
A1: =MASTER!B5 -> अनुदानित माध्यमिक आश्रमशाळा, एकदरे, ता. अकोले जि. अहिल्यानगर
A3: इ.- | B3: =MASTER!B6 -> 9 वी | C3: =MASTER!F23 -> विषय - स्काऊट गाईड
A4: =MASTER!H15 -> वार्षिक निकाल पत्रक (सन 2026-2027)
A5: =MASTER!C7 -> वर्ग शिक्षक- श्री. ढगे भरत बुधाजी | F5: =MASTER!C23 -> विषय शिक्षक- श्री. शेटे मनोज पंढरीनाथ
A6: हजेरी क्र | B6: विद्यार्थ्याचे नाव | C6: प्रथम सत्र (अ) | F6: द्वितीय सत्र (ब) | I6: अ+ब | J6: अ+ब /2 | K6: श्रेणी
C7: लेखीकाम / प्रात्य. | D7: उपक्रम प्र.सहभाग /नोंदवही | E7: एकुण | F7: लेखीकाम / प्रात्य. | G7: उपक्रम प्र.सहभाग /नोंदवही | H7: एकुण
C9: 40 | D9: 60 | E9: =SUM(C9:D9) -> 100 | F9: 40 | G9: 60 | H9: =SUM(F9:G9) -> 100 | I9: =E9+H9 -> 200 | J9: =ROUND(I9/2,0) -> 100 | K9: =IF(J9>=60,"A",IF(J9>=45,"B",IF(J9>=35,"C",IF(J9>=35,"D","D")))) -> A
A10: ='विद्य्र्थ्याची माहिती'!A10 -> 1 | B10: ='विद्य्र्थ्याची माहिती'!B10 -> चि. समीर यशवंत देशमुख सखाराम | C10: 55 | D10: 31 | E10: =SUM(C10:D10) -> 86 | F10: 37 | G10: 33 | H10: =SUM(F10:G10) -> 70 | I10: =E10+H10 -> 156 | J10: =ROUND(I10/2,0) -> 78 | K10: =IF(J10>=60,"A",IF(J10>=45,"B",IF(J10>=35,"C",IF(J10>=35,"D","D")))) -> A
A11: ='विद्य्र्थ्याची माहिती'!A11 -> 2 | B11: ='विद्य्र्थ्याची माहिती'!B11 -> 0 | E11: =SUM(C11:D11) -> 0 | H11: =SUM(F11:G11) -> 0 | I11: =E11+H11 -> 0 | J11: =ROUND(I11/2,0) -> 0 | K11: =IF(J11>=60,"A",IF(J11>=45,"B",IF(J11>=35,"C",IF(J11>=35,"D","D")))) -> D
A12: ='विद्य्र्थ्याची माहिती'!A12 -> 3 | B12: ='विद्य्र्थ्याची माहिती'!B12 -> 0 | E12: =SUM(C12:D12) -> 0 | H12: =SUM(F12:G12) -> 0 | I12: =E12+H12 -> 0 | J12: =ROUND(I12/2,0) -> 0 | K12: =IF(J12>=60,"A",IF(J12>=45,"B",IF(J12>=35,"C",IF(J12>=35,"D","D")))) -> D
A13: ='विद्य्र्थ्याची माहिती'!A13 -> 4 | B13: ='विद्य्र्थ्याची माहिती'!B13 -> 0 | E13: =SUM(C13:D13) -> 0 | H13: =SUM(F13:G13) -> 0 | I13: =E13+H13 -> 0 | J13: =ROUND(I13/2,0) -> 0 | K13: =IF(J13>=60,"A",IF(J13>=45,"B",IF(J13>=35,"C",IF(J13>=35,"D","D")))) -> D
A14: ='विद्य्र्थ्याची माहिती'!A14 -> 5 | B14: ='विद्य्र्थ्याची माहिती'!B14 -> 0 | E14: =SUM(C14:D14) -> 0 | H14: =SUM(F14:G14) -> 0 | I14: =E14+H14 -> 0 | J14: =ROUND(I14/2,0) -> 0 | K14: =IF(J14>=60,"A",IF(J14>=45,"B",IF(J14>=35,"C",IF(J14>=35,"D","D")))) -> D
A15: ='विद्य्र्थ्याची माहिती'!A15 -> 6 | B15: ='विद्य्र्थ्याची माहिती'!B15 -> 0 | E15: =SUM(C15:D15) -> 0 | H15: =SUM(F15:G15) -> 0 | I15: =E15+H15 -> 0 | J15: =ROUND(I15/2,0) -> 0 | K15: =IF(J15>=60,"A",IF(J15>=45,"B",IF(J15>=35,"C",IF(J15>=35,"D","D")))) -> D
A16: ='विद्य्र्थ्याची माहिती'!A16 -> 7 | B16: ='विद्य्र्थ्याची माहिती'!B16 -> 0 | E16: =SUM(C16:D16) -> 0 | H16: =SUM(F16:G16) -> 0 | I16: =E16+H16 -> 0 | J16: =ROUND(I16/2,0) -> 0 | K16: =IF(J16>=60,"A",IF(J16>=45,"B",IF(J16>=35,"C",IF(J16>=35,"D","D")))) -> D
A17: ='विद्य्र्थ्याची माहिती'!A17 -> 8 | B17: ='विद्य्र्थ्याची माहिती'!B17 -> 0 | E17: =SUM(C17:D17) -> 0 | H17: =SUM(F17:G17) -> 0 | I17: =E17+H17 -> 0 | J17: =ROUND(I17/2,0) -> 0 | K17: =IF(J17>=60,"A",IF(J17>=45,"B",IF(J17>=35,"C",IF(J17>=35,"D","D")))) -> D
A18: ='विद्य्र्थ्याची माहिती'!A18 -> 9 | B18: ='विद्य्र्थ्याची माहिती'!B18 -> 0 | E18: =SUM(C18:D18) -> 0 | H18: =SUM(F18:G18) -> 0 | I18: =E18+H18 -> 0 | J18: =ROUND(I18/2,0) -> 0 | K18: =IF(J18>=60,"A",IF(J18>=45,"B",IF(J18>=35,"C",IF(J18>=35,"D","D")))) -> D
A19: ='विद्य्र्थ्याची माहिती'!A19 -> 10 | B19: ='विद्य्र्थ्याची माहिती'!B19 -> 0 | E19: =SUM(C19:D19) -> 0 | H19: =SUM(F19:G19) -> 0 | I19: =E19+H19 -> 0 | J19: =ROUND(I19/2,0) -> 0 | K19: =IF(J19>=60,"A",IF(J19>=45,"B",IF(J19>=35,"C",IF(J19>=35,"D","D")))) -> D
A20: ='विद्य्र्थ्याची माहिती'!A20 -> 11 | B20: ='विद्य्र्थ्याची माहिती'!B20 -> 0 | E20: =SUM(C20:D20) -> 0 | H20: =SUM(F20:G20) -> 0 | I20: =E20+H20 -> 0 | J20: =ROUND(I20/2,0) -> 0 | K20: =IF(J20>=60,"A",IF(J20>=45,"B",IF(J20>=35,"C",IF(J20>=35,"D","D")))) -> D
A21: ='विद्य्र्थ्याची माहिती'!A21 -> 12 | B21: ='विद्य्र्थ्याची माहिती'!B21 -> 0 | E21: =SUM(C21:D21) -> 0 | H21: =SUM(F21:G21) -> 0 | I21: =E21+H21 -> 0 | J21: =ROUND(I21/2,0) -> 0 | K21: =IF(J21>=60,"A",IF(J21>=45,"B",IF(J21>=35,"C",IF(J21>=35,"D","D")))) -> D
A22: ='विद्य्र्थ्याची माहिती'!A22 -> 13 | B22: ='विद्य्र्थ्याची माहिती'!B22 -> 0 | E22: =SUM(C22:D22) -> 0 | H22: =SUM(F22:G22) -> 0 | I22: =E22+H22 -> 0 | J22: =ROUND(I22/2,0) -> 0 | K22: =IF(J22>=60,"A",IF(J22>=45,"B",IF(J22>=35,"C",IF(J22>=35,"D","D")))) -> D
... A69: ='विद्य्र्थ्याची माहिती'!A69 -> 60 | B69: ='विद्य्र्थ्याची माहिती'!B69 -> 0 | E69: =SUM(C69:D69) -> 0 | H69: =SUM(F69:G69) -> 0 | I69: =E69+H69 -> 0 | J69: =ROUND(I69/2,0) -> 0 | K69: =IF(J69>=60,"A",IF(J69>=45,"B",IF(J69>=35,"C",IF(J69>=35,"D","D")))) -> D
A70: Easy Result System By :- Sachin Wakchaure (9822882466)
A72: =MASTER!B23 -> श्री. शेटे मनोज पंढरीनाथ | H72: =MASTER!B8 -> श्री. लेंडे किरण विठ्ठल
A73: विषय शिक्षक | H73: मुख्याध्यापक

Sheet प्रथम सत्र परीक्षा निकाल पत्रक
A1: =MASTER!B5 -> अनुदानित माध्यमिक आश्रमशाळा, एकदरे, ता. अकोले जि. अहिल्यानगर
A3: इ.- | B3: =MASTER!B6 -> 9 वी
A4: =MASTER!H19 -> प्रथम सत्र परीक्षा निकाल पत्रक (सन 2026-2027)
A5: =MASTER!C7 -> वर्ग शिक्षक- श्री. ढगे भरत बुधाजी
A6: हजेरी क्र | B6: विद्यार्थ्याचे नाव | C6: =MASTER!A15 -> मराठी | D6: =MASTER!A16 -> हिंदी | E6: =MASTER!A17 -> इंग्रजी | F6: =MASTER!A18 -> गणित | G6: =MASTER!A19 -> विज्ञान | H6: =MASTER!A20 -> समाजशास्रे | I6: एकूण गुण | J6: शेकडा गुण | K6: गुणानुक्र. | L6: =MASTER!A21 -> आरोग्य व शारीरिक शिक्षण | M6: =MASTER!A22 -> जलसुरक्षा | N6: =MASTER!A23 -> स्काऊट गाईड | P6: शेरा | Q6: आ.व शा. शिक्षण | R6: श्रेणी | S6: स्व-वि. क. | T6: श्रेणी | U6: संरक्षणशास्र | V6: श्रेणी
C9: =प्र.भाषा!E9 -> 100 | D9: ='व्दि.or संयुक्त भा'!E9 -> 100 | E9: ='तृ. भाषा'!E9 -> 100 | F9: =गणित!G9 -> 100 | G9: ='विज्ञान '!G9 -> 100 | H9: ='समाज शास्र'!G9 -> 100 | I9: =SUM(C9:H9) -> 600 | J9: =ROUND(I9/6,2) -> 100 | L9: =R9 -> A | M9: =T9 -> A | N9: =V9 -> A | O9: =COUNTIF(C10,"<35")+COUNTIF(D10,"<35")+COUNTIF(E10,"<35")+COUNTIF(F10,"<35")+COUNTIF(G10,"<35")+COUNTIF(H10,"<35") -> 1 | P9: =IF(O9=0,"Pass",IF(O9=1,"F1",IF(O9=2,"F2",IF(O9=3,"F3",IF(O9=4,"F4",IF(O9=5,"F5","F6")))))) -> F1 | Q9: ='आ.शा.शिक्षण'!H9 -> 100 | R9: =IF(Q9>=60,"A",IF(Q9>=45,"B",IF(Q9>=35,"C",IF(Q9>=35,"D","D")))) -> A | S9: =जलसुरक्षा!J9 -> 50 | T9: =IF(S9*2>=60,"A",IF(S9*2>=45,"B",IF(S9*2>=35,"C",IF(S9*2>=35,"D","D")))) -> A | U9: =संरक्षणशास्र!E9 -> 100 | V9: =IF(U9>=60,"A",IF(U9>=45,"B",IF(U9>=35,"C",IF(U9>=35,"D","D")))) -> A
A10: ='विद्य्र्थ्याची माहिती'!A10 -> 1 | B10: ='विद्य्र्थ्याची माहिती'!B10 -> चि. समीर यशवंत देशमुख सखाराम | C10: =प्र.भाषा!E10 -> 80 | D10: ='व्दि.or संयुक्त भा'!E10 -> 72 | E10: ='तृ. भाषा'!E10 -> 70 | F10: =गणित!G10 -> 69 | G10: ='विज्ञान '!G10 -> 44 | H10: ='समाज शास्र'!G10 -> 22 | I10: =SUM(C10:H10) -> 357 | J10: =ROUND(I10/6,2) -> 59.5 | K10: =RANK(J10,$J$10:$J$69,0)+COUNTIF($J$10:J10,J10)-1 -> 1 | L10: =R10 -> A | M10: =T10 -> A | N10: =V10 -> A | O10: =COUNTIF(C10,"<35")+COUNTIF(D10,"<35")+COUNTIF(E10,"<35")+COUNTIF(F10,"<35")+COUNTIF(G10,"<35")+COUNTIF(H10,"<35") -> 1 | P10: =IF(O10=0,"Pass",IF(O10=1,"F1",IF(O10=2,"F2",IF(O10=3,"F3",IF(O10=4,"F4",IF(O10=5,"F5","F6")))))) -> F1 | Q10: ='आ.शा.शिक्षण'!H10 -> 67 | R10: =IF(Q10>=60,"A",IF(Q10>=45,"B",IF(Q10>=35,"C",IF(Q10>=35,"D","D")))) -> A | S10: =जलसुरक्षा!J10 -> 31 | T10: =IF(S10*2>=60,"A",IF(S10*2>=45,"B",IF(S10*2>=35,"C",IF(S10*2>=35,"D","D")))) -> A | U10: =संरक्षणशास्र!E10 -> 86 | V10: =IF(U10>=60,"A",IF(U10>=45,"B",IF(U10>=35,"C",IF(U10>=35,"D","D")))) -> A
A11: ='विद्य्र्थ्याची माहिती'!A11 -> 2 | B11: ='विद्य्र्थ्याची माहिती'!B11 -> 0 | C11: =प्र.भाषा!E11 -> 0 | D11: ='व्दि.or संयुक्त भा'!E11 -> 0 | E11: ='तृ. भाषा'!E11 -> 0 | F11: =गणित!G11 -> 0 | G11: ='विज्ञान '!G11 -> 0 | H11: ='समाज शास्र'!G11 -> 0 | I11: =SUM(C11:H11) -> 0 | J11: =ROUND(I11/6,2) -> 0 | K11: =RANK(J11,$J$10:$J$69,0)+COUNTIF($J$10:J11,J11)-1 -> 2 | L11: =R11 -> D | M11: =T11 -> D | N11: =V11 -> D | O11: =COUNTIF(C11,"<35")+COUNTIF(D11,"<35")+COUNTIF(E11,"<35")+COUNTIF(F11,"<35")+COUNTIF(G11,"<35")+COUNTIF(H11,"<35") -> 6 | P11: =IF(O11=0,"Pass",IF(O11=1,"F1",IF(O11=2,"F2",IF(O11=3,"F3",IF(O11=4,"F4",IF(O11=5,"F5","F6")))))) -> F6 | Q11: ='आ.शा.शिक्षण'!H11 -> 0 | R11: =IF(Q11>=60,"A",IF(Q11>=45,"B",IF(Q11>=35,"C",IF(Q11>=35,"D","D")))) -> D | S11: =जलसुरक्षा!J11 -> 0 | T11: =IF(S11*2>=60,"A",IF(S11*2>=45,"B",IF(S11*2>=35,"C",IF(S11*2>=35,"D","D")))) -> D | U11: =संरक्षणशास्र!E11 -> 0 | V11: =IF(U11>=60,"A",IF(U11>=45,"B",IF(U11>=35,"C",IF(U11>=35,"D","D")))) -> D
A12: ='विद्य्र्थ्याची माहिती'!A12 -> 3 | B12: ='विद्य्र्थ्याची माहिती'!B12 -> 0 | C12: =प्र.भाषा!E12 -> 0 | D12: ='व्दि.or संयुक्त भा'!E12 -> 0 | E12: ='तृ. भाषा'!E12 -> 0 | F12: =गणित!G12 -> 0 | G12: ='विज्ञान '!G12 -> 0 | H12: ='समाज शास्र'!G12 -> 0 | I12: =SUM(C12:H12) -> 0 | J12: =ROUND(I12/6,2) -> 0 | K12: =RANK(J12,$J$10:$J$69,0)+COUNTIF($J$10:J12,J12)-1 -> 3 | L12: =R12 -> D | M12: =T12 -> D | N12: =V12 -> D | O12: =COUNTIF(C12,"<35")+COUNTIF(D12,"<35")+COUNTIF(E12,"<35")+COUNTIF(F12,"<35")+COUNTIF(G12,"<35")+COUNTIF(H12,"<35") -> 6 | P12: =IF(O12=0,"Pass",IF(O12=1,"F1",IF(O12=2,"F2",IF(O12=3,"F3",IF(O12=4,"F4",IF(O12=5,"F5","F6")))))) -> F6 | Q12: ='आ.शा.शिक्षण'!H12 -> 0 | R12: =IF(Q12>=60,"A",IF(Q12>=45,"B",IF(Q12>=35,"C",IF(Q12>=35,"D","D")))) -> D | S12: =जलसुरक्षा!J12 -> 0 | T12: =IF(S12*2>=60,"A",IF(S12*2>=45,"B",IF(S12*2>=35,"C",IF(S12*2>=35,"D","D")))) -> D | U12: =संरक्षणशास्र!E12 -> 0 | V12: =IF(U12>=60,"A",IF(U12>=45,"B",IF(U12>=35,"C",IF(U12>=35,"D","D")))) -> D
A13: ='विद्य्र्थ्याची माहिती'!A13 -> 4 | B13: ='विद्य्र्थ्याची माहिती'!B13 -> 0 | C13: =प्र.भाषा!E13 -> 0 | D13: ='व्दि.or संयुक्त भा'!E13 -> 0 | E13: ='तृ. भाषा'!E13 -> 0 | F13: =गणित!G13 -> 0 | G13: ='विज्ञान '!G13 -> 0 | H13: ='समाज शास्र'!G13 -> 0 | I13: =SUM(C13:H13) -> 0 | J13: =ROUND(I13/6,2) -> 0 | K13: =RANK(J13,$J$10:$J$69,0)+COUNTIF($J$10:J13,J13)-1 -> 4 | L13: =R13 -> D | M13: =T13 -> D | N13: =V13 -> D | O13: =COUNTIF(C13,"<35")+COUNTIF(D13,"<35")+COUNTIF(E13,"<35")+COUNTIF(F13,"<35")+COUNTIF(G13,"<35")+COUNTIF(H13,"<35") -> 6 | P13: =IF(O13=0,"Pass",IF(O13=1,"F1",IF(O13=2,"F2",IF(O13=3,"F3",IF(O13=4,"F4",IF(O13=5,"F5","F6")))))) -> F6 | Q13: ='आ.शा.शिक्षण'!H13 -> 0 | R13: =IF(Q13>=60,"A",IF(Q13>=45,"B",IF(Q13>=35,"C",IF(Q13>=35,"D","D")))) -> D | S13: =जलसुरक्षा!J13 -> 0 | T13: =IF(S13*2>=60,"A",IF(S13*2>=45,"B",IF(S13*2>=35,"C",IF(S13*2>=35,"D","D")))) -> D | U13: =संरक्षणशास्र!E13 -> 0 | V13: =IF(U13>=60,"A",IF(U13>=45,"B",IF(U13>=35,"C",IF(U13>=35,"D","D")))) -> D
A14: ='विद्य्र्थ्याची माहिती'!A14 -> 5 | B14: ='विद्य्र्थ्याची माहिती'!B14 -> 0 | C14: =प्र.भाषा!E14 -> 0 | D14: ='व्दि.or संयुक्त भा'!E14 -> 0 | E14: ='तृ. भाषा'!E14 -> 0 | F14: =गणित!G14 -> 0 | G14: ='विज्ञान '!G14 -> 0 | H14: ='समाज शास्र'!G14 -> 0 | I14: =SUM(C14:H14) -> 0 | J14: =ROUND(I14/6,2) -> 0 | K14: =RANK(J14,$J$10:$J$69,0)+COUNTIF($J$10:J14,J14)-1 -> 5 | L14: =R14 -> D | M14: =T14 -> D | N14: =V14 -> D | O14: =COUNTIF(C14,"<35")+COUNTIF(D14,"<35")+COUNTIF(E14,"<35")+COUNTIF(F14,"<35")+COUNTIF(G14,"<35")+COUNTIF(H14,"<35") -> 6 | P14: =IF(O14=0,"Pass",IF(O14=1,"F1",IF(O14=2,"F2",IF(O14=3,"F3",IF(O14=4,"F4",IF(O14=5,"F5","F6")))))) -> F6 | Q14: ='आ.शा.शिक्षण'!H14 -> 0 | R14: =IF(Q14>=60,"A",IF(Q14>=45,"B",IF(Q14>=35,"C",IF(Q14>=35,"D","D")))) -> D | S14: =जलसुरक्षा!J14 -> 0 | T14: =IF(S14*2>=60,"A",IF(S14*2>=45,"B",IF(S14*2>=35,"C",IF(S14*2>=35,"D","D")))) -> D | U14: =संरक्षणशास्र!E14 -> 0 | V14: =IF(U14>=60,"A",IF(U14>=45,"B",IF(U14>=35,"C",IF(U14>=35,"D","D")))) -> D
A15: ='विद्य्र्थ्याची माहिती'!A15 -> 6 | B15: ='विद्य्र्थ्याची माहिती'!B15 -> 0 | C15: =प्र.भाषा!E15 -> 0 | D15: ='व्दि.or संयुक्त भा'!E15 -> 0 | E15: ='तृ. भाषा'!E15 -> 0 | F15: =गणित!G15 -> 0 | G15: ='विज्ञान '!G15 -> 0 | H15: ='समाज शास्र'!G15 -> 0 | I15: =SUM(C15:H15) -> 0 | J15: =ROUND(I15/6,2) -> 0 | K15: =RANK(J15,$J$10:$J$69,0)+COUNTIF($J$10:J15,J15)-1 -> 6 | L15: =R15 -> D | M15: =T15 -> D | N15: =V15 -> D | O15: =COUNTIF(C15,"<35")+COUNTIF(D15,"<35")+COUNTIF(E15,"<35")+COUNTIF(F15,"<35")+COUNTIF(G15,"<35")+COUNTIF(H15,"<35") -> 6 | P15: =IF(O15=0,"Pass",IF(O15=1,"F1",IF(O15=2,"F2",IF(O15=3,"F3",IF(O15=4,"F4",IF(O15=5,"F5","F6")))))) -> F6 | Q15: ='आ.शा.शिक्षण'!H15 -> 0 | R15: =IF(Q15>=60,"A",IF(Q15>=45,"B",IF(Q15>=35,"C",IF(Q15>=35,"D","D")))) -> D | S15: =जलसुरक्षा!J15 -> 0 | T15: =IF(S15*2>=60,"A",IF(S15*2>=45,"B",IF(S15*2>=35,"C",IF(S15*2>=35,"D","D")))) -> D | U15: =संरक्षणशास्र!E15 -> 0 | V15: =IF(U15>=60,"A",IF(U15>=45,"B",IF(U15>=35,"C",IF(U15>=35,"D","D")))) -> D
A16: ='विद्य्र्थ्याची माहिती'!A16 -> 7 | B16: ='विद्य्र्थ्याची माहिती'!B16 -> 0 | C16: =प्र.भाषा!E16 -> 0 | D16: ='व्दि.or संयुक्त भा'!E16 -> 0 | E16: ='तृ. भाषा'!E16 -> 0 | F16: =गणित!G16 -> 0 | G16: ='विज्ञान '!G16 -> 0 | H16: ='समाज शास्र'!G16 -> 0 | I16: =SUM(C16:H16) -> 0 | J16: =ROUND(I16/6,2) -> 0 | K16: =RANK(J16,$J$10:$J$69,0)+COUNTIF($J$10:J16,J16)-1 -> 7 | L16: =R16 -> D | M16: =T16 -> D | N16: =V16 -> D | O16: =COUNTIF(C16,"<35")+COUNTIF(D16,"<35")+COUNTIF(E16,"<35")+COUNTIF(F16,"<35")+COUNTIF(G16,"<35")+COUNTIF(H16,"<35") -> 6 | P16: =IF(O16=0,"Pass",IF(O16=1,"F1",IF(O16=2,"F2",IF(O16=3,"F3",IF(O16=4,"F4",IF(O16=5,"F5","F6")))))) -> F6 | Q16: ='आ.शा.शिक्षण'!H16 -> 0 | R16: =IF(Q16>=60,"A",IF(Q16>=45,"B",IF(Q16>=35,"C",IF(Q16>=35,"D","D")))) -> D | S16: =जलसुरक्षा!J16 -> 0 | T16: =IF(S16*2>=60,"A",IF(S16*2>=45,"B",IF(S16*2>=35,"C",IF(S16*2>=35,"D","D")))) -> D | U16: =संरक्षणशास्र!E16 -> 0 | V16: =IF(U16>=60,"A",IF(U16>=45,"B",IF(U16>=35,"C",IF(U16>=35,"D","D")))) -> D
A17: ='विद्य्र्थ्याची माहिती'!A17 -> 8 | B17: ='विद्य्र्थ्याची माहिती'!B17 -> 0 | C17: =प्र.भाषा!E17 -> 0 | D17: ='व्दि.or संयुक्त भा'!E17 -> 0 | E17: ='तृ. भाषा'!E17 -> 0 | F17: =गणित!G17 -> 0 | G17: ='विज्ञान '!G17 -> 0 | H17: ='समाज शास्र'!G17 -> 0 | I17: =SUM(C17:H17) -> 0 | J17: =ROUND(I17/6,2) -> 0 | K17: =RANK(J17,$J$10:$J$69,0)+COUNTIF($J$10:J17,J17)-1 -> 8 | L17: =R17 -> D | M17: =T17 -> D | N17: =V17 -> D | O17: =COUNTIF(C17,"<35")+COUNTIF(D17,"<35")+COUNTIF(E17,"<35")+COUNTIF(F17,"<35")+COUNTIF(G17,"<35")+COUNTIF(H17,"<35") -> 6 | P17: =IF(O17=0,"Pass",IF(O17=1,"F1",IF(O17=2,"F2",IF(O17=3,"F3",IF(O17=4,"F4",IF(O17=5,"F5","F6")))))) -> F6 | Q17: ='आ.शा.शिक्षण'!H17 -> 0 | R17: =IF(Q17>=60,"A",IF(Q17>=45,"B",IF(Q17>=35,"C",IF(Q17>=35,"D","D")))) -> D | S17: =जलसुरक्षा!J17 -> 0 | T17: =IF(S17*2>=60,"A",IF(S17*2>=45,"B",IF(S17*2>=35,"C",IF(S17*2>=35,"D","D")))) -> D | U17: =संरक्षणशास्र!E17 -> 0 | V17: =IF(U17>=60,"A",IF(U17>=45,"B",IF(U17>=35,"C",IF(U17>=35,"D","D")))) -> D
A18: ='विद्य्र्थ्याची माहिती'!A18 -> 9 | B18: ='विद्य्र्थ्याची माहिती'!B18 -> 0 | C18: =प्र.भाषा!E18 -> 0 | D18: ='व्दि.or संयुक्त भा'!E18 -> 0 | E18: ='तृ. भाषा'!E18 -> 0 | F18: =गणित!G18 -> 0 | G18: ='विज्ञान '!G18 -> 0 | H18: ='समाज शास्र'!G18 -> 0 | I18: =SUM(C18:H18) -> 0 | J18: =ROUND(I18/6,2) -> 0 | K18: =RANK(J18,$J$10:$J$69,0)+COUNTIF($J$10:J18,J18)-1 -> 9 | L18: =R18 -> D | M18: =T18 -> D | N18: =V18 -> D | O18: =COUNTIF(C18,"<35")+COUNTIF(D18,"<35")+COUNTIF(E18,"<35")+COUNTIF(F18,"<35")+COUNTIF(G18,"<35")+COUNTIF(H18,"<35") -> 6 | P18: =IF(O18=0,"Pass",IF(O18=1,"F1",IF(O18=2,"F2",IF(O18=3,"F3",IF(O18=4,"F4",IF(O18=5,"F5","F6")))))) -> F6 | Q18: ='आ.शा.शिक्षण'!H18 -> 0 | R18: =IF(Q18>=60,"A",IF(Q18>=45,"B",IF(Q18>=35,"C",IF(Q18>=35,"D","D")))) -> D | S18: =जलसुरक्षा!J18 -> 0 | T18: =IF(S18*2>=60,"A",IF(S18*2>=45,"B",IF(S18*2>=35,"C",IF(S18*2>=35,"D","D")))) -> D | U18: =संरक्षणशास्र!E18 -> 0 | V18: =IF(U18>=60,"A",IF(U18>=45,"B",IF(U18>=35,"C",IF(U18>=35,"D","D")))) -> D
A19: ='विद्य्र्थ्याची माहिती'!A19 -> 10 | B19: ='विद्य्र्थ्याची माहिती'!B19 -> 0 | C19: =प्र.भाषा!E19 -> 0 | D19: ='व्दि.or संयुक्त भा'!E19 -> 0 | E19: ='तृ. भाषा'!E19 -> 0 | F19: =गणित!G19 -> 0 | G19: ='विज्ञान '!G19 -> 0 | H19: ='समाज शास्र'!G19 -> 0 | I19: =SUM(C19:H19) -> 0 | J19: =ROUND(I19/6,2) -> 0 | K19: =RANK(J19,$J$10:$J$69,0)+COUNTIF($J$10:J19,J19)-1 -> 10 | L19: =R19 -> D | M19: =T19 -> D | N19: =V19 -> D | O19: =COUNTIF(C19,"<35")+COUNTIF(D19,"<35")+COUNTIF(E19,"<35")+COUNTIF(F19,"<35")+COUNTIF(G19,"<35")+COUNTIF(H19,"<35") -> 6 | P19: =IF(O19=0,"Pass",IF(O19=1,"F1",IF(O19=2,"F2",IF(O19=3,"F3",IF(O19=4,"F4",IF(O19=5,"F5","F6")))))) -> F6 | Q19: ='आ.शा.शिक्षण'!H19 -> 0 | R19: =IF(Q19>=60,"A",IF(Q19>=45,"B",IF(Q19>=35,"C",IF(Q19>=35,"D","D")))) -> D | S19: =जलसुरक्षा!J19 -> 0 | T19: =IF(S19*2>=60,"A",IF(S19*2>=45,"B",IF(S19*2>=35,"C",IF(S19*2>=35,"D","D")))) -> D | U19: =संरक्षणशास्र!E19 -> 0 | V19: =IF(U19>=60,"A",IF(U19>=45,"B",IF(U19>=35,"C",IF(U19>=35,"D","D")))) -> D
A20: ='विद्य्र्थ्याची माहिती'!A20 -> 11 | B20: ='विद्य्र्थ्याची माहिती'!B20 -> 0 | C20: =प्र.भाषा!E20 -> 0 | D20: ='व्दि.or संयुक्त भा'!E20 -> 0 | E20: ='तृ. भाषा'!E20 -> 0 | F20: =गणित!G20 -> 0 | G20: ='विज्ञान '!G20 -> 0 | H20: ='समाज शास्र'!G20 -> 0 | I20: =SUM(C20:H20) -> 0 | J20: =ROUND(I20/6,2) -> 0 | K20: =RANK(J20,$J$10:$J$69,0)+COUNTIF($J$10:J20,J20)-1 -> 11 | L20: =R20 -> D | M20: =T20 -> D | N20: =V20 -> D | O20: =COUNTIF(C20,"<35")+COUNTIF(D20,"<35")+COUNTIF(E20,"<35")+COUNTIF(F20,"<35")+COUNTIF(G20,"<35")+COUNTIF(H20,"<35") -> 6 | P20: =IF(O20=0,"Pass",IF(O20=1,"F1",IF(O20=2,"F2",IF(O20=3,"F3",IF(O20=4,"F4",IF(O20=5,"F5","F6")))))) -> F6 | Q20: ='आ.शा.शिक्षण'!H20 -> 0 | R20: =IF(Q20>=60,"A",IF(Q20>=45,"B",IF(Q20>=35,"C",IF(Q20>=35,"D","D")))) -> D | S20: =जलसुरक्षा!J20 -> 0 | T20: =IF(S20*2>=60,"A",IF(S20*2>=45,"B",IF(S20*2>=35,"C",IF(S20*2>=35,"D","D")))) -> D | U20: =संरक्षणशास्र!E20 -> 0 | V20: =IF(U20>=60,"A",IF(U20>=45,"B",IF(U20>=35,"C",IF(U20>=35,"D","D")))) -> D
A21: ='विद्य्र्थ्याची माहिती'!A21 -> 12 | B21: ='विद्य्र्थ्याची माहिती'!B21 -> 0 | C21: =प्र.भाषा!E21 -> 0 | D21: ='व्दि.or संयुक्त भा'!E21 -> 0 | E21: ='तृ. भाषा'!E21 -> 0 | F21: =गणित!G21 -> 0 | G21: ='विज्ञान '!G21 -> 0 | H21: ='समाज शास्र'!G21 -> 0 | I21: =SUM(C21:H21) -> 0 | J21: =ROUND(I21/6,2) -> 0 | K21: =RANK(J21,$J$10:$J$69,0)+COUNTIF($J$10:J21,J21)-1 -> 12 | L21: =R21 -> D | M21: =T21 -> D | N21: =V21 -> D | O21: =COUNTIF(C21,"<35")+COUNTIF(D21,"<35")+COUNTIF(E21,"<35")+COUNTIF(F21,"<35")+COUNTIF(G21,"<35")+COUNTIF(H21,"<35") -> 6 | P21: =IF(O21=0,"Pass",IF(O21=1,"F1",IF(O21=2,"F2",IF(O21=3,"F3",IF(O21=4,"F4",IF(O21=5,"F5","F6")))))) -> F6 | Q21: ='आ.शा.शिक्षण'!H21 -> 0 | R21: =IF(Q21>=60,"A",IF(Q21>=45,"B",IF(Q21>=35,"C",IF(Q21>=35,"D","D")))) -> D | S21: =जलसुरक्षा!J21 -> 0 | T21: =IF(S21*2>=60,"A",IF(S21*2>=45,"B",IF(S21*2>=35,"C",IF(S21*2>=35,"D","D")))) -> D | U21: =संरक्षणशास्र!E21 -> 0 | V21: =IF(U21>=60,"A",IF(U21>=45,"B",IF(U21>=35,"C",IF(U21>=35,"D","D")))) -> D
... A69: ='विद्य्र्थ्याची माहिती'!A69 -> 60 | B69: ='विद्य्र्थ्याची माहिती'!B69 -> 0 | C69: =प्र.भाषा!E69 -> 0 | D69: ='व्दि.or संयुक्त भा'!E69 -> 0 | E69: ='तृ. भाषा'!E69 -> 0 | F69: =गणित!G69 -> 0 | G69: ='विज्ञान '!G69 -> 0 | H69: ='समाज शास्र'!G69 -> 0 | I69: =SUM(C69:H69) -> 0 | J69: =ROUND(I69/6,2) -> 0 | K69: =RANK(J69,$J$10:$J$69,0)+COUNTIF($J$10:J69,J69)-1 -> 60 | L69: =R69 -> D | M69: =T69 -> A | N69: =V69 -> D | O69: =COUNTIF(C69,"<35")+COUNTIF(D69,"<35")+COUNTIF(E69,"<35")+COUNTIF(F69,"<35")+COUNTIF(G69,"<35")+COUNTIF(H69,"<35") -> 6 | P69: =IF(O69=0,"Pass",IF(O69=1,"F1",IF(O69=2,"F2",IF(O69=3,"F3",IF(O69=4,"F4",IF(O69=5,"F5","F6")))))) -> F6 | Q69: ='आ.शा.शिक्षण'!H69 -> 0 | R69: =IF(Q69>=60,"A",IF(Q69>=45,"B",IF(Q69>=35,"C",IF(Q69>=35,"D","D")))) -> D | S69: =जलसुरक्षा!J69 -> 32.266667 | T69: =IF(S69*2>=60,"A",IF(S69*2>=45,"B",IF(S69*2>=35,"C",IF(S69*2>=35,"D","D")))) -> A | U69: =संरक्षणशास्र!E69 -> 0 | V69: =IF(U69>=60,"A",IF(U69>=45,"B",IF(U69>=35,"C",IF(U69>=35,"D","D")))) -> D
A70: Easy Result System By :- Sachin Wakchaure (9822882466)
A72: =MASTER!B7 -> श्री. ढगे भरत बुधाजी | I72: =MASTER!B8 -> श्री. लेंडे किरण विठ्ठल
A73: वर्ग शिक्षक | I73: मुख्याध्यापक

Sheet व्दितीय सत्र निकाल पत्रक
A1: =MASTER!B5 -> अनुदानित माध्यमिक आश्रमशाळा, एकदरे, ता. अकोले जि. अहिल्यानगर
A3: इ.- | B3: =MASTER!B6 -> 9 वी
A4: =MASTER!H20 -> व्दितीय सत्र परीक्षा निकाल पत्रक (सन 2026-2027)
A5: =MASTER!C7 -> वर्ग शिक्षक- श्री. ढगे भरत बुधाजी
A6: हजेरी क्र | B6: विद्यार्थ्याचे नाव | C6: =MASTER!A15 -> मराठी | D6: =MASTER!A16 -> हिंदी | E6: =MASTER!A17 -> इंग्रजी | F6: =MASTER!A18 -> गणित | G6: =MASTER!A19 -> विज्ञान | H6: =MASTER!A20 -> समाजशास्रे | I6: एकूण गुण | J6: शेकडा गुण | K6: गुणानुक्र. | L6: =MASTER!A21 -> आरोग्य व शारीरिक शिक्षण | M6: =MASTER!A22 -> जलसुरक्षा | N6: =MASTER!A23 -> स्काऊट गाईड | P6: शेरा
C9: =प्र.भाषा!H9 -> 100 | D9: ='व्दि.or संयुक्त भा'!H9 -> 100 | E9: ='तृ. भाषा'!H9 -> 100 | F9: =गणित!L9 -> 100 | G9: ='विज्ञान '!L9 -> 100 | H9: ='समाज शास्र'!L9 -> 100 | I9: =SUM(C9:H9) -> 600 | J9: =ROUND(I9/6,2) -> 100 | L9: -- | M9: -- | N9: -- | O9: =COUNTIF(C10,"<35")+COUNTIF(D10,"<35")+COUNTIF(E10,"<35")+COUNTIF(F10,"<35")+COUNTIF(G10,"<35")+COUNTIF(H10,"<35") -> 0 | P9: =IF(O9=0,"Pass",IF(O9=1,"F1",IF(O9=2,"F2",IF(O9=3,"F3",IF(O9=4,"F4",IF(O9=5,"F5","F6")))))) -> Pass
A10: ='विद्य्र्थ्याची माहिती'!A10 -> 1 | B10: ='विद्य्र्थ्याची माहिती'!B10 -> चि. समीर यशवंत देशमुख सखाराम | C10: =प्र.भाषा!H10 -> 70 | D10: ='व्दि.or संयुक्त भा'!H10 -> 63 | E10: ='तृ. भाषा'!H10 -> 69 | F10: =गणित!L10 -> 58 | G10: ='विज्ञान '!L10 -> 49 | H10: ='समाज शास्र'!L10 -> 63 | I10: =SUM(C10:H10) -> 372 | J10: =ROUND(I10/6,2) -> 62 | K10: =RANK(J10,$J$10:$J$69,0)+COUNTIF($J$10:J10,J10)-1 -> 1 | L10: -- | M10: -- | N10: -- | O10: =COUNTIF(C10,"<35")+COUNTIF(D10,"<35")+COUNTIF(E10,"<35")+COUNTIF(F10,"<35")+COUNTIF(G10,"<35")+COUNTIF(H10,"<35") -> 0 | P10: =IF(O10=0,"Pass",IF(O10=1,"F1",IF(O10=2,"F2",IF(O10=3,"F3",IF(O10=4,"F4",IF(O10=5,"F5","F6")))))) -> Pass
A11: ='विद्य्र्थ्याची माहिती'!A11 -> 2 | B11: ='विद्य्र्थ्याची माहिती'!B11 -> 0 | C11: =प्र.भाषा!H11 -> 75 | D11: ='व्दि.or संयुक्त भा'!H11 -> 0 | E11: ='तृ. भाषा'!H11 -> 0 | F11: =गणित!L11 -> 0 | G11: ='विज्ञान '!L11 -> 0 | H11: ='समाज शास्र'!L11 -> 0 | I11: =SUM(C11:H11) -> 75 | J11: =ROUND(I11/6,2) -> 12.5 | K11: =RANK(J11,$J$10:$J$69,0)+COUNTIF($J$10:J11,J11)-1 -> 3 | L11: -- | M11: -- | N11: -- | O11: =COUNTIF(C11,"<35")+COUNTIF(D11,"<35")+COUNTIF(E11,"<35")+COUNTIF(F11,"<35")+COUNTIF(G11,"<35")+COUNTIF(H11,"<35") -> 5 | P11: =IF(O11=0,"Pass",IF(O11=1,"F1",IF(O11=2,"F2",IF(O11=3,"F3",IF(O11=4,"F4",IF(O11=5,"F5","F6")))))) -> F5
A12: ='विद्य्र्थ्याची माहिती'!A12 -> 3 | B12: ='विद्य्र्थ्याची माहिती'!B12 -> 0 | C12: =प्र.भाषा!H12 -> 85 | D12: ='व्दि.or संयुक्त भा'!H12 -> 0 | E12: ='तृ. भाषा'!H12 -> 0 | F12: =गणित!L12 -> 0 | G12: ='विज्ञान '!L12 -> 0 | H12: ='समाज शास्र'!L12 -> 0 | I12: =SUM(C12:H12) -> 85 | J12: =ROUND(I12/6,2) -> 14.17 | K12: =RANK(J12,$J$10:$J$69,0)+COUNTIF($J$10:J12,J12)-1 -> 2 | L12: -- | M12: -- | N12: -- | O12: =COUNTIF(C12,"<35")+COUNTIF(D12,"<35")+COUNTIF(E12,"<35")+COUNTIF(F12,"<35")+COUNTIF(G12,"<35")+COUNTIF(H12,"<35") -> 5 | P12: =IF(O12=0,"Pass",IF(O12=1,"F1",IF(O12=2,"F2",IF(O12=3,"F3",IF(O12=4,"F4",IF(O12=5,"F5","F6")))))) -> F5
A13: ='विद्य्र्थ्याची माहिती'!A13 -> 4 | B13: ='विद्य्र्थ्याची माहिती'!B13 -> 0 | C13: =प्र.भाषा!H13 -> 0 | D13: ='व्दि.or संयुक्त भा'!H13 -> 0 | E13: ='तृ. भाषा'!H13 -> 0 | F13: =गणित!L13 -> 0 | G13: ='विज्ञान '!L13 -> 0 | H13: ='समाज शास्र'!L13 -> 0 | I13: =SUM(C13:H13) -> 0 | J13: =ROUND(I13/6,2) -> 0 | K13: =RANK(J13,$J$10:$J$69,0)+COUNTIF($J$10:J13,J13)-1 -> 4 | L13: -- | M13: -- | N13: -- | O13: =COUNTIF(C13,"<35")+COUNTIF(D13,"<35")+COUNTIF(E13,"<35")+COUNTIF(F13,"<35")+COUNTIF(G13,"<35")+COUNTIF(H13,"<35") -> 6 | P13: =IF(O13=0,"Pass",IF(O13=1,"F1",IF(O13=2,"F2",IF(O13=3,"F3",IF(O13=4,"F4",IF(O13=5,"F5","F6")))))) -> F6
A14: ='विद्य्र्थ्याची माहिती'!A14 -> 5 | B14: ='विद्य्र्थ्याची माहिती'!B14 -> 0 | C14: =प्र.भाषा!H14 -> 0 | D14: ='व्दि.or संयुक्त भा'!H14 -> 0 | E14: ='तृ. भाषा'!H14 -> 0 | F14: =गणित!L14 -> 0 | G14: ='विज्ञान '!L14 -> 0 | H14: ='समाज शास्र'!L14 -> 0 | I14: =SUM(C14:H14) -> 0 | J14: =ROUND(I14/6,2) -> 0 | K14: =RANK(J14,$J$10:$J$69,0)+COUNTIF($J$10:J14,J14)-1 -> 5 | L14: -- | M14: -- | N14: -- | O14: =COUNTIF(C14,"<35")+COUNTIF(D14,"<35")+COUNTIF(E14,"<35")+COUNTIF(F14,"<35")+COUNTIF(G14,"<35")+COUNTIF(H14,"<35") -> 6 | P14: =IF(O14=0,"Pass",IF(O14=1,"F1",IF(O14=2,"F2",IF(O14=3,"F3",IF(O14=4,"F4",IF(O14=5,"F5","F6")))))) -> F6
A15: ='विद्य्र्थ्याची माहिती'!A15 -> 6 | B15: ='विद्य्र्थ्याची माहिती'!B15 -> 0 | C15: =प्र.भाषा!H15 -> 0 | D15: ='व्दि.or संयुक्त भा'!H15 -> 0 | E15: ='तृ. भाषा'!H15 -> 0 | F15: =गणित!L15 -> 0 | G15: ='विज्ञान '!L15 -> 0 | H15: ='समाज शास्र'!L15 -> 0 | I15: =SUM(C15:H15) -> 0 | J15: =ROUND(I15/6,2) -> 0 | K15: =RANK(J15,$J$10:$J$69,0)+COUNTIF($J$10:J15,J15)-1 -> 6 | L15: -- | M15: -- | N15: -- | O15: =COUNTIF(C15,"<35")+COUNTIF(D15,"<35")+COUNTIF(E15,"<35")+COUNTIF(F15,"<35")+COUNTIF(G15,"<35")+COUNTIF(H15,"<35") -> 6 | P15: =IF(O15=0,"Pass",IF(O15=1,"F1",IF(O15=2,"F2",IF(O15=3,"F3",IF(O15=4,"F4",IF(O15=5,"F5","F6")))))) -> F6
A16: ='विद्य्र्थ्याची माहिती'!A16 -> 7 | B16: ='विद्य्र्थ्याची माहिती'!B16 -> 0 | C16: =प्र.भाषा!H16 -> 0 | D16: ='व्दि.or संयुक्त भा'!H16 -> 0 | E16: ='तृ. भाषा'!H16 -> 0 | F16: =गणित!L16 -> 0 | G16: ='विज्ञान '!L16 -> 0 | H16: ='समाज शास्र'!L16 -> 0 | I16: =SUM(C16:H16) -> 0 | J16: =ROUND(I16/6,2) -> 0 | K16: =RANK(J16,$J$10:$J$69,0)+COUNTIF($J$10:J16,J16)-1 -> 7 | L16: -- | M16: -- | N16: -- | O16: =COUNTIF(C16,"<35")+COUNTIF(D16,"<35")+COUNTIF(E16,"<35")+COUNTIF(F16,"<35")+COUNTIF(G16,"<35")+COUNTIF(H16,"<35") -> 6 | P16: =IF(O16=0,"Pass",IF(O16=1,"F1",IF(O16=2,"F2",IF(O16=3,"F3",IF(O16=4,"F4",IF(O16=5,"F5","F6")))))) -> F6
A17: ='विद्य्र्थ्याची माहिती'!A17 -> 8 | B17: ='विद्य्र्थ्याची माहिती'!B17 -> 0 | C17: =प्र.भाषा!H17 -> 0 | D17: ='व्दि.or संयुक्त भा'!H17 -> 0 | E17: ='तृ. भाषा'!H17 -> 0 | F17: =गणित!L17 -> 0 | G17: ='विज्ञान '!L17 -> 0 | H17: ='समाज शास्र'!L17 -> 0 | I17: =SUM(C17:H17) -> 0 | J17: =ROUND(I17/6,2) -> 0 | K17: =RANK(J17,$J$10:$J$69,0)+COUNTIF($J$10:J17,J17)-1 -> 8 | L17: -- | M17: -- | N17: -- | O17: =COUNTIF(C17,"<35")+COUNTIF(D17,"<35")+COUNTIF(E17,"<35")+COUNTIF(F17,"<35")+COUNTIF(G17,"<35")+COUNTIF(H17,"<35") -> 6 | P17: =IF(O17=0,"Pass",IF(O17=1,"F1",IF(O17=2,"F2",IF(O17=3,"F3",IF(O17=4,"F4",IF(O17=5,"F5","F6")))))) -> F6
A18: ='विद्य्र्थ्याची माहिती'!A18 -> 9 | B18: ='विद्य्र्थ्याची माहिती'!B18 -> 0 | C18: =प्र.भाषा!H18 -> 0 | D18: ='व्दि.or संयुक्त भा'!H18 -> 0 | E18: ='तृ. भाषा'!H18 -> 0 | F18: =गणित!L18 -> 0 | G18: ='विज्ञान '!L18 -> 0 | H18: ='समाज शास्र'!L18 -> 0 | I18: =SUM(C18:H18) -> 0 | J18: =ROUND(I18/6,2) -> 0 | K18: =RANK(J18,$J$10:$J$69,0)+COUNTIF($J$10:J18,J18)-1 -> 9 | L18: -- | M18: -- | N18: -- | O18: =COUNTIF(C18,"<35")+COUNTIF(D18,"<35")+COUNTIF(E18,"<35")+COUNTIF(F18,"<35")+COUNTIF(G18,"<35")+COUNTIF(H18,"<35") -> 6 | P18: =IF(O18=0,"Pass",IF(O18=1,"F1",IF(O18=2,"F2",IF(O18=3,"F3",IF(O18=4,"F4",IF(O18=5,"F5","F6")))))) -> F6
A19: ='विद्य्र्थ्याची माहिती'!A19 -> 10 | B19: ='विद्य्र्थ्याची माहिती'!B19 -> 0 | C19: =प्र.भाषा!H19 -> 0 | D19: ='व्दि.or संयुक्त भा'!H19 -> 0 | E19: ='तृ. भाषा'!H19 -> 0 | F19: =गणित!L19 -> 0 | G19: ='विज्ञान '!L19 -> 0 | H19: ='समाज शास्र'!L19 -> 0 | I19: =SUM(C19:H19) -> 0 | J19: =ROUND(I19/6,2) -> 0 | K19: =RANK(J19,$J$10:$J$69,0)+COUNTIF($J$10:J19,J19)-1 -> 10 | L19: -- | M19: -- | N19: -- | O19: =COUNTIF(C19,"<35")+COUNTIF(D19,"<35")+COUNTIF(E19,"<35")+COUNTIF(F19,"<35")+COUNTIF(G19,"<35")+COUNTIF(H19,"<35") -> 6 | P19: =IF(O19=0,"Pass",IF(O19=1,"F1",IF(O19=2,"F2",IF(O19=3,"F3",IF(O19=4,"F4",IF(O19=5,"F5","F6")))))) -> F6
A20: ='विद्य्र्थ्याची माहिती'!A20 -> 11 | B20: ='विद्य्र्थ्याची माहिती'!B20 -> 0 | C20: =प्र.भाषा!H20 -> 0 | D20: ='व्दि.or संयुक्त भा'!H20 -> 0 | E20: ='तृ. भाषा'!H20 -> 0 | F20: =गणित!L20 -> 0 | G20: ='विज्ञान '!L20 -> 0 | H20: ='समाज शास्र'!L20 -> 0 | I20: =SUM(C20:H20) -> 0 | J20: =ROUND(I20/6,2) -> 0 | K20: =RANK(J20,$J$10:$J$69,0)+COUNTIF($J$10:J20,J20)-1 -> 11 | L20: -- | M20: -- | N20: -- | O20: =COUNTIF(C20,"<35")+COUNTIF(D20,"<35")+COUNTIF(E20,"<35")+COUNTIF(F20,"<35")+COUNTIF(G20,"<35")+COUNTIF(H20,"<35") -> 6 | P20: =IF(O20=0,"Pass",IF(O20=1,"F1",IF(O20=2,"F2",IF(O20=3,"F3",IF(O20=4,"F4",IF(O20=5,"F5","F6")))))) -> F6
A21: ='विद्य्र्थ्याची माहिती'!A21 -> 12 | B21: ='विद्य्र्थ्याची माहिती'!B21 -> 0 | C21: =प्र.भाषा!H21 -> 0 | D21: ='व्दि.or संयुक्त भा'!H21 -> 0 | E21: ='तृ. भाषा'!H21 -> 0 | F21: =गणित!L21 -> 0 | G21: ='विज्ञान '!L21 -> 0 | H21: ='समाज शास्र'!L21 -> 0 | I21: =SUM(C21:H21) -> 0 | J21: =ROUND(I21/6,2) -> 0 | K21: =RANK(J21,$J$10:$J$69,0)+COUNTIF($J$10:J21,J21)-1 -> 12 | L21: -- | M21: -- | N21: -- | O21: =COUNTIF(C21,"<35")+COUNTIF(D21,"<35")+COUNTIF(E21,"<35")+COUNTIF(F21,"<35")+COUNTIF(G21,"<35")+COUNTIF(H21,"<35") -> 6 | P21: =IF(O21=0,"Pass",IF(O21=1,"F1",IF(O21=2,"F2",IF(O21=3,"F3",IF(O21=4,"F4",IF(O21=5,"F5","F6")))))) -> F6
... A69: ='विद्य्र्थ्याची माहिती'!A69 -> 60 | B69: ='विद्य्र्थ्याची माहिती'!B69 -> 0 | C69: =प्र.भाषा!H69 -> 0 | D69: ='व्दि.or संयुक्त भा'!H69 -> 0 | E69: ='तृ. भाषा'!H69 -> 0 | F69: =गणित!L69 -> 0 | G69: ='विज्ञान '!L69 -> 0 | H69: ='समाज शास्र'!L69 -> 0 | I69: =SUM(C69:H69) -> 0 | J69: =ROUND(I69/6,2) -> 0 | K69: =RANK(J69,$J$10:$J$69,0)+COUNTIF($J$10:J69,J69)-1 -> 60 | L69: -- | M69: -- | N69: -- | O69: =COUNTIF(C69,"<35")+COUNTIF(D69,"<35")+COUNTIF(E69,"<35")+COUNTIF(F69,"<35")+COUNTIF(G69,"<35")+COUNTIF(H69,"<35") -> 6 | P69: =IF(O69=0,"Pass",IF(O69=1,"F1",IF(O69=2,"F2",IF(O69=3,"F3",IF(O69=4,"F4",IF(O69=5,"F5","F6")))))) -> F6
A70: Easy Result System By :- Sachin Wakchaure (9822882466)
A72: =MASTER!B7 -> श्री. ढगे भरत बुधाजी | I72: =MASTER!B8 -> श्री. लेंडे किरण विठ्ठल
A73: वर्ग शिक्षक | I73: मुख्याध्यापक

Sheet वार्षिक निकाल पत्रक
B1: =MASTER!B5 -> अनुदानित माध्यमिक आश्रमशाळा, एकदरे, ता. अकोले जि. अहिल्यानगर
B3: इ.- | C3: =MASTER!B6 -> 9 वी
B4: =MASTER!H21 -> वार्षिक निकाल पत्रक (सन 2026-2027)
B5: =MASTER!C7 -> वर्ग शिक्षक- श्री. ढगे भरत बुधाजी
B6: हजेरी क्र | C6: विद्यार्थ्याचे नाव | D6: =MASTER!A15 -> मराठी | E6: =MASTER!A16 -> हिंदी | F6: =MASTER!A17 -> इंग्रजी | G6: =MASTER!A18 -> गणित | H6: =MASTER!A19 -> विज्ञान | I6: =MASTER!A20 -> समाजशास्रे | J6: एकूण गुण | K6: शेकडा गुण | L6: गुणानुक्र. | M6: =MASTER!A21 -> आरोग्य व शारीरिक शिक्षण | N6: =MASTER!A22 -> जलसुरक्षा | O6: =MASTER!A23 -> स्काऊट गाईड | Q6: शेरा
D9: =प्र.भाषा!L9 -> 100 | E9: ='व्दि.or संयुक्त भा'!L9 -> 100 | F9: ='तृ. भाषा'!L9 -> 100 | G9: =गणित!P9 -> 100 | H9: ='विज्ञान '!P9 -> 100 | I9: ='समाज शास्र'!P9 -> 100 | J9: =SUM(D9:I9) -> 600 | K9: =ROUND(J9/6,2) -> 100 | M9: ='आ.शा.शिक्षण'!P9 -> A | N9: =जलसुरक्षा!T9 -> A | O9: =संरक्षणशास्र!K9 -> A | P9: =COUNTIF(D10,"<35")+COUNTIF(E10,"<35")+COUNTIF(F10,"<35")+COUNTIF(G10,"<35")+COUNTIF(H10,"<35")+COUNTIF(I10,"<35") -> 0 | Q9: =IF(P9=0,"Pass",IF(P9=1,"F1",IF(P9=2,"F2",IF(P9=3,"F3",IF(P9=4,"F4",IF(P9=5,"F5","F6")))))) -> Pass
A10: =L10 -> 1 | B10: ='विद्य्र्थ्याची माहिती'!A10 -> 1 | C10: ='विद्य्र्थ्याची माहिती'!B10 -> चि. समीर यशवंत देशमुख सखाराम | D10: =प्र.भाषा!L10 -> 78 | E10: ='व्दि.or संयुक्त भा'!L10 -> 75 | F10: ='तृ. भाषा'!L10 -> 78 | G10: =गणित!P10 -> 78 | H10: ='विज्ञान '!P10 -> 52 | I10: ='समाज शास्र'!P10 -> 53 | J10: =SUM(D10:I10) -> 414 | K10: =ROUND(J10/6,2) -> 69 | L10: =RANK(K10,$K$10:$K$69,0)+COUNTIF($K$10:K10,K10)-1 -> 1 | M10: ='आ.शा.शिक्षण'!P10 -> A | N10: =जलसुरक्षा!T10 -> A | O10: =संरक्षणशास्र!K10 -> A | P10: =COUNTIF(D10,"<35")+COUNTIF(E10,"<35")+COUNTIF(F10,"<35")+COUNTIF(G10,"<35")+COUNTIF(H10,"<35")+COUNTIF(I10,"<35") -> 0 | Q10: =IF(P10=0,"Pass",IF(P10=1,"F1",IF(P10=2,"F2",IF(P10=3,"F3",IF(P10=4,"F4",IF(P10=5,"F5","F6")))))) -> Pass
A11: =L11 -> 3 | B11: ='विद्य्र्थ्याची माहिती'!A11 -> 2 | C11: ='विद्य्र्थ्याची माहिती'!B11 -> 0 | D11: =प्र.भाषा!L11 -> 38 | E11: ='व्दि.or संयुक्त भा'!L11 -> 0 | F11: ='तृ. भाषा'!L11 -> 0 | G11: =गणित!P11 -> 0 | H11: ='विज्ञान '!P11 -> 0 | I11: ='समाज शास्र'!P11 -> 0 | J11: =SUM(D11:I11) -> 38 | K11: =ROUND(J11/6,2) -> 6.33 | L11: =RANK(K11,$K$10:$K$69,0)+COUNTIF($K$10:K11,K11)-1 -> 3 | M11: ='आ.शा.शिक्षण'!P11 -> D | N11: =जलसुरक्षा!T11 -> D | O11: =संरक्षणशास्र!K11 -> D | P11: =COUNTIF(D11,"<35")+COUNTIF(E11,"<35")+COUNTIF(F11,"<35")+COUNTIF(G11,"<35")+COUNTIF(H11,"<35")+COUNTIF(I11,"<35") -> 5 | Q11: =IF(P11=0,"Pass",IF(P11=1,"F1",IF(P11=2,"F2",IF(P11=3,"F3",IF(P11=4,"F4",IF(P11=5,"F5","F6")))))) -> F5
A12: =L12 -> 2 | B12: ='विद्य्र्थ्याची माहिती'!A12 -> 3 | C12: ='विद्य्र्थ्याची माहिती'!B12 -> 0 | D12: =प्र.भाषा!L12 -> 43 | E12: ='व्दि.or संयुक्त भा'!L12 -> 0 | F12: ='तृ. भाषा'!L12 -> 0 | G12: =गणित!P12 -> 0 | H12: ='विज्ञान '!P12 -> 0 | I12: ='समाज शास्र'!P12 -> 0 | J12: =SUM(D12:I12) -> 43 | K12: =ROUND(J12/6,2) -> 7.17 | L12: =RANK(K12,$K$10:$K$69,0)+COUNTIF($K$10:K12,K12)-1 -> 2 | M12: ='आ.शा.शिक्षण'!P12 -> D | N12: =जलसुरक्षा!T12 -> D | O12: =संरक्षणशास्र!K12 -> D | P12: =COUNTIF(D12,"<35")+COUNTIF(E12,"<35")+COUNTIF(F12,"<35")+COUNTIF(G12,"<35")+COUNTIF(H12,"<35")+COUNTIF(I12,"<35") -> 5 | Q12: =IF(P12=0,"Pass",IF(P12=1,"F1",IF(P12=2,"F2",IF(P12=3,"F3",IF(P12=4,"F4",IF(P12=5,"F5","F6")))))) -> F5
A13: =L13 -> 4 | B13: ='विद्य्र्थ्याची माहिती'!A13 -> 4 | C13: ='विद्य्र्थ्याची माहिती'!B13 -> 0 | D13: =प्र.भाषा!L13 -> 0 | E13: ='व्दि.or संयुक्त भा'!L13 -> 0 | F13: ='तृ. भाषा'!L13 -> 0 | G13: =गणित!P13 -> 0 | H13: ='विज्ञान '!P13 -> 0 | I13: ='समाज शास्र'!P13 -> 0 | J13: =SUM(D13:I13) -> 0 | K13: =ROUND(J13/6,2) -> 0 | L13: =RANK(K13,$K$10:$K$69,0)+COUNTIF($K$10:K13,K13)-1 -> 4 | M13: ='आ.शा.शिक्षण'!P13 -> D | N13: =जलसुरक्षा!T13 -> D | O13: =संरक्षणशास्र!K13 -> D | P13: =COUNTIF(D13,"<35")+COUNTIF(E13,"<35")+COUNTIF(F13,"<35")+COUNTIF(G13,"<35")+COUNTIF(H13,"<35")+COUNTIF(I13,"<35") -> 6 | Q13: =IF(P13=0,"Pass",IF(P13=1,"F1",IF(P13=2,"F2",IF(P13=3,"F3",IF(P13=4,"F4",IF(P13=5,"F5","F6")))))) -> F6
A14: =L14 -> 5 | B14: ='विद्य्र्थ्याची माहिती'!A14 -> 5 | C14: ='विद्य्र्थ्याची माहिती'!B14 -> 0 | D14: =प्र.भाषा!L14 -> 0 | E14: ='व्दि.or संयुक्त भा'!L14 -> 0 | F14: ='तृ. भाषा'!L14 -> 0 | G14: =गणित!P14 -> 0 | H14: ='विज्ञान '!P14 -> 0 | I14: ='समाज शास्र'!P14 -> 0 | J14: =SUM(D14:I14) -> 0 | K14: =ROUND(J14/6,2) -> 0 | L14: =RANK(K14,$K$10:$K$69,0)+COUNTIF($K$10:K14,K14)-1 -> 5 | M14: ='आ.शा.शिक्षण'!P14 -> D | N14: =जलसुरक्षा!T14 -> D | O14: =संरक्षणशास्र!K14 -> D | P14: =COUNTIF(D14,"<35")+COUNTIF(E14,"<35")+COUNTIF(F14,"<35")+COUNTIF(G14,"<35")+COUNTIF(H14,"<35")+COUNTIF(I14,"<35") -> 6 | Q14: =IF(P14=0,"Pass",IF(P14=1,"F1",IF(P14=2,"F2",IF(P14=3,"F3",IF(P14=4,"F4",IF(P14=5,"F5","F6")))))) -> F6
A15: =L15 -> 6 | B15: ='विद्य्र्थ्याची माहिती'!A15 -> 6 | C15: ='विद्य्र्थ्याची माहिती'!B15 -> 0 | D15: =प्र.भाषा!L15 -> 0 | E15: ='व्दि.or संयुक्त भा'!L15 -> 0 | F15: ='तृ. भाषा'!L15 -> 0 | G15: =गणित!P15 -> 0 | H15: ='विज्ञान '!P15 -> 0 | I15: ='समाज शास्र'!P15 -> 0 | J15: =SUM(D15:I15) -> 0 | K15: =ROUND(J15/6,2) -> 0 | L15: =RANK(K15,$K$10:$K$69,0)+COUNTIF($K$10:K15,K15)-1 -> 6 | M15: ='आ.शा.शिक्षण'!P15 -> D | N15: =जलसुरक्षा!T15 -> D | O15: =संरक्षणशास्र!K15 -> D | P15: =COUNTIF(D15,"<35")+COUNTIF(E15,"<35")+COUNTIF(F15,"<35")+COUNTIF(G15,"<35")+COUNTIF(H15,"<35")+COUNTIF(I15,"<35") -> 6 | Q15: =IF(P15=0,"Pass",IF(P15=1,"F1",IF(P15=2,"F2",IF(P15=3,"F3",IF(P15=4,"F4",IF(P15=5,"F5","F6")))))) -> F6
A16: =L16 -> 7 | B16: ='विद्य्र्थ्याची माहिती'!A16 -> 7 | C16: ='विद्य्र्थ्याची माहिती'!B16 -> 0 | D16: =प्र.भाषा!L16 -> 0 | E16: ='व्दि.or संयुक्त भा'!L16 -> 0 | F16: ='तृ. भाषा'!L16 -> 0 | G16: =गणित!P16 -> 0 | H16: ='विज्ञान '!P16 -> 0 | I16: ='समाज शास्र'!P16 -> 0 | J16: =SUM(D16:I16) -> 0 | K16: =ROUND(J16/6,2) -> 0 | L16: =RANK(K16,$K$10:$K$69,0)+COUNTIF($K$10:K16,K16)-1 -> 7 | M16: ='आ.शा.शिक्षण'!P16 -> D | N16: =जलसुरक्षा!T16 -> D | O16: =संरक्षणशास्र!K16 -> D | P16: =COUNTIF(D16,"<35")+COUNTIF(E16,"<35")+COUNTIF(F16,"<35")+COUNTIF(G16,"<35")+COUNTIF(H16,"<35")+COUNTIF(I16,"<35") -> 6 | Q16: =IF(P16=0,"Pass",IF(P16=1,"F1",IF(P16=2,"F2",IF(P16=3,"F3",IF(P16=4,"F4",IF(P16=5,"F5","F6")))))) -> F6
A17: =L17 -> 8 | B17: ='विद्य्र्थ्याची माहिती'!A17 -> 8 | C17: ='विद्य्र्थ्याची माहिती'!B17 -> 0 | D17: =प्र.भाषा!L17 -> 0 | E17: ='व्दि.or संयुक्त भा'!L17 -> 0 | F17: ='तृ. भाषा'!L17 -> 0 | G17: =गणित!P17 -> 0 | H17: ='विज्ञान '!P17 -> 0 | I17: ='समाज शास्र'!P17 -> 0 | J17: =SUM(D17:I17) -> 0 | K17: =ROUND(J17/6,2) -> 0 | L17: =RANK(K17,$K$10:$K$69,0)+COUNTIF($K$10:K17,K17)-1 -> 8 | M17: ='आ.शा.शिक्षण'!P17 -> D | N17: =जलसुरक्षा!T17 -> D | O17: =संरक्षणशास्र!K17 -> D | P17: =COUNTIF(D17,"<35")+COUNTIF(E17,"<35")+COUNTIF(F17,"<35")+COUNTIF(G17,"<35")+COUNTIF(H17,"<35")+COUNTIF(I17,"<35") -> 6 | Q17: =IF(P17=0,"Pass",IF(P17=1,"F1",IF(P17=2,"F2",IF(P17=3,"F3",IF(P17=4,"F4",IF(P17=5,"F5","F6")))))) -> F6
A18: =L18 -> 9 | B18: ='विद्य्र्थ्याची माहिती'!A18 -> 9 | C18: ='विद्य्र्थ्याची माहिती'!B18 -> 0 | D18: =प्र.भाषा!L18 -> 0 | E18: ='व्दि.or संयुक्त भा'!L18 -> 0 | F18: ='तृ. भाषा'!L18 -> 0 | G18: =गणित!P18 -> 0 | H18: ='विज्ञान '!P18 -> 0 | I18: ='समाज शास्र'!P18 -> 0 | J18: =SUM(D18:I18) -> 0 | K18: =ROUND(J18/6,2) -> 0 | L18: =RANK(K18,$K$10:$K$69,0)+COUNTIF($K$10:K18,K18)-1 -> 9 | M18: ='आ.शा.शिक्षण'!P18 -> D | N18: =जलसुरक्षा!T18 -> D | O18: =संरक्षणशास्र!K18 -> D | P18: =COUNTIF(D18,"<35")+COUNTIF(E18,"<35")+COUNTIF(F18,"<35")+COUNTIF(G18,"<35")+COUNTIF(H18,"<35")+COUNTIF(I18,"<35") -> 6 | Q18: =IF(P18=0,"Pass",IF(P18=1,"F1",IF(P18=2,"F2",IF(P18=3,"F3",IF(P18=4,"F4",IF(P18=5,"F5","F6")))))) -> F6
A19: =L19 -> 10 | B19: ='विद्य्र्थ्याची माहिती'!A19 -> 10 | C19: ='विद्य्र्थ्याची माहिती'!B19 -> 0 | D19: =प्र.भाषा!L19 -> 0 | E19: ='व्दि.or संयुक्त भा'!L19 -> 0 | F19: ='तृ. भाषा'!L19 -> 0 | G19: =गणित!P19 -> 0 | H19: ='विज्ञान '!P19 -> 0 | I19: ='समाज शास्र'!P19 -> 0 | J19: =SUM(D19:I19) -> 0 | K19: =ROUND(J19/6,2) -> 0 | L19: =RANK(K19,$K$10:$K$69,0)+COUNTIF($K$10:K19,K19)-1 -> 10 | M19: ='आ.शा.शिक्षण'!P19 -> D | N19: =जलसुरक्षा!T19 -> D | O19: =संरक्षणशास्र!K19 -> D | P19: =COUNTIF(D19,"<35")+COUNTIF(E19,"<35")+COUNTIF(F19,"<35")+COUNTIF(G19,"<35")+COUNTIF(H19,"<35")+COUNTIF(I19,"<35") -> 6 | Q19: =IF(P19=0,"Pass",IF(P19=1,"F1",IF(P19=2,"F2",IF(P19=3,"F3",IF(P19=4,"F4",IF(P19=5,"F5","F6")))))) -> F6
A20: =L20 -> 11 | B20: ='विद्य्र्थ्याची माहिती'!A20 -> 11 | C20: ='विद्य्र्थ्याची माहिती'!B20 -> 0 | D20: =प्र.भाषा!L20 -> 0 | E20: ='व्दि.or संयुक्त भा'!L20 -> 0 | F20: ='तृ. भाषा'!L20 -> 0 | G20: =गणित!P20 -> 0 | H20: ='विज्ञान '!P20 -> 0 | I20: ='समाज शास्र'!P20 -> 0 | J20: =SUM(D20:I20) -> 0 | K20: =ROUND(J20/6,2) -> 0 | L20: =RANK(K20,$K$10:$K$69,0)+COUNTIF($K$10:K20,K20)-1 -> 11 | M20: ='आ.शा.शिक्षण'!P20 -> D | N20: =जलसुरक्षा!T20 -> D | O20: =संरक्षणशास्र!K20 -> D | P20: =COUNTIF(D20,"<35")+COUNTIF(E20,"<35")+COUNTIF(F20,"<35")+COUNTIF(G20,"<35")+COUNTIF(H20,"<35")+COUNTIF(I20,"<35") -> 6 | Q20: =IF(P20=0,"Pass",IF(P20=1,"F1",IF(P20=2,"F2",IF(P20=3,"F3",IF(P20=4,"F4",IF(P20=5,"F5","F6")))))) -> F6
A21: =L21 -> 12 | B21: ='विद्य्र्थ्याची माहिती'!A21 -> 12 | C21: ='विद्य्र्थ्याची माहिती'!B21 -> 0 | D21: =प्र.भाषा!L21 -> 0 | E21: ='व्दि.or संयुक्त भा'!L21 -> 0 | F21: ='तृ. भाषा'!L21 -> 0 | G21: =गणित!P21 -> 0 | H21: ='विज्ञान '!P21 -> 0 | I21: ='समाज शास्र'!P21 -> 0 | J21: =SUM(D21:I21) -> 0 | K21: =ROUND(J21/6,2) -> 0 | L21: =RANK(K21,$K$10:$K$69,0)+COUNTIF($K$10:K21,K21)-1 -> 12 | M21: ='आ.शा.शिक्षण'!P21 -> D | N21: =जलसुरक्षा!T21 -> D | O21: =संरक्षणशास्र!K21 -> D | P21: =COUNTIF(D21,"<35")+COUNTIF(E21,"<35")+COUNTIF(F21,"<35")+COUNTIF(G21,"<35")+COUNTIF(H21,"<35")+COUNTIF(I21,"<35") -> 6 | Q21: =IF(P21=0,"Pass",IF(P21=1,"F1",IF(P21=2,"F2",IF(P21=3,"F3",IF(P21=4,"F4",IF(P21=5,"F5","F6")))))) -> F6
... A69: =L69 -> 60 | B69: ='विद्य्र्थ्याची माहिती'!A69 -> 60 | C69: ='विद्य्र्थ्याची माहिती'!B69 -> 0 | D69: =प्र.भाषा!L69 -> 0 | E69: ='व्दि.or संयुक्त भा'!L69 -> 0 | F69: ='तृ. भाषा'!L69 -> 0 | G69: =गणित!P69 -> 0 | H69: ='विज्ञान '!P69 -> 0 | I69: ='समाज शास्र'!P69 -> 0 | J69: =SUM(D69:I69) -> 0 | K69: =ROUND(J69/6,2) -> 0 | L69: =RANK(K69,$K$10:$K$69,0)+COUNTIF($K$10:K69,K69)-1 -> 60 | M69: ='आ.शा.शिक्षण'!P69 -> D | N69: =जलसुरक्षा!T69 -> A | O69: =संरक्षणशास्र!K69 -> D | P69: =COUNTIF(D69,"<35")+COUNTIF(E69,"<35")+COUNTIF(F69,"<35")+COUNTIF(G69,"<35")+COUNTIF(H69,"<35")+COUNTIF(I69,"<35") -> 6 | Q69: =IF(P69=0,"Pass",IF(P69=1,"F1",IF(P69=2,"F2",IF(P69=3,"F3",IF(P69=4,"F4",IF(P69=5,"F5","F6")))))) -> F6
B70: Easy Result System By :- Sachin Wakchaure (9822882466) | D70: =SUM(D10:D69) -> 159 | E70: =SUM(E10:E69) -> 75 | F70: =SUM(F10:F69) -> 78 | G70: =SUM(G10:G69) -> 78 | H70: =SUM(H10:H69) -> 52 | I70: =SUM(I10:I69) -> 53 | J70: =SUM(J10:J69) -> 495 | K70: =SUM(K10:K69) -> 82.5 | ... Q70: =SUM(Q10:Q69) -> 0
B72: =MASTER!B7 -> श्री. ढगे भरत बुधाजी | J72: =MASTER!B8 -> श्री. लेंडे किरण विठ्ठल
B73: वर्ग शिक्षक | J73: मुख्याध्यापक

Sheet अनुक्रमणिका
B1: =MASTER!B4 -> आदिवासी उन्नती सेवा मंडळ, राजूर, ता. अकोले जि.अहिल्यानगर संचालित...
B2: =MASTER!B5 -> अनुदानित माध्यमिक आश्रमशाळा, एकदरे, ता. अकोले जि. अहिल्यानगर
B3: अनुक्रमणिका
B4: इ.- | C4: =MASTER!B6 -> 9 वी | E4: =MASTER!C7 -> वर्ग शिक्षक- श्री. ढगे भरत बुधाजी
B5: ह. क्र.- | C5: विद्यार्थ्याचे नाव | D5: पृष्ठ क्र. | E5: ह. क्र.- | F5: विद्यार्थ्याचे नाव | G5: पृष्ठ क्र.
B6: 1 | C6: ='विद्य्र्थ्याची माहिती'!B10 -> चि. समीर यशवंत देशमुख सखाराम | E6: 51 | F6: ='विद्य्र्थ्याची माहिती'!B50 -> 0
B7: 2 | C7: ='विद्य्र्थ्याची माहिती'!B11 -> 0 | E7: 52 | F7: ='विद्य्र्थ्याची माहिती'!B51 -> 0
B8: 3 | C8: ='विद्य्र्थ्याची माहिती'!B12 -> 0 | E8: 53 | F8: ='विद्य्र्थ्याची माहिती'!B52 -> 0
B9: 4 | C9: ='विद्य्र्थ्याची माहिती'!B13 -> 0 | E9: 54 | F9: ='विद्य्र्थ्याची माहिती'!B53 -> 0
B10: 5 | C10: ='विद्य्र्थ्याची माहिती'!B14 -> 0 | E10: 55 | F10: ='विद्य्र्थ्याची माहिती'!B54 -> 0
B11: 6 | C11: ='विद्य्र्थ्याची माहिती'!B15 -> 0 | E11: 56 | F11: ='विद्य्र्थ्याची माहिती'!B55 -> 0
B12: 7 | C12: ='विद्य्र्थ्याची माहिती'!B16 -> 0 | E12: 57 | F12: ='विद्य्र्थ्याची माहिती'!B56 -> 0
B13: 8 | C13: ='विद्य्र्थ्याची माहिती'!B17 -> 0 | E13: 58 | F13: ='विद्य्र्थ्याची माहिती'!B57 -> 0
B14: 9 | C14: ='विद्य्र्थ्याची माहिती'!B18 -> 0 | E14: 59 | F14: ='विद्य्र्थ्याची माहिती'!B58 -> 0
B15: 10 | C15: ='विद्य्र्थ्याची माहिती'!B19 -> 0 | E15: 60 | F15: ='विद्य्र्थ्याची माहिती'!B59 -> 0
B16: 11 | C16: ='विद्य्र्थ्याची माहिती'!B20 -> 0 | E16: 61 | F16: ='विद्य्र्थ्याची माहिती'!B60 -> 0
B17: 12 | C17: ='विद्य्र्थ्याची माहिती'!B21 -> 0 | E17: 62 | F17: ='विद्य्र्थ्याची माहिती'!B61 -> 0
... B25: 20 | C25: ='विद्य्र्थ्याची माहिती'!B29 -> 0 | E25: 70 | F25: ='विद्य्र्थ्याची माहिती'!B69 -> 0
B26: 21 | C26: ='विद्य्र्थ्याची माहिती'!B30 -> 0 | E26: 71 | F26: ='विद्य्र्थ्याची माहिती'!#REF! -> #REF!
B27: 22 | C27: ='विद्य्र्थ्याची माहिती'!B31 -> 0 | E27: 72 | F27: ='विद्य्र्थ्याची माहिती'!#REF! -> #REF!
B28: 23 | C28: ='विद्य्र्थ्याची माहिती'!B32 -> 0 | E28: 73 | F28: ='विद्य्र्थ्याची माहिती'!#REF! -> #REF!
B29: 24 | C29: ='विद्य्र्थ्याची माहिती'!B33 -> 0 | E29: 74 | F29: ='विद्य्र्थ्याची माहिती'!#REF! -> #REF!
B30: 25 | C30: ='विद्य्र्थ्याची माहिती'!B34 -> 0 | E30: 75 | F30: ='विद्य्र्थ्याची माहिती'!#REF! -> #REF!
B31: 26 | C31: ='विद्य्र्थ्याची माहिती'!B35 -> 0 | E31: 76 | F31: ='विद्य्र्थ्याची माहिती'!#REF! -> #REF!
B32: 27 | C32: ='विद्य्र्थ्याची माहिती'!B36 -> 0 | E32: 77 | F32: ='विद्य्र्थ्याची माहिती'!#REF! -> #REF!
B33: 28 | C33: ='विद्य्र्थ्याची माहिती'!B37 -> 0 | E33: 78 | F33: ='विद्य्र्थ्याची माहिती'!#REF! -> #REF!
B34: 29 | C34: ='विद्य्र्थ्याची माहिती'!B38 -> 0 | E34: 79 | F34: ='विद्य्र्थ्याची माहिती'!#REF! -> #REF!
B35: 30 | C35: ='विद्य्र्थ्याची माहिती'!B39 -> 0 | E35: 80 | F35: ='विद्य्र्थ्याची माहिती'!#REF! -> #REF!
B36: 31 | C36: ='विद्य्र्थ्याची माहिती'!B40 -> 0 | E36: 81 | F36: ='विद्य्र्थ्याची माहिती'!#REF! -> #REF!
B37: 32 | C37: ='विद्य्र्थ्याची माहिती'!B41 -> 0 | E37: 82 | F37: ='विद्य्र्थ्याची माहिती'!#REF! -> #REF!
... B45: 40 | C45: ='विद्य्र्थ्याची माहिती'!B49 -> 0 | E45: 90 | F45: ='विद्य्र्थ्याची माहिती'!#REF! -> #REF!
B46: 41 | C46: ='विद्य्र्थ्याची माहिती'!B40 -> 0 | E46: 91 | F46: ='विद्य्र्थ्याची माहिती'!#REF! -> #REF!
B47: 42 | C47: ='विद्य्र्थ्याची माहिती'!B41 -> 0 | E47: 92 | F47: ='विद्य्र्थ्याची माहिती'!#REF! -> #REF!
B48: 43 | C48: ='विद्य्र्थ्याची माहिती'!B42 -> 0 | E48: 93 | F48: ='विद्य्र्थ्याची माहिती'!#REF! -> #REF!
B49: 44 | C49: ='विद्य्र्थ्याची माहिती'!B43 -> 0 | E49: 94 | F49: ='विद्य्र्थ्याची माहिती'!#REF! -> #REF!
B50: 45 | C50: ='विद्य्र्थ्याची माहिती'!B44 -> 0 | E50: 95 | F50: ='विद्य्र्थ्याची माहिती'!#REF! -> #REF!
B51: 46 | C51: ='विद्य्र्थ्याची माहिती'!B45 -> 0 | E51: 96 | F51: ='विद्य्र्थ्याची माहिती'!#REF! -> #REF!
B52: 47 | C52: ='विद्य्र्थ्याची माहिती'!B46 -> 0 | E52: 97 | F52: ='विद्य्र्थ्याची माहिती'!#REF! -> #REF!
B53: 48 | C53: ='विद्य्र्थ्याची माहिती'!B47 -> 0 | E53: 98 | F53: ='विद्य्र्थ्याची माहिती'!#REF! -> #REF!
B54: 49 | C54: ='विद्य्र्थ्याची माहिती'!B48 -> 0 | E54: 99 | F54: ='विद्य्र्थ्याची माहिती'!#REF! -> #REF!
B55: 50 | C55: ='विद्य्र्थ्याची माहिती'!B49 -> 0 | E55: 100 | F55: ='विद्य्र्थ्याची माहिती'!#REF! -> #REF!

Sheet निकाल पुस्तिका
A1: =MASTER!B4 -> आदिवासी उन्नती सेवा मंडळ, राजूर, ता. अकोले जि.अहिल्यानगर संचालित...
A2: =MASTER!B5 -> अनुदानित माध्यमिक आश्रमशाळा, एकदरे, ता. अकोले जि. अहिल्यानगर
A4: विद्यार्थ्याचे नाव- | C4: =VLOOKUP(L4,'विद्य्र्थ्याची माहिती'!A10:G69,2,0) -> चि. समीर यशवंत देशमुख सखाराम | I4: हजेरी क्र.- | L4: 1
A5: पालकाचे नाव- | C5: =VLOOKUP(L4,'विद्य्र्थ्याची माहिती'!A10:G69,3,0) -> श्री. यशवंत रामनाथ देशमुख | I5: इयत्ता- | L5: =MASTER!B6 -> 9 वी
A6: पत्ता- | C6: =VLOOKUP(L4,'विद्य्र्थ्याची माहिती'!A10:G69,4,0) -> मू. बिताका, पो. एकदरे | I6: जन्मतारीख- | L6: =VLOOKUP(L4,'विद्य्र्थ्याची माहिती'!A10:G69,7,0) -> 37707
C7: =VLOOKUP(L4,'विद्य्र्थ्याची माहिती'!A10:G69,5,0) -> ता. अकोले, जि. अहिल्यामागर | I7: ज.रजि.नंबर- | L7: =VLOOKUP(L4,'विद्य्र्थ्याची माहिती'!A10:G69,6,0) -> 533
A8: विषय | C8: प्रथम सत्र | F8: व्दितीय सत्र | I8: वार्षिक निकाल
C9: प्रथम सत्र लेखी | D9: अंतर्गत मूल्यमापन | E9: एकूण (अ) | F9: व्दितीय सत्र लेखी | G9: अंतर्गत मूल्यमापन | H9: एकूण (ब) | I9: एकूण (अ+ब) | J9: एकूण (अ+ब) / 2 | K9: * भाषा / # विज्ञान गटनिकष | L9: सवलतीचे गुण | M9: एकूण
A13: गुण-> | C13: 80 | D13: 20 | E13: 100 | F13: 80 | G13: 20 | H13: 100 | I13: 200 | J13: 100 | K13: * / # | M13: 100
A14: =MASTER!A15 -> मराठी | C14: =VLOOKUP(L4,प्र.भाषा!A10:M69,3,0) -> 62 | D14: =VLOOKUP(L4,प्र.भाषा!A10:M69,4,0) -> 18 | E14: =VLOOKUP(L4,प्र.भाषा!A10:M69,5,0) -> 80 | F14: =VLOOKUP(L4,प्र.भाषा!A10:M69,6,0) -> 60 | G14: =VLOOKUP(L4,प्र.भाषा!A10:M69,7,0) -> 10 | H14: =VLOOKUP(L4,प्र.भाषा!A10:M69,8,0) -> 70 | I14: =VLOOKUP(L4,प्र.भाषा!A10:M69,9,0) -> 150 | J14: =VLOOKUP(L4,प्र.भाषा!A10:M69,10,0) -> 75 | K14: - | L14: =VLOOKUP(L4,प्र.भाषा!A10:M69,11,0) -> 3 | M14: =VLOOKUP(L4,प्र.भाषा!A10:M69,12,0) -> 78
A15: =MASTER!A16 -> हिंदी | C15: =VLOOKUP(L4,'व्दि.or संयुक्त भा'!A10:M69,3,0) -> 52 | D15: =VLOOKUP(L4,'व्दि.or संयुक्त भा'!A10:M69,4,0) -> 20 | E15: =VLOOKUP(L4,'व्दि.or संयुक्त भा'!A10:M69,5,0) -> 72 | F15: =VLOOKUP(L4,'व्दि.or संयुक्त भा'!A10:M69,6,0) -> 46 | G15: =VLOOKUP(L4,'व्दि.or संयुक्त भा'!A10:M69,7,0) -> 17 | H15: =VLOOKUP(L4,'व्दि.or संयुक्त भा'!A10:M69,8,0) -> 63 | I15: =VLOOKUP(L4,'व्दि.or संयुक्त भा'!A10:M69,9,0) -> 135 | J15: =VLOOKUP(L4,'व्दि.or संयुक्त भा'!A10:M69,10,0) -> 68 | L15: =VLOOKUP(L4,'व्दि.or संयुक्त भा'!A10:M69,11,0) -> 7 | M15: =VLOOKUP(L4,'व्दि.or संयुक्त भा'!A10:M69,12,0) -> 75
A16: =MASTER!A17 -> इंग्रजी | C16: =VLOOKUP(L4,'तृ. भाषा'!A10:M69,3,0) -> 51 | D16: =VLOOKUP(L4,'तृ. भाषा'!A10:M69,4,0) -> 19 | E16: =VLOOKUP(L4,'तृ. भाषा'!A10:M69,5,0) -> 70 | F16: =VLOOKUP(L4,'तृ. भाषा'!A10:M69,6,0) -> 53 | G16: =VLOOKUP(L4,'तृ. भाषा'!A10:M69,7,0) -> 16 | H16: =VLOOKUP(L4,'तृ. भाषा'!A10:M69,8,0) -> 69 | I16: =VLOOKUP(L4,'तृ. भाषा'!A10:M69,9,0) -> 139 | J16: =VLOOKUP(L4,'तृ. भाषा'!A10:M69,10,0) -> 70 | L16: =VLOOKUP(L4,'तृ. भाषा'!A10:M69,11,0) -> 8 | M16: =VLOOKUP(L4,'तृ. भाषा'!A10:M69,12,0) -> 78
A17: =MASTER!A18 -> गणित | B17: भाग-I (बीजगणित) | C17: =VLOOKUP(L4,गणित!A10:Q69,3,0) -> 25 | F17: =VLOOKUP(L4,गणित!A10:Q69,8,0) -> 15 | K17: - | L17: =VLOOKUP(L4,गणित!A10:Q69,15,0) -> 14 | M17: =VLOOKUP(L4,गणित!A10:Q69,16,0) -> 78
B18: भाग-II (भूमिती) | C18: =VLOOKUP(L4,गणित!A10:Q69,4,0) -> 26 | F18: =VLOOKUP(L4,गणित!A10:Q69,9,0) -> 28
B19: एकूण | C19: =VLOOKUP(L4,गणित!A10:Q69,5,0) -> 51 | D19: =VLOOKUP(L4,गणित!A10:Q69,6,0) -> 18 | E19: =VLOOKUP(L4,गणित!A10:Q69,7,0) -> 69 | F19: =VLOOKUP(L4,गणित!A10:Q69,10,0) -> 43 | G19: =VLOOKUP(L4,गणित!A10:Q69,11,0) -> 15 | H19: =VLOOKUP(L4,गणित!A10:Q69,12,0) -> 58 | I19: =VLOOKUP(L4,गणित!A10:Q69,13,0) -> 127 | J19: =VLOOKUP(L4,गणित!A10:Q69,14,0) -> 64
A20: =MASTER!A19 -> विज्ञान | B20: भाग- I | C20: =VLOOKUP(L4,'विज्ञान '!A10:Q69,3,0) -> 16 | F20: =VLOOKUP(L4,'विज्ञान '!A10:Q69,8,0) -> 20 | L20: =VLOOKUP(L4,'विज्ञान '!A10:Q69,15,0) -> 5 | M20: =VLOOKUP(L4,'विज्ञान '!A10:Q69,16,0) -> 52
B21: भाग-II | C21: =VLOOKUP(L4,'विज्ञान '!A10:Q69,4,0) -> 19 | F21: =VLOOKUP(L4,'विज्ञान '!A10:Q69,9,0) -> 13
B22: एकूण | C22: =VLOOKUP(L4,'विज्ञान '!A10:Q69,5,0) -> 35 | D22: =VLOOKUP(L4,'विज्ञान '!A10:Q69,6,0) -> 9 | E22: =VLOOKUP(L4,'विज्ञान '!A10:Q69,7,0) -> 44 | F22: =VLOOKUP(L4,'विज्ञान '!A10:Q69,10,0) -> 33 | G22: =VLOOKUP(L4,'विज्ञान '!A10:Q69,11,0) -> 16 | H22: =VLOOKUP(L4,'विज्ञान '!A10:Q69,12,0) -> 49 | I22: =VLOOKUP(L4,'विज्ञान '!A10:Q69,13,0) -> 93 | J22: =VLOOKUP(L4,'विज्ञान '!A10:Q69,14,0) -> 47
A23: =MASTER!A20 -> समाजशास्रे | B23: इतिहास-राज्यशास्र | C23: =VLOOKUP(L4,'समाज शास्र'!A10:Q69,3,0) -> 1 | F23: =VLOOKUP(L4,'समाज शास्र'!A10:Q69,8,0) -> 24 | K23: - | L23: =VLOOKUP(L4,'समाज शास्र'!A10:Q69,15,0) -> 10 | M23: =VLOOKUP(L4,'समाज शास्र'!A10:Q69,16,0) -> 53
B24: भूगोल | C24: =VLOOKUP(L4,'समाज शास्र'!A10:Q69,4,0) -> 10 | F24: =VLOOKUP(L4,'समाज शास्र'!A10:Q69,9,0) -> 23
B25: एकूण | C25: =VLOOKUP(L4,'समाज शास्र'!A10:Q69,5,0) -> 11 | D25: =VLOOKUP(L4,'समाज शास्र'!A10:Q69,6,0) -> 11 | E25: =VLOOKUP(L4,'समाज शास्र'!A10:Q69,7,0) -> 22 | F25: =VLOOKUP(L4,'समाज शास्र'!A10:Q69,10,0) -> 47 | G25: =VLOOKUP(L4,'समाज शास्र'!A10:Q69,11,0) -> 16 | H25: =VLOOKUP(L4,'समाज शास्र'!A10:Q69,12,0) -> 63 | I25: =VLOOKUP(L4,'समाज शास्र'!A10:Q69,13,0) -> 85 | J25: =VLOOKUP(L4,'समाज शास्र'!A10:Q69,14,0) -> 43
A26: एकूण गुण (600 पैकी) | C26: प्रथम सत्र | E26: =VLOOKUP(L4,'प्रथम सत्र परीक्षा निकाल पत्रक'!A10:P69,9,0) -> 357 | F26: व्दितीय सत्र | H26: =VLOOKUP(L4,'व्दितीय सत्र निकाल पत्रक'!A10:P69,9,0) -> 372 | I26: वार्षिक निकाल | M26: =VLOOKUP(L4,'वार्षिक निकाल पत्रक'!B10:Q69,9,0) -> 414
A27: शेकडा गुण | E27: =VLOOKUP(L4,'प्रथम सत्र परीक्षा निकाल पत्रक'!A10:P69,10,0) -> 59.5 | H27: =VLOOKUP(L4,'व्दितीय सत्र निकाल पत्रक'!A10:P69,10,0) -> 62 | M27: =VLOOKUP(L4,'वार्षिक निकाल पत्रक'!B10:Q69,10,0) -> 69
A28: शालेय श्रेणीतील वैकल्पिक गटातील विषय | C28: आरोग्य व शारीरिक शिक्षण | M28: =VLOOKUP(L4,'आ.शा.शिक्षण'!A10:P69,16,0) -> A
C29: जलसुरक्षा | M29: =VLOOKUP(L4,जलसुरक्षा!A10:T69,20,0) -> A
C30: =MASTER!A23 -> स्काऊट गाईड | M30: =VLOOKUP(L4,संरक्षणशास्र!A10:K69,11,0) -> A
A31: गुणानुक्रमांक- | C31: =VLOOKUP(L4,'वार्षिक निकाल पत्रक'!B10:Q69,11,0) -> 1 | G31: शेरा- | I31: =VLOOKUP(L4,'वार्षिक निकाल पत्रक'!B10:Q69,16,0) -> Pass
A32: Easy Result System By :- Sachin Wakchaure (9822882466)

Sheet निकाल पुस्तिका (2)
A1: =MASTER!B4 -> आदिवासी उन्नती सेवा मंडळ, राजूर, ता. अकोले जि.अहिल्यानगर संचालित...
A2: =MASTER!B5 -> अनुदानित माध्यमिक आश्रमशाळा, एकदरे, ता. अकोले जि. अहिल्यानगर
A4: =MASTER!H22 -> वार्षिक निकाल पुस्तिका (सन 2026-2027)
A5: =MASTER!C7 -> वर्ग शिक्षक- श्री. ढगे भरत बुधाजी | K5: =MASTER!D6 -> इयत्ता- 9 वी
A6: परीक्षा क्रमांक | B6: विद्यार्थ्याचे नाव | C6: परीक्षा | F6: =MASTER!A15 -> मराठी | G6: =MASTER!A16 -> हिंदी | H6: =MASTER!A17 -> इंग्रजी | I6: =MASTER!A18 -> गणित | L6: =MASTER!A19 -> विज्ञान | O6: =MASTER!A20 -> समाजशास्रे | R6: =MASTER!A21 -> आरोग्य व शारीरिक शिक्षण | S6: =MASTER!A22 -> जलसुरक्षा | T6: =MASTER!A23 -> स्काऊट गाईड | U6: शेरा
I7: भाग - 1 | J7: भाग - 2 | K7: एकूण | L7: भाग - 1 | M7: भाग - 2 | N7: एकूण | O7: भाग - 1 | P7: भाग - 2 | Q7: एकूण
W8: परीक्षा क्रमांक --> | Y8: 1
A9: =Y8 -> 1 | B9: =VLOOKUP(A9,'वार्षिक निकाल पत्रक'!B10:Q69,2,0) -> चि. समीर यशवंत देशमुख सखाराम | C9: प्रथम सत्र (अ) | D9: लेखी | E9: 80 | F9: =VLOOKUP(A9,प्र.भाषा!A10:M69,3,0) -> 62 | G9: =VLOOKUP(A9,'व्दि.or संयुक्त भा'!A10:M69,3,0) -> 52 | H9: =VLOOKUP(A9,'तृ. भाषा'!A10:M69,3,0) -> 51 | I9: =VLOOKUP(A9,गणित!A10:Q69,3,0) -> 25 | J9: =VLOOKUP(A9,गणित!A10:Q69,4,0) -> 26 | K9: =VLOOKUP(A9,गणित!A10:Q69,5,0) -> 51 | L9: =VLOOKUP(A9,'विज्ञान '!A10:Q69,3,0) -> 16 | M9: =VLOOKUP(A9,'विज्ञान '!A10:Q69,4,0) -> 19 | N9: =VLOOKUP(A9,'विज्ञान '!A10:Q69,5,0) -> 35 | O9: =VLOOKUP(A9,'समाज शास्र'!A10:Q69,3,0) -> 1 | P9: =VLOOKUP(A9,'समाज शास्र'!A10:Q69,4,0) -> 10 | Q9: =VLOOKUP(A9,'समाज शास्र'!A10:Q69,5,0) -> 11 | R9: =VLOOKUP(A9,'आ.शा.शिक्षण'!A10:P69,16,0) -> A | S9: =VLOOKUP(A9,जलसुरक्षा!A10:T69,20,0) -> A | T9: =VLOOKUP(A9,संरक्षणशास्र!A10:K69,11,0) -> A | U9: =VLOOKUP(A9,'वार्षिक निकाल पत्रक'!B10:Q69,16,0) -> Pass
D10: अं.मू.मापन | E10: 20 | F10: =VLOOKUP(A9,प्र.भाषा!A10:M69,4,0) -> 18 | G10: =VLOOKUP(A9,'व्दि.or संयुक्त भा'!A10:M69,4,0) -> 20 | H10: =VLOOKUP(A9,'तृ. भाषा'!A10:M69,4,0) -> 19 | K10: =VLOOKUP(A9,गणित!A10:Q69,6,0) -> 18 | N10: =VLOOKUP(A9,'विज्ञान '!A10:Q69,6,0) -> 9 | Q10: =VLOOKUP(A9,'समाज शास्र'!A10:Q69,6,0) -> 11
D11: एकूण | E11: 100 | F11: =VLOOKUP(A9,प्र.भाषा!A10:M69,5,0) -> 80 | G11: =VLOOKUP(A9,'व्दि.or संयुक्त भा'!A10:M69,5,0) -> 72 | H11: =VLOOKUP(A9,'तृ. भाषा'!A10:M69,5,0) -> 70 | K11: =VLOOKUP(A9,गणित!A10:Q69,7,0) -> 69 | N11: =VLOOKUP(A9,'विज्ञान '!A10:Q69,7,0) -> 44 | Q11: =VLOOKUP(A9,'समाज शास्र'!A10:Q69,7,0) -> 22
C12: व्दितीय सत्र (ब) | D12: लेखी | E12: 80 | F12: =VLOOKUP(A9,प्र.भाषा!A10:M69,6,0) -> 60 | G12: =VLOOKUP(A9,'व्दि.or संयुक्त भा'!A10:M69,6,0) -> 46 | H12: =VLOOKUP(A9,'तृ. भाषा'!A10:M69,6,0) -> 53 | I12: =VLOOKUP(A9,गणित!A10:Q69,8,0) -> 15 | J12: =VLOOKUP(A9,गणित!A10:Q69,9,0) -> 28 | K12: =VLOOKUP(A9,गणित!A10:Q69,10,0) -> 43 | L12: =VLOOKUP(A9,'विज्ञान '!A10:Q69,8,0) -> 20 | M12: =VLOOKUP(A9,'विज्ञान '!A10:Q69,9,0) -> 13 | N12: =VLOOKUP(A9,'विज्ञान '!A10:Q69,10,0) -> 33 | O12: =VLOOKUP(A9,'समाज शास्र'!A10:Q69,8,0) -> 24 | P12: =VLOOKUP(A9,'समाज शास्र'!A10:Q69,9,0) -> 23 | Q12: =VLOOKUP(A9,'समाज शास्र'!A10:Q69,10,0) -> 47
D13: अं.मू.मापन | E13: 20 | F13: =VLOOKUP(A9,प्र.भाषा!A10:M69,7,0) -> 10 | G13: =VLOOKUP(A9,'व्दि.or संयुक्त भा'!A10:M69,7,0) -> 17 | H13: =VLOOKUP(A9,'तृ. भाषा'!A10:M69,7,0) -> 16 | K13: =VLOOKUP(A9,गणित!A10:Q69,11,0) -> 15 | N13: =VLOOKUP(A9,'विज्ञान '!A10:Q69,11,0) -> 16 | Q13: =VLOOKUP(A9,'समाज शास्र'!A10:Q69,11,0) -> 16
D14: एकूण | E14: 100 | F14: =VLOOKUP(A9,प्र.भाषा!A10:M69,8,0) -> 70 | G14: =VLOOKUP(A9,'व्दि.or संयुक्त भा'!A10:M69,8,0) -> 63 | H14: =VLOOKUP(A9,'तृ. भाषा'!A10:M69,8,0) -> 69 | K14: =VLOOKUP(A9,गणित!A10:Q69,12,0) -> 58 | N14: =VLOOKUP(A9,'विज्ञान '!A10:Q69,12,0) -> 49 | Q14: =VLOOKUP(A9,'समाज शास्र'!A10:Q69,12,0) -> 63
C15: एकूण गुण (अ+ब) | E15: 200 | F15: =VLOOKUP(A9,प्र.भाषा!A10:M69,9,0) -> 150 | G15: =VLOOKUP(A9,'व्दि.or संयुक्त भा'!A10:M69,9,0) -> 135 | H15: =VLOOKUP(A9,'तृ. भाषा'!A10:M69,9,0) -> 139 | K15: =VLOOKUP(A9,गणित!A10:Q69,13,0) -> 127 | N15: =VLOOKUP(A9,'विज्ञान '!A10:Q69,13,0) -> 93 | Q15: =VLOOKUP(A9,'समाज शास्र'!A10:Q69,13,0) -> 85 | R15: एकूण | S15: शेकडा गुण | T15: गुणानुक्रम
C16: सरासरी(अ+ब) / 2 | E16: 100 | F16: =VLOOKUP(A9,प्र.भाषा!A10:M69,10,0) -> 75 | G16: =VLOOKUP(A9,'व्दि.or संयुक्त भा'!A10:M69,10,0) -> 68 | H16: =VLOOKUP(A9,'तृ. भाषा'!A10:M69,10,0) -> 70 | K16: =VLOOKUP(A9,गणित!A10:Q69,14,0) -> 64 | N16: =VLOOKUP(A9,'विज्ञान '!A10:Q69,14,0) -> 47 | Q16: =VLOOKUP(A9,'समाज शास्र'!A10:Q69,14,0) -> 43
C17: सवलतीचे गुण | E17: - | F17: =VLOOKUP(A9,प्र.भाषा!A10:M69,11,0) -> 3 | G17: =VLOOKUP(A9,'व्दि.or संयुक्त भा'!A10:M69,11,0) -> 7 | H17: =VLOOKUP(A9,'तृ. भाषा'!A10:M69,11,0) -> 8 | K17: =VLOOKUP(A9,गणित!A10:Q69,15,0) -> 14 | N17: =VLOOKUP(A9,'विज्ञान '!A10:Q69,15,0) -> 5 | Q17: =VLOOKUP(A9,'समाज शास्र'!A10:Q69,15,0) -> 10
C18: एकुणात | E18: 100 | F18: =VLOOKUP(A9,प्र.भाषा!A10:M69,12,0) -> 78 | G18: =VLOOKUP(A9,'व्दि.or संयुक्त भा'!A10:M69,12,0) -> 75 | H18: =VLOOKUP(A9,'तृ. भाषा'!A10:M69,12,0) -> 78 | K18: =VLOOKUP(A9,गणित!A10:Q69,16,0) -> 78 | N18: =VLOOKUP(A9,'विज्ञान '!A10:Q69,16,0) -> 52 | Q18: =VLOOKUP(A9,'समाज शास्र'!A10:Q69,16,0) -> 53 | R18: =VLOOKUP(A9,'वार्षिक निकाल पत्रक'!B10:Q69,9,0) -> 414 | S18: =VLOOKUP(A9,'वार्षिक निकाल पत्रक'!B10:Q69,10,0) -> 69 | T18: =VLOOKUP(A9,'वार्षिक निकाल पत्रक'!B10:Q69,11,0) -> 1
A19: =A9+1 -> 2 | B19: =VLOOKUP(A19,'वार्षिक निकाल पत्रक'!B10:Q69,2,0) -> 0 | C19: प्रथम सत्र (अ) | D19: लेखी | E19: 80 | F19: =VLOOKUP(A19,प्र.भाषा!A10:M69,3,0) -> 0 | G19: =VLOOKUP(A19,'व्दि.or संयुक्त भा'!A10:M69,3,0) -> 0 | H19: =VLOOKUP(A19,'तृ. भाषा'!A10:M69,3,0) -> 0 | I19: =VLOOKUP(A19,गणित!A10:Q69,3,0) -> 0 | J19: =VLOOKUP(A19,गणित!A10:Q69,4,0) -> 0 | K19: =VLOOKUP(A19,गणित!A10:Q69,5,0) -> 0 | L19: =VLOOKUP(A19,'विज्ञान '!A10:Q69,3,0) -> 0 | M19: =VLOOKUP(A19,'विज्ञान '!A10:Q69,4,0) -> 0 | N19: =VLOOKUP(A19,'विज्ञान '!A10:Q69,5,0) -> 0 | O19: =VLOOKUP(A19,'समाज शास्र'!A10:Q69,3,0) -> 0 | P19: =VLOOKUP(A19,'समाज शास्र'!A10:Q69,4,0) -> 0 | Q19: =VLOOKUP(A19,'समाज शास्र'!A10:Q69,5,0) -> 0 | R19: =VLOOKUP(A19,'आ.शा.शिक्षण'!A10:P69,16,0) -> D | S19: =VLOOKUP(A19,जलसुरक्षा!A10:T69,20,0) -> D | T19: =VLOOKUP(A19,संरक्षणशास्र!A10:K69,11,0) -> D | U19: =VLOOKUP(A19,'वार्षिक निकाल पत्रक'!B10:Q69,16,0) -> F5
D20: अं.मू.मापन | E20: 20 | F20: =VLOOKUP(A19,प्र.भाषा!A10:M69,4,0) -> 0 | G20: =VLOOKUP(A19,'व्दि.or संयुक्त भा'!A10:M69,4,0) -> 0 | H20: =VLOOKUP(A19,'तृ. भाषा'!A10:M69,4,0) -> 0 | K20: =VLOOKUP(A19,गणित!A10:Q69,6,0) -> 0 | N20: =VLOOKUP(A19,'विज्ञान '!A10:Q69,6,0) -> 0 | Q20: =VLOOKUP(A19,'समाज शास्र'!A10:Q69,6,0) -> 0
D21: एकूण | E21: 100 | F21: =VLOOKUP(A19,प्र.भाषा!A10:M69,5,0) -> 0 | G21: =VLOOKUP(A19,'व्दि.or संयुक्त भा'!A10:M69,5,0) -> 0 | H21: =VLOOKUP(A19,'तृ. भाषा'!A10:M69,5,0) -> 0 | K21: =VLOOKUP(A19,गणित!A10:Q69,7,0) -> 0 | N21: =VLOOKUP(A19,'विज्ञान '!A10:Q69,7,0) -> 0 | Q21: =VLOOKUP(A19,'समाज शास्र'!A10:Q69,7,0) -> 0
C22: व्दितीय सत्र (ब) | D22: लेखी | E22: 80 | F22: =VLOOKUP(A19,प्र.भाषा!A10:M69,6,0) -> 75 | G22: =VLOOKUP(A19,'व्दि.or संयुक्त भा'!A10:M69,6,0) -> 0 | H22: =VLOOKUP(A19,'तृ. भाषा'!A10:M69,6,0) -> 0 | I22: =VLOOKUP(A19,गणित!A10:Q69,8,0) -> 0 | J22: =VLOOKUP(A19,गणित!A10:Q69,9,0) -> 0 | K22: =VLOOKUP(A19,गणित!A10:Q69,10,0) -> 0 | L22: =VLOOKUP(A19,'विज्ञान '!A10:Q69,8,0) -> 0 | M22: =VLOOKUP(A19,'विज्ञान '!A10:Q69,9,0) -> 0 | N22: =VLOOKUP(A19,'विज्ञान '!A10:Q69,10,0) -> 0 | O22: =VLOOKUP(A19,'समाज शास्र'!A10:Q69,8,0) -> 0 | P22: =VLOOKUP(A19,'समाज शास्र'!A10:Q69,9,0) -> 0 | Q22: =VLOOKUP(A19,'समाज शास्र'!A10:Q69,10,0) -> 0
D23: अं.मू.मापन | E23: 20 | F23: =VLOOKUP(A19,प्र.भाषा!A10:M69,7,0) -> 0 | G23: =VLOOKUP(A19,'व्दि.or संयुक्त भा'!A10:M69,7,0) -> 0 | H23: =VLOOKUP(A19,'तृ. भाषा'!A10:M69,7,0) -> 0 | K23: =VLOOKUP(A19,गणित!A10:Q69,11,0) -> 0 | N23: =VLOOKUP(A19,'विज्ञान '!A10:Q69,11,0) -> 0 | Q23: =VLOOKUP(A19,'समाज शास्र'!A10:Q69,11,0) -> 0
D24: एकूण | E24: 100 | F24: =VLOOKUP(A19,प्र.भाषा!A10:M69,8,0) -> 75 | G24: =VLOOKUP(A19,'व्दि.or संयुक्त भा'!A10:M69,8,0) -> 0 | H24: =VLOOKUP(A19,'तृ. भाषा'!A10:M69,8,0) -> 0 | K24: =VLOOKUP(A19,गणित!A10:Q69,12,0) -> 0 | N24: =VLOOKUP(A19,'विज्ञान '!A10:Q69,12,0) -> 0 | Q24: =VLOOKUP(A19,'समाज शास्र'!A10:Q69,12,0) -> 0
C25: एकूण गुण (अ+ब) | E25: 200 | F25: =VLOOKUP(A19,प्र.भाषा!A10:M69,9,0) -> 75 | G25: =VLOOKUP(A19,'व्दि.or संयुक्त भा'!A10:M69,9,0) -> 0 | H25: =VLOOKUP(A19,'तृ. भाषा'!A10:M69,9,0) -> 0 | K25: =VLOOKUP(A19,गणित!A10:Q69,13,0) -> 0 | N25: =VLOOKUP(A19,'विज्ञान '!A10:Q69,13,0) -> 0 | Q25: =VLOOKUP(A19,'समाज शास्र'!A10:Q69,13,0) -> 0 | R25: एकूण | S25: शेकडा गुण | T25: गुणानुक्रम
C26: सरासरी(अ+ब) / 2 | E26: 100 | F26: =VLOOKUP(A19,प्र.भाषा!A10:M69,10,0) -> 38 | G26: =VLOOKUP(A19,'व्दि.or संयुक्त भा'!A10:M69,10,0) -> 0 | H26: =VLOOKUP(A19,'तृ. भाषा'!A10:M69,10,0) -> 0 | K26: =VLOOKUP(A19,गणित!A10:Q69,14,0) -> 0 | N26: =VLOOKUP(A19,'विज्ञान '!A10:Q69,14,0) -> 0 | Q26: =VLOOKUP(A19,'समाज शास्र'!A10:Q69,14,0) -> 0
C27: सवलतीचे गुण | F27: =VLOOKUP(A19,प्र.भाषा!A10:M69,11,0) -> - | G27: =VLOOKUP(A19,'व्दि.or संयुक्त भा'!A10:M69,11,0) -> - | H27: =VLOOKUP(A19,'तृ. भाषा'!A10:M69,11,0) -> - | K27: =VLOOKUP(A19,गणित!A10:Q69,15,0) -> - | N27: =VLOOKUP(A19,'विज्ञान '!A10:Q69,15,0) -> - | Q27: =VLOOKUP(A19,'समाज शास्र'!A10:Q69,15,0) -> -
C28: एकुणात | E28: 100 | F28: =VLOOKUP(A19,प्र.भाषा!A10:M69,12,0) -> 38 | G28: =VLOOKUP(A19,'व्दि.or संयुक्त भा'!A10:M69,12,0) -> 0 | H28: =VLOOKUP(A19,'तृ. भाषा'!A10:M69,12,0) -> 0 | K28: =VLOOKUP(A19,गणित!A10:Q69,16,0) -> 0 | N28: =VLOOKUP(A19,'विज्ञान '!A10:Q69,16,0) -> 0 | Q28: =VLOOKUP(A19,'समाज शास्र'!A10:Q69,16,0) -> 0 | R28: =VLOOKUP(A19,'वार्षिक निकाल पत्रक'!B10:Q69,9,0) -> 38 | S28: =VLOOKUP(A19,'वार्षिक निकाल पत्रक'!B10:Q69,10,0) -> 6.33 | T28: =VLOOKUP(A19,'वार्षिक निकाल पत्रक'!B10:Q69,11,0) -> 3
A29: =A19+1 -> 3 | B29: =VLOOKUP(A29,'वार्षिक निकाल पत्रक'!B10:Q69,2,0) -> 0 | C29: प्रथम सत्र (अ) | D29: लेखी | E29: 80 | F29: =VLOOKUP(A29,प्र.भाषा!A10:M69,3,0) -> 0 | G29: =VLOOKUP(A29,'व्दि.or संयुक्त भा'!A10:M69,3,0) -> 0 | H29: =VLOOKUP(A29,'तृ. भाषा'!A10:M69,3,0) -> 0 | I29: =VLOOKUP(A29,गणित!A10:Q69,3,0) -> 0 | J29: =VLOOKUP(A29,गणित!A10:Q69,4,0) -> 0 | K29: =VLOOKUP(A29,गणित!A10:Q69,5,0) -> 0 | L29: =VLOOKUP(A29,'विज्ञान '!A10:Q69,3,0) -> 0 | M29: =VLOOKUP(A29,'विज्ञान '!A10:Q69,4,0) -> 0 | N29: =VLOOKUP(A29,'विज्ञान '!A10:Q69,5,0) -> 0 | O29: =VLOOKUP(A29,'समाज शास्र'!A10:Q69,3,0) -> 0 | P29: =VLOOKUP(A29,'समाज शास्र'!A10:Q69,4,0) -> 0 | Q29: =VLOOKUP(A29,'समाज शास्र'!A10:Q69,5,0) -> 0 | R29: =VLOOKUP(A29,'आ.शा.शिक्षण'!A10:P69,16,0) -> D | S29: =VLOOKUP(A29,जलसुरक्षा!A10:T69,20,0) -> D | T29: =VLOOKUP(A29,संरक्षणशास्र!A10:K69,11,0) -> D | U29: =VLOOKUP(A29,'वार्षिक निकाल पत्रक'!B10:Q69,16,0) -> F5
D30: अं.मू.मापन | E30: 20 | F30: =VLOOKUP(A29,प्र.भाषा!A10:M69,4,0) -> 0 | G30: =VLOOKUP(A29,'व्दि.or संयुक्त भा'!A10:M69,4,0) -> 0 | H30: =VLOOKUP(A29,'तृ. भाषा'!A10:M69,4,0) -> 0 | K30: =VLOOKUP(A29,गणित!A10:Q69,6,0) -> 0 | N30: =VLOOKUP(A29,'विज्ञान '!A10:Q69,6,0) -> 0 | Q30: =VLOOKUP(A29,'समाज शास्र'!A10:Q69,6,0) -> 0
D31: एकूण | E31: 100 | F31: =VLOOKUP(A29,प्र.भाषा!A10:M69,5,0) -> 0 | G31: =VLOOKUP(A29,'व्दि.or संयुक्त भा'!A10:M69,5,0) -> 0 | H31: =VLOOKUP(A29,'तृ. भाषा'!A10:M69,5,0) -> 0 | K31: =VLOOKUP(A29,गणित!A10:Q69,7,0) -> 0 | N31: =VLOOKUP(A29,'विज्ञान '!A10:Q69,7,0) -> 0 | Q31: =VLOOKUP(A29,'समाज शास्र'!A10:Q69,7,0) -> 0
C32: व्दितीय सत्र (ब) | D32: लेखी | E32: 80 | F32: =VLOOKUP(A29,प्र.भाषा!A10:M69,6,0) -> 85 | G32: =VLOOKUP(A29,'व्दि.or संयुक्त भा'!A10:M69,6,0) -> 0 | H32: =VLOOKUP(A29,'तृ. भाषा'!A10:M69,6,0) -> 0 | I32: =VLOOKUP(A29,गणित!A10:Q69,8,0) -> 0 | J32: =VLOOKUP(A29,गणित!A10:Q69,9,0) -> 0 | K32: =VLOOKUP(A29,गणित!A10:Q69,10,0) -> 0 | L32: =VLOOKUP(A29,'विज्ञान '!A10:Q69,8,0) -> 0 | M32: =VLOOKUP(A29,'विज्ञान '!A10:Q69,9,0) -> 0 | N32: =VLOOKUP(A29,'विज्ञान '!A10:Q69,10,0) -> 0 | O32: =VLOOKUP(A29,'समाज शास्र'!A10:Q69,8,0) -> 0 | P32: =VLOOKUP(A29,'समाज शास्र'!A10:Q69,9,0) -> 0 | Q32: =VLOOKUP(A29,'समाज शास्र'!A10:Q69,10,0) -> 0
D33: अं.मू.मापन | E33: 20 | F33: =VLOOKUP(A29,प्र.भाषा!A10:M69,7,0) -> 0 | G33: =VLOOKUP(A29,'व्दि.or संयुक्त भा'!A10:M69,7,0) -> 0 | H33: =VLOOKUP(A29,'तृ. भाषा'!A10:M69,7,0) -> 0 | K33: =VLOOKUP(A29,गणित!A10:Q69,11,0) -> 0 | N33: =VLOOKUP(A29,'विज्ञान '!A10:Q69,11,0) -> 0 | Q33: =VLOOKUP(A29,'समाज शास्र'!A10:Q69,11,0) -> 0
D34: एकूण | E34: 100 | F34: =VLOOKUP(A29,प्र.भाषा!A10:M69,8,0) -> 85 | G34: =VLOOKUP(A29,'व्दि.or संयुक्त भा'!A10:M69,8,0) -> 0 | H34: =VLOOKUP(A29,'तृ. भाषा'!A10:M69,8,0) -> 0 | K34: =VLOOKUP(A29,गणित!A10:Q69,12,0) -> 0 | N34: =VLOOKUP(A29,'विज्ञान '!A10:Q69,12,0) -> 0 | Q34: =VLOOKUP(A29,'समाज शास्र'!A10:Q69,12,0) -> 0
C35: एकूण गुण (अ+ब) | E35: 200 | F35: =VLOOKUP(A29,प्र.भाषा!A10:M69,9,0) -> 85 | G35: =VLOOKUP(A29,'व्दि.or संयुक्त भा'!A10:M69,9,0) -> 0 | H35: =VLOOKUP(A29,'तृ. भाषा'!A10:M69,9,0) -> 0 | K35: =VLOOKUP(A29,गणित!A10:Q69,13,0) -> 0 | N35: =VLOOKUP(A29,'विज्ञान '!A10:Q69,13,0) -> 0 | Q35: =VLOOKUP(A29,'समाज शास्र'!A10:Q69,13,0) -> 0 | R35: एकूण | S35: शेकडा गुण | T35: गुणानुक्रम
C36: सरासरी(अ+ब) / 2 | E36: 100 | F36: =VLOOKUP(A29,प्र.भाषा!A10:M69,10,0) -> 43 | G36: =VLOOKUP(A29,'व्दि.or संयुक्त भा'!A10:M69,10,0) -> 0 | H36: =VLOOKUP(A29,'तृ. भाषा'!A10:M69,10,0) -> 0 | K36: =VLOOKUP(A29,गणित!A10:Q69,14,0) -> 0 | N36: =VLOOKUP(A29,'विज्ञान '!A10:Q69,14,0) -> 0 | Q36: =VLOOKUP(A29,'समाज शास्र'!A10:Q69,14,0) -> 0
C37: सवलतीचे गुण | F37: =VLOOKUP(A29,प्र.भाषा!A10:M69,11,0) -> - | G37: =VLOOKUP(A29,'व्दि.or संयुक्त भा'!A10:M69,11,0) -> - | H37: =VLOOKUP(A29,'तृ. भाषा'!A10:M69,11,0) -> - | K37: =VLOOKUP(A29,गणित!A10:Q69,15,0) -> - | N37: =VLOOKUP(A29,'विज्ञान '!A10:Q69,15,0) -> - | Q37: =VLOOKUP(A29,'समाज शास्र'!A10:Q69,15,0) -> -
C38: एकुणात | E38: 100 | F38: =VLOOKUP(A29,प्र.भाषा!A10:M69,12,0) -> 43 | G38: =VLOOKUP(A29,'व्दि.or संयुक्त भा'!A10:M69,12,0) -> 0 | H38: =VLOOKUP(A29,'तृ. भाषा'!A10:M69,12,0) -> 0 | K38: =VLOOKUP(A29,गणित!A10:Q69,16,0) -> 0 | N38: =VLOOKUP(A29,'विज्ञान '!A10:Q69,16,0) -> 0 | Q38: =VLOOKUP(A29,'समाज शास्र'!A10:Q69,16,0) -> 0 | R38: =VLOOKUP(A29,'वार्षिक निकाल पत्रक'!B10:Q69,9,0) -> 43 | S38: =VLOOKUP(A29,'वार्षिक निकाल पत्रक'!B10:Q69,10,0) -> 7.17 | T38: =VLOOKUP(A29,'वार्षिक निकाल पत्रक'!B10:Q69,11,0) -> 2
A39: =A29+1 -> 4 | B39: =VLOOKUP(A39,'वार्षिक निकाल पत्रक'!B10:Q69,2,0) -> 0 | C39: प्रथम सत्र (अ) | D39: लेखी | E39: 80 | F39: =VLOOKUP(A39,प्र.भाषा!A10:M69,3,0) -> 0 | G39: =VLOOKUP(A39,'व्दि.or संयुक्त भा'!A10:M69,3,0) -> 0 | H39: =VLOOKUP(A39,'तृ. भाषा'!A10:M69,3,0) -> 0 | I39: =VLOOKUP(A39,गणित!A10:Q69,3,0) -> 0 | J39: =VLOOKUP(A39,गणित!A10:Q69,4,0) -> 0 | K39: =VLOOKUP(A39,गणित!A10:Q69,5,0) -> 0 | L39: =VLOOKUP(A39,'विज्ञान '!A10:Q69,3,0) -> 0 | M39: =VLOOKUP(A39,'विज्ञान '!A10:Q69,4,0) -> 0 | N39: =VLOOKUP(A39,'विज्ञान '!A10:Q69,5,0) -> 0 | O39: =VLOOKUP(A39,'समाज शास्र'!A10:Q69,3,0) -> 0 | P39: =VLOOKUP(A39,'समाज शास्र'!A10:Q69,4,0) -> 0 | Q39: =VLOOKUP(A39,'समाज शास्र'!A10:Q69,5,0) -> 0 | R39: =VLOOKUP(A39,'आ.शा.शिक्षण'!A10:P69,16,0) -> D | S39: =VLOOKUP(A39,जलसुरक्षा!A10:T69,20,0) -> D | T39: =VLOOKUP(A39,संरक्षणशास्र!A10:K69,11,0) -> D | U39: =VLOOKUP(A39,'वार्षिक निकाल पत्रक'!B10:Q69,16,0) -> F6
D40: अं.मू.मापन | E40: 20 | F40: =VLOOKUP(A39,प्र.भाषा!A10:M69,4,0) -> 0 | G40: =VLOOKUP(A39,'व्दि.or संयुक्त भा'!A10:M69,4,0) -> 0 | H40: =VLOOKUP(A39,'तृ. भाषा'!A10:M69,4,0) -> 0 | K40: =VLOOKUP(A39,गणित!A10:Q69,6,0) -> 0 | N40: =VLOOKUP(A39,'विज्ञान '!A10:Q69,6,0) -> 0 | Q40: =VLOOKUP(A39,'समाज शास्र'!A10:Q69,6,0) -> 0
D41: एकूण | E41: 100 | F41: =VLOOKUP(A39,प्र.भाषा!A10:M69,5,0) -> 0 | G41: =VLOOKUP(A39,'व्दि.or संयुक्त भा'!A10:M69,5,0) -> 0 | H41: =VLOOKUP(A39,'तृ. भाषा'!A10:M69,5,0) -> 0 | K41: =VLOOKUP(A39,गणित!A10:Q69,7,0) -> 0 | N41: =VLOOKUP(A39,'विज्ञान '!A10:Q69,7,0) -> 0 | Q41: =VLOOKUP(A39,'समाज शास्र'!A10:Q69,7,0) -> 0
C42: व्दितीय सत्र (ब) | D42: लेखी | E42: 80 | F42: =VLOOKUP(A39,प्र.भाषा!A10:M69,6,0) -> 0 | G42: =VLOOKUP(A39,'व्दि.or संयुक्त भा'!A10:M69,6,0) -> 0 | H42: =VLOOKUP(A39,'तृ. भाषा'!A10:M69,6,0) -> 0 | I42: =VLOOKUP(A39,गणित!A10:Q69,8,0) -> 0 | J42: =VLOOKUP(A39,गणित!A10:Q69,9,0) -> 0 | K42: =VLOOKUP(A39,गणित!A10:Q69,10,0) -> 0 | L42: =VLOOKUP(A39,'विज्ञान '!A10:Q69,8,0) -> 0 | M42: =VLOOKUP(A39,'विज्ञान '!A10:Q69,9,0) -> 0 | N42: =VLOOKUP(A39,'विज्ञान '!A10:Q69,10,0) -> 0 | O42: =VLOOKUP(A39,'समाज शास्र'!A10:Q69,8,0) -> 0 | P42: =VLOOKUP(A39,'समाज शास्र'!A10:Q69,9,0) -> 0 | Q42: =VLOOKUP(A39,'समाज शास्र'!A10:Q69,10,0) -> 0
D43: अं.मू.मापन | E43: 20 | F43: =VLOOKUP(A39,प्र.भाषा!A10:M69,7,0) -> 0 | G43: =VLOOKUP(A39,'व्दि.or संयुक्त भा'!A10:M69,7,0) -> 0 | H43: =VLOOKUP(A39,'तृ. भाषा'!A10:M69,7,0) -> 0 | K43: =VLOOKUP(A39,गणित!A10:Q69,11,0) -> 0 | N43: =VLOOKUP(A39,'विज्ञान '!A10:Q69,11,0) -> 0 | Q43: =VLOOKUP(A39,'समाज शास्र'!A10:Q69,11,0) -> 0
D44: एकूण | E44: 100 | F44: =VLOOKUP(A39,प्र.भाषा!A10:M69,8,0) -> 0 | G44: =VLOOKUP(A39,'व्दि.or संयुक्त भा'!A10:M69,8,0) -> 0 | H44: =VLOOKUP(A39,'तृ. भाषा'!A10:M69,8,0) -> 0 | K44: =VLOOKUP(A39,गणित!A10:Q69,12,0) -> 0 | N44: =VLOOKUP(A39,'विज्ञान '!A10:Q69,12,0) -> 0 | Q44: =VLOOKUP(A39,'समाज शास्र'!A10:Q69,12,0) -> 0
C45: एकूण गुण (अ+ब) | E45: 200 | F45: =VLOOKUP(A39,प्र.भाषा!A10:M69,9,0) -> 0 | G45: =VLOOKUP(A39,'व्दि.or संयुक्त भा'!A10:M69,9,0) -> 0 | H45: =VLOOKUP(A39,'तृ. भाषा'!A10:M69,9,0) -> 0 | K45: =VLOOKUP(A39,गणित!A10:Q69,13,0) -> 0 | N45: =VLOOKUP(A39,'विज्ञान '!A10:Q69,13,0) -> 0 | Q45: =VLOOKUP(A39,'समाज शास्र'!A10:Q69,13,0) -> 0 | R45: एकूण | S45: शेकडा गुण | T45: गुणानुक्रम
C46: सरासरी(अ+ब) / 2 | E46: 100 | F46: =VLOOKUP(A39,प्र.भाषा!A10:M69,10,0) -> 0 | G46: =VLOOKUP(A39,'व्दि.or संयुक्त भा'!A10:M69,10,0) -> 0 | H46: =VLOOKUP(A39,'तृ. भाषा'!A10:M69,10,0) -> 0 | K46: =VLOOKUP(A39,गणित!A10:Q69,14,0) -> 0 | N46: =VLOOKUP(A39,'विज्ञान '!A10:Q69,14,0) -> 0 | Q46: =VLOOKUP(A39,'समाज शास्र'!A10:Q69,14,0) -> 0
C47: सवलतीचे गुण | F47: =VLOOKUP(A39,प्र.भाषा!A10:M69,11,0) -> - | G47: =VLOOKUP(A39,'व्दि.or संयुक्त भा'!A10:M69,11,0) -> - | H47: =VLOOKUP(A39,'तृ. भाषा'!A10:M69,11,0) -> - | K47: =VLOOKUP(A39,गणित!A10:Q69,15,0) -> - | N47: =VLOOKUP(A39,'विज्ञान '!A10:Q69,15,0) -> - | Q47: =VLOOKUP(A39,'समाज शास्र'!A10:Q69,15,0) -> -
C48: एकुणात | E48: 100 | F48: =VLOOKUP(A39,प्र.भाषा!A10:M69,12,0) -> 0 | G48: =VLOOKUP(A39,'व्दि.or संयुक्त भा'!A10:M69,12,0) -> 0 | H48: =VLOOKUP(A39,'तृ. भाषा'!A10:M69,12,0) -> 0 | K48: =VLOOKUP(A39,गणित!A10:Q69,16,0) -> 0 | N48: =VLOOKUP(A39,'विज्ञान '!A10:Q69,16,0) -> 0 | Q48: =VLOOKUP(A39,'समाज शास्र'!A10:Q69,16,0) -> 0 | R48: =VLOOKUP(A39,'वार्षिक निकाल पत्रक'!B10:Q69,9,0) -> 0 | S48: =VLOOKUP(A39,'वार्षिक निकाल पत्रक'!B10:Q69,10,0) -> 0 | T48: =VLOOKUP(A39,'वार्षिक निकाल पत्रक'!B10:Q69,11,0) -> 4
A49: Easy Result System By :- Sachin Wakchaure (9822882466)

Sheet गोषवारा
A1: =MASTER!B4 -> आदिवासी उन्नती सेवा मंडळ, राजूर, ता. अकोले जि.अहिल्यानगर संचालित...
A2: =MASTER!B5 -> अनुदानित माध्यमिक आश्रमशाळा, एकदरे, ता. अकोले जि. अहिल्यानगर
A4: वार्षिक निकाल गोषवारा
A6: =MASTER!B12 -> (सन 2026-2027)
A7: शेकडेवारी वर्ग मर्यादा | B7: =MASTER!A15 -> मराठी | C7: =MASTER!A16 -> हिंदी | D7: =MASTER!A17 -> इंग्रजी | E7: =MASTER!A18 -> गणित | F7: =MASTER!A19 -> विज्ञान | G7: =MASTER!A20 -> समाजशास्रे | H7: एकूण
J9: शे.गुण | K9: वि.संख्या
B11: 100 | C11: 100 | D11: 100 | E11: 100 | F11: 100 | G11: 100 | J11: 0 To 34 | K11: =COUNTIF('वार्षिक निकाल पत्रक'!K10:K69,">=0")-COUNTIF('वार्षिक निकाल पत्रक'!K10:K69,">=34.9") -> 59
A12: 90% to 100% | B12: =COUNTIF('वार्षिक निकाल पत्रक'!D10:D69,">=90")-COUNTIF('वार्षिक निकाल पत्रक'!D10:D69,">100") -> 0 | C12: =COUNTIF('वार्षिक निकाल पत्रक'!E10:E69,">=90")-COUNTIF('वार्षिक निकाल पत्रक'!E10:E69,">100") -> 0 | D12: =COUNTIF('वार्षिक निकाल पत्रक'!F10:F69,">=90")-COUNTIF('वार्षिक निकाल पत्रक'!F10:F69,">100") -> 0 | E12: =COUNTIF('वार्षिक निकाल पत्रक'!G10:G69,">=90")-COUNTIF('वार्षिक निकाल पत्रक'!G10:G69,">100") -> 0 | F12: =COUNTIF('वार्षिक निकाल पत्रक'!H10:H69,">=90")-COUNTIF('वार्षिक निकाल पत्रक'!H10:H69,">100") -> 0 | G12: =COUNTIF('वार्षिक निकाल पत्रक'!I10:I69,">=90")-COUNTIF('वार्षिक निकाल पत्रक'!I10:I69,">100") -> 0 | H12: =COUNTIF('वार्षिक निकाल पत्रक'!K10:K69,">=90")-COUNTIF('वार्षिक निकाल पत्रक'!K10:K69,">100") -> 0 | J12: 35 TO 40 | K12: =COUNTIF('वार्षिक निकाल पत्रक'!K10:K69,">=35")-COUNTIF('वार्षिक निकाल पत्रक'!K10:K69,">=40.9") -> 0
A13: 85% to 89.9% | B13: =COUNTIF('वार्षिक निकाल पत्रक'!D10:D69,">=85")-COUNTIF('वार्षिक निकाल पत्रक'!D10:D69,">89.9") -> 0 | C13: =COUNTIF('वार्षिक निकाल पत्रक'!E10:E69,">=85")-COUNTIF('वार्षिक निकाल पत्रक'!E10:E69,">89.9") -> 0 | D13: =COUNTIF('वार्षिक निकाल पत्रक'!F10:F69,">=85")-COUNTIF('वार्षिक निकाल पत्रक'!F10:F69,">89.9") -> 0 | E13: =COUNTIF('वार्षिक निकाल पत्रक'!G10:G69,">=85")-COUNTIF('वार्षिक निकाल पत्रक'!G10:G69,">89.9") -> 0 | F13: =COUNTIF('वार्षिक निकाल पत्रक'!H10:H69,">=85")-COUNTIF('वार्षिक निकाल पत्रक'!H10:H69,">89.9") -> 0 | G13: =COUNTIF('वार्षिक निकाल पत्रक'!I10:I69,">=85")-COUNTIF('वार्षिक निकाल पत्रक'!I10:I69,">89.9") -> 0 | H13: =COUNTIF('वार्षिक निकाल पत्रक'!K10:K69,">=85")-COUNTIF('वार्षिक निकाल पत्रक'!K10:K69,">89.9") -> 0 | J13: 41 TO 50 | K13: =COUNTIF('वार्षिक निकाल पत्रक'!K10:K69,">=41")-COUNTIF('वार्षिक निकाल पत्रक'!K10:K69,">=50.9") -> 0
A14: 80% to 84.9% | B14: =COUNTIF('वार्षिक निकाल पत्रक'!D10:D69,">=80")-COUNTIF('वार्षिक निकाल पत्रक'!D10:D69,">84.9") -> 0 | C14: =COUNTIF('वार्षिक निकाल पत्रक'!E10:E69,">=80")-COUNTIF('वार्षिक निकाल पत्रक'!E10:E69,">84.9") -> 0 | D14: =COUNTIF('वार्षिक निकाल पत्रक'!F10:F69,">=80")-COUNTIF('वार्षिक निकाल पत्रक'!F10:F69,">84.9") -> 0 | E14: =COUNTIF('वार्षिक निकाल पत्रक'!G10:G69,">=80")-COUNTIF('वार्षिक निकाल पत्रक'!G10:G69,">84.9") -> 0 | F14: =COUNTIF('वार्षिक निकाल पत्रक'!H10:H69,">=80")-COUNTIF('वार्षिक निकाल पत्रक'!H10:H69,">84.9") -> 0 | G14: =COUNTIF('वार्षिक निकाल पत्रक'!I10:I69,">=80")-COUNTIF('वार्षिक निकाल पत्रक'!I10:I69,">84.9") -> 0 | H14: =COUNTIF('वार्षिक निकाल पत्रक'!K10:K69,">=80")-COUNTIF('वार्षिक निकाल पत्रक'!K10:K69,">84.9") -> 0 | J14: 51 TO 60 | K14: =COUNTIF('वार्षिक निकाल पत्रक'!K10:K69,">=51")-COUNTIF('वार्षिक निकाल पत्रक'!K10:K69,">=60.9") -> 0
A15: 75% to 79.9% | B15: =COUNTIF('वार्षिक निकाल पत्रक'!D10:D69,">=75")-COUNTIF('वार्षिक निकाल पत्रक'!D10:D69,">79.9") -> 1 | C15: =COUNTIF('वार्षिक निकाल पत्रक'!E10:E69,">=75")-COUNTIF('वार्षिक निकाल पत्रक'!E10:E69,">79.9") -> 1 | D15: =COUNTIF('वार्षिक निकाल पत्रक'!F10:F69,">=75")-COUNTIF('वार्षिक निकाल पत्रक'!F10:F69,">79.9") -> 1 | E15: =COUNTIF('वार्षिक निकाल पत्रक'!G10:G69,">=75")-COUNTIF('वार्षिक निकाल पत्रक'!G10:G69,">79.9") -> 1 | F15: =COUNTIF('वार्षिक निकाल पत्रक'!H10:H69,">=75")-COUNTIF('वार्षिक निकाल पत्रक'!H10:H69,">79.9") -> 0 | G15: =COUNTIF('वार्षिक निकाल पत्रक'!I10:I69,">=75")-COUNTIF('वार्षिक निकाल पत्रक'!I10:I69,">79.9") -> 0 | H15: =COUNTIF('वार्षिक निकाल पत्रक'!K10:K69,">=75")-COUNTIF('वार्षिक निकाल पत्रक'!K10:K69,">79.9") -> 0 | J15: 61 TO 70 | K15: =COUNTIF('वार्षिक निकाल पत्रक'!K10:K69,">=61")-COUNTIF('वार्षिक निकाल पत्रक'!K10:K69,">=70.9") -> 1
A16: 70% to 74.9% | B16: =COUNTIF('वार्षिक निकाल पत्रक'!D10:D69,">=70")-COUNTIF('वार्षिक निकाल पत्रक'!D10:D69,">74.9") -> 0 | C16: =COUNTIF('वार्षिक निकाल पत्रक'!E10:E69,">=70")-COUNTIF('वार्षिक निकाल पत्रक'!E10:E69,">74.9") -> 0 | D16: =COUNTIF('वार्षिक निकाल पत्रक'!F10:F69,">=70")-COUNTIF('वार्षिक निकाल पत्रक'!F10:F69,">74.9") -> 0 | E16: =COUNTIF('वार्षिक निकाल पत्रक'!G10:G69,">=70")-COUNTIF('वार्षिक निकाल पत्रक'!G10:G69,">74.9") -> 0 | F16: =COUNTIF('वार्षिक निकाल पत्रक'!H10:H69,">=70")-COUNTIF('वार्षिक निकाल पत्रक'!H10:H69,">74.9") -> 0 | G16: =COUNTIF('वार्षिक निकाल पत्रक'!I10:I69,">=70")-COUNTIF('वार्षिक निकाल पत्रक'!I10:I69,">74.9") -> 0 | H16: =COUNTIF('वार्षिक निकाल पत्रक'!K10:K69,">=70")-COUNTIF('वार्षिक निकाल पत्रक'!K10:K69,">74.9") -> 0 | J16: 71 TO 80 | K16: =COUNTIF('वार्षिक निकाल पत्रक'!K10:K69,">=71")-COUNTIF('वार्षिक निकाल पत्रक'!K10:K69,">=80.9") -> 0
A17: 60% to 69.9% | B17: =COUNTIF('वार्षिक निकाल पत्रक'!D10:D69,">=60")-COUNTIF('वार्षिक निकाल पत्रक'!D10:D69,">69.9") -> 0 | C17: =COUNTIF('वार्षिक निकाल पत्रक'!E10:E69,">=60")-COUNTIF('वार्षिक निकाल पत्रक'!E10:E69,">69.9") -> 0 | D17: =COUNTIF('वार्षिक निकाल पत्रक'!F10:F69,">=60")-COUNTIF('वार्षिक निकाल पत्रक'!F10:F69,">69.9") -> 0 | E17: =COUNTIF('वार्षिक निकाल पत्रक'!G10:G69,">=60")-COUNTIF('वार्षिक निकाल पत्रक'!G10:G69,">69.9") -> 0 | F17: =COUNTIF('वार्षिक निकाल पत्रक'!H10:H69,">=60")-COUNTIF('वार्षिक निकाल पत्रक'!H10:H69,">69.9") -> 0 | G17: =COUNTIF('वार्षिक निकाल पत्रक'!I10:I69,">=60")-COUNTIF('वार्षिक निकाल पत्रक'!I10:I69,">69.9") -> 0 | H17: =COUNTIF('वार्षिक निकाल पत्रक'!K10:K69,">=60")-COUNTIF('वार्षिक निकाल पत्रक'!K10:K69,">69.9") -> 1 | J17: 81 TO 90 | K17: =COUNTIF('वार्षिक निकाल पत्रक'!K10:K69,">=81")-COUNTIF('वार्षिक निकाल पत्रक'!K10:K69,">=90.9") -> 0
A18: 50% to 59.9% | B18: =COUNTIF('वार्षिक निकाल पत्रक'!D10:D69,">=50")-COUNTIF('वार्षिक निकाल पत्रक'!D10:D69,">59.9") -> 0 | C18: =COUNTIF('वार्षिक निकाल पत्रक'!E10:E69,">=50")-COUNTIF('वार्षिक निकाल पत्रक'!E10:E69,">59.9") -> 0 | D18: =COUNTIF('वार्षिक निकाल पत्रक'!F10:F69,">=50")-COUNTIF('वार्षिक निकाल पत्रक'!F10:F69,">59.9") -> 0 | E18: =COUNTIF('वार्षिक निकाल पत्रक'!G10:G69,">=50")-COUNTIF('वार्षिक निकाल पत्रक'!G10:G69,">59.9") -> 0 | F18: =COUNTIF('वार्षिक निकाल पत्रक'!H10:H69,">=50")-COUNTIF('वार्षिक निकाल पत्रक'!H10:H69,">59.9") -> 1 | G18: =COUNTIF('वार्षिक निकाल पत्रक'!I10:I69,">=50")-COUNTIF('वार्षिक निकाल पत्रक'!I10:I69,">59.9") -> 1 | H18: =COUNTIF('वार्षिक निकाल पत्रक'!K10:K69,">=50")-COUNTIF('वार्षिक निकाल पत्रक'!K10:K69,">59.9") -> 0 | J18: 91 TO 100 | K18: =COUNTIF('वार्षिक निकाल पत्रक'!K10:K69,">=91")-COUNTIF('वार्षिक निकाल पत्रक'!K10:K69,">=100.1") -> 0
A19: 40% to49.9% | B19: =COUNTIF('वार्षिक निकाल पत्रक'!D10:D69,">=40")-COUNTIF('वार्षिक निकाल पत्रक'!D10:D69,">49.9") -> 1 | C19: =COUNTIF('वार्षिक निकाल पत्रक'!E10:E69,">=40")-COUNTIF('वार्षिक निकाल पत्रक'!E10:E69,">49.9") -> 0 | D19: =COUNTIF('वार्षिक निकाल पत्रक'!F10:F69,">=40")-COUNTIF('वार्षिक निकाल पत्रक'!F10:F69,">49.9") -> 0 | E19: =COUNTIF('वार्षिक निकाल पत्रक'!G10:G69,">=40")-COUNTIF('वार्षिक निकाल पत्रक'!G10:G69,">49.9") -> 0 | F19: =COUNTIF('वार्षिक निकाल पत्रक'!H10:H69,">=40")-COUNTIF('वार्षिक निकाल पत्रक'!H10:H69,">49.9") -> 0 | G19: =COUNTIF('वार्षिक निकाल पत्रक'!I10:I69,">=40")-COUNTIF('वार्षिक निकाल पत्रक'!I10:I69,">49.9") -> 0 | H19: =COUNTIF('वार्षिक निकाल पत्रक'!K10:K69,">=40")-COUNTIF('वार्षिक निकाल पत्रक'!K10:K69,">49.9") -> 0 | J19: एकूण | K19: =SUM(K11:K18) -> 60
A20: 35% to39.9% | B20: =COUNTIF('वार्षिक निकाल पत्रक'!D10:D69,">=35")-COUNTIF('वार्षिक निकाल पत्रक'!D10:D69,">39.9") -> 1 | C20: =COUNTIF('वार्षिक निकाल पत्रक'!E10:E69,">=35")-COUNTIF('वार्षिक निकाल पत्रक'!E10:E69,">39.9") -> 0 | D20: =COUNTIF('वार्षिक निकाल पत्रक'!F10:F69,">=35")-COUNTIF('वार्षिक निकाल पत्रक'!F10:F69,">39.9") -> 0 | E20: =COUNTIF('वार्षिक निकाल पत्रक'!G10:G69,">=35")-COUNTIF('वार्षिक निकाल पत्रक'!G10:G69,">39.9") -> 0 | F20: =COUNTIF('वार्षिक निकाल पत्रक'!H10:H69,">=35")-COUNTIF('वार्षिक निकाल पत्रक'!H10:H69,">39.9") -> 0 | G20: =COUNTIF('वार्षिक निकाल पत्रक'!I10:I69,">=35")-COUNTIF('वार्षिक निकाल पत्रक'!I10:I69,">39.9") -> 0 | H20: =COUNTIF('वार्षिक निकाल पत्रक'!K10:K69,">=35")-COUNTIF('वार्षिक निकाल पत्रक'!K10:K69,">39.9") -> 0
A21: 0% to34.9% | B21: =COUNTIF('वार्षिक निकाल पत्रक'!D10:D69,">=0")-COUNTIF('वार्षिक निकाल पत्रक'!D10:D69,">34.9") -> 57 | C21: =COUNTIF('वार्षिक निकाल पत्रक'!E10:E69,">=0")-COUNTIF('वार्षिक निकाल पत्रक'!E10:E69,">34.9") -> 59 | D21: =COUNTIF('वार्षिक निकाल पत्रक'!F10:F69,">=0")-COUNTIF('वार्षिक निकाल पत्रक'!F10:F69,">34.9") -> 59 | E21: =COUNTIF('वार्षिक निकाल पत्रक'!G10:G69,">=0")-COUNTIF('वार्षिक निकाल पत्रक'!G10:G69,">34.9") -> 59 | F21: =COUNTIF('वार्षिक निकाल पत्रक'!H10:H69,">=0")-COUNTIF('वार्षिक निकाल पत्रक'!H10:H69,">34.9") -> 59 | G21: =COUNTIF('वार्षिक निकाल पत्रक'!I10:I69,">=0")-COUNTIF('वार्षिक निकाल पत्रक'!I10:I69,">34.9") -> 59 | H21: =COUNTIF('वार्षिक निकाल पत्रक'!K10:K69,">=0")-COUNTIF('वार्षिक निकाल पत्रक'!K10:K69,">34.9") -> 59
A22: एकूण | B22: =SUM(B12:B21) -> 60 | C22: =SUM(C12:C21) -> 60 | D22: =SUM(D12:D21) -> 60 | E22: =SUM(E12:E21) -> 60 | F22: =SUM(F12:F21) -> 60 | G22: =SUM(G12:G21) -> 60 | H22: =SUM(H12:H21) -> 60
A25: उत्तीर्ण | B25: =COUNTIF('वार्षिक निकाल पत्रक'!D10:D69,">=35") -> 3 | C25: =COUNTIF('वार्षिक निकाल पत्रक'!E10:E69,">=35") -> 1 | D25: =COUNTIF('वार्षिक निकाल पत्रक'!F10:F69,">=35") -> 1 | E25: =COUNTIF('वार्षिक निकाल पत्रक'!G10:G69,">=35") -> 1 | F25: =COUNTIF('वार्षिक निकाल पत्रक'!H10:H69,">=35") -> 1 | G25: =COUNTIF('वार्षिक निकाल पत्रक'!I10:I69,">=35") -> 1 | H25: =COUNTIF('वार्षिक निकाल पत्रक'!Q10:Q69,"Pass") -> 1
A26: अनुत्तीर्ण | B26: =COUNTIF('वार्षिक निकाल पत्रक'!D10:D69,"<35") -> 57 | C26: =COUNTIF('वार्षिक निकाल पत्रक'!E10:E69,"<35") -> 59 | D26: =COUNTIF('वार्षिक निकाल पत्रक'!F10:F69,"<35") -> 59 | E26: =COUNTIF('वार्षिक निकाल पत्रक'!G10:G69,"<35") -> 59 | F26: =COUNTIF('वार्षिक निकाल पत्रक'!H10:H69,"<35") -> 59 | G26: =COUNTIF('वार्षिक निकाल पत्रक'!I10:I69,"<35") -> 59 | H26: =K19-H25-K35-K36 -> 59
A27: अनुपस्थित | B27: =COUNTIF('वार्षिक निकाल पत्रक'!D10:D69,"AA") -> 0 | C27: =COUNTIF('वार्षिक निकाल पत्रक'!E10:E69,"AA") -> 0 | D27: =COUNTIF('वार्षिक निकाल पत्रक'!F10:F69,"AA") -> 0 | E27: =COUNTIF('वार्षिक निकाल पत्रक'!G10:G69,"AA") -> 0 | F27: =COUNTIF('वार्षिक निकाल पत्रक'!H10:H69,"AA") -> 0 | G27: =COUNTIF('वार्षिक निकाल पत्रक'!I10:I69,"AA") -> 0 | H27: =COUNTIF('वार्षिक निकाल पत्रक'!Q10:Q69,"AA") -> 0
A28: नाव कमी | B28: =COUNTIF('वार्षिक निकाल पत्रक'!D10:D69,"-") -> 0 | C28: =COUNTIF('वार्षिक निकाल पत्रक'!E10:E69,"-") -> 0 | D28: =COUNTIF('वार्षिक निकाल पत्रक'!F10:F69,"-") -> 0 | E28: =COUNTIF('वार्षिक निकाल पत्रक'!G10:G69,"-") -> 0 | F28: =COUNTIF('वार्षिक निकाल पत्रक'!H10:H69,"-") -> 0 | G28: =COUNTIF('वार्षिक निकाल पत्रक'!I10:I69,"-") -> 0 | H28: =COUNTIF('वार्षिक निकाल पत्रक'!Q10:Q69,"-") -> 0 | J28: Pass | K28: =COUNTIF('वार्षिक निकाल पत्रक'!Q10:Q69,"Pass") -> 1
A29: एकूण | B29: =SUM(B25:B28) -> 60 | C29: =SUM(C25:C28) -> 60 | D29: =SUM(D25:D28) -> 60 | E29: =SUM(E25:E28) -> 60 | F29: =SUM(F25:F28) -> 60 | G29: =SUM(G25:G28) -> 60 | H29: =SUM(H25:H28) -> 60 | J29: F1 | K29: =COUNTIF('वार्षिक निकाल पत्रक'!Q10:Q69,"F1") -> 0
J30: F2 | K30: =COUNTIF('वार्षिक निकाल पत्रक'!Q10:Q69,"F2") -> 0
A31: शेकडा निकाल | B31: =ROUND(B25/B22*100,2) -> 5 | C31: =ROUND(C25/C22*100,2) -> 1.67 | D31: =ROUND(D25/D22*100,2) -> 1.67 | E31: =ROUND(E25/E22*100,2) -> 1.67 | F31: =ROUND(F25/F22*100,2) -> 1.67 | G31: =ROUND(G25/G22*100,2) -> 1.67 | H31: =ROUND(K28/K19*100,2) -> 1.67 | J31: F3 | K31: =COUNTIF('वार्षिक निकाल पत्रक'!Q10:Q69,"F3") -> 0
A32: दरडोई सरासरी गुण | B32: =ROUND('वार्षिक निकाल पत्रक'!D70/B22,2) -> 2.65 | C32: =ROUND('वार्षिक निकाल पत्रक'!E70/C22,2) -> 1.25 | D32: =ROUND('वार्षिक निकाल पत्रक'!F70/D22,2) -> 1.3 | E32: =ROUND('वार्षिक निकाल पत्रक'!G70/E22,2) -> 1.3 | F32: =ROUND('वार्षिक निकाल पत्रक'!H70/F22,2) -> 0.87 | G32: =ROUND('वार्षिक निकाल पत्रक'!I70/G22,2) -> 0.88 | H32: =ROUND('वार्षिक निकाल पत्रक'!J70/H22,2) -> 8.25 | J32: F4 | K32: =COUNTIF('वार्षिक निकाल पत्रक'!Q10:Q69,"F4") -> 0
A33: विषय शिक्षक | B33: =MASTER!B15 -> श्री. कोटकर संदीप भास्कर | C33: =MASTER!B16 -> श्री. लेंडे किरण विठ्ठल | D33: =MASTER!B17 -> श्री. ढगे भरत बुधाजी | E33: =MASTER!B18 -> श्री. कानकाटे आसाराम शंकर | F33: =MASTER!B19 -> श्री. वाकचौरे सचिन माधवराव | G33: =MASTER!B20 -> श्री. लेंडे के. व्ही./ श्री.कोटकर एस.बी. | H33: संपूर्ण नाव | J33: F5 | K33: =COUNTIF('वार्षिक निकाल पत्रक'!Q10:Q69,"F5") -> 2
J34: F6 | K34: =COUNTIF('वार्षिक निकाल पत्रक'!Q10:Q69,"F6") -> 57
J35: अनुपस्थित | K35: =COUNTIF('वार्षिक निकाल पत्रक'!Q10:Q69,"AA") -> 0
J36: नाव कमी | K36: =COUNTIF('वार्षिक निकाल पत्रक'!Q10:Q69,"-") -> 0
A37: शिक्षकांची सही | H37: शिक्षकांची सही | J37: एकूण | K37: =SUM(K28:K36) -> 60
A42: वर्गाचा शेकडा निकाल | B42: अ. क्र. | C42: वर्गातील प्रथम पाच विद्यार्थी | H42: क्रमांक | J42: गुण | K42: शे. गुण
B44: 1 | C44: =VLOOKUP(B44,'वार्षिक निकाल पत्रक'!A10:Q69,3,0) -> चि. समीर यशवंत देशमुख सखाराम | H44: प्रथम | J44: =VLOOKUP(B44,'वार्षिक निकाल पत्रक'!A10:Q69,10,0) -> 414 | K44: =VLOOKUP(B44,'वार्षिक निकाल पत्रक'!A10:Q69,11,0) -> 69
B45: 2 | C45: =VLOOKUP(B45,'वार्षिक निकाल पत्रक'!A10:Q69,3,0) -> 0 | H45: व्दितीय | J45: =VLOOKUP(B45,'वार्षिक निकाल पत्रक'!A10:Q69,10,0) -> 43 | K45: =VLOOKUP(B45,'वार्षिक निकाल पत्रक'!A10:Q69,11,0) -> 7.17
A46: =ROUND(K28/K37*100,2) -> 1.67 | B46: 3 | C46: =VLOOKUP(B46,'वार्षिक निकाल पत्रक'!A10:Q69,3,0) -> 0 | H46: तृतीय | J46: =VLOOKUP(B46,'वार्षिक निकाल पत्रक'!A10:Q69,10,0) -> 38 | K46: =VLOOKUP(B46,'वार्षिक निकाल पत्रक'!A10:Q69,11,0) -> 6.33
B47: 4 | C47: =VLOOKUP(B47,'वार्षिक निकाल पत्रक'!A10:Q69,3,0) -> 0 | H47: चतुर्थ | J47: =VLOOKUP(B47,'वार्षिक निकाल पत्रक'!A10:Q69,10,0) -> 0 | K47: =VLOOKUP(B47,'वार्षिक निकाल पत्रक'!A10:Q69,11,0) -> 0
A48: % | B48: 5 | C48: =VLOOKUP(B48,'वार्षिक निकाल पत्रक'!A10:Q69,3,0) -> 0 | H48: पंचम | J48: =VLOOKUP(B48,'वार्षिक निकाल पत्रक'!A10:Q69,10,0) -> 0 | K48: =VLOOKUP(B48,'वार्षिक निकाल पत्रक'!A10:Q69,11,0) -> 0
A51: =MASTER!B7 -> श्री. ढगे भरत बुधाजी | C51: =MASTER!B9 -> श्री. वाकचौरे सचिन माधवराव | H51: =MASTER!B8 -> श्री. लेंडे किरण विठ्ठल
A52: वर्गशिक्षक | D52: तपासणीस | H52: मुख्याध्यापक
A55: केंद्रप्रमुख | B55: शिक्षण विस्तार अधिकारी | F55: गटशिक्षणाधिकारी | J55: प्रकल्पाधिकारी

Sheet गोषवारा(blanck)
A2: =MASTER!B4 -> आदिवासी उन्नती सेवा मंडळ, राजूर, ता. अकोले जि.अहिल्यानगर संचालित...
A3: =MASTER!B5 -> अनुदानित माध्यमिक आश्रमशाळा, एकदरे, ता. अकोले जि. अहिल्यानगर
A5: वार्षिक निकालाचा गोषवारा
A6: =MASTER!B12 -> (सन 2026-2027)
A7: =MASTER!C7 -> वर्ग शिक्षक- श्री. ढगे भरत बुधाजी | L7: =MASTER!B6 -> 9 वी
A8: विषय | B8: =MASTER!A15 -> मराठी | C8: =MASTER!A16 -> हिंदी | D8: =MASTER!A17 -> इंग्रजी | E8: =MASTER!A18 -> गणित | F8: =MASTER!A19 -> विज्ञान | G8: =MASTER!A20 -> समाजशास्रे | H8: आरोग्य व शारीरिक शिक्षण | I8: जलसुरक्षा | J8: संरक्षणशास्र | L8: शेरा
A13: उत्तीर्ण
A14: अनुत्तीर्ण
A15: अनुपस्थित
A16: नाव कमी
A17: एकूण
A18: विषयवार शे. निकाल (एकूण पटाशी)
A20: विषय शिक्षक सही
B29: वर्गातील प्रथम पाच विद्यार्थी
B31: अ.नं. | C31: विद्यार्थ्याचे नाव | H31: पैकी गुण | I31: एकूण गुण | J31: शेकडा गुण
B33: 1 | H33: 600
B34: 2 | H34: 600
B35: 3 | H35: 600
B36: 4 | H36: 600
B37: 5 | H37: 600
D39: दृष्टीक्षेपातील निकाल
D41: उत्तीर्ण
D42: अनुत्तीर्ण
D43: अनुपस्थित
D44: नाव कमी
D45: एकूण
E47: वर्गाचा शेकडा निकाल
H49: %
A53: =MASTER!B7 -> श्री. ढगे भरत बुधाजी | B53: =MASTER!B9 -> श्री. वाकचौरे सचिन माधवराव | F53: =MASTER!B8 -> श्री. लेंडे किरण विठ्ठल
A54: वर्गशिक्षक | B54: तपासणीस | F54: मुख्याध्यापक | J54: केंद्रप्रमुख
A58: शिक्षण विस्तार अधिकारी | B58: शिक्षण विस्तार अधिकारी | F58: गटशिक्षणाधिकारी | J58: प्रकल्पाधिकारी
A61: Easy Result System By :- Sachin Wakchaure (9822882466)

Sheet प्रथम सत्र प्रगती पत्रक
A1: =MASTER!B4 -> आदिवासी उन्नती सेवा मंडळ, राजूर, ता. अकोले जि.अहिल्यानगर संचालित...
A2: =MASTER!B5 -> अनुदानित माध्यमिक आश्रमशाळा, एकदरे, ता. अकोले जि. अहिल्यानगर
A4: प्रथम सत्र - प्रगती पत्रक
A5: =MASTER!B12 -> (सन 2026-2027)
A6: नाव- | B6: =VLOOKUP(J6,'प्रथम सत्र परीक्षा निकाल पत्रक'!A10:P69,2,0) -> 0 | G6: हजेरी क्र.- | J6: 4 | M6: =MASTER!D6 -> इयत्ता- 9 वी
A7: अ.न. | B7: 1 | C7: 2 | D7: 3 | E7: 4 | F7: 5 | G7: 6 | H7: 7 | I7: 8 | J7: 9 | K7: 10 | L7: 11 | M7: 12
A8: विषय | B8: =MASTER!A15 -> मराठी | C8: =MASTER!A16 -> हिंदी | D8: =MASTER!A17 -> इंग्रजी | E8: =MASTER!A18 -> गणित | F8: =MASTER!A19 -> विज्ञान | G8: =MASTER!A20 -> समाजशास्रे | H8: एकूण गुण | I8: शेकडा गुण | J8: गुणानुक्रमांक | K8: आरोग्य व शारीरिक शिक्षण | L8: जलसुरक्षा | M8: संरक्षणशास्र
A13: पैकी गुण | B13: 100 | C13: 100 | D13: 100 | E13: 100 | F13: 100 | G13: 100 | H13: 600 | I13: 100 | J13: =VLOOKUP(J6,'प्रथम सत्र परीक्षा निकाल पत्रक'!A10:P69,11,0) -> 4 | K13: श्रेणी | L13: श्रेणी | M13: श्रेणी
A14: सरासरी गुण | B14: =VLOOKUP(J6,'प्रथम सत्र परीक्षा निकाल पत्रक'!A10:P69,3,0) -> 0 | C14: =VLOOKUP(J6,'प्रथम सत्र परीक्षा निकाल पत्रक'!A10:P69,4,0) -> 0 | D14: =VLOOKUP(J6,'प्रथम सत्र परीक्षा निकाल पत्रक'!A10:P69,5,0) -> 0 | E14: =VLOOKUP(J6,'प्रथम सत्र परीक्षा निकाल पत्रक'!A10:P69,6,0) -> 0 | F14: =VLOOKUP(J6,'प्रथम सत्र परीक्षा निकाल पत्रक'!A10:P69,7,0) -> 0 | G14: =VLOOKUP(J6,'प्रथम सत्र परीक्षा निकाल पत्रक'!A10:P69,8,0) -> 0 | H14: =VLOOKUP(J6,'प्रथम सत्र परीक्षा निकाल पत्रक'!A10:P69,9,0) -> 0 | I14: =VLOOKUP(J6,'प्रथम सत्र परीक्षा निकाल पत्रक'!A10:P69,10,0) -> 0 | K14: =VLOOKUP(J6,'प्रथम सत्र परीक्षा निकाल पत्रक'!A10:P69,12,0) -> D | L14: =VLOOKUP(J6,'प्रथम सत्र परीक्षा निकाल पत्रक'!A10:P69,13,0) -> D | M14: =VLOOKUP(J6,'प्रथम सत्र परीक्षा निकाल पत्रक'!A10:P69,14,0) -> D
A15: सवलतीचे गुण | B15: - | C15: - | D15: - | E15: - | F15: - | G15: - | H15: - | I15: -
A16: एकूण गुण | B16: =SUM(B14:B15) -> 0 | C16: =SUM(C14:C15) -> 0 | D16: =SUM(D14:D15) -> 0 | E16: =SUM(E14:E15) -> 0 | F16: =SUM(F14:F15) -> 0 | G16: =SUM(G14:G15) -> 0 | H16: =SUM(H14:H15) -> 0 | I16: =SUM(I14:I15) -> 0
A17: दिनांक- | B17: =MASTER!B10 -> 1 मे 2026 | F17: शेरा- | H17: =VLOOKUP(J6,'प्रथम सत्र परीक्षा निकाल पत्रक'!A10:P69,16,0) -> F6
A18: पुढील वर्षी शाळा सुरु होण्याचा दिवस- | E18: =MASTER!B11 -> सोमवार दि. 15 जून 2026
A19: *भाषा विषय गट सवलतीने उत्तीर्ण.
A20: #विज्ञान व गणित विषय गट सवलतीने उत्तीर्ण.
A22: =MASTER!B7 -> श्री. ढगे भरत बुधाजी | D22: =MASTER!B9 -> श्री. वाकचौरे सचिन माधवराव | I22: =MASTER!B8 -> श्री. लेंडे किरण विठ्ठल
A23: वर्ग शिक्षक | D23: तपासणीस | I23: मुख्याध्यापक
A24: Easy Result System By :- Sachin Wakchaure (9822882466)
A27: =MASTER!B4 -> आदिवासी उन्नती सेवा मंडळ, राजूर, ता. अकोले जि.अहिल्यानगर संचालित...
A28: =A2 -> अनुदानित माध्यमिक आश्रमशाळा, एकदरे, ता. अकोले जि. अहिल्यानगर
A30: प्रथम सत्र - प्रगती पत्रक
A31: =A5 -> (सन 2026-2027)
A32: नाव- | B32: =VLOOKUP(J32,'प्रथम सत्र परीक्षा निकाल पत्रक'!A10:P69,2,0) -> 0 | G32: हजेरी क्र.- | J32: =J6+1 -> 5 | M32: =MASTER!D6 -> इयत्ता- 9 वी
A33: अ.न. | B33: 1 | C33: 2 | D33: 3 | E33: 4 | F33: 5 | G33: 6 | H33: 7 | I33: 8 | J33: 9 | K33: 10 | L33: 11 | M33: 12
A34: विषय | B34: =B8 -> मराठी | C34: =C8 -> हिंदी | D34: =D8 -> इंग्रजी | E34: =E8 -> गणित | F34: =F8 -> विज्ञान | G34: =G8 -> समाजशास्रे | H34: एकूण गुण | I34: शेकडा गुण | J34: गुणानुक्रमांक | K34: आरोग्य व शारीरिक शिक्षण | L34: जलसुरक्षा | M34: संरक्षणशास्र
A39: पैकी गुण | B39: 100 | C39: 100 | D39: 100 | E39: 100 | F39: 100 | G39: 100 | H39: 600 | I39: 100 | J39: =VLOOKUP(J32,'प्रथम सत्र परीक्षा निकाल पत्रक'!A10:P69,11,0) -> 5 | K39: श्रेणी | L39: श्रेणी | M39: श्रेणी
A40: सरासरी गुण | B40: =VLOOKUP(J32,'प्रथम सत्र परीक्षा निकाल पत्रक'!A10:P69,3,0) -> 0 | C40: =VLOOKUP(J32,'प्रथम सत्र परीक्षा निकाल पत्रक'!A10:P69,4,0) -> 0 | D40: =VLOOKUP(J32,'प्रथम सत्र परीक्षा निकाल पत्रक'!A10:P69,5,0) -> 0 | E40: =VLOOKUP(J32,'प्रथम सत्र परीक्षा निकाल पत्रक'!A10:P69,6,0) -> 0 | F40: =VLOOKUP(J32,'प्रथम सत्र परीक्षा निकाल पत्रक'!A10:P69,7,0) -> 0 | G40: =VLOOKUP(J32,'प्रथम सत्र परीक्षा निकाल पत्रक'!A10:P69,8,0) -> 0 | H40: =VLOOKUP(J32,'प्रथम सत्र परीक्षा निकाल पत्रक'!A10:P69,9,0) -> 0 | I40: =VLOOKUP(J32,'प्रथम सत्र परीक्षा निकाल पत्रक'!A10:P69,10,0) -> 0 | K40: =VLOOKUP(J32,'प्रथम सत्र परीक्षा निकाल पत्रक'!A10:P69,12,0) -> D | L40: =VLOOKUP(J32,'प्रथम सत्र परीक्षा निकाल पत्रक'!A10:P69,13,0) -> D | M40: =VLOOKUP(J32,'प्रथम सत्र परीक्षा निकाल पत्रक'!A10:P69,14,0) -> D
A41: सवलतीचे गुण | B41: - | C41: - | D41: - | E41: - | F41: - | G41: - | H41: - | I41: -
A42: एकूण गुण | B42: =SUM(B40:B41) -> 0 | C42: =SUM(C40:C41) -> 0 | D42: =SUM(D40:D41) -> 0 | E42: =SUM(E40:E41) -> 0 | F42: =SUM(F40:F41) -> 0 | G42: =SUM(G40:G41) -> 0 | H42: =SUM(H40:H41) -> 0 | I42: =SUM(I40:I41) -> 0
A43: दिनांक- | B43: =B17 -> 1 मे 2026 | F43: शेरा- | H43: =VLOOKUP(J32,'प्रथम सत्र परीक्षा निकाल पत्रक'!A10:P69,16,0) -> F6
A44: पुढील वर्षी शाळा सुरु होण्याचा दिवस- | E44: =MASTER!B11 -> सोमवार दि. 15 जून 2026
A45: *भाषा विषय गट सवलतीने उत्तीर्ण.
A46: #विज्ञान व गणित विषय गट सवलतीने उत्तीर्ण.
A48: =A22 -> श्री. ढगे भरत बुधाजी | D48: =D22 -> श्री. वाकचौरे सचिन माधवराव | I48: =I22 -> श्री. लेंडे किरण विठ्ठल
A49: वर्ग शिक्षक | D49: तपासणीस | I49: मुख्याध्यापक
A50: Easy Result System By :- Sachin Wakchaure (9822882466)

Sheet वार्षिक प्रगती पत्रक
A1: =MASTER!B4 -> आदिवासी उन्नती सेवा मंडळ, राजूर, ता. अकोले जि.अहिल्यानगर संचालित...
A2: =MASTER!B5 -> अनुदानित माध्यमिक आश्रमशाळा, एकदरे, ता. अकोले जि. अहिल्यानगर
A4: वार्षिक प्रगती पत्रक
A5: =MASTER!B12 -> (सन 2026-2027)
A6: नाव- | B6: =VLOOKUP(J6,'वार्षिक निकाल पत्रक'!B10:Q69,2,0) -> 0 | G6: हजेरी क्र.- | J6: 5 | M6: =MASTER!D6 -> इयत्ता- 9 वी
A7: अ.न. | B7: 1 | C7: 2 | D7: 3 | E7: 4 | F7: 5 | G7: 6 | H7: 7 | I7: 8 | J7: 9 | K7: 10 | L7: 11 | M7: 12
A8: विषय | B8: =MASTER!A15 -> मराठी | C8: =MASTER!A16 -> हिंदी | D8: =MASTER!A17 -> इंग्रजी | E8: =MASTER!A18 -> गणित | F8: =MASTER!A19 -> विज्ञान | G8: =MASTER!A20 -> समाजशास्रे | H8: एकूण गुण | I8: शेकडा गुण | J8: गुणानुक्रमांक | K8: आरोग्य व शारीरिक शिक्षण | L8: जलसुरक्षा | M8: =MASTER!A23 -> स्काऊट गाईड
A13: पैकी गुण | B13: 100 | C13: 100 | D13: 100 | E13: 100 | F13: 100 | G13: 100 | H13: 600 | I13: 100 | J13: =VLOOKUP(J6,'वार्षिक निकाल पत्रक'!B10:Q69,11,0) -> 5 | K13: श्रेणी | L13: श्रेणी | M13: श्रेणी
A14: सरासरी गुण | B14: =VLOOKUP(J6,प्र.भाषा!A10:M69,10,0) -> 0 | C14: =VLOOKUP(J6,'व्दि.or संयुक्त भा'!A10:M69,10,0) -> 0 | D14: =VLOOKUP(J6,'तृ. भाषा'!A10:M69,10,0) -> 0 | E14: =VLOOKUP(J6,गणित!A10:Q69,14,0) -> 0 | F14: =VLOOKUP(J6,'विज्ञान '!A10:Q69,14,0) -> 0 | G14: =VLOOKUP(J6,'समाज शास्र'!A10:Q69,14,0) -> 0 | H14: =SUM(B14:G14) -> 0 | I14: =ROUND(H14/6,2) -> 0 | K14: =VLOOKUP(J6,'वार्षिक निकाल पत्रक'!B10:Q69,12,0) -> D | L14: =VLOOKUP(J6,'वार्षिक निकाल पत्रक'!B10:Q69,13,0) -> D | M14: =VLOOKUP(J6,'वार्षिक निकाल पत्रक'!B10:Q69,14,0) -> D
A15: सवलतीचे गुण | B15: =VLOOKUP(J6,प्र.भाषा!A10:M69,11,0) -> - | C15: =VLOOKUP(J6,'व्दि.or संयुक्त भा'!A10:M69,11,0) -> - | D15: =VLOOKUP(J6,'तृ. भाषा'!A10:M69,11,0) -> - | E15: =VLOOKUP(J6,गणित!A10:Q69,15,0) -> - | F15: =VLOOKUP(J6,'विज्ञान '!A10:Q69,15,0) -> - | G15: =VLOOKUP(J6,'समाज शास्र'!A10:Q69,15,0) -> - | H15: =SUM(B15:G15) -> 0 | I15: =ROUND(H15/6,2) -> 0
A16: एकूण गुण | B16: =VLOOKUP(J6,प्र.भाषा!A10:M69,12,0) -> 0 | C16: =VLOOKUP(J6,'व्दि.or संयुक्त भा'!A10:M69,12,0) -> 0 | D16: =VLOOKUP(J6,'तृ. भाषा'!A10:M69,12,0) -> 0 | E16: =VLOOKUP(J6,गणित!A10:Q69,16,0) -> 0 | F16: =VLOOKUP(J6,'विज्ञान '!A10:Q69,16,0) -> 0 | G16: =VLOOKUP(J6,'समाज शास्र'!A10:Q69,16,0) -> 0 | H16: =VLOOKUP(J6,'वार्षिक निकाल पत्रक'!B10:Q69,9,0) -> 0 | I16: =VLOOKUP(J6,'वार्षिक निकाल पत्रक'!B10:Q69,10,0) -> 0
A17: दिनांक- | B17: =MASTER!B10 -> 1 मे 2026 | F17: शेरा- | H17: =VLOOKUP(J6,'वार्षिक निकाल पत्रक'!B10:Q69,16,0) -> F6
A18: पुढील वर्षी शाळा सुरु होण्याचा दिवस- | E18: =MASTER!B11 -> सोमवार दि. 15 जून 2026
A19: *भाषा विषय गट सवलतीने उत्तीर्ण.
A20: =विज्ञान व गणित विषय गट सवलतीने उत्तीर्ण. -> #NAME?
A22: =MASTER!B7 -> श्री. ढगे भरत बुधाजी | D22: =MASTER!B9 -> श्री. वाकचौरे सचिन माधवराव | I22: =MASTER!B8 -> श्री. लेंडे किरण विठ्ठल
A23: वर्ग शिक्षक | D23: तपासणीस | I23: मुख्याध्यापक
A24: Easy Result System By :- Sachin Wakchaure (9822882466)
A27: =MASTER!B4 -> आदिवासी उन्नती सेवा मंडळ, राजूर, ता. अकोले जि.अहिल्यानगर संचालित...
A28: =MASTER!B5 -> अनुदानित माध्यमिक आश्रमशाळा, एकदरे, ता. अकोले जि. अहिल्यानगर
A30: वार्षिक प्रगती पत्रक
A31: =MASTER!B12 -> (सन 2026-2027)
A32: नाव- | B32: =VLOOKUP(J32,'वार्षिक निकाल पत्रक'!B10:Q69,2,0) -> 0 | G32: हजेरी क्र.- | J32: =J6+1 -> 6 | M32: =MASTER!D6 -> इयत्ता- 9 वी
A33: अ.न. | B33: 1 | C33: 2 | D33: 3 | E33: 4 | F33: 5 | G33: 6 | H33: 7 | I33: 8 | J33: 9 | K33: 10 | L33: 11 | M33: 12
A34: विषय | B34: =MASTER!A15 -> मराठी | C34: =MASTER!A16 -> हिंदी | D34: =MASTER!A17 -> इंग्रजी | E34: =MASTER!A18 -> गणित | F34: =MASTER!A19 -> विज्ञान | G34: =MASTER!A20 -> समाजशास्रे | H34: एकूण गुण | I34: शेकडा गुण | J34: गुणानुक्रमांक | K34: आरोग्य व शारीरिक शिक्षण | L34: जलसुरक्षा | M34: =MASTER!A23 -> स्काऊट गाईड
A39: पैकी गुण | B39: 100 | C39: 100 | D39: 100 | E39: 100 | F39: 100 | G39: 100 | H39: 600 | I39: 100 | J39: =VLOOKUP(J32,'वार्षिक निकाल पत्रक'!B10:Q69,11,0) -> 6 | K39: श्रेणी | L39: श्रेणी | M39: श्रेणी
A40: सरासरी गुण | B40: =VLOOKUP(J32,प्र.भाषा!A10:M69,10,0) -> 0 | C40: =VLOOKUP(J32,'व्दि.or संयुक्त भा'!A10:M69,10,0) -> 0 | D40: =VLOOKUP(J32,'तृ. भाषा'!A10:M69,10,0) -> 0 | E40: =VLOOKUP(J32,गणित!A10:Q69,14,0) -> 0 | F40: =VLOOKUP(J32,'विज्ञान '!A10:Q69,14,0) -> 0 | G40: =VLOOKUP(J32,'समाज शास्र'!A10:Q69,14,0) -> 0 | H40: =SUM(B40:G40) -> 0 | I40: =ROUND(H40/6,2) -> 0 | K40: =VLOOKUP(J32,'वार्षिक निकाल पत्रक'!B10:Q69,12,0) -> D | L40: =VLOOKUP(J32,'वार्षिक निकाल पत्रक'!B10:Q69,13,0) -> D | M40: =VLOOKUP(J32,'वार्षिक निकाल पत्रक'!B10:Q69,14,0) -> D
A41: सवलतीचे गुण | B41: =VLOOKUP(J32,प्र.भाषा!A10:M69,11,0) -> - | C41: =VLOOKUP(J32,'व्दि.or संयुक्त भा'!A10:M69,11,0) -> - | D41: =VLOOKUP(J32,'तृ. भाषा'!A10:M69,11,0) -> - | E41: =VLOOKUP(J32,गणित!A10:Q69,15,0) -> - | F41: =VLOOKUP(J32,'विज्ञान '!A10:Q69,15,0) -> - | G41: =VLOOKUP(J32,'समाज शास्र'!A10:Q69,15,0) -> - | H41: =SUM(B41:G41) -> 0 | I41: =ROUND(H41/6,2) -> 0
A42: एकूण गुण | B42: =VLOOKUP(J32,प्र.भाषा!A10:M69,12,0) -> 0 | C42: =VLOOKUP(J32,'व्दि.or संयुक्त भा'!A10:M69,12,0) -> 0 | D42: =VLOOKUP(J32,'तृ. भाषा'!A10:M69,12,0) -> 0 | E42: =VLOOKUP(J32,गणित!A10:Q69,16,0) -> 0 | F42: =VLOOKUP(J32,'विज्ञान '!A10:Q69,16,0) -> 0 | G42: =VLOOKUP(J32,'समाज शास्र'!A10:Q69,16,0) -> 0 | H42: =VLOOKUP(J32,'वार्षिक निकाल पत्रक'!B10:Q69,9,0) -> 0 | I42: =VLOOKUP(J32,'वार्षिक निकाल पत्रक'!B10:Q69,10,0) -> 0
A43: दिनांक- | B43: =MASTER!B10 -> 1 मे 2026 | F43: शेरा- | H43: =VLOOKUP(J32,'वार्षिक निकाल पत्रक'!B10:Q69,16,0) -> F6
A44: पुढील वर्षी शाळा सुरु होण्याचा दिवस- | E44: =MASTER!B11 -> सोमवार दि. 15 जून 2026
A45: *भाषा विषय गट सवलतीने उत्तीर्ण.
A46: =विज्ञान व गणित विषय गट सवलतीने उत्तीर्ण. -> #NAME?
A48: =MASTER!B7 -> श्री. ढगे भरत बुधाजी | D48: =MASTER!B9 -> श्री. वाकचौरे सचिन माधवराव | I48: =MASTER!B8 -> श्री. लेंडे किरण विठ्ठल
A49: वर्ग शिक्षक | D49: तपासणीस | I49: मुख्याध्यापक
A50: Easy Result System By :- Sachin Wakchaure (9822882466)

Sheet Whatsapp
B1: Join Us on Telegram
B2: https://t.me/joinchat/mo-78oWn4Vo2MWU9
B3: Just join only one your District Group.
B4: District Groups
B5: website
B7: https://www.schooledutech.in/
B8: 1Thane
B9: https://chat.whatsapp.com/L6zrhgL9pk2Gyi5Z8ON3ZD
B11: 2Pune
A12: 1 | B12: https://chat.whatsapp.com/GRQfIjsBt99LuYw3OXfDTu
B14: 2PuneB
A15: 2 | B15: https://chat.whatsapp.com/BxhbZkEFHHjFVyF3GeJ27c
B17: 3Mumbai Suburban
B18: https://chat.whatsapp.com/DOlStNyGgi1Fnr1yY9oS5M
B20: 4NashikA
A21: 1 | B21: https://chat.whatsapp.com/IlwyOiarKH5KJVMEQsmjwH
B23: 4NashikB
A24: 2 | B24: https://chat.whatsapp.com/DUzU4DduLxXJDqT1XSHysA
B26: 4NashikC
A27: 3 | B27: https://chat.whatsapp.com/BBuHytzTGnA9WWNqHwHHMi
B29: 5Nagpur
B30: https://chat.whatsapp.com/HfSJAVFr8R4LVcoJyIbetq
B32: 6AhmadnagarA
A33: 1 | B33: https://chat.whatsapp.com/JEoZQWrXF70KhxkPL5cLNw
B35: 6AhmadnagarB
A36: 2 | B36: https://chat.whatsapp.com/K9bTulEdawxI62x7NqjQVk
B38: 6AhmadnagarC
A39: 3 | B39: https://chat.whatsapp.com/Eu866tPE5Hw7Pk4G8xGOA3
B41: 6AhmadnagarD
A42: 4 | B42: https://chat.whatsapp.com/EjIjV4frr3i8DT8z93PKPT
B44: 7SolapurA
A45: 1 | B45: https://chat.whatsapp.com/GpvbZs6wcno7vXAGIfi6an
B47: 7SolapurB
A48: 2 | B48: https://chat.whatsapp.com/E3WO00e4M0yDYzsCDShjaX
B50: 8Jalgaon
A51: 1 | B51: https://chat.whatsapp.com/B6fWsvLDQpY34sRIZRAliq
B53: 8Jalgaon
A54: 2 | B54: https://chat.whatsapp.com/FPabnblcTZ617LjFOjAVc6
B56: 9Kolhapur
B57: https://chat.whatsapp.com/CPXmPnCjeQp6xjYt3lRCms
B59: 10Aurangabad
B60: https://chat.whatsapp.com/Kefwl34Y88U71D6dvpNgxu
B62: 11Nanded
B63: https://chat.whatsapp.com/CX81U4R2eFv4Us7GQFHEQ0
B65: 12Palghar
B66: https://chat.whatsapp.com/JKu0on0hRHh5vD1nWeutEO
B68: 13Satara
B69: https://chat.whatsapp.com/GgmG94BMX2d9vGConbgfYy
B71: 14Amravati
B72: https://chat.whatsapp.com/B6PqCF9V96u2MYvfgupLF6
... B135: https://chat.whatsapp.com/Jna3oKByVx84Cxn9PktlNq

Sheet NSQF FOR HINDI

Sheet मुख पृष्ठ NSQF-HIN
A3: =MASTER!B4 -> आदिवासी उन्नती सेवा मंडळ, राजूर, ता. अकोले जि.अहिल्यानगर संचालित...
A4: =MASTER!B5 -> अनुदानित माध्यमिक आश्रमशाळा, एकदरे, ता. अकोले जि. अहिल्यानगर
A7: * निकाल - पुस्तिका *
A12: =CONCATENATE(MASTER!A6,MASTER!B6) -> इयत्ता- 9 वी
A15: =MASTER!B12 -> (सन 2026-2027)
A17: =MASTER!C7 -> वर्ग शिक्षक- श्री. ढगे भरत बुधाजी
A19: हमीपत्र
A21: माध्यमिक शाळा संहिता सुधारित आवृत्ती १९८६ (३१-१२-१९८६ पर्यंत सुधारित आवृत्ती) मधील परिशिष्ट सात वार्गोन्नतीचे आदर्श नियम मी/आम्ही वाचले असून ते समजावून घेतले आहेत. या नियमांच्या आधीन राहून विषयवार निकालपत्रके तयार केली आहेत.
A26: संकलित निकालपत्रकातील बेरजा (अ+ब+क एकूण गुण व (अ+ब+क)/३ येणारे सरासरी गुण) व सरासरी वर्गशिक्षक / विषयशिक्षक मिळून केलेल्या आहेत. त्या तपासल्या आहेत त्या बरोबर आहेत. वर्गशिक्षक / विषय शिक्षक
B31: विषय | D31: शिक्षकाचे नाव | H31: सही
B33: =MASTER!A15 -> मराठी | D33: =MASTER!B15 -> श्री. कोटकर संदीप भास्कर
B34: =MASTER!A24 -> NSQF | D34: =MASTER!B24 -> श्री. देशमुख शैलेंद्र दत्तात्रय
B35: =MASTER!A17 -> इंग्रजी | D35: =MASTER!B17 -> श्री. ढगे भरत बुधाजी
B36: =MASTER!A18 -> गणित | D36: =MASTER!B18 -> श्री. कानकाटे आसाराम शंकर
B37: =MASTER!A19 -> विज्ञान | D37: =MASTER!B19 -> श्री. वाकचौरे सचिन माधवराव
B38: =MASTER!A20 -> समाजशास्रे | D38: =MASTER!B20 -> श्री. लेंडे के. व्ही./ श्री.कोटकर एस.बी.
B39: =MASTER!A21 -> आरोग्य व शारीरिक शिक्षण | D39: =MASTER!B21 -> श्री. खरात दिलीप मुरलीधर
B40: =MASTER!A22 -> जलसुरक्षा | D40: =MASTER!B22 -> श्री. कासार नामदेव रामनाथ
B41: =MASTER!A23 -> स्काऊट गाईड | D41: =MASTER!B23 -> श्री. शेटे मनोज पंढरीनाथ
A45: Result Sheet Devoloped & Edited By :- Sachin Wakchaure(9822882466)

Sheet NSQF
A1: =MASTER!B5 -> अनुदानित माध्यमिक आश्रमशाळा, एकदरे, ता. अकोले जि. अहिल्यानगर
A3: =MASTER!D6 -> इयत्ता- 9 वी | G3: =MASTER!F24 -> विषय - NSQF
A4: =MASTER!H15 -> वार्षिक निकाल पत्रक (सन 2026-2027)
A5: =MASTER!C7 -> वर्ग शिक्षक- श्री. ढगे भरत बुधाजी | G5: =MASTER!C24 -> विषय शिक्षक- श्री. देशमुख शैलेंद्र दत्तात्रय
A6: हजेरी क्र | B6: विद्यार्थ्याचे नाव | C6: प्रथम सत्र (अ) | H6: एकुणात | I6: व्दितीय सत्र (ब) | N6: एकुणात | O6: वार्षिक निकाल
C7: लेखी परीक्षा | D7: 30 गुंणात रुपांतर | E7: प्रात्यक्षिक परीक्षा | F7: अंतर्गत मूल्यमापन | G7: एकूण | I7: लेखी परीक्षा | J7: 30 गुंणात रुपांतर | K7: प्रात्यक्षिक परीक्षा | L7: अंतर्गत मूल्यमापन | M7: एकूण | O7: एकूण (अ+ब) | P7: सरासरी | Q7: सवलतीचे/ गट नि. गुण | R7: एकूण | S7: शेरा
C9: 80 | D9: =ROUND((C9/80)*30,0) -> 30 | E9: 50 | F9: 20 | G9: =SUM(E9:F9) -> 70 | H9: =D9+G9 -> 100 | I9: 80 | J9: =ROUND((I9/80)*30,0) -> 30 | K9: 50 | L9: 20 | M9: =SUM(K9:L9) -> 70 | N9: =J9+M9 -> 100 | O9: =SUM(H9,N9) -> 200 | P9: =ROUND(O9/2,0) -> 100 | Q9: - | R9: =SUM(P9:Q9) -> 100 | S9: =IF(R9>=35,"Pass","Fail") -> Pass
A10: ='विद्य्र्थ्याची माहिती'!A10 -> 1 | B10: ='विद्य्र्थ्याची माहिती'!B10 -> चि. समीर यशवंत देशमुख सखाराम | C10: 40 | D10: =ROUND((C10/80)*30,0) -> 15 | E10: 25 | F10: 10 | G10: =SUM(E10:F10) -> 35 | H10: =D10+G10 -> 50 | I10: 80 | J10: =ROUND((I10/80)*30,0) -> 30 | K10: 50 | L10: 20 | M10: =SUM(K10:L10) -> 70 | N10: =J10+M10 -> 100 | O10: =SUM(H10,N10) -> 150 | P10: =ROUND(O10/2,0) -> 75 | Q10: 10 | R10: =SUM(P10:Q10) -> 85 | S10: =IF(R10>=35,"Pass","Fail") -> Pass | T10: =E10+F10 -> 35 | U10: =K10+L10 -> 70
A11: ='विद्य्र्थ्याची माहिती'!A11 -> 2 | B11: ='विद्य्र्थ्याची माहिती'!B11 -> 0 | C11: 20 | D11: =ROUND((C11/80)*30,0) -> 8 | E11: 12 | F11: 5 | G11: =SUM(E11:F11) -> 17 | H11: =D11+G11 -> 25 | I11: 20 | J11: =ROUND((I11/80)*30,0) -> 8 | K11: 12 | L11: 5 | M11: =SUM(K11:L11) -> 17 | N11: =J11+M11 -> 25 | O11: =SUM(H11,N11) -> 50 | P11: =ROUND(O11/2,0) -> 25 | Q11: 8 | R11: =SUM(P11:Q11) -> 33 | S11: =IF(R11>=35,"Pass","Fail") -> Fail | T11: =E11+F11 -> 17 | U11: =K11+L11 -> 17
A12: ='विद्य्र्थ्याची माहिती'!A12 -> 3 | B12: ='विद्य्र्थ्याची माहिती'!B12 -> 0 | C12: 21 | D12: =ROUND((C12/80)*30,0) -> 8 | E12: 12 | F12: 5 | G12: =SUM(E12:F12) -> 17 | H12: =D12+G12 -> 25 | I12: 21 | J12: =ROUND((I12/80)*30,0) -> 8 | K12: 12 | L12: 5 | M12: =SUM(K12:L12) -> 17 | N12: =J12+M12 -> 25 | O12: =SUM(H12,N12) -> 50 | P12: =ROUND(O12/2,0) -> 25 | Q12: 6 | R12: =SUM(P12:Q12) -> 31 | S12: =IF(R12>=35,"Pass","Fail") -> Fail | T12: =E12+F12 -> 17 | U12: =K12+L12 -> 17
A13: ='विद्य्र्थ्याची माहिती'!A13 -> 4 | B13: ='विद्य्र्थ्याची माहिती'!B13 -> 0 | C13: 22 | D13: =ROUND((C13/80)*30,0) -> 8 | E13: 12 | F13: 5 | G13: =SUM(E13:F13) -> 17 | H13: =D13+G13 -> 25 | I13: 22 | J13: =ROUND((I13/80)*30,0) -> 8 | K13: 12 | L13: 5 | M13: =SUM(K13:L13) -> 17 | N13: =J13+M13 -> 25 | O13: =SUM(H13,N13) -> 50 | P13: =ROUND(O13/2,0) -> 25 | Q13: 4 | R13: =SUM(P13:Q13) -> 29 | S13: =IF(R13>=35,"Pass","Fail") -> Fail | T13: =E13+F13 -> 17 | U13: =K13+L13 -> 17
A14: ='विद्य्र्थ्याची माहिती'!A14 -> 5 | B14: ='विद्य्र्थ्याची माहिती'!B14 -> 0 | C14: 75 | D14: =ROUND((C14/80)*30,0) -> 28 | E14: 45 | F14: 20 | G14: =SUM(E14:F14) -> 65 | H14: =D14+G14 -> 93 | I14: 78 | J14: =ROUND((I14/80)*30,0) -> 29 | K14: 45 | L14: 5 | M14: =SUM(K14:L14) -> 50 | N14: =J14+M14 -> 79 | O14: =SUM(H14,N14) -> 172 | P14: =ROUND(O14/2,0) -> 86 | Q14: 12 | R14: =SUM(P14:Q14) -> 98 | S14: =IF(R14>=35,"Pass","Fail") -> Pass | T14: =E14+F14 -> 65 | U14: =K14+L14 -> 50
A15: ='विद्य्र्थ्याची माहिती'!A15 -> 6 | B15: ='विद्य्र्थ्याची माहिती'!B15 -> 0 | C15: 24 | D15: =ROUND((C15/80)*30,0) -> 9 | E15: 12 | F15: 5 | G15: =SUM(E15:F15) -> 17 | H15: =D15+G15 -> 26 | I15: 24 | J15: =ROUND((I15/80)*30,0) -> 9 | K15: 12 | L15: 5 | M15: =SUM(K15:L15) -> 17 | N15: =J15+M15 -> 26 | O15: =SUM(H15,N15) -> 52 | P15: =ROUND(O15/2,0) -> 26 | Q15: 4 | R15: =SUM(P15:Q15) -> 30 | S15: =IF(R15>=35,"Pass","Fail") -> Fail | T15: =E15+F15 -> 17 | U15: =K15+L15 -> 17
A16: ='विद्य्र्थ्याची माहिती'!A16 -> 7 | B16: ='विद्य्र्थ्याची माहिती'!B16 -> 0 | C16: 25 | D16: =ROUND((C16/80)*30,0) -> 9 | E16: 12 | F16: 5 | G16: =SUM(E16:F16) -> 17 | H16: =D16+G16 -> 26 | I16: 25 | J16: =ROUND((I16/80)*30,0) -> 9 | K16: 12 | L16: 5 | M16: =SUM(K16:L16) -> 17 | N16: =J16+M16 -> 26 | O16: =SUM(H16,N16) -> 52 | P16: =ROUND(O16/2,0) -> 26 | Q16: 6 | R16: =SUM(P16:Q16) -> 32 | S16: =IF(R16>=35,"Pass","Fail") -> Fail | T16: =E16+F16 -> 17 | U16: =K16+L16 -> 17
A17: ='विद्य्र्थ्याची माहिती'!A17 -> 8 | B17: ='विद्य्र्थ्याची माहिती'!B17 -> 0 | C17: 26 | D17: =ROUND((C17/80)*30,0) -> 10 | E17: 12 | F17: 5 | G17: =SUM(E17:F17) -> 17 | H17: =D17+G17 -> 27 | I17: 26 | J17: =ROUND((I17/80)*30,0) -> 10 | K17: 12 | L17: 5 | M17: =SUM(K17:L17) -> 17 | N17: =J17+M17 -> 27 | O17: =SUM(H17,N17) -> 54 | P17: =ROUND(O17/2,0) -> 27 | Q17: 8 | R17: =SUM(P17:Q17) -> 35 | S17: =IF(R17>=35,"Pass","Fail") -> Pass | T17: =E17+F17 -> 17 | U17: =K17+L17 -> 17
A18: ='विद्य्र्थ्याची माहिती'!A18 -> 9 | B18: ='विद्य्र्थ्याची माहिती'!B18 -> 0 | C18: 27 | D18: =ROUND((C18/80)*30,0) -> 10 | E18: 12 | F18: 5 | G18: =SUM(E18:F18) -> 17 | H18: =D18+G18 -> 27 | I18: 27 | J18: =ROUND((I18/80)*30,0) -> 10 | K18: 12 | L18: 5 | M18: =SUM(K18:L18) -> 17 | N18: =J18+M18 -> 27 | O18: =SUM(H18,N18) -> 54 | P18: =ROUND(O18/2,0) -> 27 | Q18: 10 | R18: =SUM(P18:Q18) -> 37 | S18: =IF(R18>=35,"Pass","Fail") -> Pass | T18: =E18+F18 -> 17 | U18: =K18+L18 -> 17
A19: ='विद्य्र्थ्याची माहिती'!A19 -> 10 | B19: ='विद्य्र्थ्याची माहिती'!B19 -> 0 | C19: 28 | D19: =ROUND((C19/80)*30,0) -> 11 | E19: 12 | F19: 5 | G19: =SUM(E19:F19) -> 17 | H19: =D19+G19 -> 28 | I19: 28 | J19: =ROUND((I19/80)*30,0) -> 11 | K19: 12 | L19: 5 | M19: =SUM(K19:L19) -> 17 | N19: =J19+M19 -> 28 | O19: =SUM(H19,N19) -> 56 | P19: =ROUND(O19/2,0) -> 28 | Q19: 12 | R19: =SUM(P19:Q19) -> 40 | S19: =IF(R19>=35,"Pass","Fail") -> Pass | T19: =E19+F19 -> 17 | U19: =K19+L19 -> 17
A20: ='विद्य्र्थ्याची माहिती'!A20 -> 11 | B20: ='विद्य्र्थ्याची माहिती'!B20 -> 0 | C20: 29 | D20: =ROUND((C20/80)*30,0) -> 11 | E20: 12 | F20: 5 | G20: =SUM(E20:F20) -> 17 | H20: =D20+G20 -> 28 | I20: 29 | J20: =ROUND((I20/80)*30,0) -> 11 | K20: 12 | L20: 5 | M20: =SUM(K20:L20) -> 17 | N20: =J20+M20 -> 28 | O20: =SUM(H20,N20) -> 56 | P20: =ROUND(O20/2,0) -> 28 | Q20: 14 | R20: =SUM(P20:Q20) -> 42 | S20: =IF(R20>=35,"Pass","Fail") -> Pass | T20: =E20+F20 -> 17 | U20: =K20+L20 -> 17
A21: ='विद्य्र्थ्याची माहिती'!A21 -> 12 | B21: ='विद्य्र्थ्याची माहिती'!B21 -> 0 | C21: 30 | D21: =ROUND((C21/80)*30,0) -> 11 | E21: 12 | F21: 5 | G21: =SUM(E21:F21) -> 17 | H21: =D21+G21 -> 28 | I21: 30 | J21: =ROUND((I21/80)*30,0) -> 11 | K21: 12 | L21: 5 | M21: =SUM(K21:L21) -> 17 | N21: =J21+M21 -> 28 | O21: =SUM(H21,N21) -> 56 | P21: =ROUND(O21/2,0) -> 28 | Q21: - | R21: =SUM(P21:Q21) -> 28 | S21: =IF(R21>=35,"Pass","Fail") -> Fail | T21: =E21+F21 -> 17 | U21: =K21+L21 -> 17
A22: ='विद्य्र्थ्याची माहिती'!A22 -> 13 | B22: ='विद्य्र्थ्याची माहिती'!B22 -> 0 | C22: 31 | D22: =ROUND((C22/80)*30,0) -> 12 | E22: 12 | F22: 5 | G22: =SUM(E22:F22) -> 17 | H22: =D22+G22 -> 29 | I22: 31 | J22: =ROUND((I22/80)*30,0) -> 12 | K22: 12 | L22: 5 | M22: =SUM(K22:L22) -> 17 | N22: =J22+M22 -> 29 | O22: =SUM(H22,N22) -> 58 | P22: =ROUND(O22/2,0) -> 29 | Q22: - | R22: =SUM(P22:Q22) -> 29 | S22: =IF(R22>=35,"Pass","Fail") -> Fail | T22: =E22+F22 -> 17 | U22: =K22+L22 -> 17
A23: ='विद्य्र्थ्याची माहिती'!A23 -> 14 | B23: ='विद्य्र्थ्याची माहिती'!B23 -> 0 | C23: 32 | D23: =ROUND((C23/80)*30,0) -> 12 | E23: 12 | F23: 5 | G23: =SUM(E23:F23) -> 17 | H23: =D23+G23 -> 29 | I23: 32 | J23: =ROUND((I23/80)*30,0) -> 12 | K23: 12 | L23: 5 | M23: =SUM(K23:L23) -> 17 | N23: =J23+M23 -> 29 | O23: =SUM(H23,N23) -> 58 | P23: =ROUND(O23/2,0) -> 29 | Q23: - | R23: =SUM(P23:Q23) -> 29 | S23: =IF(R23>=35,"Pass","Fail") -> Fail | T23: =E23+F23 -> 17 | U23: =K23+L23 -> 17
A24: ='विद्य्र्थ्याची माहिती'!A24 -> 15 | B24: ='विद्य्र्थ्याची माहिती'!B24 -> 0 | C24: 33 | D24: =ROUND((C24/80)*30,0) -> 12 | E24: 12 | F24: 5 | G24: =SUM(E24:F24) -> 17 | H24: =D24+G24 -> 29 | I24: 33 | J24: =ROUND((I24/80)*30,0) -> 12 | K24: 12 | L24: 5 | M24: =SUM(K24:L24) -> 17 | N24: =J24+M24 -> 29 | O24: =SUM(H24,N24) -> 58 | P24: =ROUND(O24/2,0) -> 29 | Q24: - | R24: =SUM(P24:Q24) -> 29 | S24: =IF(R24>=35,"Pass","Fail") -> Fail | T24: =E24+F24 -> 17 | U24: =K24+L24 -> 17
A25: ='विद्य्र्थ्याची माहिती'!A25 -> 16 | B25: ='विद्य्र्थ्याची माहिती'!B25 -> 0 | C25: 34 | D25: =ROUND((C25/80)*30,0) -> 13 | E25: 12 | F25: 5 | G25: =SUM(E25:F25) -> 17 | H25: =D25+G25 -> 30 | I25: 34 | J25: =ROUND((I25/80)*30,0) -> 13 | K25: 12 | L25: 5 | M25: =SUM(K25:L25) -> 17 | N25: =J25+M25 -> 30 | O25: =SUM(H25,N25) -> 60 | P25: =ROUND(O25/2,0) -> 30 | Q25: - | R25: =SUM(P25:Q25) -> 30 | S25: =IF(R25>=35,"Pass","Fail") -> Fail | T25: =E25+F25 -> 17 | U25: =K25+L25 -> 17
A26: ='विद्य्र्थ्याची माहिती'!A26 -> 17 | B26: ='विद्य्र्थ्याची माहिती'!B26 -> 0 | C26: 35 | D26: =ROUND((C26/80)*30,0) -> 13 | E26: 12 | F26: 5 | G26: =SUM(E26:F26) -> 17 | H26: =D26+G26 -> 30 | I26: 35 | J26: =ROUND((I26/80)*30,0) -> 13 | K26: 12 | L26: 5 | M26: =SUM(K26:L26) -> 17 | N26: =J26+M26 -> 30 | O26: =SUM(H26,N26) -> 60 | P26: =ROUND(O26/2,0) -> 30 | Q26: - | R26: =SUM(P26:Q26) -> 30 | S26: =IF(R26>=35,"Pass","Fail") -> Fail | T26: =E26+F26 -> 17 | U26: =K26+L26 -> 17
A27: ='विद्य्र्थ्याची माहिती'!A27 -> 18 | B27: ='विद्य्र्थ्याची माहिती'!B27 -> 0 | C27: 36 | D27: =ROUND((C27/80)*30,0) -> 14 | E27: 12 | F27: 5 | G27: =SUM(E27:F27) -> 17 | H27: =D27+G27 -> 31 | I27: 36 | J27: =ROUND((I27/80)*30,0) -> 14 | K27: 12 | L27: 5 | M27: =SUM(K27:L27) -> 17 | N27: =J27+M27 -> 31 | O27: =SUM(H27,N27) -> 62 | P27: =ROUND(O27/2,0) -> 31 | Q27: - | R27: =SUM(P27:Q27) -> 31 | S27: =IF(R27>=35,"Pass","Fail") -> Fail | T27: =E27+F27 -> 17 | U27: =K27+L27 -> 17
A28: ='विद्य्र्थ्याची माहिती'!A28 -> 19 | B28: ='विद्य्र्थ्याची माहिती'!B28 -> 0 | C28: 37 | D28: =ROUND((C28/80)*30,0) -> 14 | E28: 12 | F28: 5 | G28: =SUM(E28:F28) -> 17 | H28: =D28+G28 -> 31 | I28: 37 | J28: =ROUND((I28/80)*30,0) -> 14 | K28: 12 | L28: 5 | M28: =SUM(K28:L28) -> 17 | N28: =J28+M28 -> 31 | O28: =SUM(H28,N28) -> 62 | P28: =ROUND(O28/2,0) -> 31 | Q28: - | R28: =SUM(P28:Q28) -> 31 | S28: =IF(R28>=35,"Pass","Fail") -> Fail | T28: =E28+F28 -> 17 | U28: =K28+L28 -> 17
A29: ='विद्य्र्थ्याची माहिती'!A29 -> 20 | B29: ='विद्य्र्थ्याची माहिती'!B29 -> 0 | C29: 38 | D29: =ROUND((C29/80)*30,0) -> 14 | E29: 12 | F29: 5 | G29: =SUM(E29:F29) -> 17 | H29: =D29+G29 -> 31 | I29: 38 | J29: =ROUND((I29/80)*30,0) -> 14 | K29: 12 | L29: 5 | M29: =SUM(K29:L29) -> 17 | N29: =J29+M29 -> 31 | O29: =SUM(H29,N29) -> 62 | P29: =ROUND(O29/2,0) -> 31 | Q29: - | R29: =SUM(P29:Q29) -> 31 | S29: =IF(R29>=35,"Pass","Fail") -> Fail | T29: =E29+F29 -> 17 | U29: =K29+L29 -> 17
A30: ='विद्य्र्थ्याची माहिती'!A30 -> 21 | B30: ='विद्य्र्थ्याची माहिती'!B30 -> 0 | C30: 39 | D30: =ROUND((C30/80)*30,0) -> 15 | E30: 12 | F30: 5 | G30: =SUM(E30:F30) -> 17 | H30: =D30+G30 -> 32 | I30: 39 | J30: =ROUND((I30/80)*30,0) -> 15 | K30: 12 | L30: 5 | M30: =SUM(K30:L30) -> 17 | N30: =J30+M30 -> 32 | O30: =SUM(H30,N30) -> 64 | P30: =ROUND(O30/2,0) -> 32 | Q30: - | R30: =SUM(P30:Q30) -> 32 | S30: =IF(R30>=35,"Pass","Fail") -> Fail | T30: =E30+F30 -> 17 | U30: =K30+L30 -> 17
A31: ='विद्य्र्थ्याची माहिती'!A31 -> 22 | B31: ='विद्य्र्थ्याची माहिती'!B31 -> 0 | C31: 40 | D31: =ROUND((C31/80)*30,0) -> 15 | E31: 12 | F31: 5 | G31: =SUM(E31:F31) -> 17 | H31: =D31+G31 -> 32 | I31: 40 | J31: =ROUND((I31/80)*30,0) -> 15 | K31: 12 | L31: 5 | M31: =SUM(K31:L31) -> 17 | N31: =J31+M31 -> 32 | O31: =SUM(H31,N31) -> 64 | P31: =ROUND(O31/2,0) -> 32 | Q31: - | R31: =SUM(P31:Q31) -> 32 | S31: =IF(R31>=35,"Pass","Fail") -> Fail | T31: =E31+F31 -> 17 | U31: =K31+L31 -> 17
A32: ='विद्य्र्थ्याची माहिती'!A32 -> 23 | B32: ='विद्य्र्थ्याची माहिती'!B32 -> 0 | C32: 41 | D32: =ROUND((C32/80)*30,0) -> 15 | E32: 12 | F32: 5 | G32: =SUM(E32:F32) -> 17 | H32: =D32+G32 -> 32 | I32: 41 | J32: =ROUND((I32/80)*30,0) -> 15 | K32: 12 | L32: 5 | M32: =SUM(K32:L32) -> 17 | N32: =J32+M32 -> 32 | O32: =SUM(H32,N32) -> 64 | P32: =ROUND(O32/2,0) -> 32 | Q32: - | R32: =SUM(P32:Q32) -> 32 | S32: =IF(R32>=35,"Pass","Fail") -> Fail | T32: =E32+F32 -> 17 | U32: =K32+L32 -> 17
... A69: ='विद्य्र्थ्याची माहिती'!A69 -> 60 | B69: ='विद्य्र्थ्याची माहिती'!B69 -> 0 | C69: 78 | D69: =ROUND((C69/80)*30,0) -> 29 | E69: 12 | F69: 5 | G69: =SUM(E69:F69) -> 17 | H69: =D69+G69 -> 46 | I69: 78 | J69: =ROUND((I69/80)*30,0) -> 29 | K69: 12 | L69: 5 | M69: =SUM(K69:L69) -> 17 | N69: =J69+M69 -> 46 | O69: =SUM(H69,N69) -> 92 | P69: =ROUND(O69/2,0) -> 46 | Q69: - | R69: =SUM(P69:Q69) -> 46 | S69: =IF(R69>=35,"Pass","Fail") -> Pass | T69: =E69+F69 -> 17 | U69: =K69+L69 -> 17
