Workbook

Sheet Scenarios
B2: Абсолютная доходность портфеля (облигации+акции+индексы+ETF) | C2: Ожидаемая инфляция | D2: Ожидаемый прирост цены на недвижимость | E2: Ожидаемая дохождность после 20-го года владения портфелем
A3: Best case | B3: =B4+1% -> 0.11 | C3: =C4-0.5% -> 0.025 | D3: =D4-1% -> 0.04 | E3: =E4+1% -> 0.08
A4: Base case | B4: 0.1 | C4: 0.03 | D4: 0.05 | E4: 0.07
A5: Worst case | B5: =B4-1% -> 0.09 | C5: =C4+0.5% -> 0.035 | D5: =D4+1% -> 0.06 | E5: =E4-1% -> 0.06
B6: 2 | C6: 2 | D6: 2 | E6: 2
B7: {=INDEX(B3:B5,B6)} -> 0.1 | C7: {=INDEX(C3:C5,C6)} -> 0.03 | D7: {=INDEX(D3:D5,D6)} -> 0.05 | E7: {=INDEX(E3:E5,E6)} -> 0.07

Sheet Total cost schedule
A1: Total cost schedule
D2: Ulugbek | G2: Ashirali | L2: Maha | P2: Total
C3: Total costs | D3: R14 | E3: A18 | F3: S24 | G3: B15 | H3: S18 | I3: E20 | J3: I24 | K3: M24 | L3: А15 | M3: А14 | N3: С10 | O3: А8 | P3: E | Q3: P | R3: V
B4: 2029 | C4: =VLOOKUP(B4,'Children Ashirali'!$B$107:$H$130,7,0)+VLOOKUP(B4,'Children Ulugbek'!$B$103:$F$126,5,0)+VLOOKUP(B4,'Children Maha'!B105:G128,6,0) -> 56275.44 | L4: E | P4: =COUNTIF(D4:O4,$P$3) -> 1 | Q4: =COUNTIF(D4:O4,$Q$3) -> 0 | R4: =COUNTIF(D4:O4,$R$3) -> 0
B5: =B4+1 -> 2030 | C5: =VLOOKUP(B5,'Children Ashirali'!$B$107:$H$130,7,0)+VLOOKUP(B5,'Children Ulugbek'!$B$103:$F$126,5,0)+VLOOKUP(B5,'Children Maha'!B106:G129,6,0) -> 115927.41 | L5: E | M5: E | P5: =COUNTIF(D5:O5,$P$3) -> 2 | Q5: =COUNTIF(D5:O5,$Q$3) -> 0 | R5: =COUNTIF(D5:O5,$R$3) -> 0
B6: =B5+1 -> 2031 | C6: =VLOOKUP(B6,'Children Ashirali'!$B$107:$H$130,7,0)+VLOOKUP(B6,'Children Ulugbek'!$B$103:$F$126,5,0)+VLOOKUP(B6,'Children Maha'!B107:G130,6,0) -> 119405.23 | L6: E | M6: E | P6: =COUNTIF(D6:O6,$P$3) -> 2 | Q6: =COUNTIF(D6:O6,$Q$3) -> 0 | R6: =COUNTIF(D6:O6,$R$3) -> 0
B7: =B6+1 -> 2032 | C7: =VLOOKUP(B7,'Children Ashirali'!$B$107:$H$130,7,0)+VLOOKUP(B7,'Children Ulugbek'!$B$103:$F$126,5,0)+VLOOKUP(B7,'Children Maha'!B108:G131,6,0) -> 122987.39 | L7: E | M7: E | P7: =COUNTIF(D7:O7,$P$3) -> 2 | Q7: =COUNTIF(D7:O7,$Q$3) -> 0 | R7: =COUNTIF(D7:O7,$R$3) -> 0
B8: =B7+1 -> 2033 | C8: =VLOOKUP(B8,'Children Ashirali'!$B$107:$H$130,7,0)+VLOOKUP(B8,'Children Ulugbek'!$B$103:$F$126,5,0)+VLOOKUP(B8,'Children Maha'!B109:G132,6,0) -> 126677.01 | D8: E | M8: E | P8: =COUNTIF(D8:O8,$P$3) -> 2 | Q8: =COUNTIF(D8:O8,$Q$3) -> 0 | R8: =COUNTIF(D8:O8,$R$3) -> 0
B9: =B8+1 -> 2034 | C9: =VLOOKUP(B9,'Children Ashirali'!$B$107:$H$130,7,0)+VLOOKUP(B9,'Children Ulugbek'!$B$103:$F$126,5,0)+VLOOKUP(B9,'Children Maha'!B110:G133,6,0) -> 195715.98 | D9: E | G9: E | N9: E | P9: =COUNTIF(D9:O9,$P$3) -> 3 | Q9: =COUNTIF(D9:O9,$Q$3) -> 0 | R9: =COUNTIF(D9:O9,$R$3) -> 0
B10: =B9+1 -> 2035 | C10: =VLOOKUP(B10,'Children Ashirali'!$B$107:$H$130,7,0)+VLOOKUP(B10,'Children Ulugbek'!$B$103:$F$126,5,0)+VLOOKUP(B10,'Children Maha'!B111:G134,6,0) -> 690255.84 | D10: E | G10: E | L10: P | N10: E | P10: =COUNTIF(D10:O10,$P$3) -> 3 | Q10: =COUNTIF(D10:O10,$Q$3) -> 1 | R10: =COUNTIF(D10:O10,$R$3) -> 0
B11: =B10+1 -> 2036 | C11: =VLOOKUP(B11,'Children Ashirali'!$B$107:$H$130,7,0)+VLOOKUP(B11,'Children Ulugbek'!$B$103:$F$126,5,0)+VLOOKUP(B11,'Children Maha'!B112:G135,6,0) -> 789948.58 | D11: E | G11: E | M11: P | N11: E | O11: E | P11: =COUNTIF(D11:O11,$P$3) -> 4 | Q11: =COUNTIF(D11:O11,$Q$3) -> 1 | R11: =COUNTIF(D11:O11,$R$3) -> 0
B12: =B11+1 -> 2037 | C12: =VLOOKUP(B12,'Children Ashirali'!$B$107:$H$130,7,0)+VLOOKUP(B12,'Children Ulugbek'!$B$103:$F$126,5,0)+VLOOKUP(B12,'Children Maha'!B113:G136,6,0) -> 456243.48 | E12: E | G12: E | H12: E | L12: V | N12: E | O12: E | P12: =COUNTIF(D12:O12,$P$3) -> 5 | Q12: =COUNTIF(D12:O12,$Q$3) -> 0 | R12: =COUNTIF(D12:O12,$R$3) -> 1
B13: =B12+1 -> 2038 | C13: =VLOOKUP(B13,'Children Ashirali'!$B$107:$H$130,7,0)+VLOOKUP(B13,'Children Ulugbek'!$B$103:$F$126,5,0)+VLOOKUP(B13,'Children Maha'!B114:G137,6,0) -> 323077.42 | E13: E | H13: E | M13: V | O13: E | P13: =COUNTIF(D13:O13,$P$3) -> 3 | Q13: =COUNTIF(D13:O13,$Q$3) -> 0 | R13: =COUNTIF(D13:O13,$R$3) -> 1
B14: =B13+1 -> 2039 | C14: =VLOOKUP(B14,'Children Ashirali'!$B$107:$H$130,7,0)+VLOOKUP(B14,'Children Ulugbek'!$B$103:$F$126,5,0)+VLOOKUP(B14,'Children Maha'!B115:G138,6,0) -> 896497.42 | D14: P | E14: E | H14: E | I14: E | O14: E | P14: =COUNTIF(D14:O14,$P$3) -> 4 | Q14: =COUNTIF(D14:O14,$Q$3) -> 1 | R14: =COUNTIF(D14:O14,$R$3) -> 0
B15: =B14+1 -> 2040 | C15: =VLOOKUP(B15,'Children Ashirali'!$B$107:$H$130,7,0)+VLOOKUP(B15,'Children Ulugbek'!$B$103:$F$126,5,0)+VLOOKUP(B15,'Children Maha'!B116:G139,6,0) -> 1481052 | E15: E | G15: P | H15: E | I15: E | N15: P | P15: =COUNTIF(D15:O15,$P$3) -> 3 | Q15: =COUNTIF(D15:O15,$Q$3) -> 2 | R15: =COUNTIF(D15:O15,$R$3) -> 0
B16: =B15+1 -> 2041 | C16: =VLOOKUP(B16,'Children Ashirali'!$B$107:$H$130,7,0)+VLOOKUP(B16,'Children Ulugbek'!$B$103:$F$126,5,0)+VLOOKUP(B16,'Children Maha'!B117:G140,6,0) -> 192564.77 | D16: V | I16: E | P16: =COUNTIF(D16:O16,$P$3) -> 1 | Q16: =COUNTIF(D16:O16,$Q$3) -> 0 | R16: =COUNTIF(D16:O16,$R$3) -> 1
B17: =B16+1 -> 2042 | C17: =VLOOKUP(B17,'Children Ashirali'!$B$107:$H$130,7,0)+VLOOKUP(B17,'Children Ulugbek'!$B$103:$F$126,5,0)+VLOOKUP(B17,'Children Maha'!B118:G141,6,0) -> 1001646.5 | G17: V | I17: E | N17: V | O17: P | P17: =COUNTIF(D17:O17,$P$3) -> 1 | Q17: =COUNTIF(D17:O17,$Q$3) -> 1 | R17: =COUNTIF(D17:O17,$R$3) -> 2
B18: =B17+1 -> 2043 | C18: =VLOOKUP(B18,'Children Ashirali'!$B$107:$H$130,7,0)+VLOOKUP(B18,'Children Ulugbek'!$B$103:$F$126,5,0)+VLOOKUP(B18,'Children Maha'!B119:G142,6,0) -> 1699336.5 | E18: P | F18: E | H18: P | J18: E | K18: E | P18: =COUNTIF(D18:O18,$P$3) -> 3 | Q18: =COUNTIF(D18:O18,$Q$3) -> 2 | R18: =COUNTIF(D18:O18,$R$3) -> 0
B19: =B18+1 -> 2044 | C19: =VLOOKUP(B19,'Children Ashirali'!$B$107:$H$130,7,0)+VLOOKUP(B19,'Children Ulugbek'!$B$103:$F$126,5,0)+VLOOKUP(B19,'Children Maha'!B120:G143,6,0) -> 263025.91 | F19: E | J19: E | K19: E | P19: =COUNTIF(D19:O19,$P$3) -> 3 | Q19: =COUNTIF(D19:O19,$Q$3) -> 0 | R19: =COUNTIF(D19:O19,$R$3) -> 0
B20: =B19+1 -> 2045 | C20: =VLOOKUP(B20,'Children Ashirali'!$B$107:$H$130,7,0)+VLOOKUP(B20,'Children Ulugbek'!$B$103:$F$126,5,0)+VLOOKUP(B20,'Children Maha'!B121:G144,6,0) -> 1446189.4 | E20: V | F20: E | H20: V | I20: P | J20: E | K20: E | O20: V | P20: =COUNTIF(D20:O20,$P$3) -> 3 | Q20: =COUNTIF(D20:O20,$Q$3) -> 1 | R20: =COUNTIF(D20:O20,$R$3) -> 3
B21: =B20+1 -> 2046 | C21: =VLOOKUP(B21,'Children Ashirali'!$B$107:$H$130,7,0)+VLOOKUP(B21,'Children Ulugbek'!$B$103:$F$126,5,0)+VLOOKUP(B21,'Children Maha'!B122:G145,6,0) -> 279044.19 | F21: E | J21: E | K21: E | P21: =COUNTIF(D21:O21,$P$3) -> 3 | Q21: =COUNTIF(D21:O21,$Q$3) -> 0 | R21: =COUNTIF(D21:O21,$R$3) -> 0
B22: =B21+1 -> 2047 | C22: =VLOOKUP(B22,'Children Ashirali'!$B$107:$H$130,7,0)+VLOOKUP(B22,'Children Ulugbek'!$B$103:$F$126,5,0)+VLOOKUP(B22,'Children Maha'!B123:G146,6,0) -> 134127.24 | I22: V | P22: =COUNTIF(D22:O22,$P$3) -> 0 | Q22: =COUNTIF(D22:O22,$Q$3) -> 0 | R22: =COUNTIF(D22:O22,$R$3) -> 1
B23: =B22+1 -> 2048 | C23: =VLOOKUP(B23,'Children Ashirali'!$B$107:$H$130,7,0)+VLOOKUP(B23,'Children Ulugbek'!$B$103:$F$126,5,0)+VLOOKUP(B23,'Children Maha'!B124:G147,6,0) -> 0 | P23: =COUNTIF(D23:O23,$P$3) -> 0 | Q23: =COUNTIF(D23:O23,$Q$3) -> 0 | R23: =COUNTIF(D23:O23,$R$3) -> 0
B24: =B23+1 -> 2049 | C24: =VLOOKUP(B24,'Children Ashirali'!$B$107:$H$130,7,0)+VLOOKUP(B24,'Children Ulugbek'!$B$103:$F$126,5,0)+VLOOKUP(B24,'Children Maha'!B125:G148,6,0) -> 1935060 | F24: P | J24: P | P24: =COUNTIF(D24:O24,$P$3) -> 0 | Q24: =COUNTIF(D24:O24,$Q$3) -> 2 | R24: =COUNTIF(D24:O24,$R$3) -> 0
B25: =B24+1 -> 2050 | C25: =VLOOKUP(B25,'Children Ashirali'!$B$107:$H$130,7,0)+VLOOKUP(B25,'Children Ulugbek'!$B$103:$F$126,5,0)+VLOOKUP(B25,'Children Maha'!B126:G149,6,0) -> 1162470.9 | J25: V | K25: P | P25: =COUNTIF(D25:O25,$P$3) -> 0 | Q25: =COUNTIF(D25:O25,$Q$3) -> 1 | R25: =COUNTIF(D25:O25,$R$3) -> 1
B26: =B25+1 -> 2051 | C26: =VLOOKUP(B26,'Children Ashirali'!$B$107:$H$130,7,0)+VLOOKUP(B26,'Children Ulugbek'!$B$103:$F$126,5,0)+VLOOKUP(B26,'Children Maha'!B127:G150,6,0) -> 150961.39 | F26: V | P26: =COUNTIF(D26:O26,$P$3) -> 0 | Q26: =COUNTIF(D26:O26,$Q$3) -> 0 | R26: =COUNTIF(D26:O26,$R$3) -> 1
B27: =B26+1 -> 2052 | C27: =VLOOKUP(B27,'Children Ashirali'!$B$107:$H$130,7,0)+VLOOKUP(B27,'Children Ulugbek'!$B$103:$F$126,5,0)+VLOOKUP(B27,'Children Maha'!B128:G151,6,0) -> 155490.23 | K27: V | P27: =COUNTIF(D27:O27,$P$3) -> 0 | Q27: =COUNTIF(D27:O27,$Q$3) -> 0 | R27: =COUNTIF(D27:O27,$R$3) -> 1

Sheet Children Ulugbek
A2: Education cost schedule
A4: R14 | B4: 2014 | C4: Raniya | D4: Bachelor start age | E4: 19 | G4: Bachelor start Year | H4: 2025 | I4: =A4 -> R14 | K4: =A5 -> A18 | M4: =A6 -> S24 | O4: Ожидаемая инфляция | P4: 0.03
A5: A18 | B5: 2018 | C5: Ammar | E5: 19 | H5: =VLOOKUP(I4,$A$4:$B$6,2,0)+VLOOKUP(I4,$A$4:$E$6,5,0) -> 2033 | I5: =$P$6*(1+$P$4)^('Children Ulugbek'!H5-'Children Ulugbek'!$H$4) -> 63338.504 | J5: =VLOOKUP(K4,$A$4:$B$6,2,0)+VLOOKUP(K4,$A$4:$E$6,5,0) -> 2037 | K5: =$P$6*(1+$P$4)^(J5-$H$4) -> 71288.044 | L5: =VLOOKUP(M4,$A$4:$B$6,2,0)+VLOOKUP(M4,$A$4:$E$6,5,0) -> 2043 | M5: =$P$6*(1+$P$4)^(L5-$H$4) -> 85121.653 | O5: Ожидаемый прирост цены на недвижимость | P5: 0.05
A6: S24 | B6: 2024 | C6: Samina | E6: 19 | H6: =H5+1 -> 2034 | I6: =$P$6*(1+$P$4)^('Children Ulugbek'!H6-'Children Ulugbek'!$H$4) -> 65238.659 | J6: =J5+1 -> 2038 | K6: =$P$6*(1+$P$4)^(J6-$H$4) -> 73426.686 | L6: =L5+1 -> 2044 | M6: =$P$6*(1+$P$4)^(L6-$H$4) -> 87675.303 | O6: Ежегодные расходы на бакалавриат на 1 ребенка | P6: 50000
H7: =H6+1 -> 2035 | I7: =$P$6*(1+$P$4)^('Children Ulugbek'!H7-'Children Ulugbek'!$H$4) -> 67195.819 | J7: =J6+1 -> 2039 | K7: =$P$6*(1+$P$4)^(J7-$H$4) -> 75629.486 | L7: =L6+1 -> 2045 | M7: =$P$6*(1+$P$4)^(L7-$H$4) -> 90305.562 | O7: Единовременный расход на квартиру на 1 ребенка | P7: 300000
H8: =H7+1 -> 2036 | I8: =$P$6*(1+$P$4)^('Children Ulugbek'!H8-'Children Ulugbek'!$H$4) -> 69211.694 | J8: =J7+1 -> 2040 | K8: =$P$6*(1+$P$4)^(J8-$H$4) -> 77898.371 | L8: =L7+1 -> 2046 | M8: =$P$6*(1+$P$4)^(L8-$H$4) -> 93014.729 | O8: Единовременный расход на автомобиль на 1 ребенка | P8: 70000
C10: =A4 -> R14 | D10: =A5 -> A18 | E10: =A6 -> S24 | F10: Total
B11: 2029 | C11: =IFERROR(INDEX($I$5:$Q$8,MATCH($B11,$H$5:$H$8,0),MATCH(C$10,$I$4:$Q$4,0)),0) -> 0 | D11: =IFERROR(INDEX($I$5:$Q$8,MATCH($B11,$J$5:$J$8,0),MATCH(D$10,$I$4:$Q$4,0)),0) -> 0 | E11: =IFERROR(INDEX($I$5:$Q$8,MATCH($B11,$L$5:$L$8,0),MATCH(E$10,$I$4:$Q$4,0)),0) -> 0 | F11: =SUM(C11:E11) -> 0
B12: =B11+1 -> 2030 | C12: =IFERROR(INDEX($I$5:$Q$8,MATCH(B12,$H$5:$H$8,0),MATCH(C$10,$I$4:$Q$4,0)),0) -> 0 | D12: =IFERROR(INDEX($I$5:$Q$8,MATCH($B12,$J$5:$J$8,0),MATCH(D$10,$I$4:$Q$4,0)),0) -> 0 | E12: =IFERROR(INDEX($I$5:$Q$8,MATCH($B12,$L$5:$L$8,0),MATCH(E$10,$I$4:$Q$4,0)),0) -> 0 | F12: =SUM(C12:E12) -> 0
B13: =B12+1 -> 2031 | C13: =IFERROR(INDEX($I$5:$Q$8,MATCH(B13,$H$5:$H$8,0),MATCH(C$10,$I$4:$Q$4,0)),0) -> 0 | D13: =IFERROR(INDEX($I$5:$Q$8,MATCH($B13,$J$5:$J$8,0),MATCH(D$10,$I$4:$Q$4,0)),0) -> 0 | E13: =IFERROR(INDEX($I$5:$Q$8,MATCH($B13,$L$5:$L$8,0),MATCH(E$10,$I$4:$Q$4,0)),0) -> 0 | F13: =SUM(C13:E13) -> 0
B14: =B13+1 -> 2032 | C14: =IFERROR(INDEX($I$5:$Q$8,MATCH(B14,$H$5:$H$8,0),MATCH(C$10,$I$4:$Q$4,0)),0) -> 0 | D14: =IFERROR(INDEX($I$5:$Q$8,MATCH($B14,$J$5:$J$8,0),MATCH(D$10,$I$4:$Q$4,0)),0) -> 0 | E14: =IFERROR(INDEX($I$5:$Q$8,MATCH($B14,$L$5:$L$8,0),MATCH(E$10,$I$4:$Q$4,0)),0) -> 0 | F14: =SUM(C14:E14) -> 0
B15: =B14+1 -> 2033 | C15: =IFERROR(INDEX($I$5:$Q$8,MATCH(B15,$H$5:$H$8,0),MATCH(C$10,$I$4:$Q$4,0)),0) -> 63338.504 | D15: =IFERROR(INDEX($I$5:$Q$8,MATCH($B15,$J$5:$J$8,0),MATCH(D$10,$I$4:$Q$4,0)),0) -> 0 | E15: =IFERROR(INDEX($I$5:$Q$8,MATCH($B15,$L$5:$L$8,0),MATCH(E$10,$I$4:$Q$4,0)),0) -> 0 | F15: =SUM(C15:E15) -> 63338.504
B16: =B15+1 -> 2034 | C16: =IFERROR(INDEX($I$5:$Q$8,MATCH(B16,$H$5:$H$8,0),MATCH(C$10,$I$4:$Q$4,0)),0) -> 65238.659 | D16: =IFERROR(INDEX($I$5:$Q$8,MATCH($B16,$J$5:$J$8,0),MATCH(D$10,$I$4:$Q$4,0)),0) -> 0 | E16: =IFERROR(INDEX($I$5:$Q$8,MATCH($B16,$L$5:$L$8,0),MATCH(E$10,$I$4:$Q$4,0)),0) -> 0 | F16: =SUM(C16:E16) -> 65238.659
B17: =B16+1 -> 2035 | C17: =IFERROR(INDEX($I$5:$Q$8,MATCH(B17,$H$5:$H$8,0),MATCH(C$10,$I$4:$Q$4,0)),0) -> 67195.819 | D17: =IFERROR(INDEX($I$5:$Q$8,MATCH($B17,$J$5:$J$8,0),MATCH(D$10,$I$4:$Q$4,0)),0) -> 0 | E17: =IFERROR(INDEX($I$5:$Q$8,MATCH($B17,$L$5:$L$8,0),MATCH(E$10,$I$4:$Q$4,0)),0) -> 0 | F17: =SUM(C17:E17) -> 67195.819
B18: =B17+1 -> 2036 | C18: =IFERROR(INDEX($I$5:$Q$8,MATCH(B18,$H$5:$H$8,0),MATCH(C$10,$I$4:$Q$4,0)),0) -> 69211.694 | D18: =IFERROR(INDEX($I$5:$Q$8,MATCH($B18,$J$5:$J$8,0),MATCH(D$10,$I$4:$Q$4,0)),0) -> 0 | E18: =IFERROR(INDEX($I$5:$Q$8,MATCH($B18,$L$5:$L$8,0),MATCH(E$10,$I$4:$Q$4,0)),0) -> 0 | F18: =SUM(C18:E18) -> 69211.694
B19: =B18+1 -> 2037 | C19: =IFERROR(INDEX($I$5:$Q$8,MATCH(B19,$H$5:$H$8,0),MATCH(C$10,$I$4:$Q$4,0)),0) -> 0 | D19: =IFERROR(INDEX($I$5:$Q$8,MATCH($B19,$J$5:$J$8,0),MATCH(D$10,$I$4:$Q$4,0)),0) -> 71288.044 | E19: =IFERROR(INDEX($I$5:$Q$8,MATCH($B19,$L$5:$L$8,0),MATCH(E$10,$I$4:$Q$4,0)),0) -> 0 | F19: =SUM(C19:E19) -> 71288.044
B20: =B19+1 -> 2038 | C20: =IFERROR(INDEX($I$5:$Q$8,MATCH(B20,$H$5:$H$8,0),MATCH(C$10,$I$4:$Q$4,0)),0) -> 0 | D20: =IFERROR(INDEX($I$5:$Q$8,MATCH($B20,$J$5:$J$8,0),MATCH(D$10,$I$4:$Q$4,0)),0) -> 73426.686 | E20: =IFERROR(INDEX($I$5:$Q$8,MATCH($B20,$L$5:$L$8,0),MATCH(E$10,$I$4:$Q$4,0)),0) -> 0 | F20: =SUM(C20:E20) -> 73426.686
B21: =B20+1 -> 2039 | C21: =IFERROR(INDEX($I$5:$Q$8,MATCH(B21,$H$5:$H$8,0),MATCH(C$10,$I$4:$Q$4,0)),0) -> 0 | D21: =IFERROR(INDEX($I$5:$Q$8,MATCH($B21,$J$5:$J$8,0),MATCH(D$10,$I$4:$Q$4,0)),0) -> 75629.486 | E21: =IFERROR(INDEX($I$5:$Q$8,MATCH($B21,$L$5:$L$8,0),MATCH(E$10,$I$4:$Q$4,0)),0) -> 0 | F21: =SUM(C21:E21) -> 75629.486
B22: =B21+1 -> 2040 | C22: =IFERROR(INDEX($I$5:$Q$8,MATCH(B22,$H$5:$H$8,0),MATCH(C$10,$I$4:$Q$4,0)),0) -> 0 | D22: =IFERROR(INDEX($I$5:$Q$8,MATCH($B22,$J$5:$J$8,0),MATCH(D$10,$I$4:$Q$4,0)),0) -> 77898.371 | E22: =IFERROR(INDEX($I$5:$Q$8,MATCH($B22,$L$5:$L$8,0),MATCH(E$10,$I$4:$Q$4,0)),0) -> 0 | F22: =SUM(C22:E22) -> 77898.371
B23: =B22+1 -> 2041 | C23: =IFERROR(INDEX($I$5:$Q$8,MATCH(B23,$H$5:$H$8,0),MATCH(C$10,$I$4:$Q$4,0)),0) -> 0 | D23: =IFERROR(INDEX($I$5:$Q$8,MATCH($B23,$J$5:$J$8,0),MATCH(D$10,$I$4:$Q$4,0)),0) -> 0 | E23: =IFERROR(INDEX($I$5:$Q$8,MATCH($B23,$L$5:$L$8,0),MATCH(E$10,$I$4:$Q$4,0)),0) -> 0 | F23: =SUM(C23:E23) -> 0
... B34: =B33+1 -> 2052 | C34: =IFERROR(INDEX($I$5:$Q$8,MATCH(B34,$H$5:$H$8,0),MATCH(C$10,$I$4:$Q$4,0)),0) -> 0 | D34: =IFERROR(INDEX($I$5:$Q$8,MATCH($B34,$J$5:$J$8,0),MATCH(D$10,$I$4:$Q$4,0)),0) -> 0 | E34: =IFERROR(INDEX($I$5:$Q$8,MATCH($B34,$L$5:$L$8,0),MATCH(E$10,$I$4:$Q$4,0)),0) -> 0 | F34: =SUM(C34:E34) -> 0
A36: Property cost schedule
I37: =A4 -> R14 | J37: =A5 -> A18 | K37: =A6 -> S24
A38: =A4 -> R14 | B38: =B4 -> 2014 | C38: =C4 -> Raniya | D38: Property purchase age | E38: 25 | G38: Property purchase year | H38: =B38+E38 -> 2039 | I38: =$P$7*(1+$P$5)^($H38-$H$4) -> 593979.48 | J38: 0 | K38: 0
A39: =A5 -> A18 | B39: =B5 -> 2018 | C39: =C5 -> Ammar | E39: 25 | H39: =B39+E39 -> 2043 | I39: 0 | J39: =$P$7*(1+$P$5)^($H39-$H$4) -> 721985.77 | K39: 0
A40: =A6 -> S24 | B40: =B6 -> 2024 | C40: =C6 -> Samina | E40: 25 | H40: =B40+E40 -> 2049 | I40: 0 | J40: 0 | K40: =$P$7*(1+$P$5)^($H40-$H$4) -> 967529.98
C42: =A38 -> R14 | D42: =A39 -> A18 | E42: =A40 -> S24 | F42: Total
B43: 2029 | C43: =IFERROR(INDEX($I$38:$M$40,MATCH($B43,$H$38:$H$40,0),MATCH(C$42,$I$37:$M$37,0)),0) -> 0 | D43: =IFERROR(INDEX($I$38:$M$40,MATCH($B43,$H$38:$H$40,0),MATCH(D$42,$I$37:$M$37,0)),0) -> 0 | E43: =IFERROR(INDEX($I$38:$M$40,MATCH($B43,$H$38:$H$40,0),MATCH(E$42,$I$37:$M$37,0)),0) -> 0 | F43: =SUM(C43:E43) -> 0
B44: =B43+1 -> 2030 | C44: =IFERROR(INDEX($I$38:$M$40,MATCH($B44,$H$38:$H$40,0),MATCH(C$42,$I$37:$M$37,0)),0) -> 0 | D44: =IFERROR(INDEX($I$38:$M$40,MATCH($B44,$H$38:$H$40,0),MATCH(D$42,$I$37:$M$37,0)),0) -> 0 | E44: =IFERROR(INDEX($I$38:$M$40,MATCH($B44,$H$38:$H$40,0),MATCH(E$42,$I$37:$M$37,0)),0) -> 0 | F44: =SUM(C44:E44) -> 0
B45: =B44+1 -> 2031 | C45: =IFERROR(INDEX($I$38:$M$40,MATCH($B45,$H$38:$H$40,0),MATCH(C$42,$I$37:$M$37,0)),0) -> 0 | D45: =IFERROR(INDEX($I$38:$M$40,MATCH($B45,$H$38:$H$40,0),MATCH(D$42,$I$37:$M$37,0)),0) -> 0 | E45: =IFERROR(INDEX($I$38:$M$40,MATCH($B45,$H$38:$H$40,0),MATCH(E$42,$I$37:$M$37,0)),0) -> 0 | F45: =SUM(C45:E45) -> 0
B46: =B45+1 -> 2032 | C46: =IFERROR(INDEX($I$38:$M$40,MATCH($B46,$H$38:$H$40,0),MATCH(C$42,$I$37:$M$37,0)),0) -> 0 | D46: =IFERROR(INDEX($I$38:$M$40,MATCH($B46,$H$38:$H$40,0),MATCH(D$42,$I$37:$M$37,0)),0) -> 0 | E46: =IFERROR(INDEX($I$38:$M$40,MATCH($B46,$H$38:$H$40,0),MATCH(E$42,$I$37:$M$37,0)),0) -> 0 | F46: =SUM(C46:E46) -> 0
B47: =B46+1 -> 2033 | C47: =IFERROR(INDEX($I$38:$M$40,MATCH($B47,$H$38:$H$40,0),MATCH(C$42,$I$37:$M$37,0)),0) -> 0 | D47: =IFERROR(INDEX($I$38:$M$40,MATCH($B47,$H$38:$H$40,0),MATCH(D$42,$I$37:$M$37,0)),0) -> 0 | E47: =IFERROR(INDEX($I$38:$M$40,MATCH($B47,$H$38:$H$40,0),MATCH(E$42,$I$37:$M$37,0)),0) -> 0 | F47: =SUM(C47:E47) -> 0
B48: =B47+1 -> 2034 | C48: =IFERROR(INDEX($I$38:$M$40,MATCH($B48,$H$38:$H$40,0),MATCH(C$42,$I$37:$M$37,0)),0) -> 0 | D48: =IFERROR(INDEX($I$38:$M$40,MATCH($B48,$H$38:$H$40,0),MATCH(D$42,$I$37:$M$37,0)),0) -> 0 | E48: =IFERROR(INDEX($I$38:$M$40,MATCH($B48,$H$38:$H$40,0),MATCH(E$42,$I$37:$M$37,0)),0) -> 0 | F48: =SUM(C48:E48) -> 0
B49: =B48+1 -> 2035 | C49: =IFERROR(INDEX($I$38:$M$40,MATCH($B49,$H$38:$H$40,0),MATCH(C$42,$I$37:$M$37,0)),0) -> 0 | D49: =IFERROR(INDEX($I$38:$M$40,MATCH($B49,$H$38:$H$40,0),MATCH(D$42,$I$37:$M$37,0)),0) -> 0 | E49: =IFERROR(INDEX($I$38:$M$40,MATCH($B49,$H$38:$H$40,0),MATCH(E$42,$I$37:$M$37,0)),0) -> 0 | F49: =SUM(C49:E49) -> 0
B50: =B49+1 -> 2036 | C50: =IFERROR(INDEX($I$38:$M$40,MATCH($B50,$H$38:$H$40,0),MATCH(C$42,$I$37:$M$37,0)),0) -> 0 | D50: =IFERROR(INDEX($I$38:$M$40,MATCH($B50,$H$38:$H$40,0),MATCH(D$42,$I$37:$M$37,0)),0) -> 0 | E50: =IFERROR(INDEX($I$38:$M$40,MATCH($B50,$H$38:$H$40,0),MATCH(E$42,$I$37:$M$37,0)),0) -> 0 | F50: =SUM(C50:E50) -> 0
B51: =B50+1 -> 2037 | C51: =IFERROR(INDEX($I$38:$M$40,MATCH($B51,$H$38:$H$40,0),MATCH(C$42,$I$37:$M$37,0)),0) -> 0 | D51: =IFERROR(INDEX($I$38:$M$40,MATCH($B51,$H$38:$H$40,0),MATCH(D$42,$I$37:$M$37,0)),0) -> 0 | E51: =IFERROR(INDEX($I$38:$M$40,MATCH($B51,$H$38:$H$40,0),MATCH(E$42,$I$37:$M$37,0)),0) -> 0 | F51: =SUM(C51:E51) -> 0
B52: =B51+1 -> 2038 | C52: =IFERROR(INDEX($I$38:$M$40,MATCH($B52,$H$38:$H$40,0),MATCH(C$42,$I$37:$M$37,0)),0) -> 0 | D52: =IFERROR(INDEX($I$38:$M$40,MATCH($B52,$H$38:$H$40,0),MATCH(D$42,$I$37:$M$37,0)),0) -> 0 | E52: =IFERROR(INDEX($I$38:$M$40,MATCH($B52,$H$38:$H$40,0),MATCH(E$42,$I$37:$M$37,0)),0) -> 0 | F52: =SUM(C52:E52) -> 0
B53: =B52+1 -> 2039 | C53: =IFERROR(INDEX($I$38:$M$40,MATCH($B53,$H$38:$H$40,0),MATCH(C$42,$I$37:$M$37,0)),0) -> 593979.48 | D53: =IFERROR(INDEX($I$38:$M$40,MATCH($B53,$H$38:$H$40,0),MATCH(D$42,$I$37:$M$37,0)),0) -> 0 | E53: =IFERROR(INDEX($I$38:$M$40,MATCH($B53,$H$38:$H$40,0),MATCH(E$42,$I$37:$M$37,0)),0) -> 0 | F53: =SUM(C53:E53) -> 593979.48
B54: =B53+1 -> 2040 | C54: =IFERROR(INDEX($I$38:$M$40,MATCH($B54,$H$38:$H$40,0),MATCH(C$42,$I$37:$M$37,0)),0) -> 0 | D54: =IFERROR(INDEX($I$38:$M$40,MATCH($B54,$H$38:$H$40,0),MATCH(D$42,$I$37:$M$37,0)),0) -> 0 | E54: =IFERROR(INDEX($I$38:$M$40,MATCH($B54,$H$38:$H$40,0),MATCH(E$42,$I$37:$M$37,0)),0) -> 0 | F54: =SUM(C54:E54) -> 0
B55: =B54+1 -> 2041 | C55: =IFERROR(INDEX($I$38:$M$40,MATCH($B55,$H$38:$H$40,0),MATCH(C$42,$I$37:$M$37,0)),0) -> 0 | D55: =IFERROR(INDEX($I$38:$M$40,MATCH($B55,$H$38:$H$40,0),MATCH(D$42,$I$37:$M$37,0)),0) -> 0 | E55: =IFERROR(INDEX($I$38:$M$40,MATCH($B55,$H$38:$H$40,0),MATCH(E$42,$I$37:$M$37,0)),0) -> 0 | F55: =SUM(C55:E55) -> 0
...

Sheet Children Ashirali
A2: Education cost schedule
A4: B15 | B4: 2015 | C4: Bilal | D4: Bachelor start age | E4: 19 | I4: Bachelor start Year | J4: 2025 | K4: B15 | M4: S18 | O4: E20 | Q4: I24 | S4: M24 | U4: Ожидаемая инфляция | V4: 0.03
A5: S18 | B5: 2018 | C5: Safiya | E5: 19 | J5: =VLOOKUP(K4,$A$4:$B$8,2,0)+VLOOKUP(K4,$A$4:$E$8,5,0) -> 2034 | K5: =$V$6*(1+$V$4)^(J5-$J$4) -> 65238.659 | L5: =VLOOKUP(M4,$A$4:$B$8,2,0)+VLOOKUP(M4,$A$4:$E$8,5,0) -> 2037 | M5: =$V$6*(1+$V$4)^(L5-$J$4) -> 71288.044 | N5: =VLOOKUP(O4,$A$4:$B$8,2,0)+VLOOKUP(O4,$A$4:$E$8,5,0) -> 2039 | O5: =$V$6*(1+$V$4)^(N5-$J$4) -> 75629.486 | P5: =VLOOKUP(Q4,$A$4:$B$8,2,0)+VLOOKUP(Q4,$A$4:$E$8,5,0) -> 2043 | Q5: =$V$6*(1+$V$4)^(P5-$J$4) -> 85121.653 | R5: =VLOOKUP(S4,$A$4:$B$8,2,0)+VLOOKUP(S4,$A$4:$E$8,5,0) -> 2043 | S5: =$V$6*(1+$V$4)^(R5-$J$4) -> 85121.653 | U5: Ожидаемый прирост цены на недвижимость | V5: 0.05
A6: E20 | B6: 2020 | C6: Emin | E6: 19 | J6: =J5+1 -> 2035 | K6: =$V$6*(1+$V$4)^(J6-$J$4) -> 67195.819 | L6: =L5+1 -> 2038 | M6: =$V$6*(1+$V$4)^(L6-$J$4) -> 73426.686 | N6: =N5+1 -> 2040 | O6: =$V$6*(1+$V$4)^(N6-$J$4) -> 77898.371 | P6: =P5+1 -> 2044 | Q6: =$V$6*(1+$V$4)^(P6-$J$4) -> 87675.303 | R6: =R5+1 -> 2044 | S6: =$V$6*(1+$V$4)^(R6-$J$4) -> 87675.303 | U6: Ежегодные расходы на бакалавриат на 1 ребенка | V6: 50000
A7: I24 | B7: 2024 | C7: Isa | E7: 19 | J7: =J6+1 -> 2036 | K7: =$V$6*(1+$V$4)^(J7-$J$4) -> 69211.694 | L7: =L6+1 -> 2039 | M7: =$V$6*(1+$V$4)^(L7-$J$4) -> 75629.486 | N7: =N6+1 -> 2041 | O7: =$V$6*(1+$V$4)^(N7-$J$4) -> 80235.322 | P7: =P6+1 -> 2045 | Q7: =$V$6*(1+$V$4)^(P7-$J$4) -> 90305.562 | R7: =R6+1 -> 2045 | S7: =$V$6*(1+$V$4)^(R7-$J$4) -> 90305.562 | U7: Единовременный расход на квартиру на 1 ребенка | V7: 300000
A8: M24 | B8: 2024 | C8: Musa | E8: 19 | J8: =J7+1 -> 2037 | K8: =$V$6*(1+$V$4)^(J8-$J$4) -> 71288.044 | L8: =L7+1 -> 2040 | M8: =$V$6*(1+$V$4)^(L8-$J$4) -> 77898.371 | N8: =N7+1 -> 2042 | O8: =$V$6*(1+$V$4)^(N8-$J$4) -> 82642.382 | P8: =P7+1 -> 2046 | Q8: =$V$6*(1+$V$4)^(P8-$J$4) -> 93014.729 | R8: =R7+1 -> 2046 | S8: =$V$6*(1+$V$4)^(R8-$J$4) -> 93014.729 | U8: Единовременный расход на автомобиль на 1 ребенка | V8: 70000
C10: B15 | D10: S18 | E10: E20 | F10: I24 | G10: M24 | H10: Total
B11: 2029 | C11: =IFERROR(INDEX($K$5:$S$8,MATCH($B11,$J$5:$J$8,0),MATCH(C$10,$K$4:$S$4,0)),0) -> 0 | D11: =IFERROR(INDEX($K$5:$S$8,MATCH($B11,$L$5:$L$8,0),MATCH(D$10,$K$4:$S$4,0)),0) -> 0 | E11: =IFERROR(INDEX($K$5:$S$8,MATCH($B11,$N$5:$N$8,0),MATCH(E$10,$K$4:$S$4,0)),0) -> 0 | F11: =IFERROR(INDEX($K$5:$S$8,MATCH($B11,$P$5:$P$8,0),MATCH(F$10,$K$4:$S$4,0)),0) -> 0 | G11: =IFERROR(INDEX($K$5:$S$8,MATCH($B11,$R$5:$R$8,0),MATCH(G$10,$K$4:$S$4,0)),0) -> 0 | H11: =SUM(C11:G11) -> 0
B12: =B11+1 -> 2030 | C12: =IFERROR(INDEX($K$5:$S$8,MATCH(B12,$J$5:$J$8,0),MATCH(C$10,$K$4:$S$4,0)),0) -> 0 | D12: =IFERROR(INDEX($K$5:$S$8,MATCH($B12,$L$5:$L$8,0),MATCH(D$10,$K$4:$S$4,0)),0) -> 0 | E12: =IFERROR(INDEX($K$5:$S$8,MATCH($B12,$N$5:$N$8,0),MATCH(E$10,$K$4:$S$4,0)),0) -> 0 | F12: =IFERROR(INDEX($K$5:$S$8,MATCH($B12,$P$5:$P$8,0),MATCH(F$10,$K$4:$S$4,0)),0) -> 0 | G12: =IFERROR(INDEX($K$5:$S$8,MATCH($B12,$R$5:$R$8,0),MATCH(G$10,$K$4:$S$4,0)),0) -> 0 | H12: =SUM(C12:G12) -> 0
B13: =B12+1 -> 2031 | C13: =IFERROR(INDEX($K$5:$S$8,MATCH(B13,$J$5:$J$8,0),MATCH(C$10,$K$4:$S$4,0)),0) -> 0 | D13: =IFERROR(INDEX($K$5:$S$8,MATCH($B13,$L$5:$L$8,0),MATCH(D$10,$K$4:$S$4,0)),0) -> 0 | E13: =IFERROR(INDEX($K$5:$S$8,MATCH($B13,$N$5:$N$8,0),MATCH(E$10,$K$4:$S$4,0)),0) -> 0 | F13: =IFERROR(INDEX($K$5:$S$8,MATCH($B13,$P$5:$P$8,0),MATCH(F$10,$K$4:$S$4,0)),0) -> 0 | G13: =IFERROR(INDEX($K$5:$S$8,MATCH($B13,$R$5:$R$8,0),MATCH(G$10,$K$4:$S$4,0)),0) -> 0 | H13: =SUM(C13:G13) -> 0
B14: =B13+1 -> 2032 | C14: =IFERROR(INDEX($K$5:$S$8,MATCH(B14,$J$5:$J$8,0),MATCH(C$10,$K$4:$S$4,0)),0) -> 0 | D14: =IFERROR(INDEX($K$5:$S$8,MATCH($B14,$L$5:$L$8,0),MATCH(D$10,$K$4:$S$4,0)),0) -> 0 | E14: =IFERROR(INDEX($K$5:$S$8,MATCH($B14,$N$5:$N$8,0),MATCH(E$10,$K$4:$S$4,0)),0) -> 0 | F14: =IFERROR(INDEX($K$5:$S$8,MATCH($B14,$P$5:$P$8,0),MATCH(F$10,$K$4:$S$4,0)),0) -> 0 | G14: =IFERROR(INDEX($K$5:$S$8,MATCH($B14,$R$5:$R$8,0),MATCH(G$10,$K$4:$S$4,0)),0) -> 0 | H14: =SUM(C14:G14) -> 0
B15: =B14+1 -> 2033 | C15: =IFERROR(INDEX($K$5:$S$8,MATCH(B15,$J$5:$J$8,0),MATCH(C$10,$K$4:$S$4,0)),0) -> 0 | D15: =IFERROR(INDEX($K$5:$S$8,MATCH($B15,$L$5:$L$8,0),MATCH(D$10,$K$4:$S$4,0)),0) -> 0 | E15: =IFERROR(INDEX($K$5:$S$8,MATCH($B15,$N$5:$N$8,0),MATCH(E$10,$K$4:$S$4,0)),0) -> 0 | F15: =IFERROR(INDEX($K$5:$S$8,MATCH($B15,$P$5:$P$8,0),MATCH(F$10,$K$4:$S$4,0)),0) -> 0 | G15: =IFERROR(INDEX($K$5:$S$8,MATCH($B15,$R$5:$R$8,0),MATCH(G$10,$K$4:$S$4,0)),0) -> 0 | H15: =SUM(C15:G15) -> 0
B16: =B15+1 -> 2034 | C16: =IFERROR(INDEX($K$5:$S$8,MATCH(B16,$J$5:$J$8,0),MATCH(C$10,$K$4:$S$4,0)),0) -> 65238.659 | D16: =IFERROR(INDEX($K$5:$S$8,MATCH($B16,$L$5:$L$8,0),MATCH(D$10,$K$4:$S$4,0)),0) -> 0 | E16: =IFERROR(INDEX($K$5:$S$8,MATCH($B16,$N$5:$N$8,0),MATCH(E$10,$K$4:$S$4,0)),0) -> 0 | F16: =IFERROR(INDEX($K$5:$S$8,MATCH($B16,$P$5:$P$8,0),MATCH(F$10,$K$4:$S$4,0)),0) -> 0 | G16: =IFERROR(INDEX($K$5:$S$8,MATCH($B16,$R$5:$R$8,0),MATCH(G$10,$K$4:$S$4,0)),0) -> 0 | H16: =SUM(C16:G16) -> 65238.659
B17: =B16+1 -> 2035 | C17: =IFERROR(INDEX($K$5:$S$8,MATCH(B17,$J$5:$J$8,0),MATCH(C$10,$K$4:$S$4,0)),0) -> 67195.819 | D17: =IFERROR(INDEX($K$5:$S$8,MATCH($B17,$L$5:$L$8,0),MATCH(D$10,$K$4:$S$4,0)),0) -> 0 | E17: =IFERROR(INDEX($K$5:$S$8,MATCH($B17,$N$5:$N$8,0),MATCH(E$10,$K$4:$S$4,0)),0) -> 0 | F17: =IFERROR(INDEX($K$5:$S$8,MATCH($B17,$P$5:$P$8,0),MATCH(F$10,$K$4:$S$4,0)),0) -> 0 | G17: =IFERROR(INDEX($K$5:$S$8,MATCH($B17,$R$5:$R$8,0),MATCH(G$10,$K$4:$S$4,0)),0) -> 0 | H17: =SUM(C17:G17) -> 67195.819
B18: =B17+1 -> 2036 | C18: =IFERROR(INDEX($K$5:$S$8,MATCH(B18,$J$5:$J$8,0),MATCH(C$10,$K$4:$S$4,0)),0) -> 69211.694 | D18: =IFERROR(INDEX($K$5:$S$8,MATCH($B18,$L$5:$L$8,0),MATCH(D$10,$K$4:$S$4,0)),0) -> 0 | E18: =IFERROR(INDEX($K$5:$S$8,MATCH($B18,$N$5:$N$8,0),MATCH(E$10,$K$4:$S$4,0)),0) -> 0 | F18: =IFERROR(INDEX($K$5:$S$8,MATCH($B18,$P$5:$P$8,0),MATCH(F$10,$K$4:$S$4,0)),0) -> 0 | G18: =IFERROR(INDEX($K$5:$S$8,MATCH($B18,$R$5:$R$8,0),MATCH(G$10,$K$4:$S$4,0)),0) -> 0 | H18: =SUM(C18:G18) -> 69211.694
B19: =B18+1 -> 2037 | C19: =IFERROR(INDEX($K$5:$S$8,MATCH(B19,$J$5:$J$8,0),MATCH(C$10,$K$4:$S$4,0)),0) -> 71288.044 | D19: =IFERROR(INDEX($K$5:$S$8,MATCH($B19,$L$5:$L$8,0),MATCH(D$10,$K$4:$S$4,0)),0) -> 71288.044 | E19: =IFERROR(INDEX($K$5:$S$8,MATCH($B19,$N$5:$N$8,0),MATCH(E$10,$K$4:$S$4,0)),0) -> 0 | F19: =IFERROR(INDEX($K$5:$S$8,MATCH($B19,$P$5:$P$8,0),MATCH(F$10,$K$4:$S$4,0)),0) -> 0 | G19: =IFERROR(INDEX($K$5:$S$8,MATCH($B19,$R$5:$R$8,0),MATCH(G$10,$K$4:$S$4,0)),0) -> 0 | H19: =SUM(C19:G19) -> 142576.09
B20: =B19+1 -> 2038 | C20: =IFERROR(INDEX($K$5:$S$8,MATCH(B20,$J$5:$J$8,0),MATCH(C$10,$K$4:$S$4,0)),0) -> 0 | D20: =IFERROR(INDEX($K$5:$S$8,MATCH($B20,$L$5:$L$8,0),MATCH(D$10,$K$4:$S$4,0)),0) -> 73426.686 | E20: =IFERROR(INDEX($K$5:$S$8,MATCH($B20,$N$5:$N$8,0),MATCH(E$10,$K$4:$S$4,0)),0) -> 0 | F20: =IFERROR(INDEX($K$5:$S$8,MATCH($B20,$P$5:$P$8,0),MATCH(F$10,$K$4:$S$4,0)),0) -> 0 | G20: =IFERROR(INDEX($K$5:$S$8,MATCH($B20,$R$5:$R$8,0),MATCH(G$10,$K$4:$S$4,0)),0) -> 0 | H20: =SUM(C20:G20) -> 73426.686
B21: =B20+1 -> 2039 | C21: =IFERROR(INDEX($K$5:$S$8,MATCH(B21,$J$5:$J$8,0),MATCH(C$10,$K$4:$S$4,0)),0) -> 0 | D21: =IFERROR(INDEX($K$5:$S$8,MATCH($B21,$L$5:$L$8,0),MATCH(D$10,$K$4:$S$4,0)),0) -> 75629.486 | E21: =IFERROR(INDEX($K$5:$S$8,MATCH($B21,$N$5:$N$8,0),MATCH(E$10,$K$4:$S$4,0)),0) -> 75629.486 | F21: =IFERROR(INDEX($K$5:$S$8,MATCH($B21,$P$5:$P$8,0),MATCH(F$10,$K$4:$S$4,0)),0) -> 0 | G21: =IFERROR(INDEX($K$5:$S$8,MATCH($B21,$R$5:$R$8,0),MATCH(G$10,$K$4:$S$4,0)),0) -> 0 | H21: =SUM(C21:G21) -> 151258.97
B22: =B21+1 -> 2040 | C22: =IFERROR(INDEX($K$5:$S$8,MATCH(B22,$J$5:$J$8,0),MATCH(C$10,$K$4:$S$4,0)),0) -> 0 | D22: =IFERROR(INDEX($K$5:$S$8,MATCH($B22,$L$5:$L$8,0),MATCH(D$10,$K$4:$S$4,0)),0) -> 77898.371 | E22: =IFERROR(INDEX($K$5:$S$8,MATCH($B22,$N$5:$N$8,0),MATCH(E$10,$K$4:$S$4,0)),0) -> 77898.371 | F22: =IFERROR(INDEX($K$5:$S$8,MATCH($B22,$P$5:$P$8,0),MATCH(F$10,$K$4:$S$4,0)),0) -> 0 | G22: =IFERROR(INDEX($K$5:$S$8,MATCH($B22,$R$5:$R$8,0),MATCH(G$10,$K$4:$S$4,0)),0) -> 0 | H22: =SUM(C22:G22) -> 155796.74
B23: =B22+1 -> 2041 | C23: =IFERROR(INDEX($K$5:$S$8,MATCH(B23,$J$5:$J$8,0),MATCH(C$10,$K$4:$S$4,0)),0) -> 0 | D23: =IFERROR(INDEX($K$5:$S$8,MATCH($B23,$L$5:$L$8,0),MATCH(D$10,$K$4:$S$4,0)),0) -> 0 | E23: =IFERROR(INDEX($K$5:$S$8,MATCH($B23,$N$5:$N$8,0),MATCH(E$10,$K$4:$S$4,0)),0) -> 80235.322 | F23: =IFERROR(INDEX($K$5:$S$8,MATCH($B23,$P$5:$P$8,0),MATCH(F$10,$K$4:$S$4,0)),0) -> 0 | G23: =IFERROR(INDEX($K$5:$S$8,MATCH($B23,$R$5:$R$8,0),MATCH(G$10,$K$4:$S$4,0)),0) -> 0 | H23: =SUM(C23:G23) -> 80235.322
... B34: =B33+1 -> 2052 | C34: =IFERROR(INDEX($K$5:$S$8,MATCH(B34,$J$5:$J$8,0),MATCH(C$10,$K$4:$S$4,0)),0) -> 0 | D34: =IFERROR(INDEX($K$5:$S$8,MATCH($B34,$L$5:$L$8,0),MATCH(D$10,$K$4:$S$4,0)),0) -> 0 | E34: =IFERROR(INDEX($K$5:$S$8,MATCH($B34,$N$5:$N$8,0),MATCH(E$10,$K$4:$S$4,0)),0) -> 0 | F34: =IFERROR(INDEX($K$5:$S$8,MATCH($B34,$P$5:$P$8,0),MATCH(F$10,$K$4:$S$4,0)),0) -> 0 | G34: =IFERROR(INDEX($K$5:$S$8,MATCH($B34,$R$5:$R$8,0),MATCH(G$10,$K$4:$S$4,0)),0) -> 0 | H34: =SUM(C34:G34) -> 0
A36: Property cost schedule
K37: B15 | L37: S18 | M37: E20 | N37: I24 | O37: M24
A38: B15 | B38: 2015 | C38: Bilal | D38: Property purchase age | E38: 25 | I38: Property purchase year | J38: =B38+E38 -> 2040 | K38: =$V$7*(1+$V$5)^($J38-$J$4) -> 623678.45 | L38: 0 | M38: 0 | N38: 0 | O38: 0
A39: S18 | B39: 2018 | C39: Safiya | E39: 25 | J39: =B39+E39 -> 2043 | K39: 0 | L39: =$V$7*(1+$V$5)^($J39-$J$4) -> 721985.77 | M39: 0 | N39: 0 | O39: 0
A40: E20 | B40: 2020 | C40: Emin | E40: 25 | J40: =B40+E40 -> 2045 | K40: 0 | L40: 0 | M40: =$V$7*(1+$V$5)^($J40-$J$4) -> 795989.31 | N40: 0 | O40: 0
A41: I24 | B41: 2024 | C41: Isa | E41: 25 | J41: =B41+E41 -> 2049 | K41: 0 | L41: 0 | M41: 0 | N41: =$V$7*(1+$V$5)^($J41-$J$4) -> 967529.98 | O41: 0
A42: M24 | B42: 2024 | C42: Musa | E42: 26 | J42: =B42+E42 -> 2050 | K42: 0 | L42: 0 | M42: 0 | N42: 0 | O42: =$V$7*(1+$V$5)^($J42-$J$4) -> 1015906.5
C44: B15 | D44: S18 | E44: E20 | F44: I24 | G44: M24 | H44: Total
B45: 2029 | C45: =IFERROR(INDEX($K$38:$O$42,MATCH($B45,$J$38:$J$42,0),MATCH(C$44,$K$37:$O$37,0)),0) -> 0 | D45: =IFERROR(INDEX($K$38:$O$42,MATCH($B45,$J$38:$J$42,0),MATCH(D$44,$K$37:$O$37,0)),0) -> 0 | E45: =IFERROR(INDEX($K$38:$O$42,MATCH($B45,$J$38:$J$42,0),MATCH(E$44,$K$37:$O$37,0)),0) -> 0 | F45: =IFERROR(INDEX($K$38:$O$42,MATCH($B45,$J$38:$J$42,0),MATCH(F$44,$K$37:$O$37,0)),0) -> 0 | G45: =IFERROR(INDEX($K$38:$O$42,MATCH($B45,$J$38:$J$42,0),MATCH(G$44,$K$37:$O$37,0)),0) -> 0 | H45: =SUM(C45:G45) -> 0
B46: =B45+1 -> 2030 | C46: =IFERROR(INDEX($K$38:$O$42,MATCH($B46,$J$38:$J$42,0),MATCH(C$44,$K$37:$O$37,0)),0) -> 0 | D46: =IFERROR(INDEX($K$38:$O$42,MATCH($B46,$J$38:$J$42,0),MATCH(D$44,$K$37:$O$37,0)),0) -> 0 | E46: =IFERROR(INDEX($K$38:$O$42,MATCH($B46,$J$38:$J$42,0),MATCH(E$44,$K$37:$O$37,0)),0) -> 0 | F46: =IFERROR(INDEX($K$38:$O$42,MATCH($B46,$J$38:$J$42,0),MATCH(F$44,$K$37:$O$37,0)),0) -> 0 | G46: =IFERROR(INDEX($K$38:$O$42,MATCH($B46,$J$38:$J$42,0),MATCH(G$44,$K$37:$O$37,0)),0) -> 0 | H46: =SUM(C46:G46) -> 0
B47: =B46+1 -> 2031 | C47: =IFERROR(INDEX($K$38:$O$42,MATCH($B47,$J$38:$J$42,0),MATCH(C$44,$K$37:$O$37,0)),0) -> 0 | D47: =IFERROR(INDEX($K$38:$O$42,MATCH($B47,$J$38:$J$42,0),MATCH(D$44,$K$37:$O$37,0)),0) -> 0 | E47: =IFERROR(INDEX($K$38:$O$42,MATCH($B47,$J$38:$J$42,0),MATCH(E$44,$K$37:$O$37,0)),0) -> 0 | F47: =IFERROR(INDEX($K$38:$O$42,MATCH($B47,$J$38:$J$42,0),MATCH(F$44,$K$37:$O$37,0)),0) -> 0 | G47: =IFERROR(INDEX($K$38:$O$42,MATCH($B47,$J$38:$J$42,0),MATCH(G$44,$K$37:$O$37,0)),0) -> 0 | H47: =SUM(C47:G47) -> 0
B48: =B47+1 -> 2032 | C48: =IFERROR(INDEX($K$38:$O$42,MATCH($B48,$J$38:$J$42,0),MATCH(C$44,$K$37:$O$37,0)),0) -> 0 | D48: =IFERROR(INDEX($K$38:$O$42,MATCH($B48,$J$38:$J$42,0),MATCH(D$44,$K$37:$O$37,0)),0) -> 0 | E48: =IFERROR(INDEX($K$38:$O$42,MATCH($B48,$J$38:$J$42,0),MATCH(E$44,$K$37:$O$37,0)),0) -> 0 | F48: =IFERROR(INDEX($K$38:$O$42,MATCH($B48,$J$38:$J$42,0),MATCH(F$44,$K$37:$O$37,0)),0) -> 0 | G48: =IFERROR(INDEX($K$38:$O$42,MATCH($B48,$J$38:$J$42,0),MATCH(G$44,$K$37:$O$37,0)),0) -> 0 | H48: =SUM(C48:G48) -> 0
B49: =B48+1 -> 2033 | C49: =IFERROR(INDEX($K$38:$O$42,MATCH($B49,$J$38:$J$42,0),MATCH(C$44,$K$37:$O$37,0)),0) -> 0 | D49: =IFERROR(INDEX($K$38:$O$42,MATCH($B49,$J$38:$J$42,0),MATCH(D$44,$K$37:$O$37,0)),0) -> 0 | E49: =IFERROR(INDEX($K$38:$O$42,MATCH($B49,$J$38:$J$42,0),MATCH(E$44,$K$37:$O$37,0)),0) -> 0 | F49: =IFERROR(INDEX($K$38:$O$42,MATCH($B49,$J$38:$J$42,0),MATCH(F$44,$K$37:$O$37,0)),0) -> 0 | G49: =IFERROR(INDEX($K$38:$O$42,MATCH($B49,$J$38:$J$42,0),MATCH(G$44,$K$37:$O$37,0)),0) -> 0 | H49: =SUM(C49:G49) -> 0
B50: =B49+1 -> 2034 | C50: =IFERROR(INDEX($K$38:$O$42,MATCH($B50,$J$38:$J$42,0),MATCH(C$44,$K$37:$O$37,0)),0) -> 0 | D50: =IFERROR(INDEX($K$38:$O$42,MATCH($B50,$J$38:$J$42,0),MATCH(D$44,$K$37:$O$37,0)),0) -> 0 | E50: =IFERROR(INDEX($K$38:$O$42,MATCH($B50,$J$38:$J$42,0),MATCH(E$44,$K$37:$O$37,0)),0) -> 0 | F50: =IFERROR(INDEX($K$38:$O$42,MATCH($B50,$J$38:$J$42,0),MATCH(F$44,$K$37:$O$37,0)),0) -> 0 | G50: =IFERROR(INDEX($K$38:$O$42,MATCH($B50,$J$38:$J$42,0),MATCH(G$44,$K$37:$O$37,0)),0) -> 0 | H50: =SUM(C50:G50) -> 0
B51: =B50+1 -> 2035 | C51: =IFERROR(INDEX($K$38:$O$42,MATCH($B51,$J$38:$J$42,0),MATCH(C$44,$K$37:$O$37,0)),0) -> 0 | D51: =IFERROR(INDEX($K$38:$O$42,MATCH($B51,$J$38:$J$42,0),MATCH(D$44,$K$37:$O$37,0)),0) -> 0 | E51: =IFERROR(INDEX($K$38:$O$42,MATCH($B51,$J$38:$J$42,0),MATCH(E$44,$K$37:$O$37,0)),0) -> 0 | F51: =IFERROR(INDEX($K$38:$O$42,MATCH($B51,$J$38:$J$42,0),MATCH(F$44,$K$37:$O$37,0)),0) -> 0 | G51: =IFERROR(INDEX($K$38:$O$42,MATCH($B51,$J$38:$J$42,0),MATCH(G$44,$K$37:$O$37,0)),0) -> 0 | H51: =SUM(C51:G51) -> 0
B52: =B51+1 -> 2036 | C52: =IFERROR(INDEX($K$38:$O$42,MATCH($B52,$J$38:$J$42,0),MATCH(C$44,$K$37:$O$37,0)),0) -> 0 | D52: =IFERROR(INDEX($K$38:$O$42,MATCH($B52,$J$38:$J$42,0),MATCH(D$44,$K$37:$O$37,0)),0) -> 0 | E52: =IFERROR(INDEX($K$38:$O$42,MATCH($B52,$J$38:$J$42,0),MATCH(E$44,$K$37:$O$37,0)),0) -> 0 | F52: =IFERROR(INDEX($K$38:$O$42,MATCH($B52,$J$38:$J$42,0),MATCH(F$44,$K$37:$O$37,0)),0) -> 0 | G52: =IFERROR(INDEX($K$38:$O$42,MATCH($B52,$J$38:$J$42,0),MATCH(G$44,$K$37:$O$37,0)),0) -> 0 | H52: =SUM(C52:G52) -> 0
B53: =B52+1 -> 2037 | C53: =IFERROR(INDEX($K$38:$O$42,MATCH($B53,$J$38:$J$42,0),MATCH(C$44,$K$37:$O$37,0)),0) -> 0 | D53: =IFERROR(INDEX($K$38:$O$42,MATCH($B53,$J$38:$J$42,0),MATCH(D$44,$K$37:$O$37,0)),0) -> 0 | E53: =IFERROR(INDEX($K$38:$O$42,MATCH($B53,$J$38:$J$42,0),MATCH(E$44,$K$37:$O$37,0)),0) -> 0 | F53: =IFERROR(INDEX($K$38:$O$42,MATCH($B53,$J$38:$J$42,0),MATCH(F$44,$K$37:$O$37,0)),0) -> 0 | G53: =IFERROR(INDEX($K$38:$O$42,MATCH($B53,$J$38:$J$42,0),MATCH(G$44,$K$37:$O$37,0)),0) -> 0 | H53: =SUM(C53:G53) -> 0
B54: =B53+1 -> 2038 | C54: =IFERROR(INDEX($K$38:$O$42,MATCH($B54,$J$38:$J$42,0),MATCH(C$44,$K$37:$O$37,0)),0) -> 0 | D54: =IFERROR(INDEX($K$38:$O$42,MATCH($B54,$J$38:$J$42,0),MATCH(D$44,$K$37:$O$37,0)),0) -> 0 | E54: =IFERROR(INDEX($K$38:$O$42,MATCH($B54,$J$38:$J$42,0),MATCH(E$44,$K$37:$O$37,0)),0) -> 0 | F54: =IFERROR(INDEX($K$38:$O$42,MATCH($B54,$J$38:$J$42,0),MATCH(F$44,$K$37:$O$37,0)),0) -> 0 | G54: =IFERROR(INDEX($K$38:$O$42,MATCH($B54,$J$38:$J$42,0),MATCH(G$44,$K$37:$O$37,0)),0) -> 0 | H54: =SUM(C54:G54) -> 0
B55: =B54+1 -> 2039 | C55: =IFERROR(INDEX($K$38:$O$42,MATCH($B55,$J$38:$J$42,0),MATCH(C$44,$K$37:$O$37,0)),0) -> 0 | D55: =IFERROR(INDEX($K$38:$O$42,MATCH($B55,$J$38:$J$42,0),MATCH(D$44,$K$37:$O$37,0)),0) -> 0 | E55: =IFERROR(INDEX($K$38:$O$42,MATCH($B55,$J$38:$J$42,0),MATCH(E$44,$K$37:$O$37,0)),0) -> 0 | F55: =IFERROR(INDEX($K$38:$O$42,MATCH($B55,$J$38:$J$42,0),MATCH(F$44,$K$37:$O$37,0)),0) -> 0 | G55: =IFERROR(INDEX($K$38:$O$42,MATCH($B55,$J$38:$J$42,0),MATCH(G$44,$K$37:$O$37,0)),0) -> 0 | H55: =SUM(C55:G55) -> 0
...

Sheet Children Maha
A2: Education cost schedule
A4: А15 | B4: 2010 | C4: Aisha | D4: Bachelor start age | E4: 19 | H4: Bachelor start Year | I4: 2025 | J4: =A4 -> А15 | L4: =A5 -> А14 | N4: =A6 -> С10 | P4: =A7 -> А8 | R4: Ожидаемая инфляция | S4: 0.03
A5: А14 | B5: 2011 | C5: Akhmad | E5: 19 | I5: =VLOOKUP(J4,$A$4:$B$7,2,0)+VLOOKUP(J4,$A$4:$E$7,5,0) -> 2029 | J5: =$S$6*(1+$S$4)^(I5-$I$4) -> 56275.44 | K5: =VLOOKUP(L4,$A$4:$B$8,2,0)+VLOOKUP(L4,$A$4:$E$8,5,0) -> 2030 | L5: =$S$6*(1+$S$4)^(K5-$I$4) -> 57963.704 | M5: =VLOOKUP(N4,$A$4:$B$8,2,0)+VLOOKUP(N4,$A$4:$E$8,5,0) -> 2034 | N5: =$S$6*(1+$S$4)^(M5-$I$4) -> 65238.659 | O5: =VLOOKUP(P4,$A$4:$B$8,2,0)+VLOOKUP(P4,$A$4:$E$8,5,0) -> 2036 | P5: =$S$6*(1+$S$4)^(O5-$I$4) -> 69211.694 | R5: Ожидаемый прирост цены на недвижимость | S5: 0.05
A6: С10 | B6: 2015 | C6: Solikha | E6: 19 | I6: =I5+1 -> 2030 | J6: =$S$6*(1+$S$4)^(I6-$I$4) -> 57963.704 | K6: =K5+1 -> 2031 | L6: =$S$6*(1+$S$4)^(K6-$I$4) -> 59702.615 | M6: =M5+1 -> 2035 | N6: =$S$6*(1+$S$4)^(M6-$I$4) -> 67195.819 | O6: =O5+1 -> 2037 | P6: =$S$6*(1+$S$4)^(O6-$I$4) -> 71288.044 | R6: Ежегодные расходы на бакалавриат на 1 ребенка | S6: 50000
A7: А8 | B7: 2017 | C7: Abdurakhim | E7: 19 | I7: =I6+1 -> 2031 | J7: =$S$6*(1+$S$4)^(I7-$I$4) -> 59702.615 | K7: =K6+1 -> 2032 | L7: =$S$6*(1+$S$4)^(K7-$I$4) -> 61493.693 | M7: =M6+1 -> 2036 | N7: =$S$6*(1+$S$4)^(M7-$I$4) -> 69211.694 | O7: =O6+1 -> 2038 | P7: =$S$6*(1+$S$4)^(O7-$I$4) -> 73426.686 | R7: Единовременный расход на квартиру на 1 ребенка | S7: 300000
I8: =I7+1 -> 2032 | J8: =$S$6*(1+$S$4)^(I8-$I$4) -> 61493.693 | K8: =K7+1 -> 2033 | L8: =$S$6*(1+$S$4)^(K8-$I$4) -> 63338.504 | M8: =M7+1 -> 2037 | N8: =$S$6*(1+$S$4)^(M8-$I$4) -> 71288.044 | O8: =O7+1 -> 2039 | P8: =$S$6*(1+$S$4)^(O8-$I$4) -> 75629.486 | R8: Единовременный расход на автомобиль на 1 ребенка | S8: 70000
C10: =A4 -> А15 | D10: =A5 -> А14 | E10: =A6 -> С10 | F10: =A7 -> А8 | G10: Total
B11: 2029 | C11: =IFERROR(INDEX($J$5:$P$8,MATCH($B11,$I$5:$I$8,0),MATCH(C$10,$J$4:$P$4,0)),0) -> 56275.44 | D11: =IFERROR(INDEX($J$5:$P$8,MATCH($B11,$K$5:$K$8,0),MATCH(D$10,$J$4:$P$4,0)),0) -> 0 | E11: =IFERROR(INDEX($J$5:$P$8,MATCH($B11,$M$5:$M$8,0),MATCH(E$10,$J$4:$P$4,0)),0) -> 0 | F11: =IFERROR(INDEX($J$5:$P$8,MATCH($B11,$O$5:$O$8,0),MATCH(F$10,$J$4:$P$4,0)),0) -> 0 | G11: =SUM(C11:F11) -> 56275.44
B12: =B11+1 -> 2030 | C12: =IFERROR(INDEX($J$5:$P$8,MATCH(B12,$I$5:$I$8,0),MATCH(C$10,$J$4:$P$4,0)),0) -> 57963.704 | D12: =IFERROR(INDEX($J$5:$P$8,MATCH($B12,$K$5:$K$8,0),MATCH(D$10,$J$4:$P$4,0)),0) -> 57963.704 | E12: =IFERROR(INDEX($J$5:$P$8,MATCH($B12,$M$5:$M$8,0),MATCH(E$10,$J$4:$P$4,0)),0) -> 0 | F12: =IFERROR(INDEX($J$5:$P$8,MATCH($B12,$O$5:$O$8,0),MATCH(F$10,$J$4:$P$4,0)),0) -> 0 | G12: =SUM(C12:F12) -> 115927.41
B13: =B12+1 -> 2031 | C13: =IFERROR(INDEX($J$5:$P$8,MATCH(B13,$I$5:$I$8,0),MATCH(C$10,$J$4:$P$4,0)),0) -> 59702.615 | D13: =IFERROR(INDEX($J$5:$P$8,MATCH($B13,$K$5:$K$8,0),MATCH(D$10,$J$4:$P$4,0)),0) -> 59702.615 | E13: =IFERROR(INDEX($J$5:$P$8,MATCH($B13,$M$5:$M$8,0),MATCH(E$10,$J$4:$P$4,0)),0) -> 0 | F13: =IFERROR(INDEX($J$5:$P$8,MATCH($B13,$O$5:$O$8,0),MATCH(F$10,$J$4:$P$4,0)),0) -> 0 | G13: =SUM(C13:F13) -> 119405.23
B14: =B13+1 -> 2032 | C14: =IFERROR(INDEX($J$5:$P$8,MATCH(B14,$I$5:$I$8,0),MATCH(C$10,$J$4:$P$4,0)),0) -> 61493.693 | D14: =IFERROR(INDEX($J$5:$P$8,MATCH($B14,$K$5:$K$8,0),MATCH(D$10,$J$4:$P$4,0)),0) -> 61493.693 | E14: =IFERROR(INDEX($J$5:$P$8,MATCH($B14,$M$5:$M$8,0),MATCH(E$10,$J$4:$P$4,0)),0) -> 0 | F14: =IFERROR(INDEX($J$5:$P$8,MATCH($B14,$O$5:$O$8,0),MATCH(F$10,$J$4:$P$4,0)),0) -> 0 | G14: =SUM(C14:F14) -> 122987.39
B15: =B14+1 -> 2033 | C15: =IFERROR(INDEX($J$5:$P$8,MATCH(B15,$I$5:$I$8,0),MATCH(C$10,$J$4:$P$4,0)),0) -> 0 | D15: =IFERROR(INDEX($J$5:$P$8,MATCH($B15,$K$5:$K$8,0),MATCH(D$10,$J$4:$P$4,0)),0) -> 63338.504 | E15: =IFERROR(INDEX($J$5:$P$8,MATCH($B15,$M$5:$M$8,0),MATCH(E$10,$J$4:$P$4,0)),0) -> 0 | F15: =IFERROR(INDEX($J$5:$P$8,MATCH($B15,$O$5:$O$8,0),MATCH(F$10,$J$4:$P$4,0)),0) -> 0 | G15: =SUM(C15:F15) -> 63338.504
B16: =B15+1 -> 2034 | C16: =IFERROR(INDEX($J$5:$P$8,MATCH(B16,$I$5:$I$8,0),MATCH(C$10,$J$4:$P$4,0)),0) -> 0 | D16: =IFERROR(INDEX($J$5:$P$8,MATCH($B16,$K$5:$K$8,0),MATCH(D$10,$J$4:$P$4,0)),0) -> 0 | E16: =IFERROR(INDEX($J$5:$P$8,MATCH($B16,$M$5:$M$8,0),MATCH(E$10,$J$4:$P$4,0)),0) -> 65238.659 | F16: =IFERROR(INDEX($J$5:$P$8,MATCH($B16,$O$5:$O$8,0),MATCH(F$10,$J$4:$P$4,0)),0) -> 0 | G16: =SUM(C16:F16) -> 65238.659
B17: =B16+1 -> 2035 | C17: =IFERROR(INDEX($J$5:$P$8,MATCH(B17,$I$5:$I$8,0),MATCH(C$10,$J$4:$P$4,0)),0) -> 0 | D17: =IFERROR(INDEX($J$5:$P$8,MATCH($B17,$K$5:$K$8,0),MATCH(D$10,$J$4:$P$4,0)),0) -> 0 | E17: =IFERROR(INDEX($J$5:$P$8,MATCH($B17,$M$5:$M$8,0),MATCH(E$10,$J$4:$P$4,0)),0) -> 67195.819 | F17: =IFERROR(INDEX($J$5:$P$8,MATCH($B17,$O$5:$O$8,0),MATCH(F$10,$J$4:$P$4,0)),0) -> 0 | G17: =SUM(C17:F17) -> 67195.819
B18: =B17+1 -> 2036 | C18: =IFERROR(INDEX($J$5:$P$8,MATCH(B18,$I$5:$I$8,0),MATCH(C$10,$J$4:$P$4,0)),0) -> 0 | D18: =IFERROR(INDEX($J$5:$P$8,MATCH($B18,$K$5:$K$8,0),MATCH(D$10,$J$4:$P$4,0)),0) -> 0 | E18: =IFERROR(INDEX($J$5:$P$8,MATCH($B18,$M$5:$M$8,0),MATCH(E$10,$J$4:$P$4,0)),0) -> 69211.694 | F18: =IFERROR(INDEX($J$5:$P$8,MATCH($B18,$O$5:$O$8,0),MATCH(F$10,$J$4:$P$4,0)),0) -> 69211.694 | G18: =SUM(C18:F18) -> 138423.39
B19: =B18+1 -> 2037 | C19: =IFERROR(INDEX($J$5:$P$8,MATCH(B19,$I$5:$I$8,0),MATCH(C$10,$J$4:$P$4,0)),0) -> 0 | D19: =IFERROR(INDEX($J$5:$P$8,MATCH($B19,$K$5:$K$8,0),MATCH(D$10,$J$4:$P$4,0)),0) -> 0 | E19: =IFERROR(INDEX($J$5:$P$8,MATCH($B19,$M$5:$M$8,0),MATCH(E$10,$J$4:$P$4,0)),0) -> 71288.044 | F19: =IFERROR(INDEX($J$5:$P$8,MATCH($B19,$O$5:$O$8,0),MATCH(F$10,$J$4:$P$4,0)),0) -> 71288.044 | G19: =SUM(C19:F19) -> 142576.09
B20: =B19+1 -> 2038 | C20: =IFERROR(INDEX($J$5:$P$8,MATCH(B20,$I$5:$I$8,0),MATCH(C$10,$J$4:$P$4,0)),0) -> 0 | D20: =IFERROR(INDEX($J$5:$P$8,MATCH($B20,$K$5:$K$8,0),MATCH(D$10,$J$4:$P$4,0)),0) -> 0 | E20: =IFERROR(INDEX($J$5:$P$8,MATCH($B20,$M$5:$M$8,0),MATCH(E$10,$J$4:$P$4,0)),0) -> 0 | F20: =IFERROR(INDEX($J$5:$P$8,MATCH($B20,$O$5:$O$8,0),MATCH(F$10,$J$4:$P$4,0)),0) -> 73426.686 | G20: =SUM(C20:F20) -> 73426.686
B21: =B20+1 -> 2039 | C21: =IFERROR(INDEX($J$5:$P$8,MATCH(B21,$I$5:$I$8,0),MATCH(C$10,$J$4:$P$4,0)),0) -> 0 | D21: =IFERROR(INDEX($J$5:$P$8,MATCH($B21,$K$5:$K$8,0),MATCH(D$10,$J$4:$P$4,0)),0) -> 0 | E21: =IFERROR(INDEX($J$5:$P$8,MATCH($B21,$M$5:$M$8,0),MATCH(E$10,$J$4:$P$4,0)),0) -> 0 | F21: =IFERROR(INDEX($J$5:$P$8,MATCH($B21,$O$5:$O$8,0),MATCH(F$10,$J$4:$P$4,0)),0) -> 75629.486 | G21: =SUM(C21:F21) -> 75629.486
B22: =B21+1 -> 2040 | C22: =IFERROR(INDEX($J$5:$P$8,MATCH(B22,$I$5:$I$8,0),MATCH(C$10,$J$4:$P$4,0)),0) -> 0 | D22: =IFERROR(INDEX($J$5:$P$8,MATCH($B22,$K$5:$K$8,0),MATCH(D$10,$J$4:$P$4,0)),0) -> 0 | E22: =IFERROR(INDEX($J$5:$P$8,MATCH($B22,$M$5:$M$8,0),MATCH(E$10,$J$4:$P$4,0)),0) -> 0 | F22: =IFERROR(INDEX($J$5:$P$8,MATCH($B22,$O$5:$O$8,0),MATCH(F$10,$J$4:$P$4,0)),0) -> 0 | G22: =SUM(C22:F22) -> 0
B23: =B22+1 -> 2041 | C23: =IFERROR(INDEX($J$5:$P$8,MATCH(B23,$I$5:$I$8,0),MATCH(C$10,$J$4:$P$4,0)),0) -> 0 | D23: =IFERROR(INDEX($J$5:$P$8,MATCH($B23,$K$5:$K$8,0),MATCH(D$10,$J$4:$P$4,0)),0) -> 0 | E23: =IFERROR(INDEX($J$5:$P$8,MATCH($B23,$M$5:$M$8,0),MATCH(E$10,$J$4:$P$4,0)),0) -> 0 | F23: =IFERROR(INDEX($J$5:$P$8,MATCH($B23,$O$5:$O$8,0),MATCH(F$10,$J$4:$P$4,0)),0) -> 0 | G23: =SUM(C23:F23) -> 0
... B34: =B33+1 -> 2052 | C34: =IFERROR(INDEX($J$5:$P$8,MATCH(B34,$I$5:$I$8,0),MATCH(C$10,$J$4:$P$4,0)),0) -> 0 | D34: =IFERROR(INDEX($J$5:$P$8,MATCH($B34,$K$5:$K$8,0),MATCH(D$10,$J$4:$P$4,0)),0) -> 0 | E34: =IFERROR(INDEX($J$5:$P$8,MATCH($B34,$M$5:$M$8,0),MATCH(E$10,$J$4:$P$4,0)),0) -> 0 | F34: =IFERROR(INDEX($J$5:$P$8,MATCH($B34,$O$5:$O$8,0),MATCH(F$10,$J$4:$P$4,0)),0) -> 0 | G34: =SUM(C34:F34) -> 0
A36: Property cost schedule
J37: =A38 -> А15 | K37: =A39 -> А14 | L37: =A40 -> С10 | M37: =A41 -> А8
A38: =$A$4 -> А15 | B38: =$B$4 -> 2010 | C38: Bilal | D38: Property purchase age | E38: 25 | H38: Property purchase year | I38: =B38+E38 -> 2035 | J38: =$S$7*(1+$S$5)^($I38-$I$4) -> 488668.39 | K38: 0 | L38: 0 | M38: 0
A39: =$A$5 -> А14 | B39: =$B$5 -> 2011 | C39: Safiya | E39: 25 | I39: =B39+E39 -> 2036 | J39: 0 | K39: =$S$7*(1+$S$5)^($I39-$I$4) -> 513101.81 | L39: 0 | M39: 0
A40: =$A$6 -> С10 | B40: =$B$6 -> 2015 | C40: Emin | E40: 25 | I40: =B40+E40 -> 2040 | J40: 0 | K40: 0 | L40: =$S$7*(1+$S$5)^($I40-$I$4) -> 623678.45 | M40: 0
A41: =$A$7 -> А8 | B41: =$B$7 -> 2017 | C41: Isa | E41: 25 | I41: =B41+E41 -> 2042 | J41: 0 | K41: 0 | L41: 0 | M41: =$S$7*(1+$S$5)^($I41-$I$4) -> 687605.5
C43: =J37 -> А15 | D43: =K37 -> А14 | E43: =L37 -> С10 | F43: =M37 -> А8 | G43: Total
B44: 2029 | C44: =IFERROR(INDEX($J$38:$N$41,MATCH($B44,$I$38:$I$41,0),MATCH(C$43,$J$37:$N$37,0)),0) -> 0 | D44: =IFERROR(INDEX($J$38:$N$41,MATCH($B44,$I$38:$I$41,0),MATCH(D$43,$J$37:$N$37,0)),0) -> 0 | E44: =IFERROR(INDEX($J$38:$N$41,MATCH($B44,$I$38:$I$41,0),MATCH(E$43,$J$37:$N$37,0)),0) -> 0 | F44: =IFERROR(INDEX($J$38:$N$41,MATCH($B44,$I$38:$I$41,0),MATCH(F$43,$J$37:$N$37,0)),0) -> 0 | G44: =SUM(C44:F44) -> 0
B45: =B44+1 -> 2030 | C45: =IFERROR(INDEX($J$38:$N$41,MATCH($B45,$I$38:$I$41,0),MATCH(C$43,$J$37:$N$37,0)),0) -> 0 | D45: =IFERROR(INDEX($J$38:$N$41,MATCH($B45,$I$38:$I$41,0),MATCH(D$43,$J$37:$N$37,0)),0) -> 0 | E45: =IFERROR(INDEX($J$38:$N$41,MATCH($B45,$I$38:$I$41,0),MATCH(E$43,$J$37:$N$37,0)),0) -> 0 | F45: =IFERROR(INDEX($J$38:$N$41,MATCH($B45,$I$38:$I$41,0),MATCH(F$43,$J$37:$N$37,0)),0) -> 0 | G45: =SUM(C45:F45) -> 0
B46: =B45+1 -> 2031 | C46: =IFERROR(INDEX($J$38:$N$41,MATCH($B46,$I$38:$I$41,0),MATCH(C$43,$J$37:$N$37,0)),0) -> 0 | D46: =IFERROR(INDEX($J$38:$N$41,MATCH($B46,$I$38:$I$41,0),MATCH(D$43,$J$37:$N$37,0)),0) -> 0 | E46: =IFERROR(INDEX($J$38:$N$41,MATCH($B46,$I$38:$I$41,0),MATCH(E$43,$J$37:$N$37,0)),0) -> 0 | F46: =IFERROR(INDEX($J$38:$N$41,MATCH($B46,$I$38:$I$41,0),MATCH(F$43,$J$37:$N$37,0)),0) -> 0 | G46: =SUM(C46:F46) -> 0
B47: =B46+1 -> 2032 | C47: =IFERROR(INDEX($J$38:$N$41,MATCH($B47,$I$38:$I$41,0),MATCH(C$43,$J$37:$N$37,0)),0) -> 0 | D47: =IFERROR(INDEX($J$38:$N$41,MATCH($B47,$I$38:$I$41,0),MATCH(D$43,$J$37:$N$37,0)),0) -> 0 | E47: =IFERROR(INDEX($J$38:$N$41,MATCH($B47,$I$38:$I$41,0),MATCH(E$43,$J$37:$N$37,0)),0) -> 0 | F47: =IFERROR(INDEX($J$38:$N$41,MATCH($B47,$I$38:$I$41,0),MATCH(F$43,$J$37:$N$37,0)),0) -> 0 | G47: =SUM(C47:F47) -> 0
B48: =B47+1 -> 2033 | C48: =IFERROR(INDEX($J$38:$N$41,MATCH($B48,$I$38:$I$41,0),MATCH(C$43,$J$37:$N$37,0)),0) -> 0 | D48: =IFERROR(INDEX($J$38:$N$41,MATCH($B48,$I$38:$I$41,0),MATCH(D$43,$J$37:$N$37,0)),0) -> 0 | E48: =IFERROR(INDEX($J$38:$N$41,MATCH($B48,$I$38:$I$41,0),MATCH(E$43,$J$37:$N$37,0)),0) -> 0 | F48: =IFERROR(INDEX($J$38:$N$41,MATCH($B48,$I$38:$I$41,0),MATCH(F$43,$J$37:$N$37,0)),0) -> 0 | G48: =SUM(C48:F48) -> 0
B49: =B48+1 -> 2034 | C49: =IFERROR(INDEX($J$38:$N$41,MATCH($B49,$I$38:$I$41,0),MATCH(C$43,$J$37:$N$37,0)),0) -> 0 | D49: =IFERROR(INDEX($J$38:$N$41,MATCH($B49,$I$38:$I$41,0),MATCH(D$43,$J$37:$N$37,0)),0) -> 0 | E49: =IFERROR(INDEX($J$38:$N$41,MATCH($B49,$I$38:$I$41,0),MATCH(E$43,$J$37:$N$37,0)),0) -> 0 | F49: =IFERROR(INDEX($J$38:$N$41,MATCH($B49,$I$38:$I$41,0),MATCH(F$43,$J$37:$N$37,0)),0) -> 0 | G49: =SUM(C49:F49) -> 0
B50: =B49+1 -> 2035 | C50: =IFERROR(INDEX($J$38:$N$41,MATCH($B50,$I$38:$I$41,0),MATCH(C$43,$J$37:$N$37,0)),0) -> 488668.39 | D50: =IFERROR(INDEX($J$38:$N$41,MATCH($B50,$I$38:$I$41,0),MATCH(D$43,$J$37:$N$37,0)),0) -> 0 | E50: =IFERROR(INDEX($J$38:$N$41,MATCH($B50,$I$38:$I$41,0),MATCH(E$43,$J$37:$N$37,0)),0) -> 0 | F50: =IFERROR(INDEX($J$38:$N$41,MATCH($B50,$I$38:$I$41,0),MATCH(F$43,$J$37:$N$37,0)),0) -> 0 | G50: =SUM(C50:F50) -> 488668.39
B51: =B50+1 -> 2036 | C51: =IFERROR(INDEX($J$38:$N$41,MATCH($B51,$I$38:$I$41,0),MATCH(C$43,$J$37:$N$37,0)),0) -> 0 | D51: =IFERROR(INDEX($J$38:$N$41,MATCH($B51,$I$38:$I$41,0),MATCH(D$43,$J$37:$N$37,0)),0) -> 513101.81 | E51: =IFERROR(INDEX($J$38:$N$41,MATCH($B51,$I$38:$I$41,0),MATCH(E$43,$J$37:$N$37,0)),0) -> 0 | F51: =IFERROR(INDEX($J$38:$N$41,MATCH($B51,$I$38:$I$41,0),MATCH(F$43,$J$37:$N$37,0)),0) -> 0 | G51: =SUM(C51:F51) -> 513101.81
B52: =B51+1 -> 2037 | C52: =IFERROR(INDEX($J$38:$N$41,MATCH($B52,$I$38:$I$41,0),MATCH(C$43,$J$37:$N$37,0)),0) -> 0 | D52: =IFERROR(INDEX($J$38:$N$41,MATCH($B52,$I$38:$I$41,0),MATCH(D$43,$J$37:$N$37,0)),0) -> 0 | E52: =IFERROR(INDEX($J$38:$N$41,MATCH($B52,$I$38:$I$41,0),MATCH(E$43,$J$37:$N$37,0)),0) -> 0 | F52: =IFERROR(INDEX($J$38:$N$41,MATCH($B52,$I$38:$I$41,0),MATCH(F$43,$J$37:$N$37,0)),0) -> 0 | G52: =SUM(C52:F52) -> 0
B53: =B52+1 -> 2038 | C53: =IFERROR(INDEX($J$38:$N$41,MATCH($B53,$I$38:$I$41,0),MATCH(C$43,$J$37:$N$37,0)),0) -> 0 | D53: =IFERROR(INDEX($J$38:$N$41,MATCH($B53,$I$38:$I$41,0),MATCH(D$43,$J$37:$N$37,0)),0) -> 0 | E53: =IFERROR(INDEX($J$38:$N$41,MATCH($B53,$I$38:$I$41,0),MATCH(E$43,$J$37:$N$37,0)),0) -> 0 | F53: =IFERROR(INDEX($J$38:$N$41,MATCH($B53,$I$38:$I$41,0),MATCH(F$43,$J$37:$N$37,0)),0) -> 0 | G53: =SUM(C53:F53) -> 0
B54: =B53+1 -> 2039 | C54: =IFERROR(INDEX($J$38:$N$41,MATCH($B54,$I$38:$I$41,0),MATCH(C$43,$J$37:$N$37,0)),0) -> 0 | D54: =IFERROR(INDEX($J$38:$N$41,MATCH($B54,$I$38:$I$41,0),MATCH(D$43,$J$37:$N$37,0)),0) -> 0 | E54: =IFERROR(INDEX($J$38:$N$41,MATCH($B54,$I$38:$I$41,0),MATCH(E$43,$J$37:$N$37,0)),0) -> 0 | F54: =IFERROR(INDEX($J$38:$N$41,MATCH($B54,$I$38:$I$41,0),MATCH(F$43,$J$37:$N$37,0)),0) -> 0 | G54: =SUM(C54:F54) -> 0
B55: =B54+1 -> 2040 | C55: =IFERROR(INDEX($J$38:$N$41,MATCH($B55,$I$38:$I$41,0),MATCH(C$43,$J$37:$N$37,0)),0) -> 0 | D55: =IFERROR(INDEX($J$38:$N$41,MATCH($B55,$I$38:$I$41,0),MATCH(D$43,$J$37:$N$37,0)),0) -> 0 | E55: =IFERROR(INDEX($J$38:$N$41,MATCH($B55,$I$38:$I$41,0),MATCH(E$43,$J$37:$N$37,0)),0) -> 623678.45 | F55: =IFERROR(INDEX($J$38:$N$41,MATCH($B55,$I$38:$I$41,0),MATCH(F$43,$J$37:$N$37,0)),0) -> 0 | G55: =SUM(C55:F55) -> 623678.45
...
