Workbook

Sheet 施設情報
A1: =IFERROR(__xludf.DUMMYFUNCTION("IMPORTRANGE(""https://docs.google.com/spreadsheets/d/1gkRepGJi8YSf_9GBJuQGTAy9KAk4_wUsZeeKx4jozwg/edit?usp=sharing"",""施設情報!A1"")"),"名称") -> 名称 | B1: =IFERROR(__xludf.DUMMYFUNCTION("IMPORTRANGE(""https://docs.google.com/spreadsheets/d/1gkRepGJi8YSf_9GBJuQGTAy9KAk4_wUsZeeKx4jozwg/edit?usp=sharing"",""施設情報!B1"")"),"入力欄") -> 入力欄
A2: =IFERROR(__xludf.DUMMYFUNCTION("IMPORTRANGE(""https://docs.google.com/spreadsheets/d/1gkRepGJi8YSf_9GBJuQGTAy9KAk4_wUsZeeKx4jozwg/edit?usp=sharing"",""施設情報!A2"")"),"施設名") -> 施設名 | B2: 長岡三古老人福祉会 特別養護老人ホーム中之島
A3: =IFERROR(__xludf.DUMMYFUNCTION("IMPORTRANGE(""https://docs.google.com/spreadsheets/d/1gkRepGJi8YSf_9GBJuQGTAy9KAk4_wUsZeeKx4jozwg/edit?usp=sharing"",""施設情報!A3"")"),"住所") -> 住所 | B3: 〒954-0124 新潟県長岡市中之島2105番地6
A4: =IFERROR(__xludf.DUMMYFUNCTION("IMPORTRANGE(""https://docs.google.com/spreadsheets/d/1gkRepGJi8YSf_9GBJuQGTAy9KAk4_wUsZeeKx4jozwg/edit?usp=sharing"",""施設情報!A4"")"),"連絡先") -> 連絡先 | B4: 栄養科
A5: =IFERROR(__xludf.DUMMYFUNCTION("IMPORTRANGE(""https://docs.google.com/spreadsheets/d/1gkRepGJi8YSf_9GBJuQGTAy9KAk4_wUsZeeKx4jozwg/edit?usp=sharing"",""施設情報!A5"")"),"電話番号") -> 電話番号 | B5: 0258-61-2828
A6: =IFERROR(__xludf.DUMMYFUNCTION("IMPORTRANGE(""https://docs.google.com/spreadsheets/d/1gkRepGJi8YSf_9GBJuQGTAy9KAk4_wUsZeeKx4jozwg/edit?usp=sharing"",""施設情報!A6"")"),"更新日") -> 更新日 | B6: 46095

Sheet 副食
A1: =IFERROR(__xludf.DUMMYFUNCTION("IMPORTRANGE(""https://docs.google.com/spreadsheets/d/1gkRepGJi8YSf_9GBJuQGTAy9KAk4_wUsZeeKx4jozwg/edit?usp=sharing"",""副食!A1"")"),"コード") -> コード | B1: =IFERROR(__xludf.DUMMYFUNCTION("IMPORTRANGE(""https://docs.google.com/spreadsheets/d/1gkRepGJi8YSf_9GBJuQGTAy9KAk4_wUsZeeKx4jozwg/edit?usp=sharing"",""副食!B1"")"),"学会分類") -> 学会分類 | C1: =IFERROR(__xludf.DUMMYFUNCTION("IMPORTRANGE(""https://docs.google.com/spreadsheets/d/1gkRepGJi8YSf_9GBJuQGTAy9KAk4_wUsZeeKx4jozwg/edit?usp=sharing"",""副食!C1"")"),"食形態") -> 食形態 | D1: =IFERROR(__xludf.DUMMYFUNCTION("IMPORTRANGE(""https://docs.google.com/spreadsheets/d/1gkRepGJi8YSf_9GBJuQGTAy9KAk4_wUsZeeKx4jozwg/edit?usp=sharing"",""副食!D1"")"),"画像") -> 画像 | E1: =IFERROR(__xludf.DUMMYFUNCTION("IMPORTRANGE(""https://docs.google.com/spreadsheets/d/1gkRepGJi8YSf_9GBJuQGTAy9KAk4_wUsZeeKx4jozwg/edit?usp=sharing"",""副食!E1"")"),"食種名称") -> 食種名称 | F1: =IFERROR(__xludf.DUMMYFUNCTION("IMPORTRANGE(""https://docs.google.com/spreadsheets/d/1gkRepGJi8YSf_9GBJuQGTAy9KAk4_wUsZeeKx4jozwg/edit?usp=sharing"",""副食!F1"")"),"備考") -> 備考
A2: =IFERROR(__xludf.DUMMYFUNCTION("IMPORTRANGE(""https://docs.google.com/spreadsheets/d/1gkRepGJi8YSf_9GBJuQGTAy9KAk4_wUsZeeKx4jozwg/edit?usp=sharing"",""副食!A2"")"),"0j") -> 0j | B2: =IFERROR(__xludf.DUMMYFUNCTION("IMPORTRANGE(""https://docs.google.com/spreadsheets/d/1gkRepGJi8YSf_9GBJuQGTAy9KAk4_wUsZeeKx4jozwg/edit?usp=sharing"",""副食!B2"")"),"べたつき 粒やカス全くなし") -> べたつき 粒やカス全くなし | C2: =IFERROR(__xludf.DUMMYFUNCTION("IMPORTRANGE(""https://docs.google.com/spreadsheets/d/1gkRepGJi8YSf_9GBJuQGTAy9KAk4_wUsZeeKx4jozwg/edit?usp=sharing"",""副食!C2"")"),"均質で、べたつきなどないゼリー。 離水が少なく、スライス状にすくうことが可能なもの。 たんぱく質含有量が少ないもの。") -> 均質で、べたつきなどないゼリー。 離水が少なく、スライス状にすくうことが可能なもの。 たんぱく質含有量が少ないもの。
A3: =IFERROR(__xludf.DUMMYFUNCTION("IMPORTRANGE(""https://docs.google.com/spreadsheets/d/1gkRepGJi8YSf_9GBJuQGTAy9KAk4_wUsZeeKx4jozwg/edit?usp=sharing"",""副食!A3"")"),"1j") -> 1j | B3: =IFERROR(__xludf.DUMMYFUNCTION("IMPORTRANGE(""https://docs.google.com/spreadsheets/d/1gkRepGJi8YSf_9GBJuQGTAy9KAk4_wUsZeeKx4jozwg/edit?usp=sharing"",""副食!B3"")"),"べたつき 粒やカス全くなし") -> べたつき 粒やカス全くなし | C3: =IFERROR(__xludf.DUMMYFUNCTION("IMPORTRANGE(""https://docs.google.com/spreadsheets/d/1gkRepGJi8YSf_9GBJuQGTAy9KAk4_wUsZeeKx4jozwg/edit?usp=sharing"",""副食!C3"")"),"均質で、べたつきなどないゼリー・プリン・ムース。") -> 均質で、べたつきなどないゼリー・プリン・ムース。
A4: =IFERROR(__xludf.DUMMYFUNCTION("IMPORTRANGE(""https://docs.google.com/spreadsheets/d/1gkRepGJi8YSf_9GBJuQGTAy9KAk4_wUsZeeKx4jozwg/edit?usp=sharing"",""副食!A4"")"),"2-1") -> 2-1 | B4: =IFERROR(__xludf.DUMMYFUNCTION("IMPORTRANGE(""https://docs.google.com/spreadsheets/d/1gkRepGJi8YSf_9GBJuQGTAy9KAk4_wUsZeeKx4jozwg/edit?usp=sharing"",""副食!B4"")"),"噛まなくてよい 粒やカスなし") -> 噛まなくてよい 粒やカスなし | C4: =IFERROR(__xludf.DUMMYFUNCTION("IMPORTRANGE(""https://docs.google.com/spreadsheets/d/1gkRepGJi8YSf_9GBJuQGTAy9KAk4_wUsZeeKx4jozwg/edit?usp=sharing"",""副食!C4"")"),"ミキサーを使用し、粒が残らずなめらかに均一な状態。 ゲル化剤・とろみ剤でまとめたもの。") -> ミキサーを使用し、粒が残らずなめらかに均一な状態。 ゲル化剤・とろみ剤でまとめたもの。
A5: =IFERROR(__xludf.DUMMYFUNCTION("IMPORTRANGE(""https://docs.google.com/spreadsheets/d/1gkRepGJi8YSf_9GBJuQGTAy9KAk4_wUsZeeKx4jozwg/edit?usp=sharing"",""副食!A5"")"),"2-2") -> 2-2 | B5: =IFERROR(__xludf.DUMMYFUNCTION("IMPORTRANGE(""https://docs.google.com/spreadsheets/d/1gkRepGJi8YSf_9GBJuQGTAy9KAk4_wUsZeeKx4jozwg/edit?usp=sharing"",""副食!B5"")"),"噛まなくてよい 若干の残渣あり (粥粒程度)") -> 噛まなくてよい 若干の残渣あり (粥粒程度) | C5: =IFERROR(__xludf.DUMMYFUNCTION("IMPORTRANGE(""https://docs.google.com/spreadsheets/d/1gkRepGJi8YSf_9GBJuQGTAy9KAk4_wUsZeeKx4jozwg/edit?usp=sharing"",""副食!C5"")"),"フードプロセッサーやミキサー等を使用したもので、若干の粒が残った状態。 ゲル化剤・とろみ剤でまとめたもの。") -> フードプロセッサーやミキサー等を使用したもので、若干の粒が残った状態。 ゲル化剤・とろみ剤でまとめたもの。 | E5: ペースト | F5: ミキサーにかけて、なめらかにし、ゲル化剤を加えた、べたつかず、まとまりやすい食事。
A6: =IFERROR(__xludf.DUMMYFUNCTION("IMPORTRANGE(""https://docs.google.com/spreadsheets/d/1gkRepGJi8YSf_9GBJuQGTAy9KAk4_wUsZeeKx4jozwg/edit?usp=sharing"",""副食!A6"")"),"3") -> 3 | B6: =IFERROR(__xludf.DUMMYFUNCTION("IMPORTRANGE(""https://docs.google.com/spreadsheets/d/1gkRepGJi8YSf_9GBJuQGTAy9KAk4_wUsZeeKx4jozwg/edit?usp=sharing"",""副食!B6"")"),"舌でつぶせる") -> 舌でつぶせる | C6: =IFERROR(__xludf.DUMMYFUNCTION("IMPORTRANGE(""https://docs.google.com/spreadsheets/d/1gkRepGJi8YSf_9GBJuQGTAy9KAk4_wUsZeeKx4jozwg/edit?usp=sharing"",""副食!C6"")"),"フードプロセッサーやミキサー等を使用したものを、ゲル化剤で固めたもの。 舌や口蓋で押しつぶせる程度の硬さ。") -> フードプロセッサーやミキサー等を使用したものを、ゲル化剤で固めたもの。 舌や口蓋で押しつぶせる程度の硬さ。 | E6: きざみよせ | F6: フードプロセッサーにかけて、大きさは5㎜前後にし、ゲル化剤を加え、まとまりやすくした食事。
A7: =IFERROR(__xludf.DUMMYFUNCTION("IMPORTRANGE(""https://docs.google.com/spreadsheets/d/1gkRepGJi8YSf_9GBJuQGTAy9KAk4_wUsZeeKx4jozwg/edit?usp=sharing"",""副食!A7"")"),"4") -> 4 | B7: =IFERROR(__xludf.DUMMYFUNCTION("IMPORTRANGE(""https://docs.google.com/spreadsheets/d/1gkRepGJi8YSf_9GBJuQGTAy9KAk4_wUsZeeKx4jozwg/edit?usp=sharing"",""副食!B7"")"),"歯ぐきでつぶせる 容易に噛める") -> 歯ぐきでつぶせる 容易に噛める | C7: =IFERROR(__xludf.DUMMYFUNCTION("IMPORTRANGE(""https://docs.google.com/spreadsheets/d/1gkRepGJi8YSf_9GBJuQGTAy9KAk4_wUsZeeKx4jozwg/edit?usp=sharing"",""副食!C7"")"),"軟らかく調理したものを、きざみ～そのままの形態（＊いずれの形態も）バラつきや、多量の離水がないよう配慮したもの。 箸やスプーンで切れるやわらかさ。") -> 軟らかく調理したものを、きざみ～そのままの形態（＊いずれの形態も）バラつきや、多量の離水がないよう配慮したもの。 箸やスプーンで切れるやわらかさ。
A8: =IFERROR(__xludf.DUMMYFUNCTION("IMPORTRANGE(""https://docs.google.com/spreadsheets/d/1gkRepGJi8YSf_9GBJuQGTAy9KAk4_wUsZeeKx4jozwg/edit?usp=sharing"",""副食!A8"")"),"4") -> 4 | B8: =IFERROR(__xludf.DUMMYFUNCTION("IMPORTRANGE(""https://docs.google.com/spreadsheets/d/1gkRepGJi8YSf_9GBJuQGTAy9KAk4_wUsZeeKx4jozwg/edit?usp=sharing"",""副食!B8"")"),"歯ぐきでつぶせる 容易に噛める") -> 歯ぐきでつぶせる 容易に噛める | C8: =IFERROR(__xludf.DUMMYFUNCTION("IMPORTRANGE(""https://docs.google.com/spreadsheets/d/1gkRepGJi8YSf_9GBJuQGTAy9KAk4_wUsZeeKx4jozwg/edit?usp=sharing"",""副食!C8"")"),"軟らかく調理したものを、きざみ～そのままの形態（＊いずれの形態も）バラつきや、多量の離水がないよう配慮したもの。 箸やスプーンで切れるやわらかさ。") -> 軟らかく調理したものを、きざみ～そのままの形態（＊いずれの形態も）バラつきや、多量の離水がないよう配慮したもの。 箸やスプーンで切れるやわらかさ。

Sheet 主食
A1: =IFERROR(__xludf.DUMMYFUNCTION("IMPORTRANGE(""https://docs.google.com/spreadsheets/d/1gkRepGJi8YSf_9GBJuQGTAy9KAk4_wUsZeeKx4jozwg/edit?usp=sharing"",""主食!A1"")"),"コード") -> コード | B1: =IFERROR(__xludf.DUMMYFUNCTION("IMPORTRANGE(""https://docs.google.com/spreadsheets/d/1gkRepGJi8YSf_9GBJuQGTAy9KAk4_wUsZeeKx4jozwg/edit?usp=sharing"",""主食!B1"")"),"学会分類") -> 学会分類 | C1: =IFERROR(__xludf.DUMMYFUNCTION("IMPORTRANGE(""https://docs.google.com/spreadsheets/d/1gkRepGJi8YSf_9GBJuQGTAy9KAk4_wUsZeeKx4jozwg/edit?usp=sharing"",""主食!C1"")"),"食形態") -> 食形態 | D1: =IFERROR(__xludf.DUMMYFUNCTION("IMPORTRANGE(""https://docs.google.com/spreadsheets/d/1gkRepGJi8YSf_9GBJuQGTAy9KAk4_wUsZeeKx4jozwg/edit?usp=sharing"",""主食!D1"")"),"画像") -> 画像 | E1: =IFERROR(__xludf.DUMMYFUNCTION("IMPORTRANGE(""https://docs.google.com/spreadsheets/d/1gkRepGJi8YSf_9GBJuQGTAy9KAk4_wUsZeeKx4jozwg/edit?usp=sharing"",""主食!E1"")"),"食種名称") -> 食種名称 | F1: =IFERROR(__xludf.DUMMYFUNCTION("IMPORTRANGE(""https://docs.google.com/spreadsheets/d/1gkRepGJi8YSf_9GBJuQGTAy9KAk4_wUsZeeKx4jozwg/edit?usp=sharing"",""主食!F1"")"),"備考") -> 備考
A2: =IFERROR(__xludf.DUMMYFUNCTION("IMPORTRANGE(""https://docs.google.com/spreadsheets/d/1gkRepGJi8YSf_9GBJuQGTAy9KAk4_wUsZeeKx4jozwg/edit?usp=sharing"",""主食!A2"")"),"0j") -> 0j | B2: =IFERROR(__xludf.DUMMYFUNCTION("IMPORTRANGE(""https://docs.google.com/spreadsheets/d/1gkRepGJi8YSf_9GBJuQGTAy9KAk4_wUsZeeKx4jozwg/edit?usp=sharing"",""主食!B2"")"),"べたつき 粒やカス全くなし") -> べたつき 粒やカス全くなし | C2: =IFERROR(__xludf.DUMMYFUNCTION("IMPORTRANGE(""https://docs.google.com/spreadsheets/d/1gkRepGJi8YSf_9GBJuQGTAy9KAk4_wUsZeeKx4jozwg/edit?usp=sharing"",""主食!C2"")"),"")
A3: =IFERROR(__xludf.DUMMYFUNCTION("IMPORTRANGE(""https://docs.google.com/spreadsheets/d/1gkRepGJi8YSf_9GBJuQGTAy9KAk4_wUsZeeKx4jozwg/edit?usp=sharing"",""主食!A3"")"),"1j") -> 1j | B3: =IFERROR(__xludf.DUMMYFUNCTION("IMPORTRANGE(""https://docs.google.com/spreadsheets/d/1gkRepGJi8YSf_9GBJuQGTAy9KAk4_wUsZeeKx4jozwg/edit?usp=sharing"",""主食!B3"")"),"べたつき 粒やカス全くなし") -> べたつき 粒やカス全くなし | C3: =IFERROR(__xludf.DUMMYFUNCTION("IMPORTRANGE(""https://docs.google.com/spreadsheets/d/1gkRepGJi8YSf_9GBJuQGTAy9KAk4_wUsZeeKx4jozwg/edit?usp=sharing"",""主食!C3"")"),"ミキサーを使用したもの。 粒が残らずなめらかで均一な状態で、ゲル化剤を混ぜ、ゼリー状にした粥。 ") -> ミキサーを使用したもの。 粒が残らずなめらかで均一な状態で、ゲル化剤を混ぜ、ゼリー状にした粥。 | E3: ゼリー粥 | F3: 「スベラカーゼライト」使用。
A4: =IFERROR(__xludf.DUMMYFUNCTION("IMPORTRANGE(""https://docs.google.com/spreadsheets/d/1gkRepGJi8YSf_9GBJuQGTAy9KAk4_wUsZeeKx4jozwg/edit?usp=sharing"",""主食!A4"")"),"2-1") -> 2-1 | B4: =IFERROR(__xludf.DUMMYFUNCTION("IMPORTRANGE(""https://docs.google.com/spreadsheets/d/1gkRepGJi8YSf_9GBJuQGTAy9KAk4_wUsZeeKx4jozwg/edit?usp=sharing"",""主食!B4"")"),"噛まなくてよい 粒やカスなし") -> 噛まなくてよい 粒やカスなし | C4: =IFERROR(__xludf.DUMMYFUNCTION("IMPORTRANGE(""https://docs.google.com/spreadsheets/d/1gkRepGJi8YSf_9GBJuQGTAy9KAk4_wUsZeeKx4jozwg/edit?usp=sharing"",""主食!C4"")"),"ミキサーを使用し、粒が残らずなめらかに均一な状態。ゲル化剤・とろみ剤でまとめたもの。") -> ミキサーを使用し、粒が残らずなめらかに均一な状態。ゲル化剤・とろみ剤でまとめたもの。
A5: =IFERROR(__xludf.DUMMYFUNCTION("IMPORTRANGE(""https://docs.google.com/spreadsheets/d/1gkRepGJi8YSf_9GBJuQGTAy9KAk4_wUsZeeKx4jozwg/edit?usp=sharing"",""主食!A5"")"),"2-2") -> 2-2 | B5: =IFERROR(__xludf.DUMMYFUNCTION("IMPORTRANGE(""https://docs.google.com/spreadsheets/d/1gkRepGJi8YSf_9GBJuQGTAy9KAk4_wUsZeeKx4jozwg/edit?usp=sharing"",""主食!B5"")"),"噛まなくてよい 若干の残渣あり （粥粒程度）") -> 噛まなくてよい 若干の残渣あり （粥粒程度） | C5: =IFERROR(__xludf.DUMMYFUNCTION("IMPORTRANGE(""https://docs.google.com/spreadsheets/d/1gkRepGJi8YSf_9GBJuQGTAy9KAk4_wUsZeeKx4jozwg/edit?usp=sharing"",""主食!C5"")"),"フードプロセッサーやミキサー等を使用したもので、若干の粒が残った状態。離水や粘度、付着性に配慮した粥。") -> フードプロセッサーやミキサー等を使用したもので、若干の粒が残った状態。離水や粘度、付着性に配慮した粥。
A6: =IFERROR(__xludf.DUMMYFUNCTION("IMPORTRANGE(""https://docs.google.com/spreadsheets/d/1gkRepGJi8YSf_9GBJuQGTAy9KAk4_wUsZeeKx4jozwg/edit?usp=sharing"",""主食!A6"")"),"3") -> 3 | B6: =IFERROR(__xludf.DUMMYFUNCTION("IMPORTRANGE(""https://docs.google.com/spreadsheets/d/1gkRepGJi8YSf_9GBJuQGTAy9KAk4_wUsZeeKx4jozwg/edit?usp=sharing"",""主食!B6"")"),"舌でつぶせる") -> 舌でつぶせる | C6: =IFERROR(__xludf.DUMMYFUNCTION("IMPORTRANGE(""https://docs.google.com/spreadsheets/d/1gkRepGJi8YSf_9GBJuQGTAy9KAk4_wUsZeeKx4jozwg/edit?usp=sharing"",""主食!C6"")"),"全粥に離水防止のとろみ剤やゲル化剤を混ぜたもの。") -> 全粥に離水防止のとろみ剤やゲル化剤を混ぜたもの。
A7: =IFERROR(__xludf.DUMMYFUNCTION("IMPORTRANGE(""https://docs.google.com/spreadsheets/d/1gkRepGJi8YSf_9GBJuQGTAy9KAk4_wUsZeeKx4jozwg/edit?usp=sharing"",""主食!A7"")"),"4") -> 4 | B7: =IFERROR(__xludf.DUMMYFUNCTION("IMPORTRANGE(""https://docs.google.com/spreadsheets/d/1gkRepGJi8YSf_9GBJuQGTAy9KAk4_wUsZeeKx4jozwg/edit?usp=sharing"",""主食!B7"")"),"歯ぐきでつぶせる 容易に噛める") -> 歯ぐきでつぶせる 容易に噛める | C7: =IFERROR(__xludf.DUMMYFUNCTION("IMPORTRANGE(""https://docs.google.com/spreadsheets/d/1gkRepGJi8YSf_9GBJuQGTAy9KAk4_wUsZeeKx4jozwg/edit?usp=sharing"",""主食!C7"")"),"米重量に対し5倍の水分量。または、米飯重量の2倍の水分量で炊いた粥。粒が残っている不均一な状態。") -> 米重量に対し5倍の水分量。または、米飯重量の2倍の水分量で炊いた粥。粒が残っている不均一な状態。 | E7: 全粥 | F7: 米重量に対し5倍の水分量で炊いた粥。
A8: =IFERROR(__xludf.DUMMYFUNCTION("IMPORTRANGE(""https://docs.google.com/spreadsheets/d/1gkRepGJi8YSf_9GBJuQGTAy9KAk4_wUsZeeKx4jozwg/edit?usp=sharing"",""主食!A8"")"),"4") -> 4 | B8: =IFERROR(__xludf.DUMMYFUNCTION("IMPORTRANGE(""https://docs.google.com/spreadsheets/d/1gkRepGJi8YSf_9GBJuQGTAy9KAk4_wUsZeeKx4jozwg/edit?usp=sharing"",""主食!B8"")"),"歯ぐきでつぶせる 容易に噛める") -> 歯ぐきでつぶせる 容易に噛める | C8: =IFERROR(__xludf.DUMMYFUNCTION("IMPORTRANGE(""https://docs.google.com/spreadsheets/d/1gkRepGJi8YSf_9GBJuQGTAy9KAk4_wUsZeeKx4jozwg/edit?usp=sharing"",""主食!C8"")"),"水分量をやや多めに、軟らかく炊いたご飯。") -> 水分量をやや多めに、軟らかく炊いたご飯。

Sheet 水分とろみ
A1: =IFERROR(__xludf.DUMMYFUNCTION("IMPORTRANGE(""https://docs.google.com/spreadsheets/d/1gkRepGJi8YSf_9GBJuQGTAy9KAk4_wUsZeeKx4jozwg/edit?usp=sharing"",""水分とろみ!A1"")"),"とろみ調整食品") -> とろみ調整食品 | E1: =IFERROR(__xludf.DUMMYFUNCTION("IMPORTRANGE(""https://docs.google.com/spreadsheets/d/1gkRepGJi8YSf_9GBJuQGTAy9KAk4_wUsZeeKx4jozwg/edit?usp=sharing"",""水分とろみ!E1"")"),"備考") -> 備考
B2: =IFERROR(__xludf.DUMMYFUNCTION("IMPORTRANGE(""https://docs.google.com/spreadsheets/d/1gkRepGJi8YSf_9GBJuQGTAy9KAk4_wUsZeeKx4jozwg/edit?usp=sharing"",""水分とろみ!B2"")"),"小さじ1杯の量 (g)") -> 小さじ1杯の量 (g) | E2: ・「濃いとろみ」は明らかにとろみが付いていて、送り込みに力が必要。ストローで吸うことは困難。付着性が増強し嚥下しにくくなるためゼリーやジュレ等の変更を検討する。 ・学会分類2021（とろみ）の粘度に幅があるように、トロミ剤の使用目安量においても幅がある。「さじ」での軽量は容積になり重さ（ｇ）の幅あり。
A3: =IFERROR(__xludf.DUMMYFUNCTION("IMPORTRANGE(""https://docs.google.com/spreadsheets/d/1gkRepGJi8YSf_9GBJuQGTAy9KAk4_wUsZeeKx4jozwg/edit?usp=sharing"",""水分とろみ!A3"")"),"学会分類") -> 学会分類 | B3: =IFERROR(__xludf.DUMMYFUNCTION("IMPORTRANGE(""https://docs.google.com/spreadsheets/d/1gkRepGJi8YSf_9GBJuQGTAy9KAk4_wUsZeeKx4jozwg/edit?usp=sharing"",""水分とろみ!B3"")"),"薄いとろみ") -> 薄いとろみ | C3: =IFERROR(__xludf.DUMMYFUNCTION("IMPORTRANGE(""https://docs.google.com/spreadsheets/d/1gkRepGJi8YSf_9GBJuQGTAy9KAk4_wUsZeeKx4jozwg/edit?usp=sharing"",""水分とろみ!C3"")"),"中間のとろみ") -> 中間のとろみ | D3: =IFERROR(__xludf.DUMMYFUNCTION("IMPORTRANGE(""https://docs.google.com/spreadsheets/d/1gkRepGJi8YSf_9GBJuQGTAy9KAk4_wUsZeeKx4jozwg/edit?usp=sharing"",""水分とろみ!D3"")"),"濃いとろみ") -> 濃いとろみ
A4: =IFERROR(__xludf.DUMMYFUNCTION("IMPORTRANGE(""https://docs.google.com/spreadsheets/d/1gkRepGJi8YSf_9GBJuQGTAy9KAk4_wUsZeeKx4jozwg/edit?usp=sharing"",""水分とろみ!A4"")"),"使用目安量 (g) 水100mlあたり") -> 使用目安量 (g) 水100mlあたり | B4: 1.0 | C4: 2.0 | D4: 3.0
A5: =IFERROR(__xludf.DUMMYFUNCTION("IMPORTRANGE(""https://docs.google.com/spreadsheets/d/1gkRepGJi8YSf_9GBJuQGTAy9KAk4_wUsZeeKx4jozwg/edit?usp=sharing"",""水分とろみ!A5"")"),"使用目安量 (小さじ) 水100mlあたり") -> 使用目安量 (小さじ) 水100mlあたり | B5: 1/2 | C5: 1 | D5: 2

Sheet PDF出力
A1: 施設名 | B1: ='施設情報'!B2 -> 長岡三古老人福祉会 特別養護老人ホーム中之島 | D1: 住所 | F1: ='施設情報'!B3 -> 〒954-0124 新潟県長岡市中之島2105番地6 | L1: 更新日 | M1: ='施設情報'!B6 -> 46095
D2: 連絡先 | F2: ='施設情報'!B4 -> 栄養科 | I2: 電話番号 | J2: ='施設情報'!B5 -> 0258-61-2828
A4: 【副食】 | H4: 【主食】
A5: 分類コード | B5: 食形態 | C5: 画像 | D5: 食種名称 | E5: 備考 | H5: 分類コード | I5: 食形態 | J5: 画像 | K5: 食種名称 | L5: 備考
A6: 0j | B6: ='副食'!C2 -> 均質で、べたつきなどないゼリー。 離水が少なく、スライス状にすくうことが可能なもの。 たんぱく質含有量が少ないもの。 | C6: ='副食'!D2 | D6: ='副食'!E2 | E6: ='副食'!F2 | H6: 0j | I6: ='主食'!C2 | J6: ='主食'!D2 | K6: ='主食'!E2 | L6: ='主食'!F2
A7: 1j | B7: ='副食'!C3 -> 均質で、べたつきなどないゼリー・プリン・ムース。 | C7: ='副食'!D3 | D7: ='副食'!E3 | E7: ='副食'!F3 | H7: 1j | I7: ='主食'!C3 -> ミキサーを使用したもの。 粒が残らずなめらかで均一な状態で、ゲル化剤を混ぜ、ゼリー状にした粥。 | J7: ='主食'!D3 | K7: ='主食'!E3 -> ゼリー粥 | L7: ='主食'!F3 -> 「スベラカーゼライト」使用。
A8: 2-1 粒やカスなし | B8: ='副食'!C4 -> ミキサーを使用し、粒が残らずなめらかに均一な状態。 ゲル化剤・とろみ剤でまとめたもの。 | C8: ='副食'!D4 | D8: ='副食'!E4 | E8: ='副食'!F4 | H8: 2-1 粒やカスなし | I8: ='主食'!C4 -> ミキサーを使用し、粒が残らずなめらかに均一な状態。ゲル化剤・とろみ剤でまとめたもの。 | J8: ='主食'!D4 | K8: ='主食'!E4 | L8: ='主食'!F4
A9: 2-2 若干の残渣あり （粥粒程度） | B9: ='副食'!C5 -> フードプロセッサーやミキサー等を使用したもので、若干の粒が残った状態。 ゲル化剤・とろみ剤でまとめたもの。 | C9: ='副食'!D5 | D9: ='副食'!E5 -> ペースト | E9: ='副食'!F5 -> ミキサーにかけて、なめらかにし、ゲル化剤を加えた、べたつかず、まとまりやすい食事。 | H9: 2-2 若干の残渣あり （粥粒程度） | I9: ='主食'!C5 -> フードプロセッサーやミキサー等を使用したもので、若干の粒が残った状態。離水や粘度、付着性に配慮した粥。 | J9: ='主食'!D5 | K9: ='主食'!E5 | L9: ='主食'!F5
A10: 3 | B10: ='副食'!C6 -> フードプロセッサーやミキサー等を使用したものを、ゲル化剤で固めたもの。 舌や口蓋で押しつぶせる程度の硬さ。 | C10: ='副食'!D6 | D10: ='副食'!E6 -> きざみよせ | E10: ='副食'!F6 -> フードプロセッサーにかけて、大きさは5㎜前後にし、ゲル化剤を加え、まとまりやすくした食事。 | H10: 3 | I10: ='主食'!C6 -> 全粥に離水防止のとろみ剤やゲル化剤を混ぜたもの。 | J10: ='主食'!D6 | K10: ='主食'!E6 | L10: ='主食'!F6
A11: 4 | B11: ='副食'!C7 -> 軟らかく調理したものを、きざみ～そのままの形態（＊いずれの形態も）バラつきや、多量の離水がないよう配慮したもの。 箸やスプーンで切れるやわらかさ。 | C11: ='副食'!D7 | D11: ='副食'!E7 | E11: ='副食'!F7 | H11: 4 | I11: ='主食'!C7 -> 米重量に対し5倍の水分量。または、米飯重量の2倍の水分量で炊いた粥。粒が残っている不均一な状態。 | J11: ='主食'!D7 | K11: ='主食'!E7 -> 全粥 | L11: ='主食'!F7 -> 米重量に対し5倍の水分量で炊いた粥。
B12: ='副食'!C8 -> 軟らかく調理したものを、きざみ～そのままの形態（＊いずれの形態も）バラつきや、多量の離水がないよう配慮したもの。 箸やスプーンで切れるやわらかさ。 | C12: ='副食'!D8 | D12: ='副食'!E8 | E12: ='副食'!F8 | I12: ='主食'!C8 -> 水分量をやや多めに、軟らかく炊いたご飯。 | J12: ='主食'!D8 | K12: ='主食'!E8 | L12: ='主食'!F8
A14: 【水分とろみ】
A15: とろみ調整食品 | B15: ='水分とろみ'!B1 | F15: 備考
B16: 小さじ1杯 | C16: ='水分とろみ'!C2 | F16: ='水分とろみ'!E2 -> ・「濃いとろみ」は明らかにとろみが付いていて、送り込みに力が必要。ストローで吸うことは困難。付着性が増強し嚥下しにくくなるためゼリーやジュレ等の変更を検討する。 ・学会分類2021（とろみ）の粘度に幅があるように、トロミ剤の使用目安量においても幅がある。「さじ」での軽量は容積になり重さ（ｇ）の幅あり。
A17: 学会分類 | B17: 薄いとろみ | C17: 中間のとろみ | D17: 濃いとろみ
A18: 使用目安量 ( g ) 水100mlあたり | B18: ='水分とろみ'!B4 -> 1.0 | C18: ='水分とろみ'!C4 -> 2.0 | D18: ='水分とろみ'!D4 -> 3.0
A19: 使用目安量 ( 小さじ ) 水100mlあたり | B19: ='水分とろみ'!B5 -> 1/2 | C19: ='水分とろみ'!C5 -> 1 | D19: ='水分とろみ'!D5 -> 2

Sheet 更新記録
A1: 更新記録シート
A2: 同意の確認 | C2: チェック | D2: ↓ 氏名を入力 ↓
A3: 更新内容について施設長の同意を得ました | C3: FALSE
A5: 日時 | B5: 氏名
A6: 46095.512 | B6: 特養中之島
A7: 46095.514 | B7: 特養中之島

Sheet 作業記録
A1: 作業記録
A2: 日時 | B2: 名前
A3: 46076.443 | B3: 特養中之島
A4: 46087.381 | B4: 特養中之島
A5: 46095.509 | B5: 特養中之島
A6: 46095.513 | B6: 特養中之島

Sheet 施設情報ウェブ出力
A1: =IFERROR(__xludf.DUMMYFUNCTION("IMPORTRANGE(""https://docs.google.com/spreadsheets/d/1gkRepGJi8YSf_9GBJuQGTAy9KAk4_wUsZeeKx4jozwg/edit?usp=sharing"",""施設情報!A1"")"),"名称") -> 名称 | B1: =IFERROR(__xludf.DUMMYFUNCTION("IMPORTRANGE(""https://docs.google.com/spreadsheets/d/1gkRepGJi8YSf_9GBJuQGTAy9KAk4_wUsZeeKx4jozwg/edit?usp=sharing"",""施設情報!B1"")"),"入力欄") -> 入力欄
A2: =IFERROR(__xludf.DUMMYFUNCTION("IMPORTRANGE(""https://docs.google.com/spreadsheets/d/1gkRepGJi8YSf_9GBJuQGTAy9KAk4_wUsZeeKx4jozwg/edit?usp=sharing"",""施設情報!A2"")"),"施設名") -> 施設名 | B2: 長岡三古老人福祉会 特別養護老人ホーム中之島
A3: =IFERROR(__xludf.DUMMYFUNCTION("IMPORTRANGE(""https://docs.google.com/spreadsheets/d/1gkRepGJi8YSf_9GBJuQGTAy9KAk4_wUsZeeKx4jozwg/edit?usp=sharing"",""施設情報!A3"")"),"住所") -> 住所 | B3: 〒954-0124 新潟県長岡市中之島2105番地6
A4: =IFERROR(__xludf.DUMMYFUNCTION("IMPORTRANGE(""https://docs.google.com/spreadsheets/d/1gkRepGJi8YSf_9GBJuQGTAy9KAk4_wUsZeeKx4jozwg/edit?usp=sharing"",""施設情報!A4"")"),"連絡先") -> 連絡先 | B4: 栄養科
A5: =IFERROR(__xludf.DUMMYFUNCTION("IMPORTRANGE(""https://docs.google.com/spreadsheets/d/1gkRepGJi8YSf_9GBJuQGTAy9KAk4_wUsZeeKx4jozwg/edit?usp=sharing"",""施設情報!A5"")"),"電話番号") -> 電話番号 | B5: 0258-61-2828
A6: =IFERROR(__xludf.DUMMYFUNCTION("IMPORTRANGE(""https://docs.google.com/spreadsheets/d/1gkRepGJi8YSf_9GBJuQGTAy9KAk4_wUsZeeKx4jozwg/edit?usp=sharing"",""施設情報!A6"")"),"更新日") -> 更新日 | B6: 46095

Sheet 副食ウェブ出力
A1: =IFERROR(__xludf.DUMMYFUNCTION("IMPORTRANGE(""https://docs.google.com/spreadsheets/d/1gkRepGJi8YSf_9GBJuQGTAy9KAk4_wUsZeeKx4jozwg/edit?usp=sharing"",""副食!A1"")"),"コード") -> コード | B1: =IFERROR(__xludf.DUMMYFUNCTION("IMPORTRANGE(""https://docs.google.com/spreadsheets/d/1gkRepGJi8YSf_9GBJuQGTAy9KAk4_wUsZeeKx4jozwg/edit?usp=sharing"",""副食!B1"")"),"学会分類") -> 学会分類 | C1: =IFERROR(__xludf.DUMMYFUNCTION("IMPORTRANGE(""https://docs.google.com/spreadsheets/d/1gkRepGJi8YSf_9GBJuQGTAy9KAk4_wUsZeeKx4jozwg/edit?usp=sharing"",""副食!C1"")"),"食形態") -> 食形態 | D1: =IFERROR(__xludf.DUMMYFUNCTION("IMPORTRANGE(""https://docs.google.com/spreadsheets/d/1gkRepGJi8YSf_9GBJuQGTAy9KAk4_wUsZeeKx4jozwg/edit?usp=sharing"",""副食!D1"")"),"画像") -> 画像 | E1: =IFERROR(__xludf.DUMMYFUNCTION("IMPORTRANGE(""https://docs.google.com/spreadsheets/d/1gkRepGJi8YSf_9GBJuQGTAy9KAk4_wUsZeeKx4jozwg/edit?usp=sharing"",""副食!E1"")"),"食種名称") -> 食種名称 | F1: =IFERROR(__xludf.DUMMYFUNCTION("IMPORTRANGE(""https://docs.google.com/spreadsheets/d/1gkRepGJi8YSf_9GBJuQGTAy9KAk4_wUsZeeKx4jozwg/edit?usp=sharing"",""副食!F1"")"),"備考") -> 備考
A2: =IFERROR(__xludf.DUMMYFUNCTION("IMPORTRANGE(""https://docs.google.com/spreadsheets/d/1gkRepGJi8YSf_9GBJuQGTAy9KAk4_wUsZeeKx4jozwg/edit?usp=sharing"",""副食!A2"")"),"0j") -> 0j | B2: =IFERROR(__xludf.DUMMYFUNCTION("IMPORTRANGE(""https://docs.google.com/spreadsheets/d/1gkRepGJi8YSf_9GBJuQGTAy9KAk4_wUsZeeKx4jozwg/edit?usp=sharing"",""副食!B2"")"),"べたつき 粒やカス全くなし") -> べたつき 粒やカス全くなし | C2: =IFERROR(__xludf.DUMMYFUNCTION("IMPORTRANGE(""https://docs.google.com/spreadsheets/d/1gkRepGJi8YSf_9GBJuQGTAy9KAk4_wUsZeeKx4jozwg/edit?usp=sharing"",""副食!C2"")"),"均質で、べたつきなどないゼリー。 離水が少なく、スライス状にすくうことが可能なもの。 たんぱく質含有量が少ないもの。") -> 均質で、べたつきなどないゼリー。 離水が少なく、スライス状にすくうことが可能なもの。 たんぱく質含有量が少ないもの。
A3: =IFERROR(__xludf.DUMMYFUNCTION("IMPORTRANGE(""https://docs.google.com/spreadsheets/d/1gkRepGJi8YSf_9GBJuQGTAy9KAk4_wUsZeeKx4jozwg/edit?usp=sharing"",""副食!A3"")"),"1j") -> 1j | B3: =IFERROR(__xludf.DUMMYFUNCTION("IMPORTRANGE(""https://docs.google.com/spreadsheets/d/1gkRepGJi8YSf_9GBJuQGTAy9KAk4_wUsZeeKx4jozwg/edit?usp=sharing"",""副食!B3"")"),"べたつき 粒やカス全くなし") -> べたつき 粒やカス全くなし | C3: =IFERROR(__xludf.DUMMYFUNCTION("IMPORTRANGE(""https://docs.google.com/spreadsheets/d/1gkRepGJi8YSf_9GBJuQGTAy9KAk4_wUsZeeKx4jozwg/edit?usp=sharing"",""副食!C3"")"),"均質で、べたつきなどないゼリー・プリン・ムース。") -> 均質で、べたつきなどないゼリー・プリン・ムース。
A4: =IFERROR(__xludf.DUMMYFUNCTION("IMPORTRANGE(""https://docs.google.com/spreadsheets/d/1gkRepGJi8YSf_9GBJuQGTAy9KAk4_wUsZeeKx4jozwg/edit?usp=sharing"",""副食!A4"")"),"2-1") -> 2-1 | B4: =IFERROR(__xludf.DUMMYFUNCTION("IMPORTRANGE(""https://docs.google.com/spreadsheets/d/1gkRepGJi8YSf_9GBJuQGTAy9KAk4_wUsZeeKx4jozwg/edit?usp=sharing"",""副食!B4"")"),"噛まなくてよい 粒やカスなし") -> 噛まなくてよい 粒やカスなし | C4: =IFERROR(__xludf.DUMMYFUNCTION("IMPORTRANGE(""https://docs.google.com/spreadsheets/d/1gkRepGJi8YSf_9GBJuQGTAy9KAk4_wUsZeeKx4jozwg/edit?usp=sharing"",""副食!C4"")"),"ミキサーを使用し、粒が残らずなめらかに均一な状態。 ゲル化剤・とろみ剤でまとめたもの。") -> ミキサーを使用し、粒が残らずなめらかに均一な状態。 ゲル化剤・とろみ剤でまとめたもの。
A5: =IFERROR(__xludf.DUMMYFUNCTION("IMPORTRANGE(""https://docs.google.com/spreadsheets/d/1gkRepGJi8YSf_9GBJuQGTAy9KAk4_wUsZeeKx4jozwg/edit?usp=sharing"",""副食!A5"")"),"2-2") -> 2-2 | B5: =IFERROR(__xludf.DUMMYFUNCTION("IMPORTRANGE(""https://docs.google.com/spreadsheets/d/1gkRepGJi8YSf_9GBJuQGTAy9KAk4_wUsZeeKx4jozwg/edit?usp=sharing"",""副食!B5"")"),"噛まなくてよい 若干の残渣あり (粥粒程度)") -> 噛まなくてよい 若干の残渣あり (粥粒程度) | C5: =IFERROR(__xludf.DUMMYFUNCTION("IMPORTRANGE(""https://docs.google.com/spreadsheets/d/1gkRepGJi8YSf_9GBJuQGTAy9KAk4_wUsZeeKx4jozwg/edit?usp=sharing"",""副食!C5"")"),"フードプロセッサーやミキサー等を使用したもので、若干の粒が残った状態。 ゲル化剤・とろみ剤でまとめたもの。") -> フードプロセッサーやミキサー等を使用したもので、若干の粒が残った状態。 ゲル化剤・とろみ剤でまとめたもの。 | E5: ペースト | F5: ミキサーにかけて、なめらかにし、ゲル化剤を加えた、べたつかず、まとまりやすい食事。
A6: =IFERROR(__xludf.DUMMYFUNCTION("IMPORTRANGE(""https://docs.google.com/spreadsheets/d/1gkRepGJi8YSf_9GBJuQGTAy9KAk4_wUsZeeKx4jozwg/edit?usp=sharing"",""副食!A6"")"),"3") -> 3 | B6: =IFERROR(__xludf.DUMMYFUNCTION("IMPORTRANGE(""https://docs.google.com/spreadsheets/d/1gkRepGJi8YSf_9GBJuQGTAy9KAk4_wUsZeeKx4jozwg/edit?usp=sharing"",""副食!B6"")"),"舌でつぶせる") -> 舌でつぶせる | C6: =IFERROR(__xludf.DUMMYFUNCTION("IMPORTRANGE(""https://docs.google.com/spreadsheets/d/1gkRepGJi8YSf_9GBJuQGTAy9KAk4_wUsZeeKx4jozwg/edit?usp=sharing"",""副食!C6"")"),"フードプロセッサーやミキサー等を使用したものを、ゲル化剤で固めたもの。 舌や口蓋で押しつぶせる程度の硬さ。") -> フードプロセッサーやミキサー等を使用したものを、ゲル化剤で固めたもの。 舌や口蓋で押しつぶせる程度の硬さ。 | E6: きざみよせ | F6: フードプロセッサーにかけて、大きさは5㎜前後にし、ゲル化剤を加え、まとまりやすくした食事。
A7: =IFERROR(__xludf.DUMMYFUNCTION("IMPORTRANGE(""https://docs.google.com/spreadsheets/d/1gkRepGJi8YSf_9GBJuQGTAy9KAk4_wUsZeeKx4jozwg/edit?usp=sharing"",""副食!A7"")"),"4") -> 4 | B7: =IFERROR(__xludf.DUMMYFUNCTION("IMPORTRANGE(""https://docs.google.com/spreadsheets/d/1gkRepGJi8YSf_9GBJuQGTAy9KAk4_wUsZeeKx4jozwg/edit?usp=sharing"",""副食!B7"")"),"歯ぐきでつぶせる 容易に噛める") -> 歯ぐきでつぶせる 容易に噛める | C7: =IFERROR(__xludf.DUMMYFUNCTION("IMPORTRANGE(""https://docs.google.com/spreadsheets/d/1gkRepGJi8YSf_9GBJuQGTAy9KAk4_wUsZeeKx4jozwg/edit?usp=sharing"",""副食!C7"")"),"軟らかく調理したものを、きざみ～そのままの形態（＊いずれの形態も）バラつきや、多量の離水がないよう配慮したもの。 箸やスプーンで切れるやわらかさ。") -> 軟らかく調理したものを、きざみ～そのままの形態（＊いずれの形態も）バラつきや、多量の離水がないよう配慮したもの。 箸やスプーンで切れるやわらかさ。
A8: =IFERROR(__xludf.DUMMYFUNCTION("IMPORTRANGE(""https://docs.google.com/spreadsheets/d/1gkRepGJi8YSf_9GBJuQGTAy9KAk4_wUsZeeKx4jozwg/edit?usp=sharing"",""副食!A8"")"),"4") -> 4 | B8: =IFERROR(__xludf.DUMMYFUNCTION("IMPORTRANGE(""https://docs.google.com/spreadsheets/d/1gkRepGJi8YSf_9GBJuQGTAy9KAk4_wUsZeeKx4jozwg/edit?usp=sharing"",""副食!B8"")"),"歯ぐきでつぶせる 容易に噛める") -> 歯ぐきでつぶせる 容易に噛める | C8: =IFERROR(__xludf.DUMMYFUNCTION("IMPORTRANGE(""https://docs.google.com/spreadsheets/d/1gkRepGJi8YSf_9GBJuQGTAy9KAk4_wUsZeeKx4jozwg/edit?usp=sharing"",""副食!C8"")"),"軟らかく調理したものを、きざみ～そのままの形態（＊いずれの形態も）バラつきや、多量の離水がないよう配慮したもの。 箸やスプーンで切れるやわらかさ。") -> 軟らかく調理したものを、きざみ～そのままの形態（＊いずれの形態も）バラつきや、多量の離水がないよう配慮したもの。 箸やスプーンで切れるやわらかさ。

Sheet 主食ウェブ出力
A1: =IFERROR(__xludf.DUMMYFUNCTION("IMPORTRANGE(""https://docs.google.com/spreadsheets/d/1gkRepGJi8YSf_9GBJuQGTAy9KAk4_wUsZeeKx4jozwg/edit?usp=sharing"",""主食!A1"")"),"コード") -> コード | B1: =IFERROR(__xludf.DUMMYFUNCTION("IMPORTRANGE(""https://docs.google.com/spreadsheets/d/1gkRepGJi8YSf_9GBJuQGTAy9KAk4_wUsZeeKx4jozwg/edit?usp=sharing"",""主食!B1"")"),"学会分類") -> 学会分類 | C1: =IFERROR(__xludf.DUMMYFUNCTION("IMPORTRANGE(""https://docs.google.com/spreadsheets/d/1gkRepGJi8YSf_9GBJuQGTAy9KAk4_wUsZeeKx4jozwg/edit?usp=sharing"",""主食!C1"")"),"食形態") -> 食形態 | D1: =IFERROR(__xludf.DUMMYFUNCTION("IMPORTRANGE(""https://docs.google.com/spreadsheets/d/1gkRepGJi8YSf_9GBJuQGTAy9KAk4_wUsZeeKx4jozwg/edit?usp=sharing"",""主食!D1"")"),"画像") -> 画像 | E1: =IFERROR(__xludf.DUMMYFUNCTION("IMPORTRANGE(""https://docs.google.com/spreadsheets/d/1gkRepGJi8YSf_9GBJuQGTAy9KAk4_wUsZeeKx4jozwg/edit?usp=sharing"",""主食!E1"")"),"食種名称") -> 食種名称 | F1: =IFERROR(__xludf.DUMMYFUNCTION("IMPORTRANGE(""https://docs.google.com/spreadsheets/d/1gkRepGJi8YSf_9GBJuQGTAy9KAk4_wUsZeeKx4jozwg/edit?usp=sharing"",""主食!F1"")"),"備考") -> 備考
A2: =IFERROR(__xludf.DUMMYFUNCTION("IMPORTRANGE(""https://docs.google.com/spreadsheets/d/1gkRepGJi8YSf_9GBJuQGTAy9KAk4_wUsZeeKx4jozwg/edit?usp=sharing"",""主食!A2"")"),"0j") -> 0j | B2: =IFERROR(__xludf.DUMMYFUNCTION("IMPORTRANGE(""https://docs.google.com/spreadsheets/d/1gkRepGJi8YSf_9GBJuQGTAy9KAk4_wUsZeeKx4jozwg/edit?usp=sharing"",""主食!B2"")"),"べたつき 粒やカス全くなし") -> べたつき 粒やカス全くなし | C2: =IFERROR(__xludf.DUMMYFUNCTION("IMPORTRANGE(""https://docs.google.com/spreadsheets/d/1gkRepGJi8YSf_9GBJuQGTAy9KAk4_wUsZeeKx4jozwg/edit?usp=sharing"",""主食!C2"")"),"")
A3: =IFERROR(__xludf.DUMMYFUNCTION("IMPORTRANGE(""https://docs.google.com/spreadsheets/d/1gkRepGJi8YSf_9GBJuQGTAy9KAk4_wUsZeeKx4jozwg/edit?usp=sharing"",""主食!A3"")"),"1j") -> 1j | B3: =IFERROR(__xludf.DUMMYFUNCTION("IMPORTRANGE(""https://docs.google.com/spreadsheets/d/1gkRepGJi8YSf_9GBJuQGTAy9KAk4_wUsZeeKx4jozwg/edit?usp=sharing"",""主食!B3"")"),"べたつき 粒やカス全くなし") -> べたつき 粒やカス全くなし | C3: =IFERROR(__xludf.DUMMYFUNCTION("IMPORTRANGE(""https://docs.google.com/spreadsheets/d/1gkRepGJi8YSf_9GBJuQGTAy9KAk4_wUsZeeKx4jozwg/edit?usp=sharing"",""主食!C3"")"),"ミキサーを使用したもの。 粒が残らずなめらかで均一な状態で、ゲル化剤を混ぜ、ゼリー状にした粥。 ") -> ミキサーを使用したもの。 粒が残らずなめらかで均一な状態で、ゲル化剤を混ぜ、ゼリー状にした粥。 | E3: ゼリー粥 | F3: 「スベラカーゼライト」使用。
A4: =IFERROR(__xludf.DUMMYFUNCTION("IMPORTRANGE(""https://docs.google.com/spreadsheets/d/1gkRepGJi8YSf_9GBJuQGTAy9KAk4_wUsZeeKx4jozwg/edit?usp=sharing"",""主食!A4"")"),"2-1") -> 2-1 | B4: =IFERROR(__xludf.DUMMYFUNCTION("IMPORTRANGE(""https://docs.google.com/spreadsheets/d/1gkRepGJi8YSf_9GBJuQGTAy9KAk4_wUsZeeKx4jozwg/edit?usp=sharing"",""主食!B4"")"),"噛まなくてよい 粒やカスなし") -> 噛まなくてよい 粒やカスなし | C4: =IFERROR(__xludf.DUMMYFUNCTION("IMPORTRANGE(""https://docs.google.com/spreadsheets/d/1gkRepGJi8YSf_9GBJuQGTAy9KAk4_wUsZeeKx4jozwg/edit?usp=sharing"",""主食!C4"")"),"ミキサーを使用し、粒が残らずなめらかに均一な状態。ゲル化剤・とろみ剤でまとめたもの。") -> ミキサーを使用し、粒が残らずなめらかに均一な状態。ゲル化剤・とろみ剤でまとめたもの。
A5: =IFERROR(__xludf.DUMMYFUNCTION("IMPORTRANGE(""https://docs.google.com/spreadsheets/d/1gkRepGJi8YSf_9GBJuQGTAy9KAk4_wUsZeeKx4jozwg/edit?usp=sharing"",""主食!A5"")"),"2-2") -> 2-2 | B5: =IFERROR(__xludf.DUMMYFUNCTION("IMPORTRANGE(""https://docs.google.com/spreadsheets/d/1gkRepGJi8YSf_9GBJuQGTAy9KAk4_wUsZeeKx4jozwg/edit?usp=sharing"",""主食!B5"")"),"噛まなくてよい 若干の残渣あり （粥粒程度）") -> 噛まなくてよい 若干の残渣あり （粥粒程度） | C5: =IFERROR(__xludf.DUMMYFUNCTION("IMPORTRANGE(""https://docs.google.com/spreadsheets/d/1gkRepGJi8YSf_9GBJuQGTAy9KAk4_wUsZeeKx4jozwg/edit?usp=sharing"",""主食!C5"")"),"フードプロセッサーやミキサー等を使用したもので、若干の粒が残った状態。離水や粘度、付着性に配慮した粥。") -> フードプロセッサーやミキサー等を使用したもので、若干の粒が残った状態。離水や粘度、付着性に配慮した粥。
A6: =IFERROR(__xludf.DUMMYFUNCTION("IMPORTRANGE(""https://docs.google.com/spreadsheets/d/1gkRepGJi8YSf_9GBJuQGTAy9KAk4_wUsZeeKx4jozwg/edit?usp=sharing"",""主食!A6"")"),"3") -> 3 | B6: =IFERROR(__xludf.DUMMYFUNCTION("IMPORTRANGE(""https://docs.google.com/spreadsheets/d/1gkRepGJi8YSf_9GBJuQGTAy9KAk4_wUsZeeKx4jozwg/edit?usp=sharing"",""主食!B6"")"),"舌でつぶせる") -> 舌でつぶせる | C6: =IFERROR(__xludf.DUMMYFUNCTION("IMPORTRANGE(""https://docs.google.com/spreadsheets/d/1gkRepGJi8YSf_9GBJuQGTAy9KAk4_wUsZeeKx4jozwg/edit?usp=sharing"",""主食!C6"")"),"全粥に離水防止のとろみ剤やゲル化剤を混ぜたもの。") -> 全粥に離水防止のとろみ剤やゲル化剤を混ぜたもの。
A7: =IFERROR(__xludf.DUMMYFUNCTION("IMPORTRANGE(""https://docs.google.com/spreadsheets/d/1gkRepGJi8YSf_9GBJuQGTAy9KAk4_wUsZeeKx4jozwg/edit?usp=sharing"",""主食!A7"")"),"4") -> 4 | B7: =IFERROR(__xludf.DUMMYFUNCTION("IMPORTRANGE(""https://docs.google.com/spreadsheets/d/1gkRepGJi8YSf_9GBJuQGTAy9KAk4_wUsZeeKx4jozwg/edit?usp=sharing"",""主食!B7"")"),"歯ぐきでつぶせる 容易に噛める") -> 歯ぐきでつぶせる 容易に噛める | C7: =IFERROR(__xludf.DUMMYFUNCTION("IMPORTRANGE(""https://docs.google.com/spreadsheets/d/1gkRepGJi8YSf_9GBJuQGTAy9KAk4_wUsZeeKx4jozwg/edit?usp=sharing"",""主食!C7"")"),"米重量に対し5倍の水分量。または、米飯重量の2倍の水分量で炊いた粥。粒が残っている不均一な状態。") -> 米重量に対し5倍の水分量。または、米飯重量の2倍の水分量で炊いた粥。粒が残っている不均一な状態。 | E7: 全粥 | F7: 米重量に対し5倍の水分量で炊いた粥。
A8: =IFERROR(__xludf.DUMMYFUNCTION("IMPORTRANGE(""https://docs.google.com/spreadsheets/d/1gkRepGJi8YSf_9GBJuQGTAy9KAk4_wUsZeeKx4jozwg/edit?usp=sharing"",""主食!A8"")"),"4") -> 4 | B8: =IFERROR(__xludf.DUMMYFUNCTION("IMPORTRANGE(""https://docs.google.com/spreadsheets/d/1gkRepGJi8YSf_9GBJuQGTAy9KAk4_wUsZeeKx4jozwg/edit?usp=sharing"",""主食!B8"")"),"歯ぐきでつぶせる 容易に噛める") -> 歯ぐきでつぶせる 容易に噛める | C8: =IFERROR(__xludf.DUMMYFUNCTION("IMPORTRANGE(""https://docs.google.com/spreadsheets/d/1gkRepGJi8YSf_9GBJuQGTAy9KAk4_wUsZeeKx4jozwg/edit?usp=sharing"",""主食!C8"")"),"水分量をやや多めに、軟らかく炊いたご飯。") -> 水分量をやや多めに、軟らかく炊いたご飯。

Sheet 水分とろみウェブ出力
A1: ='水分とろみ'!A1 -> とろみ調整食品 | E1: ='水分とろみ'!E1 -> 備考
B2: ='水分とろみ'!B2 -> 小さじ1杯の量 (g) | E2: ・「濃いとろみ」は明らかにとろみが付いていて、送り込みに力が必要。ストローで吸うことは困難。付着性が増強し嚥下しにくくなるためゼリーやジュレ等の変更を検討する。 ・学会分類2021（とろみ）の粘度に幅があるように、トロミ剤の使用目安量においても幅がある。「さじ」での軽量は容積になり重さ（ｇ）の幅あり。
A3: ='水分とろみ'!A3 -> 学会分類 | B3: ='水分とろみ'!B3 -> 薄いとろみ | C3: ='水分とろみ'!C3 -> 中間のとろみ | D3: ='水分とろみ'!D3 -> 濃いとろみ
A4: ='水分とろみ'!A4 -> 使用目安量 (g) 水100mlあたり | B4: 1.0 | C4: 2.0 | D4: 3.0
A5: ='水分とろみ'!A5 -> 使用目安量 (小さじ) 水100mlあたり | B5: 1/2 | C5: 1 | D5: 2

Sheet PDFウェブ出力
A1: 施設名3 | B1: ='施設情報'!B2 -> 長岡三古老人福祉会 特別養護老人ホーム中之島 | D1: 住所 | F1: ='施設情報'!B3 -> 〒954-0124 新潟県長岡市中之島2105番地6 | L1: 更新日 | M1: ='施設情報'!B6 -> 46095
D2: 連絡先 | F2: ='施設情報'!B4 -> 栄養科 | I2: 電話番号 | J2: ='施設情報'!B5 -> 0258-61-2828
A4: 【副食】 | H4: 【主食】
A5: 分類コード | B5: 食形態 | C5: 画像 | D5: 食種名称 | E5: 備考 | H5: 分類コード | I5: 食形態 | J5: 画像 | K5: 食種名称 | L5: 備考
A6: 0j | B6: ='副食'!C2 -> 均質で、べたつきなどないゼリー。 離水が少なく、スライス状にすくうことが可能なもの。 たんぱく質含有量が少ないもの。 | C6: ='副食'!D2 | H6: 0j | I6: ='主食'!C2 | J6: ='主食'!D2
A7: 1j | B7: ='副食'!C3 -> 均質で、べたつきなどないゼリー・プリン・ムース。 | C7: ='副食'!D3 | H7: 1j | I7: ='主食'!C3 -> ミキサーを使用したもの。 粒が残らずなめらかで均一な状態で、ゲル化剤を混ぜ、ゼリー状にした粥。 | J7: ='主食'!D3 | K7: ゼリー粥 | L7: 「スベラカーゼライト」使用。
A8: 2-1 粒やカスなし | B8: ='副食'!C4 -> ミキサーを使用し、粒が残らずなめらかに均一な状態。 ゲル化剤・とろみ剤でまとめたもの。 | C8: ='副食'!D4 | H8: 2-1 粒やカスなし | I8: ='主食'!C4 -> ミキサーを使用し、粒が残らずなめらかに均一な状態。ゲル化剤・とろみ剤でまとめたもの。 | J8: ='主食'!D4
A9: 2-2 若干の残渣あり （粥粒程度） | B9: ='副食'!C5 -> フードプロセッサーやミキサー等を使用したもので、若干の粒が残った状態。 ゲル化剤・とろみ剤でまとめたもの。 | C9: ='副食'!D5 | D9: ペースト | E9: ミキサーにかけて、なめらかにし、ゲル化剤を加えた、べたつかず、まとまりやすい食事。 | H9: 2-2 若干の残渣あり （粥粒程度） | I9: ='主食'!C5 -> フードプロセッサーやミキサー等を使用したもので、若干の粒が残った状態。離水や粘度、付着性に配慮した粥。 | J9: ='主食'!D5
A10: 3 | B10: ='副食'!C6 -> フードプロセッサーやミキサー等を使用したものを、ゲル化剤で固めたもの。 舌や口蓋で押しつぶせる程度の硬さ。 | C10: ='副食'!D6 | D10: きざみよせ | E10: フードプロセッサーにかけて、大きさは5㎜前後にし、ゲル化剤を加え、まとまりやすくした食事。 | H10: 3 | I10: ='主食'!C6 -> 全粥に離水防止のとろみ剤やゲル化剤を混ぜたもの。 | J10: ='主食'!D6
A11: 4 | B11: ='副食'!C7 -> 軟らかく調理したものを、きざみ～そのままの形態（＊いずれの形態も）バラつきや、多量の離水がないよう配慮したもの。 箸やスプーンで切れるやわらかさ。 | C11: ='副食'!D7 | H11: 4 | I11: ='主食'!C7 -> 米重量に対し5倍の水分量。または、米飯重量の2倍の水分量で炊いた粥。粒が残っている不均一な状態。 | J11: ='主食'!D7 | K11: 全粥 | L11: 米重量に対し5倍の水分量で炊いた粥。
B12: ='副食'!C8 -> 軟らかく調理したものを、きざみ～そのままの形態（＊いずれの形態も）バラつきや、多量の離水がないよう配慮したもの。 箸やスプーンで切れるやわらかさ。 | C12: ='副食'!D8 | I12: ='主食'!C8 -> 水分量をやや多めに、軟らかく炊いたご飯。 | J12: ='主食'!D8
A14: 【水分とろみ】
A15: とろみ調整食品 | F15: 備考
B16: 小さじ1杯 | F16: ・「濃いとろみ」は明らかにとろみが付いていて、送り込みに力が必要。ストローで吸うことは困難。付着性が増強し嚥下しにくくなるためゼリーやジュレ等の変更を検討する。 ・学会分類2021（とろみ）の粘度に幅があるように、トロミ剤の使用目安量においても幅がある。「さじ」での軽量は容積になり重さ（ｇ）の幅あり。
A17: 学会分類 | B17: 薄いとろみ | C17: 中間のとろみ | D17: 濃いとろみ
A18: 使用目安量 ( g ) 水100mlあたり | B18: 1.0 | C18: 2.0 | D18: 3.0
A19: 使用目安量 ( 小さじ ) 水100mlあたり | B19: 1/2 | C19: 1 | D19: 2
