Workbook

Sheet POKJA IV
A1: DATA KEGIATAN TP.PKK KABUPATEN REMBANG
A2: POKJA IV
A3: TAHUN : 2025
A5: KECAMATAN :
A7: NO | B7: NAMA KECAMATAN | C7: JUMLAH KADER | I7: KESEHATAN | N7: KELESTARIAN LINGKUNGAN HIDUP | U7: PERENCANAAN SEHAT | Z7: KETERANGAN
C8: POSYANDU | D8: GIZI | E8: KESLING | F8: PENYULUHAN NARKOBA | G8: PHBS | H8: KB | I8: POSYANDU | N8: JUMLAH RUMAH YANG MEMILIKI | Q8: JUMLAH MCK | R8: JML KRT YANG MENGGUNAKAN AIR | U8: JUMLAH PUS | V8: JUMLAH WUS | W8: JUMLAH AKSEPTOR KB | Y8: JML KK YANG MEMILIKI TABUNGAN KELUARGA
I9: JUMLAH | J9: TERINTEGRASI | K9: LANSIA
K10: JML KLP | L10: JML ANGGOTA | M10: JML YANG MEMILIKI KARTU BEROBAT GRATIS | R10: PDAM | S10: SUMUR | T10: LAIN- LAIN
N11: JAMBAN | O11: SPAL | P11: TEMPAT PEMBUANGAN SAMPAH | W11: L | X11: P
A12: 1 | B12: 2 | C12: 3 | D12: 4 | E12: 5 | F12: 6 | G12: 7 | H12: 8 | I12: 9 | J12: 10 | K12: 11 | L12: 12 | M12: 13 | N12: 14 | O12: 15 | P12: 16 | Q12: 17 | R12: 18 | S12: 19 | T12: 20 | U12: 21 | V12: 22 | W12: 23 | X12: 24 | Y12: 25 | Z12: 26
A13: 1 | B13: SUMBER | C13: 498 | D13: 18 | E13: 18 | F13: 18 | G13: 18 | H13: 62 | I13: 67 | J13: 18 | K13: 18 | L13: 5981 | M13: 5237 | N13: 11345 | O13: 7410 | P13: 10198 | Q13: 10836 | R13: 675 | S13: 9708 | T13: 994 | U13: 6024 | V13: 6973 | W13: 86 | X13: 5760 | Y13: 5811
A14: 2 | B14: BULU | C14: 279 | D14: 23 | E14: 30 | G14: 94 | H14: 77 | I14: 49 | J14: 58 | K14: 27 | L14: 1913 | M14: 2240 | N14: 8022 | O14: 6368 | P14: 6592 | Q14: 0 | R14: 70 | S14: 2319 | T14: 6497 | U14: 5696 | V14: 7165 | W14: 22 | X14: 4417 | Y14: 6750
A15: 3 | B15: GUNEM | C15: 258 | D15: 61 | E15: 60 | F15: 183 | G15: 65 | H15: 64 | I15: 46 | J15: 6 | K15: 46 | L15: 3003 | M15: 2279 | N15: 7077 | O15: 5560 | P15: 6193 | Q15: 0 | R15: 0 | S15: 7094 | T15: 7 | U15: 6104 | V15: 7423 | W15: 36 | X15: 4758 | Y15: 7036
A16: 4 | B16: SALE | C16: 350 | D16: 360 | E16: 38 | F16: 34 | G16: 52 | H16: 79 | I16: 72 | J16: 360 | K16: 360 | L16: 871 | M16: 460 | N16: 7002.011 | O16: 13574 | P16: 14351 | Q16: 1 | R16: 765 | S16: 6707.9 | T16: 0 | U16: 6425.052 | V16: 3861.944 | W16: 24 | X16: 5646 | Y16: 7225
A17: 5 | B17: SARANG | C17: 532 | D17: 532 | E17: 23 | F17: 23 | G17: 23 | H17: 97 | I17: 103 | J17: 23 | K17: 23 | L17: 7614 | M17: 7614 | N17: 15969 | O17: 13093 | P17: 12350 | Q17: 0 | R17: 1881 | S17: 12699 | T17: 1389 | U17: 12139 | V17: 14611 | W17: 36 | X17: 9203 | Y17: 19199 | Z17: 0
A18: 6 | B18: SEDAN | C18: 609 | D18: 62 | E18: 74 | F18: 52 | G18: 59 | H18: 66 | I18: 102 | J18: 102 | K18: 102 | L18: 5461 | M18: 5113 | N18: 17829 | O18: 14558 | P18: 15122 | Q18: 0 | R18: 1513 | S18: 10079 | T18: 6853 | U18: 12438 | V18: 13403 | W18: 351 | X18: 8975 | Y18: 14184
A19: 7 | B19: PAMOTAN | C19: 995 | D19: 387 | E19: 364 | F19: 364 | G19: 433 | H19: 180 | I19: 94 | J19: 94 | K19: 94 | L19: 4585 | M19: 4585 | N19: 13809 | O19: 11509 | P19: 12693 | Q19: 0 | R19: 2869 | S19: 2411 | T19: 7992 | U19: 8564 | V19: 9247 | W19: 73 | X19: 6945 | Y19: 17610
A20: 8 | B20: SULANG | C20: 420 | D20: 420 | E20: 420 | F20: 420 | G20: 420 | H20: 420 | I20: 69 | J20: 69 | K20: 69 | L20: 7295 | M20: 5131 | N20: 11162 | O20: 11043 | P20: 11102 | R20: 1394 | S20: 9847 | T20: 0 | U20: 7469 | V20: 10142 | W20: 53 | X20: 5610 | Y20: 3465
A21: 9 | B21: KALIORI | C21: 535 | D21: 63 | E21: 52 | F21: 0 | G21: 40 | H21: 99 | I21: 61 | J21: 23 | K21: 36 | L21: 4042 | M21: 1540 | N21: 12796 | O21: 12796 | P21: 12796 | Q21: 1 | R21: 5199 | S21: 7088 | T21: 300 | U21: 7838 | V21: 11359 | W21: 84 | X21: 6017 | Y21: 10466 | Z21: -
A22: 10 | B22: REMBANG | C22: 1024 | D22: 157 | E22: 157 | F22: 157 | G22: 157 | H22: 161 | I22: 157 | J22: 29 | K22: 157 | L22: 13287 | M22: 13287 | N22: 27157 | O22: 27157 | P22: 27157 | Q22: 4 | R22: 12003 | S22: 18604 | T22: 1014 | U22: 15207 | V22: 19706 | W22: 380 | X22: 8659 | Y22: 32522
A23: 11 | B23: PANCUR | C23: =PANCUR!C36 -> 540 | D23: =PANCUR!D36 -> 102 | E23: =PANCUR!E36 -> 100 | F23: =PANCUR!F36 -> 39 | G23: =PANCUR!G36 -> 100 | H23: =PANCUR!H36 -> 39 | I23: =PANCUR!I36 -> 100 | J23: =PANCUR!J36 -> 22 | ... Y23: =PANCUR!Y36 -> 9005
A24: 12 | B24: KRAGAN | C24: =KRAGAN!C40 -> 529 | D24: =KRAGAN!D40 -> 27 | E24: =KRAGAN!E40 -> 27 | F24: =KRAGAN!F40 -> 27 | G24: =KRAGAN!G40 -> 27 | H24: =KRAGAN!H40 -> 97 | I24: =KRAGAN!I40 -> 103 | J24: =KRAGAN!J40 -> 3 | ... Z24: =KRAGAN!Z40 -> 0
A25: 13 | B25: SLUKE | C25: 422 | D25: 298 | E25: 104 | F25: 14 | G25: 168 | H25: 63 | I25: 72 | J25: 10 | K25: 64 | L25: 3751 | M25: 3553 | N25: 8706 | O25: 8510 | P25: 7221 | Q25: 0 | R25: 0 | S25: 8179 | T25: 789 | U25: 5156 | V25: 6437 | W25: 6 | X25: 4381 | Y25: 8916
A26: 14 | B26: LASEM | C26: =LASEM!C34 -> 520 | D26: =LASEM!D34 -> 145 | E26: =LASEM!E34 -> 107 | F26: =LASEM!F34 -> 50 | G26: =LASEM!G34 -> 130 | H26: =LASEM!H34 -> 104 | I26: =LASEM!I34 -> 101 | J26: =LASEM!J34 -> 3 | ... Z26: =LASEM!Z34 -> 0
A28: Jumlah | C28: =SUM(C13:C27) -> 7511 | D28: =SUM(D13:D27) -> 2655 | E28: =SUM(E13:E27) -> 1574 | F28: =SUM(F13:F27) -> 1381 | G28: =SUM(G13:G27) -> 1786 | H28: =SUM(H13:H27) -> 1608 | I28: =SUM(I13:I27) -> 1196 | J28: =SUM(J13:J27) -> 820 | ... Z28: =SUM(Z13:Z27) -> 0
Y29: =#REF! -> #REF!
Y30: =Y28-Y29 -> #REF!

Sheet SUMBEER
A1: DATA KEGIATAN TP.PKK KABUPATEN REMBANG
A2: POKJA IV
A3: TAHUN : 2025
A5: KECAMATAN :
A7: NO | B7: NAMA DESA | C7: JUMLAH KADER | I7: KESEHATAN | N7: KELESTARIAN LINGKUNGAN HIDUP | U7: PERENCANAAN SEHAT | Z7: KETERANGAN
C8: POSYANDU | D8: GIZI | E8: KESLING | F8: PENYULUHAN NARKOBA | G8: PHBS | H8: KB | I8: POSYANDU | N8: JUMLAH RUMAH YANG MEMILIKI | Q8: JUMLAH MCK | R8: JML KRT YANG MENGGUNAKAN AIR | U8: JUMLAH PUS | V8: JUMLAH WUS | W8: JUMLAH AKSEPTOR KB | Y8: JML KK YANG MEMILIKI TABUNGAN KELUARGA
I9: JUMLAH | J9: TERINTEGRASI | K9: LANSIA
K10: JML KLP | L10: JML ANGGOTA | M10: JML YANG MEMILIKI KARTU BEROBAT GRATIS | R10: PDAM | S10: SUMUR | T10: LAIN- LAIN
N11: JAMBAN | O11: SPAL | P11: TEMPAT PEMBUANGAN SAMPAH | W11: L | X11: P
A12: 1 | B12: 2 | C12: 3 | D12: 4 | E12: 5 | F12: 6 | G12: 7 | H12: 8 | I12: 9 | J12: 10 | K12: 11 | L12: 12 | M12: 13 | N12: 14 | O12: 15 | P12: 16 | Q12: 17 | R12: 18 | S12: 19 | T12: 20 | U12: 21 | V12: 22 | W12: 23 | X12: 24 | Y12: 25 | Z12: 26
A13: 1 | B13: RONGGOMULYO | C13: 30 | D13: 1 | E13: 1 | F13: 1 | G13: 1 | H13: 4 | I13: 3 | J13: 3 | K13: 1 | L13: 319 | M13: 257 | N13: 491 | O13: 421 | P13: 483 | Q13: 475 | R13: 0 | S13: 483 | T13: 0 | U13: 316 | V13: 346 | W13: 316 | X13: 2 | Y13: 253
A14: 2 | B14: LOGEDE | C14: 28 | D14: 1 | E14: 1 | F14: 1 | G14: 1 | H14: 5 | I14: 4 | J14: 4 | K14: 1 | L14: 399 | M14: 356 | N14: 722 | O14: 209 | P14: 857 | Q14: 768 | R14: 0 | S14: 784 | T14: 58 | U14: 428 | V14: 461 | W14: 428 | X14: 0 | Y14: 435
A15: 3 | B15: PELEMSARI | C15: 28 | D15: 1 | E15: 1 | F15: 1 | G15: 1 | H15: 3 | I15: 3 | J15: 3 | K15: 1 | L15: 206 | M15: 209 | N15: 446 | O15: 445 | P15: 443 | Q15: 425 | R15: 0 | S15: 368 | T15: 27 | U15: 270 | V15: 329 | W15: 264 | X15: 6 | Y15: 251
A16: 4 | B16: LOGUNG | C16: 15 | D16: 1 | E16: 1 | F16: 1 | G16: 1 | H16: 3 | I16: 3 | J16: 3 | K16: 1 | L16: 282 | M16: 199 | N16: 336 | O16: 216 | P16: 296 | Q16: 311 | R16: 0 | S16: 346 | T16: 0 | U16: 204 | V16: 235 | W16: 203 | X16: 1 | Y16: 167
A17: 5 | B17: KRIKILAN | C17: 25 | D17: 1 | E17: 1 | F17: 1 | G17: 1 | H17: 3 | I17: 3 | J17: 3 | K17: 1 | L17: 372 | M17: 312 | N17: 589 | O17: 620 | P17: 619 | Q17: 597 | R17: 0 | S17: 619 | T17: 0 | U17: 336 | V17: 373 | W17: 332 | X17: 5 | Y17: 345
A18: 6 | B18: KEDUNGTULUP | C18: 25 | D18: 1 | E18: 1 | F18: 1 | G18: 1 | H18: 2 | I18: 2 | J18: 2 | K18: 1 | L18: 143 | M18: 117 | N18: 325 | O18: 251 | P18: 330 | Q18: 313 | R18: 0 | S18: 302 | T18: 81 | U18: 192 | V18: 222 | W18: 191 | X18: 2 | Y18: 143
A19: 7 | B19: JATIHADI | C19: 30 | D19: 1 | E19: 1 | F19: 1 | G19: 1 | H19: 5 | I19: 6 | J19: 6 | K19: 1 | L19: 274 | M19: 254 | N19: 689 | O19: 514 | P19: 734 | Q19: 718 | R19: 0 | S19: 787 | T19: 8 | U19: 418 | V19: 520 | W19: 412 | X19: 8 | Y19: 412
A20: 8 | B20: POLBAYEM | C20: 19 | D20: 1 | E20: 1 | F20: 1 | G20: 1 | H20: 2 | I20: 2 | J20: 2 | K20: 1 | L20: 184 | M20: 176 | N20: 351 | O20: 321 | P20: 321 | Q20: 321 | R20: 28 | S20: 292 | T20: 0 | U20: 212 | V20: 239 | W20: 209 | X20: 4 | Y20: 213
A21: 9 | B21: SUMBER | C21: 30 | D21: 1 | E21: 1 | F21: 1 | G21: 1 | H21: 4 | I21: 4 | J21: 4 | K21: 1 | L21: 579 | M21: 569 | N21: 1093 | O21: 1055 | P21: 1104 | Q21: 1341 | R21: 45 | S21: 1044 | T21: 214 | U21: 583 | V21: 690 | W21: 369 | X21: 16 | Y21: 536
A22: 10 | B22: JADI | C22: 30 | D22: 1 | E22: 1 | F22: 1 | G22: 1 | H22: 2 | I22: 3 | J22: 3 | K22: 1 | L22: 342 | M22: 328 | N22: 599 | O22: 5 | P22: 540 | Q22: 590 | R22: 22 | S22: 507 | T22: 70 | U22: 315 | V22: 347 | W22: 315 | X22: 0 | Y22: 342
A23: 11 | B23: GRAWAN | C23: 26 | D23: 1 | E23: 1 | F23: 1 | G23: 1 | H23: 3 | I23: 3 | J23: 3 | K23: 1 | L23: 383 | M23: 397 | N23: 710 | O23: 758 | P23: 864 | Q23: 849 | R23: 56 | S23: 821 | T23: 10 | U23: 460 | V23: 530 | W23: 452 | X23: 9 | Y23: 437
A24: 12 | B24: RANDUAGUNG | C24: 37 | D24: 1 | E24: 1 | F24: 1 | G24: 1 | H24: 4 | I24: 4 | J24: 4 | K24: 1 | L24: 265 | M24: 184 | N24: 495 | O24: 517 | P24: 61 | Q24: 546 | R24: 8 | S24: 517 | T24: 0 | U24: 296 | V24: 323 | W24: 295 | X24: 5 | Y24: 312
... A30: 18 | B30: SEKARSARI | C30: 36 | D30: 1 | E30: 1 | F30: 1 | G30: 1 | H30: 5 | I30: 6 | J30: 6 | K30: 1 | L30: 438 | M30: 412 | N30: 911 | O30: 505 | P30: 873 | Q30: 839 | R30: 25 | S30: 655 | T30: 189 | U30: 465 | V30: 546 | W30: 463 | X30: 2 | Y30: 538
A31: Jumlah | C31: =SUM(C13:C30) -> 498 | D31: =SUM(D13:D30) -> 18 | E31: =SUM(E13:E30) -> 18 | F31: =SUM(F13:F30) -> 18 | G31: =SUM(G13:G30) -> 18 | H31: =SUM(H13:H30) -> 62 | I31: =SUM(I13:I30) -> 67 | J31: =SUM(J13:J30) -> 67 | ... Z31: =SUM(Z13:Z30) -> 0

Sheet BULU
A1: DATA KEGIATAN TP.PKK KABUPATEN REMBANG
A2: POKJA IV
A3: TAHUN : 2025
A5: KECAMATAN :
A7: NO | B7: NAMA DESA | C7: JUMLAH KADER | I7: KESEHATAN | N7: KELESTARIAN LINGKUNGAN HIDUP | U7: PERENCANAAN SEHAT | Z7: KETERANGAN
C8: POSYANDU | D8: GIZI | E8: KESLING | F8: PENYULUHAN NARKOBA | G8: PHBS | H8: KB | I8: POSYANDU | N8: JUMLAH RUMAH YANG MEMILIKI | Q8: JUMLAH MCK | R8: JML KRT YANG MENGGUNAKAN AIR | U8: JUMLAH PUS | V8: JUMLAH WUS | W8: JUMLAH AKSEPTOR KB | Y8: JML KK YANG MEMILIKI TABUNGAN KELUARGA
I9: JUMLAH | J9: TERINTEGRASI | K9: LANSIA
K10: JML KLP | L10: JML ANGGOTA | M10: JML YANG MEMILIKI KARTU BEROBAT GRATIS | R10: PDAM | S10: SUMUR | T10: LAIN- LAIN
N11: JAMBAN | O11: SPAL | P11: TEMPAT PEMBUANGAN SAMPAH | W11: L | X11: P
A12: 1 | B12: 2 | C12: 3 | D12: 4 | E12: 5 | F12: 6 | G12: 7 | H12: 8 | I12: 9 | J12: 10 | K12: 11 | L12: 12 | M12: 13 | N12: 14 | O12: 15 | P12: 16 | Q12: 17 | R12: 18 | S12: 19 | T12: 20 | U12: 21 | V12: 22 | W12: 23 | X12: 24 | Y12: 25 | Z12: 26
A13: 1 | B13: MLATIREJO | C13: 7 | D13: 7 | E13: 7 | F13: 1 | G13: 7 | H13: 3 | I13: 1 | J13: 1 | K13: 1 | L13: 60 | M13: 50 | N13: 340 | O13: 320 | P13: 320 | Q13: 0 | R13: 0 | S13: 340 | T13: 101 | U13: 274 | V13: 381 | W13: 3 | X13: 224 | Y13: 395
A14: 2 | B14: SENDANGMULYO | C14: 35 | D14: 1 | E14: 1 | F14: 1 | G14: 1 | H14: 8 | I14: 7 | J14: 0 | K14: 1 | L14: 141 | M14: 50 | N14: 1456 | O14: 1222 | P14: 456 | Q14: 0 | R14: 0 | S14: 0 | T14: 599 | U14: 1018 | V14: 1249 | W14: 0 | X14: 835 | Y14: 1000
A15: 3 | B15: PONDOKREJO | C15: 15 | D15: 1 | E15: 1 | F15: 1 | G15: 1 | H15: 3 | I15: 1 | J15: 0 | K15: 0 | L15: 12 | M15: 12 | N15: 315 | O15: 268 | P15: 309 | Q15: 0 | R15: 0 | S15: 67 | T15: 458 | U15: 267 | V15: 307 | W15: 0 | X15: 266 | Y15: 251
A16: 4 | B16: WARUGUNUNG | C16: 15 | D16: 3 | E16: 3 | F16: 1 | G16: 15 | H16: 4 | I16: 3 | J16: 0 | K16: 3 | L16: 78 | M16: 756 | N16: 426 | O16: 109 | P16: 137 | Q16: 0 | R16: 0 | S16: 332 | T16: 263 | U16: 448 | V16: 491 | W16: 0 | X16: 229 | Y16: 387
A17: 5 | B17: PINGGAN | C17: 15 | D17: 1 | E17: 2 | F17: 1 | G17: 15 | H17: 5 | I17: 3 | J17: 3 | K17: 2 | L17: 60 | M17: 60 | N17: 401 | O17: 63 | P17: 397 | Q17: 0 | R17: 0 | S17: 124 | T17: 360 | U17: 314 | V17: 353 | W17: 1 | X17: 182 | Y17: 480
A18: 6 | B18: CABEAN KIDUL | C18: 15 | D18: 1 | E18: 1 | F18: 1 | G18: 2 | H18: 3 | I18: 3 | J18: 0 | K18: 1 | L18: 214 | M18: 202 | N18: 377 | O18: 377 | P18: 377 | Q18: 0 | R18: 0 | S18: 0 | T18: 433 | U18: 244 | V18: 362 | W18: 0 | X18: 200 | Y18: 201
A19: 7 | B19: LAMBANGAN KULON | C19: 15 | D19: 1 | E19: 2 | F19: 1 | G19: 12 | H19: 3 | I19: 0 | J19: 0 | K19: 3 | L19: 47 | M19: 47 | N19: 285 | O19: 249 | P19: 120 | Q19: 0 | R19: 0 | S19: 156 | T19: 199 | U19: 224 | V19: 391 | W19: 1 | X19: 126 | Y19: 198
A20: 8 | B20: LAMBANGAN WETAN | C20: 15 | D20: 0 | E20: 0 | F20: 1 | G20: 0 | H20: 4 | I20: 3 | J20: 1 | K20: 0 | L20: 360 | M20: 173 | N20: 436 | O20: 285 | P20: 224 | Q20: 0 | R20: 0 | S20: 256 | T20: 270 | U20: 293 | V20: 361 | W20: 0 | X20: 243 | Y20: 435
A21: 9 | B21: SUMBERMULYO | C21: 15 | D21: 0 | E21: 1 | F21: 1 | G21: 15 | H21: 5 | I21: 1 | J21: 1 | K21: 1 | L21: 15 | M21: 15 | N21: 349 | O21: 334 | P21: 334 | Q21: 0 | R21: 0 | S21: 0 | T21: 432 | U21: 213 | V21: 298 | W21: 4 | X21: 200 | Y21: 375
A22: 10 | B22: KARANGASEM | C22: 20 | D22: 0 | E22: 0 | F22: 1 | G22: 0 | H22: 6 | I22: 4 | J22: 2 | K22: 1 | L22: 35 | M22: 27 | N22: 547 | O22: 145 | P22: 579 | Q22: 0 | R22: 0 | S22: 502 | T22: 107 | U22: 374 | V22: 499 | W22: 0 | X22: 291 | Y22: 306
A23: 11 | B23: PASEDAN | C23: 40 | D23: 4 | E23: 4 | F23: 1 | G23: 8 | H23: 12 | I23: 8 | J23: 40 | K23: 8 | L23: 160 | M23: 157 | N23: 1120 | O23: 1026 | P23: 1125 | Q23: 0 | R23: 0 | S23: 43 | T23: 1282 | U23: 708 | V23: 850 | W23: 5 | X23: 626 | Y23: 1150
A24: 12 | B24: NGULAAN | C24: 12 | D24: 0 | E24: 1 | F24: 1 | G24: 1 | H24: 3 | I24: 2 | J24: 4 | K24: 2 | L24: 100 | M24: 76 | N24: 298 | O24: 298 | P24: 298 | Q24: 0 | R24: 0 | S24: 216 | T24: 137 | U24: 222 | V24: 269 | W24: 1 | X24: 178 | Y24: 291
... A27: 15 | B27: MANTINGAN | C27: 20 | D27: 0 | E27: 0 | F27: 1 | G27: 0 | H27: 5 | I27: 4 | J27: 1 | K27: 1 | L27: 343 | M27: 327 | N27: 450 | O27: 466 | P27: 464 | Q27: 0 | R27: 0 | S27: 57 | T27: 553 | U27: 307 | V27: 234 | W27: 1 | X27: 198 | Y27: 401
A28: 16 | B28: KADIWONO | C28: 10 | D28: 1 | E28: 1 | F28: 1 | G28: 1 | H28: 4 | I28: 2 | J28: 2 | K28: 1 | L28: 122 | M28: 122 | N28: 306 | O28: 270 | P28: 305 | Q28: 0 | R28: - | S28: 20 | T28: 372 | U28: 178 | V28: 283 | W28: 4 | X28: 170 | Y28: 216
A29: Jumlah | C29: =SUM(C13:C28) -> 279 | D29: =SUM(D13:D28) -> 23 | E29: =SUM(E13:E28) -> 30 | F29: =SUM(F13:F28) -> 16 | G29: =SUM(G13:G28) -> 94 | H29: =SUM(H13:H28) -> 77 | I29: =SUM(I13:I28) -> 49 | J29: =SUM(J13:J28) -> 58 | ... Y29: =SUM(Y13:Y28) -> 6750

Sheet PAMOTAN
A1: DATA KEGIATAN TP.PKK KABUPATEN REMBANG
A2: POKJA IV
A3: TAHUN : 2025
A5: KECAMATAN :
A7: NO | B7: NAMA DESA | C7: JUMLAH KADER | I7: KESEHATAN | N7: KELESTARIAN LINGKUNGAN HIDUP | U7: PERENCANAAN SEHAT | Z7: KETERANGAN
C8: POSYANDU | D8: GIZI | E8: KESLING | F8: PENYULUHAN NARKOBA | G8: PHBS | H8: KB | I8: POSYANDU | N8: JUMLAH RUMAH YANG MEMILIKI | Q8: JUMLAH MCK | R8: JML KRT YANG MENGGUNAKAN AIR | U8: JUMLAH PUS | V8: JUMLAH WUS | W8: JUMLAH AKSEPTOR KB | Y8: JML KK YANG MEMILIKI TABUNGAN KELUARGA
I9: JUMLAH | J9: TERINTEGRASI | K9: LANSIA
K10: JML KLP | L10: JML ANGGOTA | M10: JML YANG MEMILIKI KARTU BEROBAT GRATIS | R10: PDAM | S10: SUMUR | T10: LAIN- LAIN
N11: JAMBAN | O11: SPAL | P11: TEMPAT PEMBUANGAN SAMPAH | W11: L | X11: P
A12: 1 | B12: 2 | C12: 3 | D12: 4 | E12: 5 | F12: 6 | G12: 7 | H12: 8 | I12: 9 | J12: 10 | K12: 11 | L12: 12 | M12: 13 | N12: 14 | O12: 15 | P12: 16 | Q12: 17 | R12: 18 | S12: 19 | T12: 20 | U12: 21 | V12: 22 | W12: 23 | X12: 24 | Y12: 25 | Z12: 26
A13: 1 | B13: MEGAL | C13: 40 | D13: 20 | E13: 20 | F13: 20 | G13: 20 | H13: 4 | I13: 4 | J13: 4 | K13: 4 | L13: 102 | M13: 102 | N13: 449 | O13: 338 | P13: 364 | Q13: 0 | R13: 0 | S13: 15 | T13: 349 | U13: 235 | V13: 267 | W13: 1 | X13: 215 | Y13: 456 | Z13: 0
A14: 2 | B14: NGEMPLAKREJO | C14: 30 | D14: 30 | E14: 30 | F14: 30 | G14: 15 | H14: 4 | I14: 3 | J14: 3 | K14: 3 | L14: 108 | M14: 108 | N14: 333 | O14: 335 | P14: 347 | Q14: 0 | R14: 266 | S14: 8 | T14: 0 | U14: 229 | V14: 254 | W14: 1 | X14: 173 | Y14: 443 | Z14: 0
A15: 3 | B15: PRAGEN | C15: 30 | D15: 16 | E15: 3 | F15: 3 | G15: 10 | H15: 10 | I15: 3 | J15: 3 | K15: 3 | L15: 117 | M15: 117 | N15: 474 | O15: 426 | P15: 467 | Q15: 0 | R15: 0 | S15: 269 | T15: 230 | U15: 316 | V15: 321 | W15: 1 | X15: 266 | Y15: 554 | Z15: 0
A16: 4 | B16: SAMARAN | C16: 40 | D16: 0 | E16: 38 | F16: 38 | G16: 31 | H16: 4 | I16: 4 | J16: 4 | K16: 4 | L16: 70 | M16: 70 | N16: 407 | O16: 511 | P16: 129 | Q16: 0 | R16: 70 | S16: 12 | T16: 456 | U16: 317 | V16: 337 | W16: 0 | X16: 248 | Y16: 545 | Z16: 0
A17: 5 | B17: GAMBIRAN | C17: 40 | D17: 24 | E17: 24 | F17: 24 | G17: 24 | H17: 5 | I17: 4 | J17: 4 | K17: 4 | L17: 189 | M17: 189 | N17: 570 | O17: 525 | P17: 559 | Q17: 0 | R17: 42 | S17: 514 | T17: 87 | U17: 393 | V17: 441 | W17: 2 | X17: 290 | Y17: 678 | Z17: 0
A18: 6 | B18: BAMBAN | C18: 30 | D18: 10 | E18: 10 | F18: 10 | G18: 10 | H18: 3 | I18: 3 | J18: 3 | K18: 3 | L18: 60 | M18: 60 | N18: 290 | O18: 290 | P18: 290 | Q18: 0 | R18: 0 | S18: 50 | T18: 240 | U18: 172 | V18: 231 | W18: 0 | X18: 126 | Y18: 301 | Z18: 0
A19: 7 | B19: BANGUNREJO | C19: 60 | D19: 30 | E19: 30 | F19: 30 | G19: 2 | H19: 7 | I19: 6 | J19: 6 | K19: 6 | L19: 295 | M19: 295 | N19: 1037 | O19: 669 | P19: 957 | Q19: 0 | R19: 125 | S19: 822 | T19: 383 | U19: 617 | V19: 673 | W19: 3 | X19: 493 | Y19: 1280 | Z19: 0
A20: 8 | B20: PAMOTAN | C20: 150 | D20: 76 | E20: 17 | F20: 17 | G20: 76 | H20: 75 | I20: 15 | J20: 15 | K20: 15 | L20: 914 | M20: 914 | N20: 2599 | O20: 2227 | P20: 2371 | Q20: 0 | R20: 560 | S20: 64 | T20: 990 | U20: 1431 | V20: 1675 | W20: 27 | X20: 999 | Y20: 4048 | Z20: 0
A21: 9 | B21: SIDOREJO | C21: 40 | D21: 30 | E21: 4 | F21: 4 | G21: 4 | H21: 4 | I21: 4 | J21: 4 | K21: 4 | L21: 124 | M21: 124 | N21: 453 | O21: 317 | P21: 426 | Q21: 0 | R21: 11 | S21: 8 | T21: 425 | U21: 267 | V21: 375 | W21: 4 | X21: 231 | Y21: 535 | Z21: 0
A22: 10 | B22: TEMPALING | C22: 25 | D22: 25 | E22: 25 | F22: 25 | G22: 5 | H22: 4 | I22: 1 | J22: 1 | K22: 1 | L22: 163 | M22: 163 | N22: 622 | O22: 300 | P22: 624 | Q22: 0 | R22: 380 | S22: 15 | T22: 225 | U22: 395 | V22: 495 | W22: 0 | X22: 336 | Y22: 682 | Z22: 0
A23: 11 | B23: JOHO | C23: 30 | D23: 15 | E23: 3 | F23: 3 | G23: 15 | H23: 4 | I23: 3 | J23: 3 | K23: 3 | L23: 83 | M23: 83 | N23: 433 | O23: 372 | P23: 440 | Q23: 0 | R23: 210 | S23: 107 | T23: 83 | U23: 304 | V23: 314 | W23: 0 | X23: 309 | Y23: 517 | Z23: 0
A24: 12 | B24: MLAGEN | C24: 50 | D24: 0 | E24: 0 | F24: 0 | G24: 20 | H24: 3 | I24: 5 | J24: 5 | K24: 5 | L24: 190 | M24: 190 | N24: 492 | O24: 249 | P24: 380 | Q24: 0 | R24: 201 | S24: 7 | T24: 307 | U24: 351 | V24: 323 | W24: 3 | X24: 289 | Y24: 628 | Z24: 0
A25: 13 | B25: KEPOHAGUNG | C25: 30 | D25: 25 | E25: 25 | F25: 25 | G25: 25 | H25: 4 | I25: 3 | J25: 3 | K25: 3 | L25: 118 | M25: 118 | N25: 403 | O25: 403 | P25: 403 | Q25: 0 | R25: 0 | S25: 207 | T25: 166 | U25: 194 | V25: 212 | W25: 1 | X25: 152 | Y25: 409 | Z25: 0
A26: 14 | B26: MLAWAT | C26: 20 | D26: 20 | E26: 20 | F26: 20 | G26: 20 | H26: 3 | I26: 2 | J26: 2 | K26: 2 | L26: 56 | M26: 56 | Q26: 0 | R26: 0 | W26: 0
A27: 15 | B27: SEGOROMULYO | C27: 40 | D27: 1 | E27: 2 | F27: 2 | G27: 5 | H27: 5 | I27: 4 | J27: 4 | K27: 4 | L27: 115 | M27: 115 | N27: 374 | O27: 393 | P27: 373 | Q27: 0 | R27: 1 | S27: 45 | T27: 444 | U27: 244 | V27: 256 | W27: 3 | X27: 197 | Y27: 491 | Z27: 0
A28: 16 | B28: KETANGI | C28: 40 | D28: 1 | E28: 20 | F28: 20 | G28: 20 | H28: 6 | I28: 4 | J28: 4 | K28: 4 | L28: 154 | M28: 154 | N28: 625 | O28: 610 | P28: 620 | Q28: 0 | R28: 50 | S28: 20 | T28: 655 | U28: 400 | V28: 422 | W28: 0 | X28: 331 | Y28: 725 | Z28: 0
A29: 17 | B29: SENDANGAGUNG | C29: 50 | D29: 0 | E29: 1 | F29: 1 | G29: 0 | H29: 7 | I29: 1 | J29: 1 | K29: 1 | L29: 299 | M29: 299 | N29: 784 | O29: 650 | P29: 734 | Q29: 0 | R29: 4 | S29: 7 | T29: 817 | U29: 512 | V29: 145 | W29: 0 | X29: 405 | Y29: 958 | Z29: 0
A30: 18 | B30: GEGERSIMO | C30: 30 | D30: 15 | E30: 6 | F30: 6 | G30: 19 | H30: 3 | I30: 3 | J30: 3 | K30: 3 | L30: 138 | M30: 138 | N30: 448 | O30: 255 | P30: 441 | Q30: 0 | R30: 8 | S30: 35 | T30: 428 | U30: 292 | V30: 324 | W30: 4 | X30: 235 | Y30: 546 | Z30: 0
A31: 19 | B31: SUMBEREJO | C31: 50 | D31: 3 | E31: 25 | F31: 25 | G31: 25 | H31: 5 | I31: 5 | J31: 5 | K31: 5 | L31: 558 | M31: 558 | N31: 610 | O31: 538 | P31: 612 | Q31: 0 | R31: 431 | S31: 145 | T31: 68 | U31: 242 | V31: 276 | W31: 5 | X31: 433 | Y31: 750 | Z31: 0
A32: 20 | B32: JAPEREJO | C32: 40 | D32: 0 | E32: 0 | F32: 0 | G32: 26 | H32: 6 | I32: 4 | J32: 4 | K32: 4 | L32: 168 | M32: 168 | N32: 624 | O32: 394 | P32: 394 | Q32: 0 | R32: 0 | S32: 0 | T32: 477 | U32: 310 | V32: 354 | W32: 14 | X32: 220 | Y32: 655 | Z32: 0
A33: 21 | B33: TULUNG | C33: 20 | D33: 10 | E33: 10 | F33: 10 | G33: 10 | H33: 3 | I33: 2 | J33: 2 | K33: 2 | L33: 65 | M33: 65 | N33: 280 | O33: 195 | P33: 200 | Q33: 0 | R33: 200 | S33: 0 | T33: 0 | U33: 132 | V33: 221 | W33: 2 | X33: 97 | Y33: 263 | Z33: 0
A34: 22 | B34: RINGIN | C34: 70 | D34: 35 | E34: 35 | F34: 35 | G34: 35 | H34: 7 | I34: 7 | J34: 7 | K34: 7 | L34: 333 | M34: 333 | N34: 892 | O34: 926 | P34: 926 | Q34: 0 | R34: 310 | S34: 34 | T34: 559 | U34: 570 | V34: 625 | W34: 1 | X34: 525 | Y34: 1371 | Z34: 0
A35: 23 | B35: SUMBANGREJO | C35: 40 | D35: 3 | E35: 18 | F35: 18 | G35: 18 | H35: 4 | I35: 4 | J35: 4 | K35: 4 | L35: 166 | M35: 166 | N35: 356 | O35: 335 | P35: 385 | Q35: 0 | R35: 0 | S35: 0 | T35: 351 | U35: 463 | V35: 475 | W35: 0 | X35: 209 | Y35: 464 | Z35: 0
A36: Jumlah | C36: =SUM(C13:C35) -> 995 | D36: =SUM(D13:D35) -> 389 | E36: =SUM(E13:E35) -> 366 | F36: =SUM(F13:F35) -> 366 | G36: =SUM(G13:G35) -> 435 | H36: =SUM(H13:H35) -> 180 | I36: =SUM(I13:I35) -> 94 | J36: =SUM(J13:J35) -> 94 | ... Z36: =SUM(Z13:Z35) -> 0

Sheet GUNEM
A1: DATA KEGIATAN TP.PKK KABUPATEN REMBANG
A2: POKJA IV
A3: TAHUN : 2025
A5: KECAMATAN :
A7: NO | B7: NAMA DESA | C7: JUMLAH KADER | I7: KESEHATAN | N7: KELESTARIAN LINGKUNGAN HIDUP | U7: PERENCANAAN SEHAT | Z7: KETERANGAN
C8: POSYANDU | D8: GIZI | E8: KESLING | F8: PENYULUHAN NARKOBA | G8: PHBS | H8: KB | I8: POSYANDU | N8: JUMLAH RUMAH YANG MEMILIKI | Q8: JUMLAH MCK | R8: JML KRT YANG MENGGUNAKAN AIR | U8: JUMLAH PUS | V8: JUMLAH WUS | W8: JUMLAH AKSEPTOR KB | Y8: JML KK YANG MEMILIKI TABUNGAN KELUARGA
I9: JUMLAH | J9: TERINTEGRASI | K9: LANSIA
K10: JML KLP | L10: JML ANGGOTA | M10: JML YANG MEMILIKI KARTU BEROBAT GRATIS | R10: PDAM | S10: SUMUR | T10: LAIN- LAIN
N11: JAMBAN | O11: SPAL | P11: TEMPAT PEMBUANGAN SAMPAH | W11: L | X11: P
A12: 1 | B12: 2 | C12: 3 | D12: 4 | E12: 5 | F12: 6 | G12: 7 | H12: 8 | I12: 9 | J12: 10 | K12: 11 | L12: 12 | M12: 13 | N12: 14 | O12: 15 | P12: 16 | Q12: 17 | R12: 18 | S12: 19 | T12: 20 | U12: 21 | V12: 22 | W12: 23 | X12: 24 | Y12: 25 | Z12: 26
A13: 1 | B13: KAJAR | C13: 15 | D13: 4 | E13: 4 | F13: 4 | G13: 4 | H13: 4 | I13: 3 | J13: 0 | K13: 3 | L13: 145 | M13: 44 | N13: 427 | O13: 106 | P13: 382 | Q13: 0 | R13: 0 | S13: 426 | T13: 0 | U13: 356 | V13: 453 | W13: 1 | X13: 286 | Y13: 423
A14: 2 | B14: PASUCEN | C14: 15 | D14: 4 | E14: 4 | F14: 4 | G14: 4 | H14: 4 | I14: 3 | J14: 0 | K14: 3 | L14: 84 | M14: 76 | N14: 287 | O14: 155 | P14: 212 | Q14: 0 | R14: 0 | S14: 287 | T14: 0 | U14: 276 | V14: 279 | W14: 1 | X14: 227 | Y14: 282
A15: 3 | B15: TIMBRANGAN | C15: 10 | D15: 3 | E15: 4 | F15: 4 | G15: 3 | H15: 3 | I15: 2 | J15: 0 | K15: 2 | L15: 159 | M15: 142 | N15: 489 | O15: 470 | P15: 477 | Q15: 0 | R15: 0 | S15: 486 | T15: 0 | U15: 378 | V15: 395 | W15: 1 | X15: 325 | Y15: 484
A16: 4 | B16: TEGALDOWO | C16: 42 | D16: 5 | E16: 5 | F16: 6 | G16: 5 | H16: 5 | I16: 6 | J16: 1 | K16: 6 | L16: 639 | M16: 413 | N16: 1460 | O16: 1373 | P16: 1191 | Q16: 0 | R16: 0 | S16: 1455 | T16: 0 | U16: 1470 | V16: 1967 | W16: 5 | X16: 1195 | Y16: 1450
A17: 5 | B17: SUNTRI | C17: 10 | D17: 4 | E17: 3 | F17: 3 | G17: 4 | H17: 4 | I17: 2 | J17: 0 | K17: 2 | L17: 194 | M17: 139 | N17: 364 | O17: 350 | P17: 364 | Q17: 0 | R17: 0 | S17: 365 | T17: 0 | U17: 339 | V17: 394 | W17: 0 | X17: 288 | Y17: 362
A18: 6 | B18: DOWAN | C18: 15 | D18: 4 | E18: 4 | F18: 4 | G18: 6 | H18: 4 | I18: 3 | J18: 0 | K18: 3 | L18: 228 | M18: 154 | N18: 437 | O18: 306 | P18: 406 | Q18: 0 | R18: 0 | S18: 437 | T18: 0 | U18: 358 | V18: 376 | W18: 8 | X18: 289 | Y18: 430
A19: 7 | B19: TREMBES | C19: 15 | D19: 3 | E19: 3 | F19: 4 | G19: 3 | H19: 4 | I19: 3 | J19: 0 | K19: 3 | L19: 264 | M19: 209 | N19: 576 | O19: 332 | P19: 346 | Q19: 0 | R19: 0 | S19: 577 | T19: 7 | U19: 400 | V19: 561 | W19: 3 | X19: 324 | Y19: 571
A20: 8 | B20: GUNEM | C20: 36 | D20: 5 | E20: 5 | F20: 5 | G20: 6 | H20: 5 | I20: 4 | J20: 2 | K20: 4 | L20: 256 | M20: 51 | N20: 649 | O20: 603 | P20: 623 | Q20: 0 | R20: 0 | S20: 666 | T20: 0 | U20: 457 | V20: 655 | W20: 1 | X20: 378 | Y20: 661
A21: 9 | B21: KULUTAN | C21: 10 | D21: 2 | E21: 2 | F21: 2 | G21: 2 | H21: 3 | I21: 2 | J21: 1 | K21: 2 | L21: 57 | M21: 218 | N21: 175 | O21: 159 | P21: 172 | Q21: 0 | R21: 0 | S21: 175 | T21: 0 | U21: 139 | V21: 160 | W21: 2 | X21: 117 | Y21: 173
A22: 10 | B22: SIDOMULYO | C22: 10 | D22: 4 | E22: 4 | F22: 18 | G22: 4 | H22: 4 | I22: 3 | J22: 0 | K22: 3 | L22: 221 | M22: 226 | N22: 532 | O22: 534 | P22: 527 | Q22: 0 | R22: 0 | S22: 533 | T22: 0 | U22: 297 | V22: 153 | W22: 5 | X22: 242 | Y22: 530
A23: 11 | B23: TELGAWAH | C23: 5 | D23: 3 | E23: 2 | F23: 19 | G23: 4 | H23: 4 | I23: 1 | J23: 0 | K23: 1 | L23: 58 | M23: 53 | N23: 152 | O23: 107 | P23: 121 | Q23: 0 | R23: 0 | S23: 152 | T23: 0 | U23: 307 | V23: 335 | W23: 2 | X23: 123 | Y23: 149
A24: 12 | B24: SENDANGMULYO | C24: 15 | D24: 4 | E24: 4 | F24: 20 | G24: 4 | H24: 4 | I24: 3 | J24: 0 | K24: 3 | L24: 167 | M24: 116 | N24: 391 | O24: 288 | P24: 309 | Q24: 0 | R24: 0 | S24: 390 | T24: 0 | U24: 307 | V24: 451 | W24: 3 | X24: 236 | Y24: 388
... A28: 16 | B28: SAMBONGPOAYAK | C28: 10 | D28: 4 | E28: 4 | F28: 24 | G28: 4 | H28: 4 | I28: 2 | J28: 0 | K28: 2 | L28: 63 | M28: 52 | N28: 181 | O28: 135 | P28: 172 | Q28: 0 | R28: 0 | S28: 181 | T28: 0 | U28: 154 | V28: 179 | W28: 0 | X28: 119 | Y28: 180
B30: KECAMATAN
A31: Jumlah | C31: =SUM(C13:C30) -> 258 | D31: =SUM(D13:D30) -> 61 | E31: =SUM(E13:E30) -> 60 | F31: =SUM(F13:F30) -> 183 | G31: =SUM(G13:G30) -> 65 | H31: =SUM(H13:H30) -> 64 | I31: =SUM(I13:I30) -> 46 | J31: =SUM(J13:J30) -> 6 | ... Z31: =SUM(Z13:Z30) -> 0

Sheet SALE
A1: DATA KEGIATAN TP.PKK KABUPATEN REMBANG
A2: POKJA IV
A3: TAHUN : 2025
A5: KECAMATAN :
A7: NO | B7: NAMA DESA | C7: JUMLAH KADER | I7: KESEHATAN | N7: KELESTARIAN LINGKUNGAN HIDUP | U7: PERENCANAAN SEHAT | Z7: KETERANGAN
C8: POSYANDU | D8: GIZI | E8: KESLING | F8: PENYULUHAN NARKOBA | G8: PHBS | H8: KB | I8: POSYANDU | N8: JUMLAH RUMAH YANG MEMILIKI | Q8: JUMLAH MCK | R8: JML KRT YANG MENGGUNAKAN AIR | U8: JUMLAH PUS | V8: JUMLAH WUS | W8: JUMLAH AKSEPTOR KB | Y8: JML KK YANG MEMILIKI TABUNGAN KELUARGA
I9: JUMLAH | J9: TERINTEGRASI | K9: LANSIA
K10: JML KLP | L10: JML ANGGOTA | M10: JML YANG MEMILIKI KARTU BEROBAT GRATIS | R10: PDAM | S10: SUMUR | T10: LAIN- LAIN
N11: JAMBAN | O11: SPAL | P11: TEMPAT PEMBUANGAN SAMPAH | W11: L | X11: P
A12: 1 | B12: 2 | C12: 3 | D12: 4 | E12: 5 | F12: 6 | G12: 7 | H12: 8 | I12: 9 | J12: 10 | K12: 11 | L12: 12 | M12: 13 | N12: 14 | O12: 15 | P12: 16 | Q12: 17 | R12: 18 | S12: 19 | T12: 20 | U12: 21 | V12: 22 | W12: 23 | X12: 24 | Y12: 25 | Z12: 26
A13: 1 | B13: Bancang | C13: 15 | D13: 15 | E13: 2 | F13: 1 | G13: 3 | H13: 3 | I13: 3 | J13: 15 | K13: 15 | L13: 29 | M13: 19 | N13: 609 | O13: 494 | P13: 517 | Q13: - | R13: 26 | S13: 665 | T13: - | U13: 297 | V13: 228 | W13: 0 | X13: 234 | Y13: 623
A14: 2 | B14: Mrayun | C14: 48 | D14: 40 | E14: 6 | F14: 3 | G14: 7 | H14: 7 | I14: 8 | J14: 40 | K14: 40 | L14: 89 | M14: 54 | N14: 1.441 | O14: 967 | P14: 1492 | Q14: - | R14: 31 | S14: 1.28 | T14: - | U14: 926 | V14: 1.241 | W14: 3 | X14: 588 | Y14: 1101
A15: 3 | B15: Ngajaran | C15: 10 | D15: 10 | E15: 1 | F15: 1 | G15: 3 | H15: 3 | I15: 2 | J15: 10 | K15: 10 | L15: 23 | M15: 11 | N15: 413 | O15: 382 | P15: 389 | Q15: - | R15: 46 | S15: 397 | T15: - | U15: 294 | V15: 361 | W15: 0 | X15: 234 | Y15: 433
A16: 4 | B16: Joho | C16: 10 | D16: 10 | E16: 1 | F16: 1 | G16: 3 | H16: 5 | I16: 2 | J16: 10 | K16: 10 | L16: 27 | M16: 12 | N16: 471 | O16: 436 | P16: 452 | Q16: - | R16: 31 | S16: 461 | T16: - | U16: 81 | V16: 204 | W16: 1 | X16: 76 | Y16: 441
A17: 5 | B17: Sale | C17: 40 | D17: 40 | E17: 6 | F17: 6 | G17: 6 | H17: 8 | I17: 8 | J17: 40 | K17: 40 | L17: 118 | M17: 45 | N17: 1.604 | O17: 1586 | P17: 1019 | Q17: - | R17: 0 | S17: 1.675 | T17: - | U17: 958 | V17: 1.319 | W17: 2 | X17: 723 | Y17: 1.091
A18: 6 | B18: Tahunan | C18: 55 | D18: 55 | E18: 4 | F18: 4 | G18: 8 | H18: 12 | I18: 11 | J18: 55 | K18: 55 | L18: 121 | M18: 34 | N18: 2.764 | O18: 2413 | P18: 2841 | Q18: - | R18: 141 | S18: 2.759 | T18: - | U18: 1.052 | V18: 1.143 | W18: 2 | X18: 831 | Y18: 1.976
A19: 7 | B19: Gading | C19: 25 | D19: 25 | E19: 1 | F19: 1 | G19: 3 | H19: 5 | I19: 5 | J19: 25 | K19: 25 | L19: 53 | M19: 42 | N19: 942 | O19: 919 | P19: 981 | Q19: 1 | R19: 58 | S19: 943 | T19: - | U19: 404 | V19: 521 | W19: 2 | X19: 321 | Y19: 784
A20: 8 | B20: Jinanten | C20: 25 | D20: 25 | E20: 2 | F20: 1 | G20: 4 | H20: 6 | I20: 5 | J20: 25 | K20: 25 | L20: 51 | M20: 37 | N20: 794 | O20: 716 | P20: 796 | Q20: - | R20: 42 | S20: 754 | T20: - | U20: 615 | V20: 435 | W20: 1 | X20: 387 | Y20: 725
A21: 9 | B21: Sumbermulyo | C21: 20 | D21: 20 | E21: 2 | F21: 2 | G21: 2 | H21: 4 | I21: 4 | J21: 20 | K21: 20 | L21: 48 | M21: 29 | N21: 995 | O21: 925 | P21: 986 | Q21: - | R21: 64 | S21: 951 | T21: - | U21: 401 | V21: 279 | W21: 3 | X21: 296 | Y21: 603
A22: 10 | B22: Wonokerto | C22: 40 | D22: 40 | E22: 6 | F22: 4 | G22: 5 | H22: 9 | I22: 8 | J22: 40 | K22: 40 | L22: 105 | M22: 38 | N22: 2.202 | O22: 2123 | P22: 2164 | Q22: - | R22: 45 | S22: 2.186 | T22: - | U22: 884 | V22: 1.241 | W22: 4 | X22: 779 | Y22: 2.048
A23: 11 | B23: Tengger | C23: 15 | D23: 15 | E23: 2 | F23: 2 | G23: 2 | H23: 4 | I23: 3 | J23: 15 | K23: 15 | L23: 41 | M23: 33 | N23: 699 | O23: 631 | P23: 695 | Q23: - | R23: 0 | S23: 704 | T23: - | U23: 229 | V23: 369 | W23: 0 | X23: 219 | Y23: 673
A24: 12 | B24: Bitingan | C24: 15 | D24: 15 | E24: 1 | F24: 2 | G24: 1 | H24: 4 | I24: 3 | J24: 15 | K24: 15 | L24: 39 | M24: 25 | N24: 368 | O24: 336 | P24: 362 | Q24: - | R24: 61 | S24: 329 | T24: - | U24: 278 | V24: 179 | W24: 1 | X24: 143 | Y24: 348
A25: 13 | B25: Ukir | C25: 25 | D25: 25 | E25: 3 | F25: 2 | G25: 2 | H25: 3 | I25: 5 | J25: 25 | K25: 25 | L25: 59 | M25: 34 | N25: 872 | O25: 864 | P25: 852 | Q25: - | R25: 78 | S25: 813 | T25: - | U25: 287 | V25: 339 | W25: 2 | X25: 474 | Y25: 840
A26: 14 | B26: Rendeng | C26: 15 | D26: 15 | E26: 1 | F26: 2 | G26: 2 | H26: 3 | I26: 3 | J26: 15 | K26: 15 | L26: 39 | M26: 21 | N26: 497 | O26: 461 | P26: 488 | Q26: - | R26: 54 | S26: 442 | T26: - | U26: 529 | V26: 641 | W26: 3 | X26: 221 | Y26: 412
A27: 15 | B27: Pakis | C27: 10 | D27: 10 | E27: 1 | F27: 2 | G27: 1 | H27: 3 | I27: 2 | J27: 10 | K27: 10 | L27: 29 | M27: 26 | N27: 334 | O27: 321 | P27: 317 | Q27: - | R27: 88 | S27: 241 | T27: - | U27: 241 | V27: 301 | W27: 0 | X27: 120 | Y27: 237
A28: Jumlah | C28: =SUM(C13:C27) -> 368 | D28: =SUM(D13:D27) -> 360 | E28: =SUM(E13:E27) -> 39 | F28: =SUM(F13:F27) -> 34 | G28: =SUM(G13:G27) -> 52 | H28: =SUM(H13:H27) -> 79 | I28: =SUM(I13:I27) -> 72 | J28: =SUM(J13:J27) -> 360 | ... Z28: =SUM(Z13:Z27) -> 0

Sheet SARANG
A1: DATA KEGIATAN TP.PKK KABUPATEN REMBANG
A2: POKJA IV
A3: TAHUN : 2025
A5: KECAMATAN : SARANG
A7: NO | B7: NAMA DESA | C7: JUMLAH KADER | I7: KESEHATAN | N7: KELESTARIAN LINGKUNGAN HIDUP | U7: PERENCANAAN SEHAT | Z7: KETERANGAN
C8: POSYANDU | D8: GIZI | E8: KESLING | F8: PENYULUHAN NARKOBA | G8: PHBS | H8: KB | I8: POSYANDU | N8: JUMLAH RUMAH YANG MEMILIKI | Q8: JUMLAH MCK | R8: JML KRT YANG MENGGUNAKAN AIR | U8: JUMLAH PUS | V8: JUMLAH WUS | W8: JUMLAH AKSEPTOR KB | Y8: JML KK YANG MEMILIKI TABUNGAN KELUARGA
I9: JUMLAH | J9: TERINTEGRASI | K9: LANSIA
K10: JML KLP | L10: JML ANGGOTA | M10: JML YANG MEMILIKI KARTU BEROBAT GRATIS | R10: PDAM | S10: SUMUR | T10: LAIN- LAIN
N11: JAMBAN | O11: SPAL | P11: TEMPAT PEMBUANGAN SAMPAH | W11: L | X11: P
A12: 1 | B12: 2 | C12: 3 | D12: 4 | E12: 5 | F12: 6 | G12: 7 | H12: 8 | I12: 9 | J12: 10 | K12: 11 | L12: 12 | M12: 13 | N12: 14 | O12: 15 | P12: 16 | Q12: 17 | R12: 18 | S12: 19 | T12: 20 | U12: 21 | V12: 22 | W12: 23 | X12: 24 | Y12: 25 | Z12: 26
A13: 1 | B13: LODAN KULON | C13: 30 | D13: 30 | E13: 1 | F13: 1 | G13: 1 | H13: 5 | I13: 6 | J13: 1 | K13: 1 | L13: 422 | M13: 422 | N13: 1289 | O13: 1042 | P13: 1140 | Q13: - | R13: - | S13: 1039 | T13: 250 | U13: 756 | V13: 828 | W13: 2 | X13: 588 | Y13: 1286
A14: 2 | B14: LODAN WETAN | C14: 27 | D14: 27 | E14: 1 | F14: 1 | G14: 1 | H14: 5 | I14: 5 | J14: 1 | K14: 1 | L14: 305 | M14: 305 | N14: 776 | O14: 628 | P14: 592 | Q14: - | R14: - | S14: 641 | T14: 135 | U14: 640 | V14: 700 | W14: 1 | X14: 490 | Y14: 1080
A15: 3 | B15: BONJOR | C15: 23 | D15: 23 | E15: 1 | F15: 1 | G15: 1 | H15: 5 | I15: 4 | J15: 1 | K15: 1 | L15: 360 | M15: 360 | N15: 698 | O15: 663 | P15: 621 | Q15: - | R15: - | S15: 654 | T15: 44 | U15: 600 | V15: 645 | W15: 1 | X15: 447 | Y15: 1007
A16: 4 | B16: TAWANG REJO | C16: 20 | D16: 20 | E16: 1 | F16: 1 | G16: 1 | H16: 4 | I16: 4 | J16: 1 | K16: 1 | L16: 128 | M16: 128 | N16: 488 | O16: 307 | P16: 273 | Q16: - | R16: - | S16: 413 | T16: 75 | U16: 302 | V16: 440 | W16: - | X16: 226 | Y16: 639
A17: 5 | B17: SAMPUNG | C17: 20 | D17: 20 | E17: 1 | F17: 1 | G17: 1 | H17: 4 | I17: 4 | J17: 1 | K17: 1 | L17: 267 | M17: 267 | N17: 328 | O17: 251 | P17: 245 | Q17: - | R17: - | S17: 185 | T17: 143 | U17: 325 | V17: 332 | W17: 1 | X17: 233 | Y17: 567
A18: 6 | B18: BATURNO | C18: 15 | D18: 15 | E18: 1 | F18: 1 | G18: 1 | H18: 3 | I18: 3 | J18: 1 | K18: 1 | L18: 192 | M18: 192 | N18: 303 | O18: 271 | P18: 238 | Q18: - | R18: - | S18: 288 | T18: 15 | U18: 232 | V18: 407 | W18: - | X18: 180 | Y18: 345
A19: 7 | B19: BABAK TULUNG | C19: 20 | D19: 20 | E19: 1 | F19: 1 | G19: 1 | H19: 5 | I19: 4 | J19: 1 | K19: 1 | L19: 519 | M19: 519 | N19: 918 | O19: 809 | P19: 781 | Q19: - | R19: 170 | S19: 748 | T19: - | U19: 791 | V19: 913 | W19: - | X19: 622 | Y19: 1306
A20: 8 | B20: NGLOJO | C20: 21 | D20: 21 | E20: 1 | F20: 1 | G20: 1 | H20: 4 | I20: 4 | J20: 1 | K20: 1 | L20: 289 | M20: 289 | N20: 551 | O20: 463 | P20: 518 | Q20: - | R20: - | S20: 395 | T20: 156 | U20: 407 | V20: 491 | W20: 2 | X20: 297 | Y20: 726
A21: 9 | B21: JAMBANGAN | C21: 21 | D21: 21 | E21: 1 | F21: 1 | G21: 1 | H21: 4 | I21: 4 | J21: 1 | K21: 1 | L21: 273 | M21: 273 | N21: 389 | O21: 325 | P21: 325 | Q21: - | R21: - | S21: 271 | T21: 118 | U21: 379 | V21: 405 | W21: 3 | X21: 274 | Y21: 641
A22: 10 | B22: PELANG | C22: 17 | D22: 17 | E22: 1 | F22: 1 | G22: 1 | H22: 3 | I22: 3 | J22: 1 | K22: 1 | L22: 280 | M22: 280 | N22: 447 | O22: 403 | P22: 404 | Q22: - | R22: - | S22: 317 | T22: 130 | U22: 297 | V22: 298 | W22: 2 | X22: 225 | Y22: 554
A23: 11 | B23: GILIS | C23: 24 | D23: 24 | E23: 1 | F23: 1 | G23: 1 | H23: 4 | I23: 4 | J23: 1 | K23: 1 | L23: 295 | M23: 295 | N23: 756 | O23: 449 | P23: 487 | Q23: - | R23: - | S23: 693 | T23: 63 | U23: 510 | V23: 555 | W23: - | X23: 373 | Y23: 812
A24: 12 | B24: GUNUNG MULYO | C24: 20 | D24: 20 | E24: 1 | F24: 1 | G24: 1 | H24: 5 | I24: 4 | J24: 1 | K24: 1 | L24: 309 | M24: 309 | N24: 769 | O24: 519 | P24: 584 | Q24: - | R24: - | S24: 725 | T24: 44 | U24: 412 | V24: 419 | W24: 8 | X24: 311 | Y24: 797
A25: 13 | B25: GONGGANG | C25: 15 | D25: 15 | E25: 1 | F25: 1 | G25: 1 | H25: 3 | I25: 3 | J25: 1 | K25: 1 | L25: 122 | M25: 122 | N25: 352 | O25: 289 | P25: 275 | Q25: - | R25: - | S25: 337 | T25: 15 | U25: 213 | V25: 293 | W25: - | X25: 158 | Y25: 379
A26: 14 | B26: SUMBER MULYO | C26: 21 | D26: 21 | E26: 1 | F26: 1 | G26: 1 | H26: 5 | I26: 4 | J26: 1 | K26: 1 | L26: 311 | M26: 311 | N26: 795 | O26: 520 | P26: 490 | Q26: - | R26: 92 | S26: 655 | T26: 48 | U26: 575 | V26: 589 | W26: - | X26: 434 | Y26: 792
A27: 15 | B27: KALIPANG | C27: 32 | D27: 32 | E27: 1 | F27: 1 | G27: 1 | H27: 7 | I27: 6 | J27: 1 | K27: 1 | L27: 476 | M27: 476 | N27: 1408 | O27: 955 | P27: 971 | Q27: - | R27: 175 | S27: 1233 | T27: - | U27: 1038 | V27: 1924 | W27: 7 | X27: 797 | Y27: 1373
A28: 16 | B28: DADAP MULYO | C28: 16 | D28: 16 | E28: 1 | F28: 1 | G28: 1 | H28: 4 | I28: 3 | J28: 1 | K28: 1 | L28: 257 | M28: 257 | N28: 665 | O28: 463 | P28: 588 | Q28: - | R28: - | S28: 542 | T28: 123 | U28: 490 | V28: 546 | W28: 2 | X28: 357 | Y28: 760
A29: 17 | B29: SENDANG MULYO | C29: 35 | D29: 35 | E29: 1 | F29: 1 | G29: 1 | H29: 5 | I29: 7 | J29: 1 | K29: 1 | L29: 643 | M29: 643 | N29: 856 | O29: 833 | P29: 618 | Q29: - | R29: 624 | S29: 232 | T29: - | U29: 973 | V29: 1067 | W29: 5 | X29: 745 | Y29: 829
A30: 18 | B30: BANOWAN | C30: 20 | D30: 20 | E30: 1 | F30: 1 | G30: 1 | H30: 4 | I30: 4 | J30: 1 | K30: 1 | L30: 527 | M30: 527 | N30: 751 | O30: 619 | P30: 520 | Q30: - | R30: - | S30: 721 | T30: 30 | U30: 488 | V30: 526 | W30: - | X30: 364 | Y30: 833
A31: 19 | B31: TEMPERAK | C31: 25 | D31: 25 | E31: 1 | F31: 1 | G31: 1 | H31: 4 | I31: 5 | J31: 1 | K31: 1 | L31: 295 | M31: 295 | N31: 565 | O31: 539 | P31: 492 | Q31: - | R31: 28 | S31: 537 | T31: - | U31: 496 | V31: 493 | W31: - | X31: 378 | Y31: 847
A32: 20 | B32: KARANG MANGU | C32: 35 | D32: 35 | E32: 1 | F32: 1 | G32: 1 | H32: 4 | I32: 7 | J32: 1 | K32: 1 | L32: 501 | M32: 501 | N32: 886 | O32: 847 | P32: 748 | Q32: - | R32: 375 | S32: 511 | T32: - | U32: 777 | V32: 890 | W32: - | X32: 592 | Y32: 1198
A33: 21 | B33: BAJING JOWO | C33: 30 | D33: 30 | E33: 1 | F33: 1 | G33: 1 | H33: 4 | I33: 6 | J33: 1 | K33: 1 | L33: 457 | M33: 457 | N33: 591 | O33: 573 | P33: 429 | Q33: - | R33: 200 | S33: 391 | T33: - | U33: 629 | V33: 749 | W33: 1 | X33: 496 | Y33: 952
A34: 22 | B34: BAJING MEDURO | C34: 25 | D34: 25 | E34: 1 | F34: 1 | G34: 1 | H34: 3 | I34: 5 | J34: 1 | K34: 1 | L34: 215 | M34: 215 | N34: 443 | O34: 405 | P34: 413 | Q34: - | R34: 79 | S34: 364 | T34: - | U34: 323 | V34: 447 | W34: - | X34: 250 | Y34: 531
A35: 23 | B35: SARANG MEDURO | C35: 20 | D35: 20 | E35: 1 | F35: 1 | G35: 1 | H35: 3 | I35: 4 | J35: 1 | K35: 1 | L35: 171 | M35: 171 | N35: 945 | O35: 920 | P35: 598 | Q35: - | R35: 138 | S35: 807 | T35: - | U35: 486 | V35: 654 | W35: 1 | X35: 366 | Y35: 945
A37: Jumlah | C37: =SUM(C13:C36) -> 532 | D37: =SUM(D13:D36) -> 532 | E37: =SUM(E13:E36) -> 23 | F37: =SUM(F13:F36) -> 23 | G37: =SUM(G13:G36) -> 23 | H37: =SUM(H13:H36) -> 97 | I37: =SUM(I13:I36) -> 103 | J37: =SUM(J13:J36) -> 23 | ... Z37: =SUM(Z13:Z36) -> 0

Sheet SEDAN
A1: DATA KEGIATAN TP.PKK KABUPATEN REMBANG
A2: POKJA IV
A3: TAHUN : 2025
A5: KECAMATAN :
A7: NO | B7: NAMA DESA | C7: JUMLAH KADER | I7: KESEHATAN | N7: KELESTARIAN LINGKUNGAN HIDUP | U7: PERENCANAAN SEHAT | Z7: KETERANGAN
C8: POSYANDU | D8: GIZI | E8: KESLING | F8: PENYULUHAN NARKOBA | G8: PHBS | H8: KB | I8: POSYANDU | N8: JUMLAH RUMAH YANG MEMILIKI | Q8: JUMLAH MCK | R8: JML KRT YANG MENGGUNAKAN AIR | U8: JUMLAH PUS | V8: JUMLAH WUS | W8: JUMLAH AKSEPTOR KB | Y8: JML KK YANG MEMILIKI TABUNGAN KELUARGA
I9: JUMLAH | J9: TERINTEGRASI | K9: LANSIA
K10: JML KLP | L10: JML ANGGOTA | M10: JML YANG MEMILIKI KARTU BEROBAT GRATIS | R10: PDAM | S10: SUMUR | T10: LAIN- LAIN
N11: JAMBAN | O11: SPAL | P11: TEMPAT PEMBUANGAN SAMPAH | W11: L | X11: P
A12: 1 | B12: 2 | C12: 3 | D12: 4 | E12: 5 | F12: 6 | G12: 7 | H12: 8 | I12: 9 | J12: 10 | K12: 11 | L12: 12 | M12: 13 | N12: 14 | O12: 15 | P12: 16 | Q12: 17 | R12: 18 | S12: 19 | T12: 20 | U12: 21 | V12: 22 | W12: 23 | X12: 24 | Y12: 25 | Z12: 26
A13: 1
A14: 2
A15: 3
A16: 4
A17: 5
A18: 6
A19: 7
A20: 8
A21: 9
A22: 10
A23: 11
A24: 12
... A26: 14
A28: Jumlah | C28: =SUM(C13:C26) -> 0 | D28: =SUM(D13:D27) -> 0 | E28: =SUM(E13:E26) -> 0 | F28: =SUM(F13:F27) -> 0 | G28: =SUM(G13:G27) -> 0 | H28: =SUM(H13:H27) -> 0 | I28: =SUM(I13:I27) -> 0 | J28: =SUM(J13:J27) -> 0 | K28: =SUM(K13:K27) -> 0 | L28: =SUM(L13:L27) -> 0 | M28: =SUM(M13:M27) -> 0 | ... Y28: =SUM(Y13:Y27) -> 0

Sheet SULANG
A1: DATA KEGIATAN TP.PKK KABUPATEN REMBANG
A2: POKJA IV
A3: TAHUN : 2025
A5: KECAMATAN :
A7: NO | B7: NAMA DESA | C7: JUMLAH KADER | I7: KESEHATAN | N7: KELESTARIAN LINGKUNGAN HIDUP | U7: PERENCANAAN SEHAT | Z7: KETERANGAN
C8: POSYANDU | D8: GIZI | E8: KESLING | F8: PENYULUHAN NARKOBA | G8: PHBS | H8: KB | I8: POSYANDU | N8: JUMLAH RUMAH YANG MEMILIKI | Q8: JUMLAH MCK | R8: JML KRT YANG MENGGUNAKAN AIR | U8: JUMLAH PUS | V8: JUMLAH WUS | W8: JUMLAH AKSEPTOR KB | Y8: JML KK YANG MEMILIKI TABUNGAN KELUARGA
I9: JUMLAH | J9: TERINTEGRASI | K9: LANSIA
K10: JML KLP | L10: JML ANGGOTA | M10: JML YANG MEMILIKI KARTU BEROBAT GRATIS | R10: PDAM | S10: SUMUR | T10: LAIN- LAIN
N11: JAMBAN | O11: SPAL | P11: TEMPAT PEMBUANGAN SAMPAH | W11: L | X11: P
A12: 1 | B12: 2 | C12: 3 | D12: 4 | E12: 5 | F12: 6 | G12: 7 | H12: 8 | I12: 9 | J12: 10 | K12: 11 | L12: 12 | M12: 13 | N12: 14 | O12: 15 | P12: 16 | Q12: 17 | R12: 18 | S12: 19 | T12: 20 | U12: 21 | V12: 22 | W12: 23 | X12: 24 | Y12: 25 | Z12: 26
A13: 1 | B13: TANJUNG | C13: 16 | D13: 16 | E13: 16 | F13: 16 | G13: 16 | H13: 16 | I13: 3 | J13: 3 | K13: 3 | L13: 234 | M13: 164 | N13: 409 | O13: 409 | P13: 409 | R13: 0 | S13: 409 | T13: 0 | U13: 301 | V13: 382 | W13: 0 | X13: 246 | Y13: 338
A14: 2 | B14: KEMADU | C14: 45 | D14: 45 | E14: 45 | F14: 45 | G14: 45 | H14: 45 | I14: 7 | J14: 7 | K14: 7 | L14: 365 | M14: 256 | N14: 850 | O14: 845 | P14: 870 | R14: 473 | S14: 398 | T14: 0 | U14: 532 | V14: 887 | W14: 0 | X14: 354 | Y14: 291
A15: 3 | B15: SULANG | C15: 40 | D15: 40 | E15: 40 | F15: 40 | G15: 40 | H15: 40 | I15: 8 | J15: 8 | K15: 8 | L15: 964 | M15: 597 | N15: 1078 | O15: 1078 | P15: 1078 | R15: 259 | S15: 819 | T15: 0 | U15: 685 | V15: 1047 | W15: 10 | X15: 402 | Y15: 137
A16: 4 | B16: POMAHAN | C16: 24 | D16: 24 | E16: 24 | F16: 24 | G16: 24 | H16: 24 | I16: 4 | J16: 4 | K16: 4 | L16: 492 | M16: 445 | N16: 551 | O16: 515 | P16: 542 | R16: 0 | S16: 551 | T16: 0 | U16: 319 | V16: 496 | W16: 0 | X16: 244 | Y16: 340
A17: 5 | B17: RUKEM | C17: 24 | D17: 24 | E17: 24 | F17: 24 | G17: 24 | H17: 24 | I17: 2 | J17: 2 | K17: 2 | L17: 147 | M17: 103 | N17: 305 | O17: 305 | P17: 305 | R17: 0 | S17: 305 | T17: 0 | U17: 203 | V17: 315 | W17: 5 | X17: 172 | Y17: 174
A18: 6 | B18: KOROWELANG | C18: 10 | D18: 10 | E18: 10 | F18: 10 | G18: 10 | H18: 10 | I18: 1 | J18: 1 | K18: 1 | L18: 69 | M18: 48 | N18: 148 | O18: 148 | P18: 148 | R18: 0 | S18: 148 | T18: 0 | U18: 106 | V18: 151 | W18: 0 | X18: 81 | Y18: 95
A19: 7 | B19: KARANGHARJO | C19: 10 | D19: 10 | E19: 10 | F19: 10 | G19: 10 | H19: 10 | I19: 2 | J19: 2 | K19: 2 | L19: 164 | M19: 115 | N19: 328 | O19: 328 | P19: 328 | R19: 0 | S19: 328 | T19: 0 | U19: 267 | V19: 291 | W19: 0 | X19: 212 | Y19: 117
A20: 8 | B20: JATIMUDO | C20: 20 | D20: 20 | E20: 20 | F20: 20 | G20: 20 | H20: 20 | I20: 4 | J20: 4 | K20: 4 | L20: 275 | M20: 193 | N20: 610 | O20: 610 | P20: 610 | R20: 50 | S20: 560 | T20: 0 | U20: 264 | V20: 461 | W20: 6 | X20: 190 | Y20: 89
A21: 9 | B21: KUNIR | C21: 20 | D21: 20 | E21: 20 | F21: 20 | G21: 20 | H21: 20 | I21: 4 | J21: 4 | K21: 4 | L21: 545 | M21: 382 | N21: 473 | O21: 473 | P21: 473 | R21: 0 | S21: 473 | T21: 0 | U21: 330 | V21: 645 | W21: 0 | X21: 284 | Y21: 44
A22: 10 | B22: GLEBEG | C22: 24 | D22: 24 | E22: 24 | F22: 24 | G22: 24 | H22: 24 | I22: 2 | J22: 2 | K22: 2 | L22: 375 | M22: 263 | N22: 563 | O22: 563 | P22: 563 | R22: 0 | S22: 563 | T22: 0 | U22: 344 | V22: 543 | W22: 0 | X22: 320 | Y22: 222
A23: 11 | B23: BOGORAME | C23: 13 | D23: 13 | E23: 13 | F23: 13 | G23: 13 | H23: 13 | I23: 2 | J23: 2 | K23: 2 | L23: 229 | M23: 160 | N23: 383 | O23: 389 | P23: 389 | R23: 0 | S23: 389 | T23: 0 | U23: 380 | V23: 406 | W23: 2 | X23: 182 | Y23: 124
A24: 12 | B24: KALIOMBO | C24: 25 | D24: 25 | E24: 25 | F24: 25 | G24: 25 | H24: 25 | I24: 5 | J24: 5 | K24: 5 | L24: 606 | M24: 424 | N24: 985 | O24: 910 | P24: 885 | R24: 570 | S24: 436 | T24: 0 | U24: 798 | V24: 1053 | W24: 1 | X24: 586 | Y24: 212
... A33: 21 | B33: KEREP | C33: 14 | D33: 14 | E33: 14 | F33: 14 | G33: 14 | H33: 14 | I33: 2 | J33: 2 | K33: 2 | L33: 257 | M33: 180 | N33: 425 | O33: 421 | P33: 435 | R33: 0 | S33: 440 | T33: 0 | U33: 261 | V33: 454 | W33: 9 | X33: 228 | Y33: 173
A34: Jumlah | C34: =SUM(C13:C33) -> 420 | D34: =SUM(D13:D33) -> 420 | E34: =SUM(E13:E33) -> 420 | F34: =SUM(F13:F33) -> 420 | G34: =SUM(G13:G33) -> 420 | H34: =SUM(H13:H33) -> 420 | I34: =SUM(I13:I33) -> 69 | J34: =SUM(J13:J33) -> 69 | ... Z34: =SUM(Z13:Z33) -> 0

Sheet KALIORI
A1: DATA KEGIATAN TP.PKK KABUPATEN REMBANG
A2: POKJA IV
A3: TAHUN : 2025
A5: KECAMATAN :
A7: NO | B7: NAMA DESA | C7: JUMLAH KADER | I7: KESEHATAN | N7: KELESTARIAN LINGKUNGAN HIDUP | U7: PERENCANAAN SEHAT | Z7: KETERANGAN
C8: POSYANDU | D8: GIZI | E8: KESLING | F8: PENYULUHAN NARKOBA | G8: PHBS | H8: KB | I8: POSYANDU | N8: JUMLAH RUMAH YANG MEMILIKI | Q8: JUMLAH MCK | R8: JML KRT YANG MENGGUNAKAN AIR | U8: JUMLAH PUS | V8: JUMLAH WUS | W8: JUMLAH AKSEPTOR KB | Y8: JML KK YANG MEMILIKI TABUNGAN KELUARGA
I9: JUMLAH | J9: TERINTEGRASI | K9: LANSIA
K10: JML KLP | L10: JML ANGGOTA | M10: JML YANG MEMILIKI KARTU BEROBAT GRATIS | R10: PDAM | S10: SUMUR | T10: LAIN- LAIN
N11: JAMBAN | O11: SPAL | P11: TEMPAT PEMBUANGAN SAMPAH | W11: L | X11: P
A12: 1 | B12: 2 | C12: 3 | D12: 4 | E12: 5 | F12: 6 | G12: 7 | H12: 8 | I12: 9 | J12: 10 | K12: 11 | L12: 12 | M12: 13 | N12: 14 | O12: 15 | P12: 16 | Q12: 17 | R12: 18 | S12: 19 | T12: 20 | U12: 21 | V12: 22 | W12: 23 | X12: 24 | Y12: 25 | Z12: 26
A13: 1 | B13: METESEH | C13: 25 | D13: 3 | E13: 2 | F13: - | G13: 2 | H13: 6 | I13: 3 | J13: 1 | K13: 1 | L13: 219 | M13: 93 | N13: 776 | O13: 776 | P13: 776 | Q13: - | R13: - | S13: 885 | T13: - | U13: 430 | V13: 678 | W13: 1 | X13: 328 | Y13: 600
A14: 2 | B14: MAGUAN | C14: 15 | D14: 3 | E14: 2 | F14: - | G14: 1 | H14: 4 | I14: 3 | J14: 1 | K14: 3 | L14: 150 | M14: 150 | N14: 1029 | O14: 1029 | P14: 1029 | Q14: - | R14: - | S14: 705 | T14: - | U14: 433 | V14: 653 | W14: 1 | X14: 340 | Y14: 612
A15: 3 | B15: WIROTO | C15: 28 | D15: 3 | E15: 2 | F15: - | G15: 2 | H15: 4 | I15: 3 | J15: 1 | K15: 3 | L15: 126 | M15: 84 | N15: 586 | O15: 586 | P15: 586 | Q15: - | R15: 298 | S15: 361 | T15: - | U15: 281 | V15: 546 | W15: 1 | X15: 217 | Y15: 586
A16: 4 | B16: SIDOMULYO | C16: 25 | D16: 2 | E16: 2 | F16: - | G16: 1 | H16: 4 | I16: 2 | J16: 1 | K16: 1 | L16: 133 | M16: 81 | N16: 473 | O16: 473 | P16: 473 | Q16: - | R16: 389 | S16: 89 | T16: - | U16: 343 | V16: 412 | W16: 5 | X16: 245 | Y16: 470
A17: 5 | B17: BANGGI | C17: 19 | D17: 2 | E17: 2 | F17: - | G17: 2 | H17: 5 | I17: 3 | J17: 1 | K17: 1 | L17: 310 | M17: 90 | N17: 533 | O17: 533 | P17: 533 | Q17: - | R17: 240 | S17: 267 | T17: - | U17: 342 | V17: 476 | W17: 3 | X17: 270 | Y17: 580
A18: 6 | B18: KUANGSAN | C18: 23 | D18: 2 | E18: 2 | F18: - | G18: 2 | H18: 4 | I18: 2 | J18: 1 | K18: 3 | L18: 164 | M18: 106 | N18: 573 | O18: 573 | P18: 573 | Q18: - | R18: - | S18: 573 | T18: - | U18: 400 | V18: 523 | W18: 2 | X18: 298 | Y18: 450
A19: 7 | B19: GUNUNGSARI | C19: 28 | D19: 6 | E19: 2 | F19: - | G19: 2 | H19: 7 | I19: 6 | J19: 1 | K19: 2 | L19: 271 | M19: 122 | N19: 905 | O19: 905 | P19: 905 | Q19: - | R19: 449 | S19: 456 | T19: - | U19: 655 | V19: 820 | W19: 10 | X19: 513 | Y19: 700
A20: 8 | B20: SENDANG AGUNG | C20: 41 | D20: 5 | E20: 2 | F20: - | G20: 2 | H20: 5 | I20: 4 | J20: 1 | K20: 1 | L20: 392 | M20: 81 | N20: 1143 | O20: 1143 | P20: 1143 | Q20: - | R20: 479 | S20: 868 | T20: - | U20: 787 | V20: 1136 | W20: 10 | X20: 592 | Y20: 800
A21: 9 | B21: KARANG SEKAR | C21: 20 | D21: 2 | E21: 2 | F21: - | G21: 1 | H21: 4 | I21: 2 | J21: 1 | K21: 4 | L21: 210 | M21: 106 | N21: 393 | O21: 393 | P21: 393 | Q21: - | R21: 205 | S21: 273 | T21: - | U21: 289 | V21: 393 | W21: 2 | X21: 229 | Y21: 400
A22: 10 | B22: BABADAN | C22: 20 | D22: 2 | E22: 3 | F22: - | G22: 2 | H22: 6 | I22: 2 | J22: 1 | K22: 1 | L22: 525 | M22: 135 | N22: 1066 | O22: 1066 | P22: 1066 | Q22: 1 | R22: 1 | S22: 539 | T22: 300 | U22: 563 | V22: 793 | W22: 1 | X22: 440 | Y22: 903
A23: 11 | B23: PENGKOL | C23: 15 | D23: 2 | E23: 2 | F23: - | G23: 1 | H23: 4 | I23: 2 | J23: 1 | K23: 1 | L23: 257 | M23: 69 | N23: 553 | O23: 553 | P23: 553 | Q23: - | R23: 218 | S23: 253 | T23: - | U23: 304 | V23: 436 | W23: 1 | X23: 240 | Y23: 412
A24: 12 | B24: SAMBIYAN | C24: 20 | D24: 2 | E24: 2 | F24: - | G24: 1 | H24: 5 | I24: 2 | J24: 1 | K24: 1 | L24: 164 | M24: 47 | N24: 589 | O24: 589 | P24: 589 | Q24: - | R24: 145 | S24: 492 | T24: - | U24: 340 | V24: 530 | W24: 0 | X24: 267 | Y24: 491
A25: 13 | B25: MPJOREMBUM | C25: 21 | D25: 3 | E25: 3 | F25: - | G25: 3 | H25: 5 | I25: 3 | J25: 1 | K25: 2 | L25: 152 | M25: 52 | N25: 502 | O25: 502 | P25: 502 | Q25: - | R25: - | S25: 500 | T25: - | U25: 338 | V25: 499 | W25: 5 | X25: 264 | Y25: 398
A26: 14 | B26: TUNGGULSARI | C26: 20 | D26: 1 | E26: 1 | F26: - | G26: 1 | H26: 3 | I26: 1 | J26: 1 | K26: 3 | L26: 71 | M26: 37 | N26: 241 | O26: 241 | P26: 241 | Q26: - | R26: 165 | S26: 12 | T26: - | U26: 152 | V26: 242 | W26: 7 | X26: 115 | Y26: 550
A27: 15 | B27: TAMBAK AGUNG | C27: 25 | D27: 4 | E27: 2 | F27: - | G27: 1 | H27: 4 | I27: 5 | J27: 1 | K27: 1 | L27: 212 | M27: 65 | N27: 699 | O27: 699 | P27: 699 | Q27: - | R27: 700 | S27: 31 | T27: - | U27: 480 | V27: 681 | W27: 6 | X27: 367 | Y27: 201
A28: 16 | B28: MPJOWARNO | C28: 29 | D28: 6 | E28: 6 | F28: - | G28: 6 | H28: 4 | I28: 4 | J28: 1 | K28: 1 | L28: 141 | M28: 52 | N28: 498 | O28: 498 | P28: 498 | Q28: - | R28: 498 | S28: - | T28: - | U28: 282 | V28: 442 | W28: 0 | X28: 230 | Y28: 370
A29: 17 | B29: DRESI KULON | C29: 35 | D29: 2 | E29: 5 | F29: - | G29: 2 | H29: 6 | I29: 2 | J29: 1 | K29: 1 | L29: 117 | M29: 46 | N29: 614 | O29: 614 | P29: 614 | Q29: - | R29: 401 | S29: 193 | T29: - | U29: 368 | V29: 593 | W29: 1 | X29: 287 | Y29: 550
A30: 18 | B30: DRESI WETAN | C30: 23 | D30: 1 | E30: 2 | F30: - | G30: 1 | H30: 5 | I30: 1 | J30: 1 | K30: 1 | L30: 70 | M30: 70 | N30: 337 | O30: 337 | P30: 337 | Q30: - | R30: 134 | S30: 195 | T30: - | U30: 208 | V30: 215 | W30: 0 | X30: 169 | Y30: 403
A31: 19 | B31: TASIKHARJO | C31: 17 | D31: 3 | E31: 2 | F31: - | G31: 2 | H31: 4 | I31: 3 | J31: 1 | K31: 1 | L31: 81 | M31: 44 | N31: 381 | O31: 381 | P31: 381 | Q31: - | R31: 312 | S31: 64 | T31: - | U31: 215 | V31: 363 | W31: 6 | X31: 157 | Y31: 297
A32: 20 | B32: PURWOREJO | C32: 40 | D32: 4 | E32: 3 | F32: - | G32: 2 | H32: 3 | I32: 4 | J32: 1 | K32: 1 | L32: 75 | M32: 25 | N32: 364 | O32: 364 | P32: 364 | Q32: - | R32: 257 | S32: 77 | T32: - | U32: 233 | V32: 348 | W32: 11 | X32: 166 | Y32: 261
A33: 21 | B33: BOGOHARJO | C33: 15 | D33: 2 | E33: 1 | F33: - | G33: 1 | H33: 3 | I33: 1 | J33: 1 | K33: 1 | L33: 69 | M33: 20 | N33: 245 | O33: 245 | P33: 245 | Q33: - | R33: 36 | S33: 210 | T33: - | U33: 135 | V33: 219 | W33: 4 | X33: 97 | Y33: 180
A34: 22 | B34: BANYUDONO | C34: 11 | D34: 2 | E34: 1 | F34: - | G34: 1 | H34: 3 | I34: 2 | J34: 1 | K34: 1 | L34: 81 | M34: 30 | N34: 158 | O34: 158 | P34: 158 | Q34: - | R34: 182 | S34: 20 | T34: - | U34: 165 | V34: 224 | W34: 7 | X34: 119 | Y34: 172
A35: 23 | B35: PANTIHARJO | C35: 20 | D35: 1 | E35: 1 | F35: - | G35: 1 | H35: 1 | I35: 1 | J35: 1 | K35: 1 | L35: 52 | M35: 20 | N35: 138 | O35: 138 | P35: 138 | Q35: - | R35: 90 | S35: 25 | T35: - | U35: 95 | V35: 137 | W35: 0 | X35: 67 | Y35: 80
A36: Jumlah | C36: =SUM(C13:C35) -> 535 | D36: =SUM(D13:D35) -> 63 | E36: =SUM(E13:E35) -> 52 | F36: =SUM(F13:F35) -> 0 | G36: =SUM(G13:G35) -> 40 | H36: =SUM(H13:H35) -> 99 | I36: =SUM(I13:I35) -> 61 | J36: =SUM(J13:J35) -> 23 | ... Z36: =SUM(Z13:Z35) -> 0

Sheet REMBANG
A1: DATA KEGIATAN TP.PKK KABUPATEN REMBANG
A2: POKJA IV
A3: TAHUN : 2025
A5: KECAMATAN : | C5: REMBANG
A7: NO | B7: NAMA DESA | C7: JUMLAH KADER | I7: KESEHATAN | N7: KELESTARIAN LINGKUNGAN HIDUP | U7: PERENCANAAN SEHAT | Z7: KETERANGAN
C8: POSYANDU | D8: GIZI | E8: KESLING | F8: PENYULUHAN NARKOBA | G8: PHBS | H8: KB | I8: POSYANDU | N8: JUMLAH RUMAH YANG MEMILIKI | Q8: JUMLAH MCK | R8: JML KRT YANG MENGGUNAKAN AIR | U8: JUMLAH PUS | V8: JUMLAH WUS | W8: JUMLAH AKSEPTOR KB | Y8: JML KK YANG MEMILIKI TABUNGAN KELUARGA
I9: JUMLAH | J9: TERINTEGRASI | K9: LANSIA
K10: JML KLP | L10: JML ANGGOTA | M10: JML YANG MEMILIKI KARTU BEROBAT GRATIS | R10: PDAM | S10: SUMUR | T10: LAIN- LAIN
N11: JAMBAN | O11: SPAL | P11: TEMPAT PEMBUANGAN SAMPAH | W11: L | X11: P
A12: 1 | B12: 2 | C12: 3 | D12: 4 | E12: 5 | F12: 6 | G12: 7 | H12: 8 | I12: 9 | J12: 10 | K12: 11 | L12: 12 | M12: 13 | N12: 14 | O12: 15 | P12: 16 | Q12: 17 | R12: 18 | S12: 19 | T12: 20 | U12: 21 | V12: 22 | W12: 23 | X12: 24 | Y12: 25 | Z12: 26
A13: 1 | B13: KEDUNGREJO | C13: 25 | D13: 5 | E13: 5 | F13: 5 | G13: 5 | H13: 6 | I13: 5 | J13: 1 | K13: 5 | L13: 437 | M13: 437 | N13: 815 | O13: 815 | P13: 815 | R13: 342 | S13: 526 | T13: 136 | U13: 463 | V13: 601 | W13: 4 | X13: 351 | Y13: 973
A14: 2 | B14: TURUSGEDE | C14: 20 | D14: 4 | E14: 4 | F14: 4 | G14: 4 | H14: 4 | I14: 4 | J14: 1 | K14: 4 | L14: 446 | M14: 446 | N14: 608 | O14: 608 | P14: 608 | R14: 328 | S14: 490 | U14: 420 | V14: 546 | W14: 18 | X14: 202 | Y14: 610
A15: 3 | B15: KUMENDUNG | C15: 20 | D15: 4 | E15: 4 | F15: 4 | G15: 4 | H15: 5 | I15: 4 | J15: 1 | K15: 4 | L15: 312 | M15: 312 | N15: 460 | O15: 460 | P15: 460 | R15: 221 | S15: 331 | T15: 80 | U15: 307 | V15: 399 | W15: 4 | X15: 203 | Y15: 590
A16: 4 | B16: SRIDADI | C16: 24 | D16: 4 | E16: 4 | F16: 4 | G16: 4 | H16: 10 | I16: 4 | J16: 1 | K16: 4 | L16: 474 | M16: 474 | N16: 950 | O16: 950 | P16: 950 | R16: 386 | S16: 578 | T16: 45 | U16: 547 | V16: 711 | W16: 4 | X16: 295 | Y16: 1010
A17: 5 | B17: PADARAN | C17: 24 | D17: 3 | E17: 3 | F17: 3 | G17: 3 | H17: 5 | I17: 3 | J17: 1 | K17: 3 | L17: 365 | M17: 365 | N17: 825 | O17: 825 | P17: 825 | R17: 312 | S17: 467 | T17: 115 | U17: 485 | V17: 631 | W17: 8 | X17: 303 | Y17: 929
A18: 6 | B18: TLOGOMOJO | C18: 20 | D18: 2 | E18: 2 | F18: 2 | G18: 2 | H18: 3 | I18: 2 | J18: 1 | K18: 2 | L18: 251 | M18: 251 | N18: 600 | O18: 600 | P18: 600 | R18: 213 | S18: 318 | T18: 231 | U18: 299 | V18: 389 | W18: 4 | X18: 201 | Y18: 624
A19: 7 | B19: KASREMAN | C19: 20 | D19: 4 | E19: 4 | F19: 4 | G19: 4 | H19: 3 | I19: 4 | J19: 1 | K19: 4 | L19: 521 | M19: 521 | N19: 976 | O19: 976 | P19: 976 | R19: 434 | S19: 650 | U19: 544 | V19: 707 | W19: 1 | X19: 343 | Y19: 1106
A20: 8 | B20: PUNJULHARJO | C20: 25 | D20: 5 | E20: 5 | F20: 5 | G20: 5 | H20: 5 | I20: 5 | J20: 1 | K20: 5 | L20: 263 | M20: 263 | N20: 566 | O20: 566 | P20: 566 | R20: 221 | S20: 331 | T20: 134 | U20: 319 | V20: 414 | W20: 5 | X20: 204 | Y20: 583
A21: 9 | B21: TRITUNGGAL | C21: 34 | D21: 3 | E21: 3 | F21: 3 | G21: 3 | H21: 4 | I21: 3 | J21: 1 | K21: 3 | L21: 210 | M21: 210 | N21: 425 | O21: 425 | P21: 425 | R21: 210 | S21: 314 | U21: 282 | V21: 367 | W21: 2 | X21: 197 | Y21: 527
A22: 10 | B22: PASARBANGGI | C22: 25 | D22: 5 | E22: 5 | F22: 5 | G22: 5 | H22: 6 | I22: 5 | J22: 1 | K22: 5 | L22: 404 | M22: 404 | N22: 895 | O22: 895 | P22: 895 | R22: 449 | S22: 675 | U22: 660 | V22: 859 | W22: 11 | X22: 421 | Y22: 1166
A23: 11 | B23: GEDANGAN | C23: 25 | D23: 3 | E23: 3 | F23: 3 | G23: 3 | H23: 4 | I23: 3 | J23: 1 | K23: 3 | L23: 306 | M23: 306 | N23: 742 | O23: 742 | P23: 742 | R23: 320 | S23: 482 | U23: 449 | V23: 584 | W23: 3 | X23: 268 | Y23: 760
A24: 12 | B24: WETON | C24: 10 | D24: 2 | E24: 2 | F24: 2 | G24: 2 | H24: 3 | I24: 2 | J24: 0 | K24: 2 | L24: 220 | M24: 220 | N24: 442 | O24: 442 | P24: 442 | R24: 153 | S24: 230 | U24: 211 | V24: 275 | W24: 6 | X24: 134 | Y24: 443
A25: 13 | B25: NGOTET | C25: 47 | D25: 7 | E25: 7 | F25: 7 | G25: 7 | H25: 6 | I25: 7 | J25: 1 | K25: 7 | L25: 429 | M25: 429 | N25: 910 | O25: 910 | P25: 910 | R25: 365 | S25: 547 | U25: 657 | V25: 854 | W25: 12 | X25: 239 | Y25: 911
A26: 14 | B26: MONDOTEKO | C26: 85 | D26: 12 | E26: 12 | F26: 12 | G26: 12 | H26: 9 | I26: 12 | J26: 1 | K26: 12 | L26: 629 | M26: 629 | N26: 1267 | O26: 1267 | P26: 1267 | R26: 660 | S26: 990 | T26: 25 | U26: 879 | V26: 1143 | W26: 67 | X26: 505 | Y26: 2205
A27: 15 | B27: NGADEM | C27: 10 | D27: 2 | E27: 2 | F27: 2 | G27: 2 | H27: 3 | I27: 2 | J27: 1 | K27: 2 | L27: 292 | M27: 292 | N27: 445 | O27: 445 | P27: 445 | R27: 203 | S27: 305 | U27: 268 | V27: 349 | X27: 171 | Y27: 550
A28: 16 | B28: KETANGGI | C28: 40 | D28: 5 | E28: 5 | F28: 5 | G28: 5 | H28: 3 | I28: 5 | J28: 1 | K28: 5 | L28: 375 | M28: 375 | N28: 637 | O28: 637 | P28: 637 | Q28: 1 | R28: 305 | S28: 457 | T28: 159 | U28: 439 | V28: 570 | W28: 12 | X28: 208 | Y28: 768
A29: 17 | B29: PULO | C29: 41 | D29: 5 | E29: 5 | F29: 5 | G29: 5 | H29: 5 | I29: 5 | J29: 1 | K29: 5 | L29: 446 | M29: 446 | N29: 953 | O29: 953 | P29: 953 | R29: 447 | S29: 727 | U29: 546 | V29: 710 | W29: 10 | X29: 316 | Y29: 1113
A30: 18 | B30: WARU | C30: 72 | D30: 9 | E30: 9 | F30: 9 | G30: 9 | H30: 6 | I30: 9 | J30: 0 | K30: 9 | L30: 868 | M30: 868 | N30: 1579 | O30: 1579 | P30: 1579 | R30: 753 | S30: 1130 | U30: 1175 | V30: 1528 | W30: 8 | X30: 663 | Y30: 1970
A31: 19 | B31: MAGERSARI | C31: 36 | D31: 6 | E31: 6 | F31: 6 | G31: 6 | H31: 3 | I31: 6 | J31: 1 | K31: 6 | L31: 486 | M31: 486 | N31: 848 | O31: 848 | P31: 848 | R31: 349 | S31: 524 | U31: 453 | V31: 588 | W31: 13 | X31: 189 | Y31: 1137
A32: 20 | B32: GEG.KULON | C32: 15 | D32: 2 | E32: 2 | F32: 2 | G32: 2 | H32: 3 | I32: 2 | J32: 1 | K32: 2 | L32: 359 | M32: 359 | N32: 271 | O32: 271 | P32: 271 | R32: 144 | S32: 215 | U32: 192 | V32: 251 | W32: 5 | X32: 138 | Y32: 324
A33: 21 | B33: GEG.WETAN | C33: 15 | D33: 3 | E33: 3 | F33: 3 | G33: 3 | H33: 3 | I33: 3 | J33: 0 | K33: 3 | L33: 177 | M33: 177 | N33: 383 | O33: 383 | P33: 383 | R33: 197 | S33: 296 | U33: 299 | V33: 389 | W33: 1 | X33: 195 | Y33: 515
A34: 22 | B34: PACAR | C34: 15 | D34: 2 | E34: 2 | F34: 2 | G34: 2 | H34: 3 | I34: 2 | J34: 1 | K34: 2 | L34: 282 | M34: 282 | N34: 495 | O34: 495 | P34: 495 | R34: 365 | S34: 531 | U34: 211 | V34: 274 | X34: 126 | Y34: 495
A35: 23 | B35: TANJUNGSARI | C35: 20 | D35: 4 | E35: 4 | F35: 4 | G35: 4 | H35: 5 | I35: 4 | J35: 1 | K35: 4 | L35: 402 | M35: 402 | N35: 853 | O35: 853 | P35: 853 | R35: 365 | S35: 531 | U35: 439 | V35: 570 | W35: 6 | X35: 300 | Y35: 1058
A36: 24 | B36: SUMBERJO | C36: 57 | D36: 9 | E36: 9 | F36: 9 | G36: 9 | H36: 9 | I36: 9 | J36: 1 | K36: 9 | L36: 629 | M36: 629 | N36: 2680 | O36: 2680 | P36: 2680 | R36: 1051 | S36: 1578 | T36: 63 | U36: 1061 | V36: 1379 | W36: 13 | X36: 662 | Y36: 3064
A37: 25 | B37: TASIKAGUNG | C37: 20 | D37: 4 | E37: 4 | F37: 4 | G37: 4 | H37: 5 | I37: 4 | J37: 1 | K37: 4 | L37: 460 | M37: 460 | N37: 923 | O37: 923 | P37: 923 | R37: 490 | S37: 735 | U37: 483 | V37: 628 | W37: 2 | X37: 304 | Y37: 1570
A38: 26 | B38: SAWAHAN | C38: 20 | D38: 4 | E38: 4 | F38: 4 | G38: 4 | H38: 5 | I38: 4 | J38: 1 | K38: 4 | L38: 287 | M38: 287 | N38: 689 | O38: 689 | P38: 689 | R38: 214 | S38: 320 | U38: 184 | V38: 240 | W38: 6 | X38: 55 | Y38: 804
A39: 27 | B39: LETEH | C39: 63 | D39: 7 | E39: 7 | F39: 7 | G39: 7 | H39: 6 | I39: 7 | J39: 0 | K39: 7 | L39: 752 | M39: 752 | N39: 1249 | O39: 1249 | P39: 1249 | R39: 636 | S39: 957 | T39: 26 | U39: 553 | V39: 720 | W39: 72 | X39: 225 | Y39: 1387
A40: 28 | B40: SIDOWAYAH | C40: 35 | D40: 3 | E40: 3 | F40: 3 | G40: 3 | H40: 4 | I40: 3 | J40: 1 | K40: 3 | L40: 498 | M40: 498 | N40: 806 | O40: 806 | P40: 806 | R40: 401 | S40: 602 | U40: 455 | V40: 591 | W40: 3 | X40: 195 | Y40: 1058
A41: 29 | B41: KUTOHARJO | C41: 25 | D41: 5 | E41: 5 | F41: 5 | G41: 5 | H41: 4 | I41: 5 | J41: 1 | K41: 5 | L41: 189 | M41: 189 | N41: 272 | O41: 272 | P41: 272 | R41: 160 | S41: 292 | U41: 142 | V41: 184 | W41: 7 | X41: 54 | Y41: 507
A42: 30 | B42: PANDEAN | C42: 33 | D42: 3 | E42: 3 | F42: 3 | G42: 3 | H42: 4 | I42: 3 | J42: 1 | K42: 3 | L42: 385 | M42: 385 | N42: 433 | O42: 433 | P42: 433 | R42: 272 | S42: 408 | U42: 237 | V42: 308 | W42: 1 | X42: 135 | Y42: 519
...

Sheet PANCUR
