Workbook

Sheet DATA KIA  POKJAIV
A1: REKAPITULASI DATA
A2: IBU HAMIL, MELAHIRKAN, NIFAS, MENINGGAL, KELAHIRAN BAYI, BAYI MENINGGAL DAN KEMATIAN BALITA
A3: TP.PKK KABUPATEN REMBANG
A4: TAHUN : 2025
A7: NO | B7: NAMA KECAMATAN | C7: JUMLAH | H7: JUMLAH IBU | L7: JUMLAH BAYI | R7: JUMLAH BALITA MENINGGAL | T7: KET
C8: DESA /KEL | D8: DUSUN /LINGK | E8: RW | F8: RT | G8: DASA WISMA | H8: HAMIL | I8: MELAHIRKAN | J8: NIFAS | K8: MENINGGAL | L8: LAHIR | N8: AKTE KELAHIRAN | P8: MENINGGAL
L9: L | M9: P | N9: ADA | O9: TIDAK | P9: L | Q9: P | R9: L | S9: P
A10: 1 | B10: 2 | C10: 3 | D10: 4 | E10: 5 | F10: 6 | G10: 7 | H10: 8 | I10: 9 | J10: 10 | K10: 11 | L10: 12 | M10: 13 | N10: 14 | O10: 15 | P10: 16 | Q10: 17 | R10: 18 | S10: 19 | T10: 20
A11: 1 | B11: SUMBER | C11: 18 | D11: 56 | E11: 71 | F11: 247 | G11: 475 | H11: 273 | I11: 324 | J11: 324 | K11: 0 | L11: 165 | M11: 159 | N11: 324 | O11: 0 | P11: 3 | Q11: 4 | R11: 0 | S11: 0
A12: 2 | B12: BULU | C12: 16 | D12: 0 | E12: 52 | F12: 108 | G12: 1418 | H12: 1209 | I12: 246 | J12: 246 | K12: 0 | L12: 126 | M12: 118 | N12: 244 | O12: 0 | P12: 2 | Q12: 0 | R12: 0 | S12: 0
A13: 3 | B13: GUNEM | C13: 27 | D13: 27 | E13: 44 | F13: 177 | G13: 510 | H13: 109 | I13: 16 | J13: 0 | K13: 0 | L13: 10 | M13: 6 | N13: 16 | O13: 0 | P13: 0 | Q13: 0 | R13: 0 | S13: 0
A14: 4 | B14: SALE | C14: 15 | D14: 58 | E14: 62 | F14: 230 | G14: 508 | H14: 150 | I14: 327 | J14: 327 | K14: 0 | L14: 168 | M14: 159 | N14: 327 | O14: 0 | P14: 0 | Q14: 0 | R14: 0 | S14: 0
A15: 5 | B15: SARANG | C15: 23 | D15: 56 | E15: 63 | F15: 260 | G15: 60 | H15: 722 | I15: 757 | J15: 756 | K15: 1 | L15: 405 | M15: 352 | N15: 752 | O15: 6 | P15: 3 | Q15: 3 | R15: 1 | S15: 1
A16: 6 | B16: SEDAN | C16: 21 | D16: 0 | E16: 92 | F16: 255 | G16: 631 | H16: 674 | I16: 654 | J16: 654 | K16: 1 | L16: 73 | M16: 85 | N16: 650 | O16: 0 | P16: 6 | Q16: 5 | R16: 0 | S16: 3
A17: 7 | B17: PAMOTAN | C17: 23 | D17: 57 | E17: 75 | F17: 257 | G17: 754 | H17: 320 | I17: 533 | J17: 533 | K17: 0 | L17: 272 | M17: 249 | N17: 521 | O17: 0 | P17: 5 | Q17: 2 | R17: 0 | S17: 3
A18: 8 | B18: SULANG | C18: 21 | D18: 70 | E18: 78 | F18: 273 | G18: 760 | H18: 153 | I18: 348 | J18: 348 | K18: 0 | L18: 174 | M18: 175 | N18: 346 | O18: 0 | P18: 1 | Q18: 2 | R18: 3 | S18: 0
A19: 9 | B19: KALIORI | C19: =KALIORI!C34 -> 23 | D19: =KALIORI!D34 -> 0 | E19: =KALIORI!E34 -> 71 | F19: =KALIORI!F34 -> 263 | G19: =KALIORI!G34 -> 0 | H19: =KALIORI!H34 -> 422 | I19: =KALIORI!I34 -> 411 | J19: =KALIORI!J34 -> 411 | ... T19: =KALIORI!T34 -> 0
A20: 10 | B20: REMBANG | C20: 34 | D20: 128 | E20: 128 | F20: 523 | G20: 1292 | H20: 717 | I20: 638 | J20: 635 | K20: 3 | L20: 315 | M20: 329 | N20: 644 | O20: 0 | P20: 5 | Q20: 0 | R20: 0 | S20: 0
A21: 11 | B21: PANCUR | C21: =PANCUR!C34 -> 23 | D21: =PANCUR!D34 -> 60 | E21: =PANCUR!E34 -> 65 | F21: =PANCUR!F34 -> 144 | G21: =PANCUR!G34 -> 240 | H21: =PANCUR!H34 -> 139 | I21: =PANCUR!I34 -> 41 | J21: =PANCUR!J34 -> 38 | ... S21: =PANCUR!S34 -> 0 | T21: =PANCUR!U34 -> 0
A22: 12 | B22: KRAGAN | C22: 27 | D22: 64 | E22: 85 | F22: 302 | G22: 691 | H22: 695 | I22: 703 | J22: 703 | K22: 1 | L22: 384 | M22: 322 | N22: 707 | O22: 0 | P22: 4 | Q22: 5 | R22: 1 | S22: 0
A23: 13 | B23: SLUKE | C23: 14 | D23: =SLUKE!D25 -> 0 | E23: =SLUKE!E25 -> 42 | F23: =SLUKE!F25 -> 159 | G23: =SLUKE!G25 -> 554 | H23: =SLUKE!H25 -> 274 | I23: =SLUKE!I25 -> 293 | J23: =SLUKE!J25 -> 293 | K23: =SLUKE!K25 -> 0 | ... S23: =SLUKE!S25 -> 0
A24: 14 | B24: LASEM | C24: 20 | D24: 82 | E24: 103 | F24: 285 | G24: 875 | H24: 3486 | I24: 543 | J24: 543 | K24: 0 | L24: 293 | M24: 260 | N24: 543 | O24: 0 | P24: 3 | Q24: 3 | R24: 0 | S24: 2
A25: JUMLAH | C25: =SUM(C11:C24) -> 305 | D25: =SUM(D11:D24) -> 658 | E25: =SUM(E11:E24) -> 1031 | F25: =SUM(F11:F24) -> 3483 | G25: =SUM(G11:G24) -> 8768 | H25: =SUM(H11:H24) -> 9343 | I25: =SUM(I11:I24) -> 5834 | J25: =SUM(J11:J24) -> 5811 | ... S25: =SUM(S11:S24) -> 9

Sheet SUMBER
A1: REKAPITULASI DATA
A2: IBU HAMIL, MELAHIRKAN, NIFAS, MENINGGAL, KELAHIRAN BAYI, BAYI MENINGGAL DAN KEMATIAN BALITA
A3: TP.PKK KABUPATEN REMBANG
A4: TAHUN : 2025
A6: KECAMATAN :
A7: NO | B7: NAMA DESA | C7: JUMLAH | H7: JUMLAH IBU | L7: JUMLAH BAYI | R7: JUMLAH BALITA MENINGGAL | T7: KET
C8: DESA /KEL | D8: DUSUN /LINGK | E8: RW | F8: RT | G8: DASA WISMA | H8: HAMIL | I8: MELAHIRKAN | J8: NIFAS | K8: MENINGGAL | L8: LAHIR | N8: AKTE KELAHIRAN | P8: MENINGGAL
L9: L | M9: P | N9: ADA | O9: TIDAK | P9: L | Q9: P | R9: L | S9: P
A10: 1 | B10: 2 | C10: 3 | D10: 4 | E10: 5 | F10: 6 | G10: 7 | H10: 8 | I10: 9 | J10: 10 | K10: 11 | L10: 12 | M10: 13 | N10: 14 | O10: 15 | P10: 16 | Q10: 17 | R10: 18 | S10: 19 | T10: 20
A11: 1 | B11: RONGGOMULYO | C11: 1 | D11: 2 | E11: 2 | F11: 14 | G11: 28 | H11: 9 | I11: 8 | J11: 8 | K11: 0 | L11: 3 | M11: 5 | N11: 8 | O11: 0 | P11: 0 | Q11: 0 | R11: 0 | S11: 0 | T11: Penyebab kematian bayi:
A12: 2 | B12: LOGEDE | C12: 1 | D12: 4 | E12: 4 | F12: 16 | G12: 42 | H12: 18 | I12: 22 | J12: 22 | K12: 0 | L12: 10 | M12: 12 | N12: 22 | O12: 0 | P12: 0 | Q12: 0 | R12: 0 | S12: 0 | T12: 1. Kongenetal (kelainan bawaan )
A13: 3 | B13: PELEMSARI | C13: 1 | D13: 3 | E13: 4 | F13: 12 | G13: 29 | H13: 9 | I13: 16 | J13: 16 | K13: 0 | L13: 8 | M13: 9 | N13: 17 | O13: 0 | P13: 0 | Q13: 0 | R13: 0 | S13: 0 | T13: 2. Prematur ( lahir belum genap bulan )
A14: 4 | B14: LOGUNG | C14: 1 | D14: 2 | E14: 2 | F14: 9 | G14: 27 | H14: 8 | I14: 9 | J14: 9 | K14: 0 | L14: 4 | M14: 5 | N14: 9 | O14: 0 | P14: 0 | Q14: 1 | R14: 0 | S14: 0 | T14: 3. Aspixia ( gangguan nafas )
A15: 5 | B15: KRIKILAN | C15: 1 | D15: 3 | E15: 3 | F15: 19 | G15: 39 | H15: 12 | I15: 16 | J15: 16 | K15: 0 | L15: 8 | M15: 8 | N15: 16 | O15: 0 | P15: 0 | Q15: 0 | R15: 0 | S15: 0 | T15: 4. Intrauteri Fetal Death ( bayi meninggal dalam kandungan)
A16: 6 | B16: KEDUNGTULUP | C16: 1 | D16: 1 | E16: 1 | F16: 7 | G16: 21 | H16: 12 | I16: 15 | J16: 15 | K16: 0 | L16: 7 | M16: 8 | N16: 15 | O16: 0 | P16: 0 | Q16: 0 | R16: 0 | S16: 0
A17: 7 | B17: JATIHADI | C17: 1 | D17: 4 | E17: 5 | F17: 16 | G17: 38 | H17: 17 | I17: 17 | J17: 17 | K17: 0 | L17: 9 | M17: 8 | N17: 17 | O17: 0 | P17: 0 | Q17: 0 | R17: 0 | S17: 0
A18: 8 | B18: POLBAYEM | C18: 1 | D18: 2 | E18: 2 | F18: 5 | G18: 21 | H18: 7 | I18: 13 | J18: 13 | K18: 0 | L18: 5 | M18: 8 | N18: 13 | O18: 0 | P18: 0 | Q18: 0 | R18: 0 | S18: 0
A19: 9 | B19: SUMBER | C19: 1 | D19: 3 | E19: 7 | F19: 26 | G19: 52 | H19: 28 | I19: 42 | J19: 42 | K19: 0 | L19: 23 | M19: 18 | N19: 41 | O19: 0 | P19: 1 | Q19: 1 | R19: 0 | S19: 0
A20: 10 | B20: JADI | C20: 1 | D20: 1 | E20: 2 | F20: 8 | G20: 24 | H20: 18 | I20: 19 | J20: 19 | K20: 0 | L20: 11 | M20: 12 | N20: 23 | O20: 0 | P20: 1 | Q20: 1 | R20: 0 | S20: 0
A21: 11 | B21: GRAWAN | C21: 1 | D21: 3 | E21: 3 | F21: 15 | G21: 30 | H21: 31 | I21: 29 | J21: 29 | K21: 0 | L21: 15 | M21: 11 | N21: 26 | O21: 0 | P21: 1 | Q21: 1 | R21: 0 | S21: 0
A22: 12 | B22: RANDUAGUNG | C22: 1 | D22: 3 | E22: 6 | F22: 12 | G22: 24 | H22: 12 | I22: 13 | J22: 13 | K22: 0 | L22: 8 | M22: 4 | N22: 12 | O22: 0 | P22: 0 | Q22: 0 | R22: 0 | S22: 0
A23: 13 | B23: SUKOREJO | C23: 1 | D23: 4 | E23: 4 | F23: 11 | G23: 22 | H23: 11 | I23: 15 | J23: 15 | K23: 0 | L23: 10 | M23: 6 | N23: 16 | O23: 0 | P23: 0 | Q23: 0 | R23: 0 | S23: 0
A24: 14 | B24: TLOGOTUNGGAL | C24: 1 | D24: 7 | E24: 7 | F24: 19 | G24: 52 | H24: 25 | I24: 30 | J24: 30 | K24: 0 | L24: 14 | M24: 16 | N24: 30 | O24: 0 | P24: 0 | Q24: 0 | R24: 0 | S24: 0
A25: 15 | B25: BOGOREJO | C25: 1 | D25: 3 | E25: 2 | F25: 10 | G25: 20 | H25: 9 | I25: 8 | J25: 8 | K25: 0 | L25: 4 | M25: 3 | N25: 7 | O25: 0 | P25: 0 | Q25: 0 | R25: 0 | S25: 0
A26: 16 | B26: MEGULUNG | C26: 1 | D26: 1 | E26: 2 | F26: 8 | G26: 16 | H26: 9 | I26: 10 | J26: 10 | K26: 0 | L26: 5 | M26: 7 | N26: 12 | O26: 0 | P26: 0 | Q26: 0 | R26: 0 | S26: 0
A27: 17 | B27: KEDUNGASEM | C27: 1 | D27: 3 | E27: 6 | F27: 19 | G27: 36 | H27: 10 | I27: 14 | J27: 14 | K27: 0 | L27: 5 | M27: 9 | N27: 14 | O27: 0 | P27: 0 | Q27: 0 | R27: 0 | S27: 0
A28: 18 | B28: SEKARSARI | C28: 1 | D28: 6 | E28: 9 | F28: 21 | G28: 51 | H28: 28 | I28: 28 | J28: 28 | K28: 0 | L28: 16 | M28: 10 | N28: 26 | O28: 0 | P28: 0 | Q28: 0 | R28: 0 | S28: 0
A29: JUMLAH | C29: =SUM(C11:C28) -> 18 | D29: =SUM(D11:D28) -> 55 | E29: =SUM(E11:E28) -> 71 | F29: =SUM(F11:F28) -> 247 | G29: =SUM(G11:G28) -> 572 | H29: =SUM(H11:H28) -> 273 | I29: =SUM(I11:I28) -> 324 | J29: =SUM(J11:J28) -> 324 | ... S29: =SUM(S11:S28) -> 0

Sheet BULU
A1: REKAPITULASI DATA
A2: IBU HAMIL, MELAHIRKAN, NIFAS, MENINGGAL, KELAHIRAN BAYI, BAYI MENINGGAL DAN KEMATIAN BALITA
A3: TP.PKK KABUPATEN REMBANG
A4: TAHUN : 2025
A6: KECAMATAN : bULU
A7: NO | B7: NAMA DESA | C7: JUMLAH | H7: JUMLAH IBU | L7: JUMLAH BAYI | R7: JUMLAH BALITA MENINGGAL | T7: KET
C8: DESA /KEL | D8: DUSUN /LINGK | E8: RW | F8: RT | G8: DASA WISMA | H8: HAMIL | I8: MELAHIRKAN | J8: NIFAS | K8: MENINGGAL | L8: LAHIR | N8: AKTE KELAHIRAN | P8: MENINGGAL
L9: L | M9: P | N9: ADA | O9: TIDAK | P9: L | Q9: P | R9: L | S9: P
A10: 1 | B10: 2 | C10: 3 | D10: 4 | E10: 5 | F10: 6 | G10: 7 | H10: 8 | I10: 9 | J10: 10 | K10: 11 | L10: 12 | M10: 13 | N10: 14 | O10: 15 | P10: 16 | Q10: 17 | R10: 18 | S10: 19 | T10: 20
A11: 1 | B11: Warugunung | C11: 1 | E11: 6 | F11: 11 | G11: 10 | H11: 53 | I11: 17 | J11: 17 | K11: 0 | L11: 11 | M11: 6 | N11: 17 | O11: 0 | P11: 0 | Q11: 0 | R11: 0 | S11: 0
A12: 2 | B12: Kadiwono | C12: 1 | E12: 1 | F12: 4 | G12: 5 | H12: 24 | I12: 9 | J12: 9 | K12: 0 | L12: 3 | M12: 6 | N12: 9 | O12: 0 | P12: 0 | Q12: 0 | R12: 0 | S12: 0
A13: 3 | B13: Bulu | C13: 1 | E13: 1 | F13: 5 | G13: 17 | H13: 32 | I13: 8 | J13: 8 | K13: 0 | L13: 2 | M13: 6 | N13: 8 | O13: 0 | P13: 0 | Q13: 0 | R13: 0 | S13: 0
A14: 4 | B14: Ngulaan | C14: 1 | E14: 2 | F14: 6 | G14: 6 | H14: 43 | I14: 14 | J14: 14 | K14: 0 | L14: 8 | M14: 6 | N14: 14 | O14: 0 | P14: 0 | Q14: 0 | R14: 0 | S14: 0
A15: 5 | B15: Lambangan Wetan | C15: 1 | E15: 3 | F15: 11 | G15: 33 | H15: 103 | I15: 11 | J15: 11 | K15: 0 | L15: 5 | M15: 6 | N15: 11 | O15: 0 | P15: 0 | Q15: 0 | R15: 0 | S15: 0
A16: 6 | B16: Sendangmulyo | C16: 1 | E16: 4 | F16: 26 | G16: 78 | H16: 216 | I16: 44 | J16: 44 | K16: 0 | L16: 17 | M16: 27 | N16: 44 | O16: 0 | P16: 0 | Q16: 0 | R16: 0 | S16: 0
A17: 7 | B17: Cabean Kidul | C17: 1 | E17: 2 | F17: 6 | G17: 23 | H17: 77 | I17: 14 | J17: 14 | K17: 0 | L17: 7 | M17: 7 | N17: 14 | O17: 0 | P17: 0 | Q17: 0 | R17: 0 | S17: 0
A18: 8 | B18: Jukung | C18: 1 | E18: 5 | F18: 14 | G18: 37 | H18: 101 | I18: 17 | J18: 17 | K18: 0 | L18: 9 | M18: 8 | N18: 17 | O18: 0 | P18: 0 | Q18: 0 | R18: 0 | S18: 0
A19: 9 | B19: Karangasem | C19: 1 | E19: 4 | F19: 12 | G19: 42 | H19: 107 | I19: 18 | J19: 18 | K19: 0 | L19: 12 | M19: 5 | N19: 18 | O19: 0 | P19: 1 | Q19: 0 | R19: 0 | S19: 0
A20: 10 | B20: Pasedan | C20: 1 | E20: 10 | F20: 28 | G20: 56 | H20: 130 | I20: 21 | J20: 21 | K20: 0 | L20: 12 | M20: 8 | N20: 21 | O20: 0 | P20: 1 | Q20: 0 | R20: 0 | S20: 0
A21: 11 | B21: Lambangan Kulon | C21: 1 | E21: 1 | F21: 5 | G21: 13 | H21: 39 | I21: 13 | J21: 13 | K21: 0 | L21: 7 | M21: 6 | N21: 13 | O21: 0 | P21: 0 | Q21: 0 | R21: 0 | S21: 0
A22: 12 | B22: Mantingan | C22: 1 | E22: 4 | F22: 12 | G22: 484 | H22: 81 | I22: 17 | J22: 17 | K22: 0 | L22: 9 | M22: 8 | N22: 17 | O22: 0 | P22: 0 | Q22: 0 | R22: 0 | S22: 0
... A26: 16 | B26: Sumbermulyo | C26: 1 | E26: 3 | F26: 9 | G26: 49 | H26: 27 | I26: 7 | J26: 7 | K26: 0 | L26: 4 | M26: 4 | N26: 7 | O26: 0 | P26: 0 | Q26: 0 | R26: 0 | S26: 0
A27: JUMLAH | C27: =SUM(C11:C26) -> 16 | D27: =SUM(D11:D26) -> 0 | E27: =SUM(E11:E26) -> 52 | F27: =SUM(F11:F26) -> 180 | G27: =SUM(G11:G26) -> 1418 | H27: =SUM(H11:H26) -> 1209 | I27: =SUM(I11:I26) -> 246 | J27: =SUM(J11:J26) -> 246 | ... T27: =SUM(T11:T26) -> 0

Sheet GUNEM
A1: REKAPITULASI DATA
A2: IBU HAMIL, MELAHIRKAN, NIFAS, MENINGGAL, KELAHIRAN BAYI, BAYI MENINGGAL DAN KEMATIAN BALITA
A3: TP.PKK KABUPATEN REMBANG
A4: TAHUN : 2025
A6: KECAMATAN :
A7: NO | B7: NAMA DESA | C7: JUMLAH | H7: JUMLAH IBU | L7: JUMLAH BAYI | R7: JUMLAH BALITA MENINGGAL | T7: KET
C8: DESA /KEL | D8: DUSUN /LINGK | E8: RW | F8: RT | G8: DASA WISMA | H8: HAMIL | I8: MELAHIRKAN | J8: NIFAS | K8: MENINGGAL | L8: LAHIR | N8: AKTE KELAHIRAN | P8: MENINGGAL
L9: L | M9: P | N9: ADA | O9: TIDAK | P9: L | Q9: P | R9: L | S9: P
A10: 1 | B10: 2 | C10: 3 | D10: 4 | E10: 5 | F10: 6 | G10: 7 | H10: 8 | I10: 9 | J10: 10 | K10: 11 | L10: 12 | M10: 13 | N10: 14 | O10: 15 | P10: 16 | Q10: 17 | R10: 18 | S10: 19 | T10: 20
A11: 1
A12: 2
A13: 3
A14: 4
A15: 5
A16: 6
A17: 7
A18: 8
A19: 9
A20: 10
A21: 11
A22: 12
... A24: 14
A25: JUMLAH | C25: =SUM(C11:C24) -> 0 | D25: =SUM(D11:D24) -> 0 | E25: =SUM(E11:E24) -> 0 | F25: =SUM(F11:F24) -> 0 | G25: =SUM(G11:G24) -> 0 | H25: =SUM(H11:H24) -> 0 | I25: =SUM(I11:I24) -> 0 | J25: =SUM(J11:J24) -> 0 | ... S25: =SUM(S11:S24) -> 0

Sheet SALE
A1: REKAPITULASI DATA
A2: IBU HAMIL, MELAHIRKAN, NIFAS, MENINGGAL, KELAHIRAN BAYI, BAYI MENINGGAL DAN KEMATIAN BALITA
A3: TP.PKK KABUPATEN REMBANG
A4: TAHUN : 2025
A6: KECAMATAN :
A7: NO | B7: NAMA DESA | C7: JUMLAH | H7: JUMLAH IBU | L7: JUMLAH BAYI | R7: JUMLAH BALITA MENINGGAL | T7: KET
C8: DESA /KEL | D8: DUSUN /LINGK | E8: RW | F8: RT | G8: DASA WISMA | H8: HAMIL | I8: MELAHIRKAN | J8: NIFAS | K8: MENINGGAL | L8: LAHIR | N8: AKTE KELAHIRAN | P8: MENINGGAL
L9: L | M9: P | N9: ADA | O9: TIDAK | P9: L | Q9: P | R9: L | S9: P
A10: 1 | B10: 2 | C10: 3 | D10: 4 | E10: 5 | F10: 6 | G10: 7 | H10: 8 | I10: 9 | J10: 10 | K10: 11 | L10: 12 | M10: 13 | N10: 14 | O10: 15 | P10: 16 | Q10: 17 | R10: 18 | S10: 19 | T10: 20
A11: 1 | B11: Bancang | C11: 1 | D11: 2 | E11: 2 | F11: 7 | G11: 9 | H11: 7 | I11: 10 | J11: 10 | K11: 0 | L11: 6 | M11: 4 | N11: 10 | O11: 0 | P11: 0 | Q11: 0 | R11: 0 | S11: 0 | T11: Penyebab kematian
A12: 2 | B12: Mrayun | C12: 1 | D12: 6 | E12: 6 | F12: 28 | G12: 47 | H12: 13 | I12: 40 | J12: 40 | K12: 0 | L12: 22 | M12: 18 | N12: 40 | O12: 0 | P12: 0 | Q12: 0 | R12: 0 | S12: 0 | T12: 1. PJB
A13: 3 | B13: Ngajaran | C13: 1 | D13: 2 | E13: 2 | F13: 13 | G13: 29 | H13: 4 | I13: 10 | J13: 10 | K13: 0 | L13: 3 | M13: 7 | N13: 10 | O13: 0 | P13: 0 | Q13: 0 | R13: 0 | S13: 0 | T13: 2. TOF/ Kelaainan bawaan
A14: 4 | B14: Joho | C14: 1 | D14: 2 | E14: 2 | F14: 8 | G14: 16 | H14: 1 | I14: 4 | J14: 4 | K14: 0 | L14: 2 | M14: 2 | N14: 4 | O14: 0 | P14: 0 | Q14: 0 | R14: 0 | S14: 0 | T14: 3. Pnemonia
A15: 5 | B15: Sale | C15: 1 | D15: 6 | E15: 6 | F15: 21 | G15: 73 | H15: 20 | I15: 41 | J15: 41 | K15: 0 | L15: 21 | M15: 20 | N15: 41 | O15: 0 | P15: 0 | Q15: 0 | R15: 0 | S15: 0 | T15: 4. prematur BBLR
A16: 6 | B16: Tahunan | C16: 1 | D16: 8 | E16: 11 | F16: 40 | G16: 40 | H16: 25 | I16: 51 | J16: 51 | K16: 0 | L16: 26 | M16: 26 | N16: 52 | O16: 0 | P16: 0 | Q16: 1 | R16: 0 | S16: 0
A17: 7 | B17: Gading | C17: 1 | D17: 4 | E17: 4 | F17: 10 | G17: 38 | H17: 11 | I17: 20 | J17: 20 | K17: 0 | L17: 11 | M17: 9 | N17: 20 | O17: 0 | P17: 0 | Q17: 0 | R17: 0 | S17: 0
A18: 8 | B18: Jinanten | C18: 1 | D18: 5 | E18: 5 | F18: 12 | G18: 34 | H18: 6 | I18: 25 | J18: 25 | K18: 0 | L18: 13 | M18: 12 | N18: 25 | O18: 0 | P18: 1 | Q18: 0 | R18: 0 | S18: 0
A19: 9 | B19: Sumbermulyo | C19: 1 | D19: 2 | E19: 3 | F19: 17 | G19: 33 | H19: 5 | I19: 11 | J19: 11 | K19: 0 | L19: 4 | M19: 7 | N19: 11 | O19: 0 | P19: 0 | Q19: 0 | R19: 0 | S19: 0
A20: 10 | B20: Wonokerto | C20: 1 | D20: 7 | E20: 7 | F20: 28 | G20: 67 | H20: 20 | I20: 45 | J20: 45 | K20: 0 | L20: 25 | M20: 19 | N20: 44 | O20: 0 | P20: 0 | Q20: 0 | R20: 0 | S20: 0
A21: 11 | B21: Tengger | C21: 1 | D21: 5 | E21: 5 | F21: 14 | G21: 28 | H21: 12 | I21: 19 | J21: 19 | K21: 0 | L21: 10 | M21: 9 | N21: 19 | O21: 0 | P21: 0 | Q21: 0 | R21: 0 | S21: 0
A22: 12 | B22: Bitingan | C22: 1 | D22: 3 | E22: 3 | F22: 7 | G22: 14 | H22: 3 | I22: 6 | J22: 6 | K22: 0 | L22: 2 | M22: 4 | N22: 6 | O22: 0 | P22: 0 | Q22: 0 | R22: 0 | S22: 0
A23: 13 | B23: Ukir | C23: 1 | D23: 2 | E23: 2 | F23: 6 | G23: 25 | H23: 13 | I23: 23 | J23: 23 | K23: 0 | L23: 12 | M23: 11 | N23: 23 | O23: 0 | P23: 1 | Q23: 1 | R23: 0 | S23: 0
A24: 14 | B24: Rendeng | C24: 1 | D24: 2 | E24: 2 | F24: 11 | G24: 31 | H24: 6 | I24: 14 | J24: 14 | K24: 0 | L24: 6 | M24: 7 | N24: 13 | O24: 0 | P24: 0 | Q24: 0 | R24: 0 | S24: 0
A25: 15 | B25: Pakis | C25: 1 | D25: 2 | E25: 2 | F25: 8 | G25: 24 | H25: 4 | I25: 8 | J25: 8 | K25: 0 | L25: 5 | M25: 4 | N25: 9 | O25: 0 | P25: 0 | Q25: 0 | R25: 0 | S25: 0
A26: JUMLAH | C26: =SUM(C11:C25) -> 15 | D26: =SUM(D11:D25) -> 58 | E26: =SUM(E11:E25) -> 62 | F26: =SUM(F11:F25) -> 230 | G26: =SUM(G11:G25) -> 508 | H26: =SUM(H11:H25) -> 150 | I26: =SUM(I11:I25) -> 327 | J26: =SUM(J11:J25) -> 327 | ... S26: =SUM(S11:S25) -> 0

Sheet SARANG
A1: REKAPITULASI DATA
A2: IBU HAMIL, MELAHIRKAN, NIFAS, MENINGGAL, KELAHIRAN BAYI, BAYI MENINGGAL DAN KEMATIAN BALITA
A3: TP.PKK KABUPATEN REMBANG
A4: TAHUN : 2025
A6: KECAMATAN : SARANG
A7: NO | B7: NAMA DESA | C7: JUMLAH | H7: JUMLAH IBU | L7: JUMLAH BAYI | R7: JUMLAH BALITA MENINGGAL | T7: KET
C8: DESA /KEL | D8: DUSUN /LINGK | E8: RW | F8: RT | G8: DASA WISMA | H8: HAMIL | I8: MELAHIRKAN | J8: NIFAS | K8: MENINGGAL | L8: LAHIR | N8: AKTE KELAHIRAN | P8: MENINGGAL
L9: L | M9: P | N9: ADA | O9: TIDAK | P9: L | Q9: P | R9: L | S9: P
A10: 1 | B10: 2 | C10: 3 | D10: 4 | E10: 5 | F10: 6 | G10: 7 | H10: 8 | I10: 9 | J10: 10 | K10: 11 | L10: 12 | M10: 13 | N10: 14 | O10: 15 | P10: 16 | Q10: 17 | R10: 18 | S10: 19 | T10: 20
A11: 1 | B11: LODAN KULON | C11: 1 | D11: 3 | E11: 3 | F11: 13 | G11: 3 | H11: 45 | I11: 51 | J11: 51 | K11: - | L11: 32 | M11: 19 | N11: 52 | O11: - | P11: - | Q11: - | R11: - | S11: - | T11: -
A12: 2 | B12: LODAN WETAN | C12: 1 | D12: 3 | E12: 3 | F12: 16 | G12: 2 | H12: 46 | I12: 43 | J12: 43 | K12: - | L12: 26 | M12: 17 | N12: 43 | O12: - | P12: - | Q12: - | R12: - | S12: - | T12: -
A13: 3 | B13: BONJOR | C13: 1 | D13: 2 | E13: 4 | F13: 12 | G13: 4 | H13: 31 | I13: 30 | J13: 30 | K13: - | L13: 10 | M13: 20 | N13: 29 | O13: 1 | P13: 1 | Q13: - | R13: - | S13: - | T13: -
A14: 4 | B14: TAWANG REJO | C14: 1 | D14: 2 | E14: 4 | F14: 8 | G14: 3 | H14: 24 | I14: 23 | J14: 23 | K14: - | L14: 10 | M14: 13 | N14: 23 | O14: - | P14: - | Q14: - | R14: - | S14: - | T14: -
A15: 5 | B15: SAMPUNG | C15: 1 | D15: 3 | E15: 3 | F15: 11 | G15: 3 | H15: 5 | I15: 10 | J15: 10 | K15: - | L15: 4 | M15: 6 | N15: 10 | O15: - | P15: - | Q15: - | R15: 1 | S15: - | T15: -
A16: 6 | B16: BATURNO | C16: 1 | D16: 2 | E16: 2 | F16: 5 | G16: 2 | H16: 14 | I16: 23 | J16: 23 | K16: - | L16: 18 | M16: 5 | N16: 23 | O16: - | P16: - | Q16: - | R16: - | S16: - | T16: -
A17: 7 | B17: BABAK TULUNG | C17: 1 | D17: 3 | E17: 4 | F17: 15 | G17: 2 | H17: 31 | I17: 42 | J17: 42 | K17: - | L17: 21 | M17: 22 | N17: 43 | O17: - | P17: - | Q17: - | R17: - | S17: - | T17: -
A18: 8 | B18: NGLOJO | C18: 1 | D18: 2 | E18: 2 | F18: 10 | G18: 2 | H18: 30 | I18: 29 | J18: 29 | L18: 13 | M18: 16 | N18: 29 | O18: - | P18: - | Q18: - | R18: - | S18: - | T18: -
A19: 9 | B19: JAMBANGAN | C19: 1 | D19: 2 | E19: 2 | F19: 7 | G19: 3 | H19: 29 | I19: 20 | J19: 20 | K19: - | L19: 14 | M19: 6 | N19: 20 | O19: - | P19: - | Q19: - | R19: - | S19: - | T19: -
A20: 10 | B20: PELANG | C20: 1 | D20: 2 | E20: 2 | F20: 11 | G20: 2 | H20: 19 | I20: 19 | J20: 19 | K20: - | L20: 9 | M20: 10 | N20: 18 | O20: 1 | P20: - | Q20: 1 | R20: - | S20: - | T20: -
A21: 11 | B21: GILIS | C21: 1 | D21: 2 | E21: 2 | F21: 8 | G21: 4 | H21: 29 | I21: 34 | J21: 34 | K21: - | L21: 19 | M21: 15 | N21: 34 | O21: - | P21: - | Q21: - | R21: - | S21: - | T21: -
A22: 12 | B22: GUNUNG MULYO | C22: 1 | D22: 2 | E22: 2 | F22: 9 | G22: 2 | H22: 22 | I22: 24 | J22: 24 | K22: - | L22: 17 | M22: 7 | N22: 23 | O22: 1 | P22: 1 | Q22: - | R22: - | S22: - | T22: -
A23: 13 | B23: GONGGANG | C23: 1 | D23: 2 | E23: 2 | F23: 7 | G23: 2 | H23: 14 | I23: 15 | J23: 15 | K23: - | L23: 2 | M23: 13 | N23: 15 | O23: - | P23: - | Q23: - | R23: - | S23: - | T23: -
A24: 14 | B24: SUMBER MULYO | C24: 1 | D24: 3 | E24: 3 | F24: 14 | G24: 3 | H24: 29 | I24: 23 | J24: 23 | K24: - | L24: 13 | M24: 9 | N24: 21 | O24: 1 | P24: 1 | Q24: - | R24: - | S24: - | T24: -
A25: 15 | B25: KALIPANG | C25: 1 | D25: 5 | E25: 5 | F25: 22 | G25: 3 | H25: 72 | I25: 90 | J25: 90 | K25: - | L25: 51 | M25: 38 | N25: 89 | O25: - | P25: - | Q25: - | R25: - | S25: - | T25: -
A26: 16 | B26: DADAP MULYO | C26: 1 | D26: 3 | E26: 3 | F26: 14 | G26: 2 | H26: 24 | I26: 31 | J26: 31 | K26: - | L26: 16 | M26: 15 | N26: 31 | O26: - | P26: - | Q26: - | R26: - | S26: - | T26: -
A27: 17 | B27: SENDANG MULYO | C27: 1 | D27: 2 | E27: 2 | F27: 14 | G27: 2 | H27: 55 | I27: 56 | J27: 56 | K27: - | L27: 29 | M27: 27 | N27: 56 | O27: - | P27: - | Q27: - | R27: - | S27: - | T27: -
A28: 18 | B28: BANOWAN | C28: 1 | D28: 3 | E28: 3 | F28: 13 | G28: 2 | H28: 32 | I28: 31 | J28: 31 | K28: - | L28: 22 | M28: 9 | N28: 31 | O28: - | P28: - | Q28: - | R28: - | S28: - | T28: -
A29: 19 | B29: TEMPERAK | C29: 1 | D29: 2 | E29: 2 | F29: 8 | G29: 2 | H29: 32 | I29: 30 | J29: 29 | K29: 1 | L29: 11 | M29: 19 | N29: 31 | O29: - | P29: - | Q29: - | R29: - | S29: 1 | T29: -
A30: 20 | B30: KARANG MANGU | C30: 1 | D30: 2 | E30: 2 | F30: 12 | G30: 4 | H30: 56 | I30: 52 | J30: 52 | K30: - | L30: 32 | M30: 21 | N30: 53 | O30: - | P30: - | Q30: - | R30: - | S30: - | T30: -
A31: 21 | B31: BAJING JOWO | C31: 1 | D31: 2 | E31: 4 | F31: 14 | G31: 2 | H31: 40 | I31: 37 | J31: 37 | K31: - | L31: 19 | M31: 19 | N31: 35 | O31: 2 | P31: - | Q31: 2 | R31: - | S31: - | T31: -
A32: 22 | B32: BAJING MEDURO | C32: 1 | D32: 2 | E32: 2 | F32: 8 | G32: 3 | H32: 11 | I32: 16 | J32: 16 | K32: - | L32: 7 | M32: 8 | N32: 15 | O32: - | P32: - | Q32: - | R32: - | S32: - | T32: -
A33: 23 | B33: SARANG MEDURO | C33: 1 | D33: 2 | E33: 2 | F33: 9 | G33: 3 | H33: 32 | I33: 28 | J33: 28 | K33: - | L33: 10 | M33: 18 | N33: 28 | O33: - | P33: - | Q33: - | R33: - | S33: - | T33: -
A35: JUMLAH | C35: =SUM(C11:C34) -> 23 | D35: =SUM(D11:D34) -> 56 | E35: =SUM(E11:E34) -> 63 | F35: =SUM(F11:F34) -> 260 | G35: =SUM(G11:G34) -> 60 | H35: =SUM(H11:H34) -> 722 | I35: =SUM(I11:I34) -> 757 | J35: =SUM(J11:J34) -> 756 | ... T35: =SUM(T11:T34) -> 0

Sheet SEDAN
A1: REKAPITULASI DATA
A2: IBU HAMIL, MELAHIRKAN, NIFAS, MENINGGAL, KELAHIRAN BAYI, BAYI MENINGGAL DAN KEMATIAN BALITA
A3: TP.PKK KABUPATEN REMBANG
A4: TAHUN : 2025
A6: KECAMATAN :
A7: NO | B7: NAMA DESA | C7: JUMLAH | H7: JUMLAH IBU | L7: JUMLAH BAYI | R7: JUMLAH BALITA MENINGGAL | T7: KET
C8: DESA /KEL | D8: DUSUN /LINGK | E8: RW | F8: RT | G8: DASA WISMA | H8: HAMIL | I8: MELAHIRKAN | J8: NIFAS | K8: MENINGGAL | L8: LAHIR | N8: AKTE KELAHIRAN | P8: MENINGGAL
L9: L | M9: P | N9: ADA | O9: TIDAK | P9: L | Q9: P | R9: L | S9: P
A10: 1 | B10: 2 | C10: 3 | D10: 4 | E10: 5 | F10: 6 | G10: 7 | H10: 8 | I10: 9 | J10: 10 | K10: 11 | L10: 12 | M10: 13 | N10: 14 | O10: 15 | P10: 16 | Q10: 17 | R10: 18 | S10: 19 | T10: 20
A11: 1 | B11: Ngulahan | C11: 1 | D11: 0 | E11: 1 | F11: 5 | G11: 15 | H11: 16 | I11: 16 | J11: 16 | K11: 0 | L11: 9 | M11: 7 | N11: 16 | O11: 0 | P11: 1 | Q11: 0 | R11: 0 | S11: 0
A12: 2 | B12: Pacing | C12: 1 | D12: 0 | E12: 3 | F12: 7 | G12: 14 | H12: 26 | I12: 27 | J12: 27 | K12: 0 | L12: 12 | M12: 14 | N12: 26 | O12: 0 | P12: 1 | Q12: 0 | R12: 0 | S12: 0
A13: 3 | B13: Karas | C13: 1 | D13: 0 | E13: 6 | F13: 20 | G13: 60 | H13: 66 | I13: 73 | J13: 73 | K13: 0 | L13: 39 | M13: 34 | N13: 73 | O13: 0 | P13: 0 | Q13: 2 | R13: 0 | S13: 0
A14: 4 | B14: Mojosari | C14: 1 | D14: 0 | E14: 4 | F14: 13 | G14: 20 | H14: 40 | I14: 34 | J14: 34 | K14: 0 | L14: 18 | M14: 16 | N14: 34 | O14: 0 | P14: 0 | Q14: 0 | R14: 0 | S14: 0
A15: 5 | B15: Gesikan | C15: 1 | D15: 0 | E15: 1 | F15: 4 | G15: 10 | H15: 18 | I15: 11 | J15: 11 | K15: 0 | L15: 4 | M15: 7 | N15: 11 | O15: 0 | P15: 0 | Q15: 0 | R15: 0 | S15: 0
A16: 6 | B16: Sambiroto | C16: 1 | D16: 0 | E16: 2 | F16: 6 | G16: 33 | H16: 32 | I16: 17 | J16: 17 | K16: 0 | L16: 8 | M16: 9 | N16: 17 | O16: 0 | P16: 0 | Q16: 0 | R16: 0 | S16: 0
A17: 7 | B17: Sedan | C17: 1 | D17: 0 | E17: 6 | F17: 33 | G17: 6 | H17: 61 | I17: 71 | J17: 71 | K17: 1 | L17: 33 | M17: 37 | N17: 70 | O17: 0 | P17: 0 | Q17: 0 | R17: 0 | S17: 1
A18: 8 | B18: Karang Asem | C18: 1 | D18: 0 | E18: 1 | F18: 11 | G18: 10 | H18: 39 | I18: 31 | J18: 31 | K18: 0 | L18: 14 | M18: 17 | N18: 31 | O18: 0 | P18: 0 | Q18: 0 | R18: 0 | S18: 0
A19: 9 | B19: Sidorejo | C19: 1 | D19: 0 | E19: 20 | F19: 11 | G19: 22 | H19: 50 | I19: 48 | J19: 48 | K19: 0 | L19: 22 | M19: 25 | N19: 47 | O19: 0 | P19: 0 | Q19: 0 | R19: 0 | S19: 0
A20: 10 | B20: Sidomulyo | C20: 1 | D20: 0 | E20: 5 | F20: 12 | G20: 5 | H20: 49 | I20: 40 | J20: 40 | K20: 0 | L20: 21 | M20: 19 | N20: 40 | O20: 0 | P20: 0 | Q20: 1 | R20: 0 | S20: 0
A21: 11 | B21: Kedungringin | C21: 1 | D21: 0 | E21: 4 | F21: 16 | G21: 42 | H21: 24 | I21: 38 | J21: 38 | K21: 0 | L21: 22 | M21: 16 | N21: 38 | O21: 0 | P21: 0 | Q21: 1 | R21: 0 | S21: 0
A22: 12 | B22: Gandrirojo | C22: 1 | D22: 0 | E22: 7 | F22: 20 | G22: 61 | H22: 49 | I22: 48 | J22: 48 | K22: 0 | L22: 22 | M22: 26 | N22: 48 | O22: 0 | P22: 2 | Q22: 0 | R22: 0 | S22: 0
... A31: 21 | B31: Menoro | C31: 1 | D31: 0 | E31: 5 | F31: 18 | G31: 60 | H31: 50 | I31: 55 | J31: 55 | K31: 0 | L31: 25 | M31: 30 | N31: 55 | O31: 0 | P31: 1 | Q31: 0 | R31: 0 | S31: 0
A32: JUMLAH | C32: =SUM(C11:C31) -> 21 | D32: =SUM(D11:D31) -> 0 | E32: =SUM(E11:E31) -> 92 | F32: =SUM(F11:F31) -> 255 | G32: =SUM(G11:G31) -> 621 | H32: =SUM(H11:H31) -> 674 | I32: =SUM(I11:I31) -> 654 | J32: =SUM(J11:J31) -> 654 | ... T32: =SUM(T11:T31) -> 0

Sheet PAMOTAN
A1: REKAPITULASI DATA
A2: IBU HAMIL, MELAHIRKAN, NIFAS, MENINGGAL, KELAHIRAN BAYI, BAYI MENINGGAL DAN KEMATIAN BALITA
A3: TP.PKK KABUPATEN REMBANG
A4: TAHUN : 2025
A6: KECAMATAN :
A7: NO | B7: NAMA DESA | C7: JUMLAH | H7: JUMLAH IBU | L7: JUMLAH BAYI | R7: JUMLAH BALITA MENINGGAL | T7: KET
C8: DESA /KEL | D8: DUSUN /LINGK | E8: RW | F8: RT | G8: DASA WISMA | H8: HAMIL | I8: MELAHIRKAN | J8: NIFAS | K8: MENINGGAL | L8: LAHIR | N8: AKTE KELAHIRAN | P8: MENINGGAL
L9: L | M9: P | N9: ADA | O9: TIDAK | P9: L | Q9: P | R9: L | S9: P
A10: 1 | B10: 2 | C10: 3 | D10: 4 | E10: 5 | F10: 6 | G10: 7 | H10: 8 | I10: 9 | J10: 10 | K10: 11 | L10: 12 | M10: 13 | N10: 14 | O10: 15 | P10: 16 | Q10: 17 | R10: 18 | S10: 19 | T10: 20
A11: 1 | B11: Megal | C11: 1 | D11: 2 | E11: 2 | F11: 9 | G11: 26 | H11: 7 | I11: 7 | J11: 3 | K11: 0 | L11: 1 | M11: 2 | N11: 3 | O11: 0 | P11: 0 | Q11: 0 | R11: 0 | S11: 0
A12: 2 | B12: Ngemplakrejo | C12: 1 | D12: 2 | E12: 3 | F12: 9 | G12: 21 | H12: 7 | I12: 7 | J12: 2 | K12: 0 | L12: 2 | N12: 2 | O12: 0 | P12: 0 | Q12: 0 | R12: 0 | S12: 0
A13: 3 | B13: Pragen | C13: 1 | D13: 1 | E13: 2 | F13: 10 | G13: 31 | H13: 12 | I13: 12 | J13: 3 | K13: 0 | L13: 2 | M13: 1 | N13: 3 | O13: 0 | P13: 0 | Q13: 0 | R13: 0 | S13: 0
A14: 4 | B14: Samaran | C14: 1 | D14: 2 | E14: 3 | F14: 10 | G14: 23 | H14: 8 | I14: 8 | J14: 4 | K14: 0 | L14: 2 | M14: 2 | N14: 4 | O14: 0 | P14: 0 | Q14: 0 | R14: 0 | S14: 0
A15: 5 | B15: Gambiran | C15: 1 | D15: 3 | E15: 3 | F15: 8 | G15: 30 | H15: 13 | I15: 13 | J15: 3 | K15: 0 | L15: 2 | M15: 1 | N15: 3 | O15: 0 | P15: 0 | Q15: 0 | R15: 0 | S15: 0
A16: 6 | B16: Bamban | C16: 1 | D16: 1 | E16: 2 | F16: 5 | G16: 12 | H16: 4 | I16: 4 | J16: 5 | K16: 0 | L16: 1 | M16: 4 | N16: 5 | O16: 0 | P16: 0 | Q16: 0 | R16: 0 | S16: 0
A17: 7 | B17: Bangunrejo | C17: 1 | D17: 1 | E17: 4 | F17: 14 | G17: 53 | H17: 28 | I17: 28 | J17: 9 | K17: 0 | L17: 4 | M17: 5 | N17: 9 | O17: 0 | P17: 0 | Q17: 0 | R17: 0 | S17: 0
A18: 8 | B18: Pamotan | C18: 1 | D18: 3 | E18: 13 | F18: 42 | G18: 151 | H18: 67 | I18: 67 | J18: 9 | K18: 0 | L18: 3 | M18: 6 | N18: 9 | O18: 0 | P18: 0 | Q18: 0 | R18: 0 | S18: 0
A19: 9 | B19: Sidorejo | C19: 1 | D19: 3 | E19: 3 | F19: 10 | G19: 23 | H19: 7 | I19: 7 | J19: 1 | K19: 0 | M19: 1 | N19: 1 | O19: 0 | P19: 0 | Q19: 0 | R19: 0 | S19: 0
A20: 10 | B20: Tempaling | C20: 1 | D20: 2 | E20: 2 | F20: 10 | G20: 31 | H20: 13 | I20: 13 | J20: 1 | K20: 0 | M20: 1 | N20: 1 | O20: 0 | P20: 0 | Q20: 0 | R20: 0 | S20: 0
A21: 11 | B21: Joho | C21: 1 | D21: 3 | E21: 3 | F21: 10 | G21: 20 | H21: 9 | I21: 9 | J21: 5 | K21: 0 | L21: 3 | M21: 2 | N21: 5 | O21: 0 | P21: 0 | Q21: 0 | R21: 0 | S21: 0
A22: 12 | B22: Mlagen | C22: 1 | D22: 2 | E22: 2 | F22: 10 | G22: 36 | H22: 8 | I22: 8 | J22: 4 | K22: 0 | L22: 3 | M22: 1 | N22: 4 | O22: 0 | P22: 0 | Q22: 0 | R22: 0 | S22: 0
A23: 13 | B23: Kepohagung | C23: 1 | D23: 3 | E23: 3 | F23: 10 | G23: 10 | H23: 9 | I23: 9 | J23: 1 | K23: 0 | L23: 1 | N23: 1 | O23: 0 | P23: 0 | Q23: 0 | R23: 0 | S23: 0
A24: 14 | B24: Mlawat | C24: 1 | D24: 1 | E24: 2 | F24: 6 | G24: 16 | H24: 7 | I24: 7 | J24: 2 | K24: 0 | L24: 2 | M24: 0 | N24: 2 | O24: 0 | P24: 0 | Q24: 0 | R24: 0 | S24: 0
A25: 15 | B25: Segoromulyo | C25: 1 | D25: 4 | E25: 4 | F25: 9 | G25: 18 | H25: 1 | I25: 1 | J25: 3 | K25: 0 | L25: 2 | M25: 1 | N25: 3 | O25: 0 | P25: 0 | Q25: 0 | R25: 0 | S25: 0
A26: 16 | B26: Ketangi | C26: 1 | D26: 4 | E26: 4 | F26: 16 | G26: 48 | H26: 19 | I26: 19 | J26: 0 | K26: 0 | N26: 0 | O26: 0 | P26: 0 | Q26: 0 | R26: 0 | S26: 0
A27: 17 | B27: Sendangagung | C27: 1 | D27: 6 | E27: 6 | F27: 15 | G27: 39 | H27: 15 | I27: 15 | J27: 3 | K27: 0 | L27: 2 | M27: 1 | N27: 3 | O27: 0 | P27: 0 | Q27: 0 | R27: 0 | S27: 0
A28: 18 | B28: Gegersimo | C28: 1 | D28: 3 | E28: 3 | F28: 10 | G28: 28 | H28: 12 | I28: 12 | J28: 2 | K28: 0 | M28: 2 | N28: 2 | O28: 0 | P28: 0 | Q28: 0 | R28: 0 | S28: 0
A29: 19 | B29: Sumbangrejo | C29: 1 | D29: 2 | E29: 2 | F29: 6 | G29: 30 | H29: 11 | I29: 11 | J29: 3 | K29: 0 | L29: 1 | M29: 2 | N29: 3 | O29: 0 | P29: 0 | Q29: 0 | R29: 0 | S29: 0
A30: 20 | B30: Japerejo | C30: 1 | D30: 3 | E30: 3 | F30: 9 | G30: 37 | H30: 9 | I30: 9 | J30: 0 | K30: 0 | N30: 0 | O30: 0 | P30: 0 | Q30: 0 | R30: 0 | S30: 0
A31: 21 | B31: Tulung | C31: 1 | D31: 1 | E31: 1 | F31: 6 | G31: 11 | H31: 3 | I31: 3 | J31: 0 | K31: 0 | N31: 0 | O31: 0 | P31: 0 | Q31: 0 | R31: 0 | S31: 0
A32: 22 | B32: Ringin | C32: 1 | D32: 3 | E32: 3 | F32: 14 | G32: 42 | H32: 31 | I32: 31 | J32: 2 | K32: 0 | L32: 1 | M32: 1 | N32: 2 | O32: 0 | P32: 0 | Q32: 0 | R32: 0 | S32: 0
A33: 23 | B33: Sumberejo | C33: 1 | D33: 2 | E33: 2 | F33: 9 | G33: 18 | H33: 20 | I33: 20 | J33: 5 | K33: 0 | L33: 3 | M33: 2 | N33: 5 | O33: 0 | P33: 0 | Q33: 0 | R33: 0 | S33: 0
A34: JUMLAH | C34: =SUM(C11:C33) -> 23 | D34: =SUM(D11:D33) -> 57 | E34: =SUM(E11:E33) -> 75 | F34: =SUM(F11:F33) -> 257 | G34: =SUM(G11:G33) -> 754 | H34: =SUM(H11:H33) -> 320 | I34: =SUM(I11:I33) -> 320 | J34: =SUM(J11:J33) -> 70 | ... T34: =SUM(T11:T33) -> 0

Sheet SULANG
A1: REKAPITULASI DATA
A2: IBU HAMIL, MELAHIRKAN, NIFAS, MENINGGAL, KELAHIRAN BAYI, BAYI MENINGGAL DAN KEMATIAN BALITA
A3: TP.PKK KABUPATEN REMBANG
A4: TAHUN : 2025
A6: KECAMATAN :
A7: NO | B7: NAMA DESA | C7: JUMLAH | H7: JUMLAH IBU | L7: JUMLAH BAYI | R7: JUMLAH BALITA MENINGGAL | T7: KET
C8: DESA /KEL | D8: DUSUN /LINGK | E8: RW | F8: RT | G8: DASA WISMA | H8: HAMIL | I8: MELAHIRKAN | J8: NIFAS | K8: MENINGGAL | L8: LAHIR | N8: AKTE KELAHIRAN | P8: MENINGGAL
L9: L | M9: P | N9: ADA | O9: TIDAK | P9: L | Q9: P | R9: L | S9: P
A10: 1 | B10: 2 | C10: 3 | D10: 4 | E10: 5 | F10: 6 | G10: 7 | H10: 8 | I10: 9 | J10: 10 | K10: 11 | L10: 12 | M10: 13 | N10: 14 | O10: 15 | P10: 16 | Q10: 17 | R10: 18 | S10: 19 | T10: 20
A11: 1 | B11: TANJUNG | C11: 1 | D11: 3 | E11: 3 | F11: 8 | G11: 25 | H11: 1 | I11: 5 | J11: 5 | K11: 0 | L11: 3 | M11: 2 | N11: 5 | O11: 0 | P11: 0 | Q11: 0 | R11: 0 | S11: 0
A12: 2 | B12: KEMADU | C12: 1 | D12: 7 | E12: 7 | F12: 19 | G12: 56 | H12: 15 | I12: 26 | J12: 26 | K12: 0 | L12: 9 | M12: 17 | N12: 25 | O12: 0 | P12: 0 | Q12: 0 | R12: 0 | S12: 0
A13: 3 | B13: SULANG | C13: 1 | D13: 11 | E13: 8 | F13: 30 | G13: 75 | H13: 10 | I13: 36 | J13: 36 | K13: 0 | L13: 18 | M13: 18 | N13: 36 | O13: 0 | P13: 0 | Q13: 0 | R13: 0 | S13: 0
A14: 4 | B14: POMAHAN | C14: 1 | D14: 2 | E14: 4 | F14: 12 | G14: 35 | H14: 5 | I14: 19 | J14: 19 | K14: 0 | L14: 8 | M14: 11 | N14: 19 | O14: 0 | P14: 1 | Q14: 0 | R14: 0 | S14: 0
A15: 5 | B15: RUKEM | C15: 1 | D15: 1 | E15: 2 | F15: 7 | G15: 21 | H15: 9 | I15: 9 | J15: 9 | K15: 0 | L15: 5 | M15: 4 | N15: 9 | O15: 0 | P15: 0 | Q15: 0 | R15: 0 | S15: 0
A16: 6 | B16: KOROWELANG | C16: 1 | D16: 2 | E16: 2 | F16: 5 | G16: 11 | H16: 1 | I16: 6 | J16: 6 | K16: 0 | L16: 2 | M16: 4 | N16: 6 | O16: 0 | P16: 0 | Q16: 0 | R16: 0 | S16: 0
A17: 7 | B17: KARANGHARJO | C17: 1 | D17: 3 | E17: 3 | F17: 8 | G17: 24 | H17: 1 | I17: 12 | J17: 12 | K17: 0 | L17: 4 | M17: 9 | N17: 13 | O17: 0 | P17: 0 | Q17: 1 | R17: 0 | S17: 0
A18: 8 | B18: JATIMUDO | C18: 1 | D18: 4 | E18: 4 | F18: 17 | G18: 38 | H18: 5 | I18: 15 | J18: 15 | K18: 0 | L18: 7 | M18: 8 | N18: 15 | O18: 0 | P18: 0 | Q18: 0 | R18: 0 | S18: 0
A19: 9 | B19: KUNIR | C19: 1 | D19: 3 | E19: 5 | F19: 14 | G19: 37 | H19: 4 | I19: 13 | J19: 13 | K19: 0 | L19: 5 | M19: 8 | N19: 13 | O19: 0 | P19: 0 | Q19: 0 | R19: 1 | S19: 0
A20: 10 | B20: GLEBEG | C20: 1 | D20: 2 | E20: 4 | F20: 13 | G20: 39 | H20: 12 | I20: 20 | J20: 20 | K20: 0 | L20: 9 | M20: 11 | N20: 20 | O20: 0 | P20: 0 | Q20: 1 | R20: 0 | S20: 0
A21: 11 | B21: BOGORAME | C21: 1 | D21: 2 | E21: 2 | F21: 11 | G21: 25 | H21: 13 | I21: 15 | J21: 15 | K21: 0 | L21: 8 | M21: 7 | N21: 15 | O21: 0 | P21: 0 | Q21: 0 | R21: 0 | S21: 0
A22: 12 | B22: KALIOMBO | C22: 1 | D22: 3 | E22: 4 | F22: 24 | G22: 73 | H22: 12 | I22: 27 | J22: 27 | K22: 0 | L22: 18 | M22: 9 | N22: 26 | O22: 0 | P22: 0 | Q22: 0 | R22: 0 | S22: 0
... A31: 21 | B31: KEREP | C31: 1 | D31: 1 | E31: 3 | F31: 10 | G31: 29 | H31: 2 | I31: 13 | J31: 13 | K31: 0 | L31: 6 | M31: 7 | N31: 13 | O31: 0 | P31: 0 | Q31: 0 | R31: 0 | S31: 0
A32: JUMLAH | C32: =SUM(C11:C31) -> 21 | D32: =SUM(D11:D31) -> 70 | E32: =SUM(E11:E31) -> 78 | F32: =SUM(F11:F31) -> 273 | G32: =SUM(G11:G31) -> 760 | H32: =SUM(H11:H31) -> 153 | I32: =SUM(I11:I31) -> 348 | J32: =SUM(J11:J31) -> 348 | ... T32: =SUM(T11:T31) -> 0

Sheet KALIORI
A1: REKAPITULASI DATA
A2: IBU HAMIL, MELAHIRKAN, NIFAS, MENINGGAL, KELAHIRAN BAYI, BAYI MENINGGAL DAN KEMATIAN BALITA
A3: TP.PKK KABUPATEN REMBANG
A4: TAHUN : 2025
A6: KECAMATAN :
A7: NO | B7: NAMA DESA | C7: JUMLAH | H7: JUMLAH IBU | L7: JUMLAH BAYI | R7: JUMLAH BALITA MENINGGAL | T7: KET
C8: DESA /KEL | D8: DUSUN /LINGK | E8: RW | F8: RT | G8: DASA WISMA | H8: HAMIL | I8: MELAHIRKAN | J8: NIFAS | K8: MENINGGAL | L8: LAHIR | N8: AKTE KELAHIRAN | P8: MENINGGAL
L9: L | M9: P | N9: ADA | O9: TIDAK | P9: L | Q9: P | R9: L | S9: P
A10: 1 | B10: 2 | C10: 3 | D10: 4 | E10: 5 | F10: 6 | G10: 7 | H10: 8 | I10: 9 | J10: 10 | K10: 11 | L10: 12 | M10: 13 | N10: 14 | O10: 15 | P10: 16 | Q10: 17 | R10: 18 | S10: 19 | T10: 20
A11: 1 | B11: METESEH | C11: 1 | E11: 5 | F11: 14 | H11: 25 | I11: 26 | J11: 26 | K11: 0 | L11: 13 | M11: 13 | N11: =L11+M11 -> 26 | O11: 0 | P11: 0 | Q11: 0 | R11: 0 | S11: 0
A12: 2 | B12: MAGUAN | C12: 1 | E12: 3 | F12: 13 | H12: 30 | I12: 28 | J12: 28 | K12: 0 | L12: 20 | M12: 8 | N12: =L12+M12 -> 28 | O12: 0 | P12: 0 | Q12: 0 | R12: 0 | S12: 0
A13: 3 | B13: WIROTO | C13: 1 | E13: 3 | F13: 14 | H13: 18 | I13: 16 | J13: 16 | K13: 0 | L13: 8 | M13: 8 | N13: =L13+M13 -> 16 | O13: 0 | P13: 0 | Q13: 0 | R13: 0 | S13: 0
A14: 4 | B14: SIDOMULYO | C14: 1 | E14: 3 | F14: 9 | H14: 19 | I14: 16 | J14: 16 | K14: 0 | L14: 9 | M14: 7 | N14: =L14+M14 -> 16 | O14: 0 | P14: 0 | Q14: 0 | R14: 0 | S14: 0
A15: 5 | B15: BANGGI | C15: 1 | E15: 3 | F15: 14 | H15: 18 | I15: 21 | J15: 21 | K15: 0 | L15: 11 | M15: 10 | N15: =L15+M15 -> 21 | O15: 0 | P15: 0 | Q15: 0 | R15: 0 | S15: 0
A16: 6 | B16: KUANGSAN | C16: 1 | E16: 2 | F16: 11 | H16: 19 | I16: 22 | J16: 22 | K16: 0 | L16: 12 | M16: 10 | N16: =L16+M16 -> 22 | O16: 0 | P16: 0 | Q16: 0 | R16: 0 | S16: 0
A17: 7 | B17: GUNUNGSARI | C17: 1 | E17: 6 | F17: 7 | H17: 36 | I17: 31 | J17: 31 | K17: 0 | L17: 19 | M17: 12 | N17: =L17+M17 -> 31 | O17: 0 | P17: 0 | Q17: 0 | R17: 0 | S17: 0
A18: 8 | B18: SENDANG AGUNG | C18: 1 | E18: 4 | F18: 22 | H18: 48 | I18: 51 | J18: 51 | K18: 0 | L18: 28 | M18: 21 | N18: =L18+M18 -> 49 | O18: 0 | P18: 0 | Q18: 0 | R18: 0 | S18: 0
A19: 9 | B19: KARANG SEKAR | C19: 1 | E19: 3 | F19: 13 | H19: 14 | I19: 15 | J19: 15 | K19: 0 | L19: 8 | M19: 7 | N19: =L19+M19 -> 15 | O19: 0 | P19: 0 | Q19: 0 | R19: 0 | S19: 0
A20: 10 | B20: BABADAN | C20: 1 | E20: 4 | F20: 22 | H20: 30 | I20: 32 | J20: 32 | K20: 0 | L20: 16 | M20: 16 | N20: =L20+M20 -> 32 | O20: 0 | P20: 0 | Q20: 1 | R20: 0 | S20: 0
A21: 11 | B21: PENGKOL | C21: 1 | E21: 3 | F21: 13 | H21: 16 | I21: 18 | J21: 18 | K21: 0 | L21: 10 | M21: 8 | N21: =L21+M21 -> 18 | O21: 0 | P21: 0 | Q21: 0 | R21: 0 | S21: 0
A22: 12 | B22: SAMBIYAN | C22: 1 | E22: 4 | F22: 22 | H22: 20 | I22: 17 | J22: 17 | K22: 0 | L22: 5 | M22: 12 | N22: =L22+M22 -> 17 | O22: 0 | P22: 0 | Q22: 0 | R22: 0 | S22: 0
... A33: 23 | B33: PANTIHARJO | C33: 1 | E33: 1 | F33: 2 | H33: 4 | I33: 6 | J33: 6 | K33: 0 | L33: 4 | M33: 2 | N33: =L33+M33 -> 6 | O33: 0 | P33: 0 | Q33: 0 | R33: 0 | S33: 0
A34: JUMLAH | C34: =SUM(C11:C33) -> 23 | D34: =SUM(D11:D33) -> 0 | E34: =SUM(E11:E33) -> 71 | F34: =SUM(F11:F33) -> 263 | G34: =SUM(G11:G33) -> 0 | H34: =SUM(H11:H33) -> 422 | I34: =SUM(I11:I33) -> 411 | J34: =SUM(J11:J33) -> 411 | ... T34: =SUM(T11:T33) -> 0

Sheet REMBANG
A1: REKAPITULASI DATA
A2: IBU HAMIL, MELAHIRKAN, NIFAS, MENINGGAL, KELAHIRAN BAYI, BAYI MENINGGAL DAN KEMATIAN BALITA
A3: TP.PKK KABUPATEN REMBANG
A4: TAHUN : 2025
A6: KECAMATAN : | C6: REMBANG
A7: NO | B7: NAMA DESA | C7: JUMLAH | H7: JUMLAH IBU | L7: JUMLAH BAYI | R7: JUMLAH BALITA MENINGGAL | T7: KET
C8: DESA /KEL | D8: DUSUN /LINGK | E8: RW | F8: RT | G8: DASA WISMA | H8: HAMIL | I8: MELAHIRKAN | J8: NIFAS | K8: MENINGGAL | L8: LAHIR | N8: AKTE KELAHIRAN | P8: MENINGGAL
L9: L | M9: P | N9: ADA | O9: TIDAK | P9: L | Q9: P | R9: L | S9: P
A10: 1 | B10: 2 | C10: 3 | D10: 4 | E10: 5 | F10: 6 | G10: 7 | H10: 8 | I10: 9 | J10: 10 | K10: 11 | L10: 12 | M10: 13 | N10: 14 | O10: 15 | P10: 16 | Q10: 17 | R10: 18 | S10: 19 | T10: 20
A11: 1 | B11: KEDUNGREJO | C11: DESA | D11: 5 | E11: 5 | F11: 15 | G11: 15 | H11: 16 | I11: 24 | J11: 24 | L11: 10 | M11: 14 | N11: 24
A12: 2 | B12: TURUSGEDE | C12: DESA | D12: 3 | E12: 3 | F12: 13 | G12: 38 | H12: 19 | I12: 11 | J12: 11 | L12: 8 | M12: 3 | N12: 11
A13: 3 | B13: KUMENDUNG | C13: DESA | D13: 4 | E13: 4 | F13: 11 | G13: 44 | H13: 11 | I13: 12 | J13: 12 | L13: 6 | M13: 6 | N13: 12
A14: 4 | B14: SRIDADI | C14: DESA | D14: 8 | E14: 8 | F14: 16 | G14: 40 | H14: 29 | I14: 26 | J14: 26 | L14: 11 | M14: 15 | N14: 26
A15: 5 | B15: PADARAN | C15: DESA | D15: 5 | E15: 5 | F15: 17 | G15: 40 | H15: 42 | I15: 28 | J15: 28 | L15: 12 | M15: 16 | N15: 28
A16: 6 | B16: TLOGOMOJO | C16: DESA | D16: 2 | E16: 2 | F16: 13 | G16: 42 | H16: 12 | I16: 14 | J16: 14 | L16: 9 | M16: 5 | N16: 14
A17: 7 | B17: KASREMAN | C17: DESA | D17: 2 | E17: 2 | F17: 18 | G17: 48 | H17: 28 | I17: 31 | J17: 31 | L17: 15 | M17: 16 | N17: 31
A18: 8 | B18: PUNJULHARJO | C18: DESA | D18: 4 | E18: 4 | F18: 10 | G18: 31 | H18: 15 | I18: 13 | J18: 13 | L18: 6 | M18: 7 | N18: 13
A19: 9 | B19: TRITUNGGAL | C19: DESA | D19: 3 | E19: 3 | F19: 7 | G19: 42 | H19: 12 | I19: 8 | J19: 8 | L19: 4 | M19: 4 | N19: 8
A20: 10 | B20: PASARBANGGI | C20: DESA | D20: 5 | E20: 5 | F20: 15 | G20: 45 | H20: 31 | I20: 31 | J20: 31 | L20: 15 | M20: 16 | N20: 31
A21: 11 | B21: GEDANGAN | C21: DESA | D21: 3 | E21: 3 | F21: 20 | G21: 34 | H21: 19 | I21: 20 | J21: 20 | L21: 8 | M21: 12 | N21: 20
A22: 12 | B22: WETON | C22: DESA | D22: 2 | E22: 2 | F22: 7 | G22: 20 | H22: 8 | I22: 12 | J22: 12 | L22: 6 | M22: 6 | N22: 12
A23: 13 | B23: NGOTET | C23: DESA | D23: 5 | E23: 5 | F23: 25 | G23: 22 | H23: 31 | I23: 33 | J23: 33 | L23: 18 | M23: 15 | N23: 33
A24: 14 | B24: MONDOTEKO | C24: DESA | D24: 7 | E24: 7 | F24: 34 | G24: 67 | H24: 45 | I24: 41 | J24: 41 | L24: 17 | M24: 23 | N24: 40 | P24: 1 | T24: kelainan jantung
A25: 15 | B25: NGADEM | C25: DESA | D25: 2 | E25: 2 | F25: 8 | G25: 30 | H25: 15 | I25: 11 | J25: 11 | L25: 4 | M25: 7 | N25: 11
A26: 16 | B26: KETANGGI | C26: DESA | D26: 2 | E26: 2 | F26: 10 | G26: 43 | H26: 14 | I26: 16 | J26: 16 | L26: 10 | M26: 6 | N26: 16
A27: 17 | B27: PULO | C27: DESA | D27: 5 | E27: 5 | F27: 17 | G27: 48 | H27: 28 | I27: 28 | J27: 28 | L27: 14 | M27: 14 | N27: 28
A28: 18 | B28: WARU | C28: DESA | D28: 5 | E28: 5 | F28: 32 | G28: 70 | H28: 40 | I28: 47 | J28: 47 | L28: 24 | M28: 23 | N28: 47
A29: 19 | B29: MAGERSARI | C29: KEL | D29: 2 | E29: 2 | F29: 11 | G29: 42 | H29: 13 | I29: 14 | J29: 14 | L29: 7 | M29: 7 | N29: 14
A30: 20 | B30: GEG.KULON | C30: KEL | D30: 2 | E30: 2 | F30: 5 | G30: 18 | H30: 9 | I30: 6 | J30: 6 | L30: 4 | M30: 2 | N30: 6 | P30: 1 | T30: hIpokalamia berat
A31: 21 | B31: GEG.WETAN | C31: DESA | D31: 3 | E31: 3 | F31: 11 | G31: 22 | H31: 13 | I31: 10 | J31: 10 | L31: 4 | M31: 6 | N31: 10
A32: 22 | B32: PACAR | C32: KEL | D32: 2 | E32: 2 | F32: 5 | G32: 24 | H32: 16 | I32: 7 | J32: 7 | L32: 3 | M32: 4 | N32: 7
A33: 23 | B33: TANJUNGSARI | C33: KEL | D33: 4 | E33: 4 | F33: 20 | G33: 23 | H33: 16 | I33: 17 | J33: 16 | K33: 1 | L33: 8 | M33: 7 | N33: 15 | P33: 1 | T33: Ibu kecelakaan
A34: 24 | B34: SUMBERJO | C34: DESA | D34: 8 | E34: 8 | F34: 42 | G34: 100 | H34: 51 | I34: 43 | J34: 43 | L34: 20 | M34: 23 | N34: 43
A35: 25 | B35: TASIKAGUNG | C35: DESA | D35: 4 | E35: 4 | F35: 17 | G35: 5 | H35: 25 | I35: 19 | J35: 19 | L35: 10 | M35: 9 | N35: 19
A36: 26 | B36: SAWAHAN | C36: DESA | D36: 4 | E36: 4 | F36: 8 | G36: 10 | H36: 8 | I36: 8 | J36: 8 | L36: 9 | M36: 10 | N36: 19
A37: 27 | B37: LETEH | C37: KEL | D37: 5 | E37: 5 | F37: 26 | G37: 90 | H37: 26 | I37: 16 | J37: 16 | L37: 8 | M37: 8 | N37: 16
A38: 28 | B38: SIDOWAYAH | C38: KEL | D38: 3 | E38: 3 | F38: 17 | G38: 45 | H38: 18 | I38: 20 | J38: 20 | L38: 9 | M38: 11 | N38: 20
A39: 29 | B39: KUTOHARJO | C39: KEL | D39: 3 | E39: 3 | F39: 9 | G39: 26 | H39: 8 | I39: 5 | J39: 4 | K39: 1 | L39: 2 | M39: 2 | N39: 4 | P39: 1 | T39: anak Anocevalus
A40: 30 | B40: PANDEAN | C40: DESA | D40: 3 | E40: 3 | F40: 10 | G40: 29 | H40: 14 | I40: 11 | J40: 10 | K40: 1 | L40: 5 | M40: 5 | N40: 10 | P40: 1
A41: 31 | B41: SUKOHARJO | C41: DESA | D41: 2 | E41: 2 | F41: 6 | G41: 18 | H41: 17 | I41: 8 | J41: 8 | L41: 6 | M41: 2 | N41: 8
A42: 32 | B42: KABONGAN LOR | C42: DESA | D42: 3 | E42: 3 | F42: 6 | G42: 22 | H42: 19 | I42: 8 | J42: 8 | L42: 2 | M42: 6 | N42: 8
A43: 33 | B43: KABONGAN KIDUL | C43: DESA | D43: 5 | E43: 5 | F43: 27 | G43: 64 | H43: 30 | I43: 23 | J43: 23 | L43: 12 | M43: 11 | N43: 23
A44: 34 | B44: TIREMAN | C44: DESA | D44: 3 | E44: 3 | F44: 15 | G44: 35 | H44: 19 | I44: 17 | J44: 17 | L44: 9 | M44: 8 | N44: 17
A46: JUMLAH | C46: 34 | D46: 128 | E46: 128 | F46: 523 | G46: 1292 | H46: 717 | I46: 638 | J46: 635 | K46: 3 | L46: 315 | M46: 329 | N46: 644 | O46: =SUM(O11:O24) -> 0 | P46: 5 | Q46: =SUM(Q11:Q24) -> 0 | R46: =SUM(R11:R24) -> 0 | S46: =SUM(S11:S24) -> 0

Sheet PANCUR
A1: REKAPITULASI DATA
A2: IBU HAMIL, MELAHIRKAN, NIFAS, MENINGGAL, KELAHIRAN BAYI, BAYI MENINGGAL DAN KEMATIAN BALITA
A3: TP.PKK KABUPATEN REMBANG
A4: TAHUN : 2025
A6: KECAMATAN :
A7: NO | B7: NAMA DESA | C7: JUMLAH | H7: JUMLAH IBU | L7: JUMLAH BAYI | R7: JUMLAH BALITA MENINGGAL | T7: KET
C8: DESA /KEL | D8: DUSUN /LINGK | E8: RW | F8: RT | G8: DASA WISMA | H8: HAMIL | I8: MELAHIRKAN | J8: NIFAS | K8: MENINGGAL | L8: LAHIR | N8: AKTE KELAHIRAN | P8: MENINGGAL
L9: L | M9: P | N9: ADA | O9: TIDAK | P9: L | Q9: P | R9: L | S9: P
A10: 1 | B10: 2 | C10: 3 | D10: 4 | E10: 5 | F10: 6 | G10: 7 | H10: 8 | I10: 9 | J10: 10 | K10: 11 | L10: 12 | M10: 13 | N10: 14 | O10: 15 | P10: 16 | Q10: 17 | R10: 18 | S10: 19 | T10: 20
A11: 1 | B11: Japeledok | C11: 1 | D11: 1 | E11: 1 | F11: 5 | G11: 4 | H11: 4 | I11: 1 | J11: 1 | K11: 0 | L11: 0 | M11: 1 | N11: 1 | O11: 0 | P11: 0 | Q11: 0 | R11: 0 | S11: 0
A12: 2 | B12: jeruk | C12: 1 | D12: 3 | E12: 10 | F12: 3 | G12: 6 | H12: 7 | I12: 3 | J12: 3 | K12: 0 | L12: 1 | M12: 2 | N12: 2 | O12: 1 | P12: 0 | Q12: 0 | R12: 0 | S12: 0
A13: 3 | B13: doropayung | C13: 1 | D13: 2 | E13: 2 | F13: 11 | G13: 8 | H13: 9 | I13: 3 | J13: 3 | K13: 0 | L13: 2 | M13: 2 | N13: 3 | O13: 0 | P13: 0 | Q13: 0 | R13: 0 | S13: 0
A14: 4 | B14: karaskepoh | C14: 1 | D14: 7 | E14: 1 | F14: 7 | G14: 2 | H14: 3 | I14: 2 | J14: 2 | K14: 0 | L14: 1 | M14: 0 | N14: 1 | O14: 0 | P14: 0 | Q14: 0 | R14: 0 | S14: 0
A15: 5 | B15: tuyuhan | C15: 1 | D15: 4 | E15: 4 | F15: 12 | G15: 20 | H15: 9 | I15: 4 | J15: 4 | K15: 0 | L15: 2 | M15: 2 | N15: 3 | O15: 1 | P15: 0 | Q15: 0 | R15: 0 | S15: 0
A16: 6 | B16: pandan | C16: 1 | D16: 4 | E16: 4 | F16: 10 | G16: 10 | H16: 9 | I16: 2 | J16: 2 | K16: 0 | L16: 0 | M16: 2 | N16: 0 | O16: 2 | P16: 0 | Q16: 0 | R16: 0 | S16: 0
A17: 7 | B17: gemblengmulyo | C17: 1 | D17: 2 | E17: 2 | F17: 4 | G17: 0 | H17: 3 | I17: 1 | J17: 1 | K17: 0 | L17: 1 | M17: 0 | N17: 1 | O17: 0 | P17: 0 | Q17: 0 | R17: 0 | S17: 0
A18: 8 | B18: Sumberagung | C18: 1 | D18: 3 | E18: 3 | F18: 8 | G18: 30 | H18: 6 | I18: 2 | J18: 2 | K18: 0 | L18: 1 | M18: 1 | N18: 2 | O18: 0 | P18: 0 | Q18: 0 | R18: 0 | S18: 0
A19: 9 | B19: Kalitengah | C19: 1 | D19: 4 | E19: 4 | F19: 13 | G19: 27 | H19: 9 | I19: 2 | J19: 2 | K19: 0 | L19: 2 | M19: 0 | N19: 2 | O19: 0 | P19: 0 | Q19: 0 | R19: 0 | S19: 0
A20: 10 | B20: Sidowayah | C20: 1 | D20: 1 | E20: 1 | F20: 5 | G20: 6 | H20: 7 | I20: 1 | J20: 1 | K20: 0 | L20: 0 | M20: 1 | N20: 0 | O20: 0 | P20: 0 | Q20: 0 | R20: 0 | S20: 0
A21: 11 | B21: Kedung | C21: 1 | D21: 1 | E21: 2 | F21: 4 | G21: 4 | H21: 4 | I21: 2 | J21: 1 | K21: 0 | L21: 2 | M21: 1 | N21: 3 | O21: 0 | P21: 0 | Q21: 0 | R21: 0 | S21: 0
A22: 12 | B22: punggurharjo | C22: 1 | D22: 1 | E22: 1 | F22: 3 | G22: 15 | H22: 4 | I22: 1 | J22: 1 | K22: 0 | L22: 1 | M22: 0 | N22: 1 | O22: 0 | P22: 0 | Q22: 0 | R22: 0 | S22: 0
... A32: 22 | B32: trenggulunan | C32: 1 | D32: 1 | E32: 2 | F32: 6 | G32: 6 | H32: 5 | I32: 1 | J32: 2 | K32: 0 | L32: 1 | M32: 0 | N32: 0 | O32: 0 | P32: 0 | Q32: 0 | R32: 0 | S32: 0
A33: 23 | B33: ngroto | C33: 1 | D33: 1 | F33: 1 | G33: 6 | H33: 5 | I33: 1 | J33: 1 | K33: 0 | L33: 1 | M33: 0 | N33: 1 | O33: 0 | P33: 0 | Q33: 0 | R33: 0 | S33: 0
A34: JUMLAH | C34: =SUM(C11:C33) -> 23 | D34: =SUM(D11:D33) -> 60 | E34: =SUM(E11:E33) -> 65 | F34: =SUM(F11:F33) -> 144 | G34: =SUM(G11:G33) -> 240 | H34: =SUM(H11:H33) -> 139 | I34: =SUM(I11:I33) -> 41 | J34: =SUM(J11:J33) -> 38 | ... S34: =SUM(S11:S33) -> 0

Sheet KRAGAN
A1: REKAPITULASI DATA
A2: IBU HAMIL, MELAHIRKAN, NIFAS, MENINGGAL, KELAHIRAN BAYI, BAYI MENINGGAL DAN KEMATIAN BALITA
A3: TP.PKK KABUPATEN REMBANG
A4: TAHUN : 2025
A6: KECAMATAN :
A7: NO | B7: NAMA DESA | C7: JUMLAH | H7: JUMLAH IBU | L7: JUMLAH BAYI | R7: JUMLAH BALITA MENINGGAL | T7: KET
C8: DESA /KEL | D8: DUSUN /LINGK | E8: RW | F8: RT | G8: DASA WISMA | H8: HAMIL | I8: MELAHIRKAN | J8: NIFAS | K8: MENINGGAL | L8: LAHIR | N8: AKTE KELAHIRAN | P8: MENINGGAL
L9: L | M9: P | N9: ADA | O9: TIDAK | P9: L | Q9: P | R9: L | S9: P
A10: 1 | B10: 2 | C10: 3 | D10: 4 | E10: 5 | F10: 6 | G10: 7 | H10: 8 | I10: 9 | J10: 10 | K10: 11 | L10: 12 | M10: 13 | N10: 14 | O10: 15 | P10: 16 | Q10: 17 | R10: 18 | S10: 19 | T10: 20
A11: 1 | B11: TANJUNGSARI | C11: DESA | D11: 2 | E11: 2 | F11: 6 | G11: 15 | H11: 10
A12: 2 | B12: SENDANGMULYO | C12: DESA | D12: 3 | E12: 3 | F12: 10 | G12: 31 | H12: 16
A13: 3 | B13: SENDANGWARU | C13: DESA | D13: 3 | E13: 4 | F13: 10 | G13: 20 | H13: 26
A14: 4 | B14: NGASINAN | C14: DESA | D14: 4 | E14: 3 | F14: 8 | G14: 33 | H14: 26
A15: 5 | B15: KENDALAGUNG | C15: DESA | D15: 1 | E15: 3 | F15: 8 | G15: 16 | H15: 16
A16: 6 | B16: MOJOKERTO | C16: DESA | D16: 2 | E16: 3 | F16: 25 | G16: 15 | H16: 28
A17: 7 | B17: TANJUNGAN | C17: DESA | D17: 1 | E17: 2 | F17: 6 | G17: 10 | H17: 34
A18: 8 | B18: KEBLORAN | C18: DESA | D18: 2 | E18: 2 | F18: 9 | G18: 18 | H18: 30
A19: 9 | B19: KARANGANYAR | C19: DESA | D19: 1 | E19: 5 | F19: 17 | G19: 5 | H19: 25
A20: 10 | B20: KARANGLINCAK | C20: DESA | D20: 2 | E20: 2 | F20: 10 | G20: 10 | H20: 32
A21: 11 | B21: KARANGHARJO | C21: DESA | D21: 2 | E21: 2 | F21: 13 | G21: 10 | H21: 50
A22: 12 | B22: KRAGAN | C22: DESA | D22: 1 | E22: 5 | F22: 20 | G22: 20 | H22: 50
... A37: 27 | B37: SUMBERSARI | C37: DESA | D37: 1 | E37: 1 | F37: 2 | G37: 4 | H37: 5
A38: JUMLAH | C38: =SUM(C11:C37) -> 0 | D38: =SUM(D11:D37) -> 64 | E38: =SUM(E11:E37) -> 85 | F38: =SUM(F11:F37) -> 302 | G38: =SUM(G11:G37) -> 691 | H38: =SUM(H11:H37) -> 781 | I38: =SUM(I11:I37) -> 0 | J38: =SUM(J11:J37) -> 0 | ... S38: =SUM(S11:S37) -> 0

Sheet SLUKE
A1: REKAPITULASI DATA
A2: IBU HAMIL, MELAHIRKAN, NIFAS, MENINGGAL, KELAHIRAN BAYI, BAYI MENINGGAL DAN KEMATIAN BALITA
A3: TP.PKK KABUPATEN REMBANG
A4: TAHUN : 2025
A6: KECAMATAN : SLUKE
A7: NO | B7: NAMA DESA | C7: JUMLAH | H7: JUMLAH IBU | L7: JUMLAH BAYI | R7: JUMLAH BALITA MENINGGAL | T7: KET
C8: DESA /KEL | D8: DUSUN /LINGK | E8: RW | F8: RT | G8: DASA WISMA | H8: HAMIL | I8: MELAHIRKAN | J8: NIFAS | K8: MENINGGAL | L8: LAHIR | N8: AKTE KELAHIRAN | P8: MENINGGAL
L9: L | M9: P | N9: ADA | O9: TIDAK | P9: L | Q9: P | R9: L | S9: P
A10: 1 | B10: 2 | C10: 3 | D10: 4 | E10: 5 | F10: 6 | G10: 7 | H10: 8 | I10: 9 | J10: 10 | K10: 11 | L10: 12 | M10: 13 | N10: 14 | O10: 15 | P10: 16 | Q10: 17 | R10: 18 | S10: 19 | T10: 20
A11: 1 | B11: SANETAN | C11: 1 | D11: 0 | E11: 2 | F11: 11 | G11: 33 | H11: 12 | I11: 9 | J11: 9 | K11: 0 | L11: 7 | M11: 2 | N11: 9 | O11: 0 | P11: 0 | Q11: 0 | R11: 0 | S11: 0
A12: 2 | B12: RAKITAN | C12: 1 | D12: 0 | E12: 2 | F12: 5 | G12: 14 | H12: 6 | I12: 11 | J12: 11 | K12: 0 | L12: 6 | M12: 4 | N12: 10 | O12: 0 | P12: 0 | Q12: 0 | R12: 0 | S12: 0
A13: 3 | B13: BENDO | C13: 1 | D13: 0 | E13: 6 | F13: 16 | G13: 52 | H13: 19 | I13: 18 | J13: 18 | K13: 0 | L13: 8 | M13: 10 | N13: 18 | O13: 0 | P13: 0 | Q13: 0 | R13: 0 | S13: 0
A14: 4 | B14: LABUHAN | C14: 1 | D14: 0 | E14: 9 | F14: 24 | G14: 91 | H14: 32 | I14: 36 | J14: 36 | K14: 0 | L14: 16 | M14: 20 | N14: 36 | O14: 0 | P14: 0 | Q14: 0 | R14: 0 | S14: 0
A15: 5 | B15: SENDANGMULYO | C15: 1 | D15: 0 | E15: 3 | F15: 9 | G15: 35 | H15: 17 | I15: 13 | J15: 13 | K15: 0 | L15: 7 | M15: 5 | N15: 12 | O15: 0 | P15: 0 | Q15: 1 | R15: 0 | S15: 0
A16: 6 | B16: BLIMBING | C16: 1 | D16: 0 | E16: 3 | F16: 21 | G16: 61 | H16: 2 | I16: 2 | J16: 2 | K16: 0 | L16: 1 | M16: 2 | N16: 3 | O16: 0 | P16: 0 | Q16: 0 | R16: 0 | S16: 0
A17: 7 | B17: MANGGAR | C17: 1 | D17: 0 | E17: 1 | F17: 2 | G17: 7 | H17: 40 | I17: 40 | J17: 40 | K17: 0 | L17: 22 | M17: 17 | N17: 39 | O17: 0 | P17: 1 | Q17: 0 | R17: 0 | S17: 0
A18: 8 | B18: JATISARI | C18: 1 | D18: 0 | E18: 1 | F18: 6 | G18: 17 | H18: 12 | I18: 16 | J18: 16 | K18: 0 | L18: 8 | M18: 9 | N18: 17 | O18: 0 | P18: 0 | Q18: 3 | R18: 0 | S18: 0
A19: 9 | B19: LANGGAR | C19: 1 | D19: 0 | E19: 2 | F19: 11 | G19: 29 | H19: 11 | I19: 17 | J19: 17 | K19: 0 | L19: 9 | M19: 8 | N19: 17 | O19: 0 | P19: 1 | Q19: 0 | R19: 0 | S19: 0
A20: 10 | B20: SLUKE | C20: 1 | D20: 0 | E20: 4 | F20: 19 | G20: 69 | H20: 31 | I20: 31 | J20: 31 | K20: 0 | L20: 13 | M20: 17 | N20: 30 | O20: 0 | P20: 0 | Q20: 1 | R20: 0 | S20: 0
A21: 11 | B21: JURANG JERO | C21: 1 | D21: 0 | E21: 2 | F21: 12 | G21: 46 | H21: 27 | I21: 31 | J21: 31 | K21: 0 | L21: 19 | M21: 12 | N21: 31 | O21: 0 | P21: 1 | Q21: 0 | R21: 0 | S21: 0
A22: 12 | B22: LERAN | C22: 1 | D22: 0 | E22: 2 | F22: 8 | G22: 35 | H22: 21 | I22: 25 | J22: 25 | K22: 0 | L22: 13 | M22: 12 | N22: 25 | O22: 0 | P22: 0 | Q22: 0 | R22: 0 | S22: 0
... A24: 14 | B24: PANGKALAN | C24: 1 | D24: 0 | E24: 2 | F24: 8 | G24: 26 | H24: 23 | I24: 21 | J24: 21 | K24: 0 | L24: 14 | M24: 7 | N24: 21 | O24: 0 | P24: 1 | Q24: 0 | R24: 0 | S24: 0
A25: JUMLAH | C25: =SUM(C11:C24) -> 14 | D25: =SUM(D11:D24) -> 0 | E25: =SUM(E11:E24) -> 42 | F25: =SUM(F11:F24) -> 159 | G25: =SUM(G11:G24) -> 554 | H25: =SUM(H11:H24) -> 274 | I25: =SUM(I11:I24) -> 293 | J25: =SUM(J11:J24) -> 293 | ... S25: =SUM(S11:S24) -> 0

Sheet LASEM
A1: REKAPITULASI DATA
A2: IBU HAMIL, MELAHIRKAN, NIFAS, MENINGGAL, KELAHIRAN BAYI, BAYI MENINGGAL DAN KEMATIAN BALITA
A3: TP.PKK KABUPATEN REMBANG
A4: TAHUN : 2025
A6: KECAMATAN :
A7: NO | B7: NAMA DESA | C7: JUMLAH | H7: JUMLAH IBU | L7: JUMLAH BAYI | R7: JUMLAH BALITA MENINGGAL | T7: KET
C8: DESA /KEL | D8: DUSUN /LINGK | E8: RW | F8: RT | G8: DASA WISMA | H8: HAMIL | I8: MELAHIRKAN | J8: NIFAS | K8: MENINGGAL | L8: LAHIR | N8: AKTE KELAHIRAN | P8: MENINGGAL
L9: L | M9: P | N9: ADA | O9: TIDAK | P9: L | Q9: P | R9: L | S9: P
A10: 1 | B10: 2 | C10: 3 | D10: 4 | E10: 5 | F10: 6 | G10: 7 | H10: 8 | I10: 9 | J10: 10 | K10: 11 | L10: 12 | M10: 13 | N10: 14 | O10: 15 | P10: 16 | Q10: 17 | R10: 18 | S10: 19 | T10: 20
A11: 1 | B11: Karasgede | C11: 1 | D11: 3 | E11: 3 | F11: 10 | G11: 41 | H11: 12 | I11: 2 | J11: 2 | K11: 0 | L11: 2 | M11: 0 | N11: 2 | O11: 0 | P11: 0 | Q11: 0 | R11: 0 | S11: 0
A12: 2 | B12: Jolotundo | C12: 1 | D12: 8 | E12: 8 | F12: 17 | G12: 52 | H12: 15 | I12: 5 | J12: 5 | K12: 0 | L12: 3 | M12: 2 | N12: 5 | O12: 0 | P12: 0 | Q12: 0 | R12: 0 | S12: 0
A13: 3 | B13: Sendangcoyo | C13: 1 | D13: 6 | E13: 6 | F13: 13 | G13: 45 | H13: 6 | I13: 0 | J13: 0 | K13: 0 | L13: 0 | M13: 0 | N13: 0 | O13: 0 | P13: 0 | Q13: 0 | R13: 0 | S13: 0
A14: 4 | B14: Ngargomulyo | C14: 1 | D14: 1 | E14: 2 | F14: 4 | G14: 6 | H14: 0 | I14: 0 | J14: 0 | K14: 0 | L14: 0 | M14: 0 | N14: 0 | O14: 0 | P14: 0 | Q14: 0 | R14: 0 | S14: 0
A15: 5 | B15: Kajar | C15: 1 | D15: 3 | E15: 3 | F15: 11 | G15: 29 | H15: 8 | I15: 0 | J15: 0 | K15: 0 | L15: 0 | M15: 0 | N15: 0 | O15: 0 | P15: 0 | Q15: 0 | R15: 0 | S15: 0
A16: 6 | B16: Selopuro | C16: 1 | D16: 5 | E16: 7 | F16: 24 | G16: 75 | H16: 26 | I16: 5 | J16: 5 | K16: 0 | L16: 3 | M16: 2 | N16: 5 | O16: 0 | P16: 0 | Q16: 0 | R16: 0 | S16: 0
A17: 7 | B17: Sumbergirang | C17: 1 | D17: 7 | E17: 8 | F17: 23 | G17: 62 | H17: 27 | I17: 6 | J17: 6 | K17: 0 | L17: 1 | M17: 5 | N17: 6 | O17: 0 | P17: 0 | Q17: 0 | R17: 0 | S17: 0
A18: 8 | B18: Karangturi | C18: 1 | D18: 5 | E18: 5 | F18: 13 | G18: 59 | H18: 11 | I18: 1 | J18: 1 | K18: 0 | L18: 0 | M18: 1 | N18: 1 | O18: 0 | P18: 0 | Q18: 0 | R18: 0 | S18: 0
A19: 9 | B19: Babagan | C19: 1 | D19: 2 | E19: 5 | F19: 16 | G19: 38 | H19: 8 | I19: 2 | J19: 2 | K19: 0 | L19: 2 | M19: 0 | N19: 2 | O19: 0 | P19: 0 | Q19: 0 | R19: 0 | S19: 0
A20: 10 | B20: Dorokandang | C20: 1 | D20: 7 | E20: 5 | F20: 14 | G20: 40 | H20: 19 | I20: 1 | J20: 1 | K20: 0 | L20: 1 | M20: 0 | N20: 1 | O20: 0 | P20: 0 | Q20: 0 | R20: 0 | S20: 0
A21: 11 | B21: Gedongmulyo | C21: 1 | D21: 4 | E21: 4 | F21: 16 | G21: 60 | H21: 20 | I21: 11 | J21: 11 | K21: 0 | L21: 4 | M21: 7 | N21: 11 | O21: 0 | P21: 0 | Q21: 0 | R21: 0 | S21: 0
A22: 12 | B22: Soditan | C22: 1 | D22: 9 | E22: 4 | F22: 10 | G22: 69 | H22: 19 | I22: 5 | J22: 5 | K22: 0 | L22: 2 | M22: 3 | N22: 5 | O22: 0 | P22: 0 | Q22: 0 | R22: 0 | S22: 0
... A30: 20 | B30: Dasun | C30: 1 | D30: 1 | E30: 1 | F30: 4 | G30: 51 | H30: 3 | I30: 1 | J30: 1 | K30: 0 | L30: 1 | M30: 0 | N30: 1 | O30: 0 | P30: 0 | Q30: 0 | R30: 0 | S30: 0
A31: JUMLAH | C31: =SUM(C11:C30) -> 20 | D31: =SUM(D11:D30) -> 82 | E31: =SUM(E11:E30) -> 103 | F31: =SUM(F11:F30) -> 285 | G31: =SUM(G11:G30) -> 875 | H31: =SUM(H11:H30) -> 235 | I31: =SUM(I11:I30) -> 51 | J31: =SUM(J11:J30) -> 51 | ... T31: =SUM(T11:T30) -> 0
