Workbook

Sheet FAX注文書
A1: 発注書
A3: 太枠の中をご記入の上、下記メールアドレスまたはFAXにてご注文をお願い致します。
R4: ご注文日 | X4: 年 | AA4: 月 | AD4: 日
A6: 発注主 | C6: 貴社名（店名） | T6: 様 | U6: ご担当者名 | AD6: 様
C7: ご連絡先 お電話番号 | U7: FAX
C8: E-mail
A10: お送り先 | C10: ご住所
F11: 〒 | L11: -
C14: 貴社名（店名） | T14: 様 | U14: ご担当者名 | AD14: 様
C15: ご連絡先 お電話番号 | U15: FAX
C16: 納期 | I16: 月 | M16: 日 | N16: までに必着 または | X16: 月 | AA16: 日 指定着
A18: ※在庫のある場合は、翌日出荷とさせて頂きます。尚、運送都合、その他の理由により多少遅れる場合がございますのでご了承くださいませ。
A19: ※在庫が無い商品・受注生産商品につきましては、あらためて納期をご連絡いたします。
A20: ※個人情報の取扱いについて（FAX注文書の利用目的）：ご記入いただいた個人情報は、商品の発送及びご連絡に利用させていただきます。取得した個人情報は、法令等による場合を除いて第三者に提供することはありません。ご本人からの求めにより、弊社が保有する個人情報の開示に応じます。取得した個人情報については、漏洩・滅失又は棄損の防止と是正、その他個人情報の安全管理のために必要かつ適切な措置を講じます。
A23: 記入例 | C23: 62574A4W | K23: 再剥離粘着式ポップ台紙 リピッタスタンドA4 ホワイト(2枚入) | V23: 1
C25: 注文番号 | K25: 商品名 | V25: 数 量 | Z25: 税抜価格
B26: 1 | K26: =IF(C26="","",VLOOKUP(C26,【編集不可】品番・品名表!A2:C61,2)) | Y26: 個 | Z26: =IF(C26="","",VLOOKUP(C26,【編集不可】品番・品名表!A2:C61,3)*V26)
B27: 2 | K27: =IF(C27="","",VLOOKUP(C27,【編集不可】品番・品名表!A3:C62,2)) | Y27: 個 | Z27: =IF(C27="","",VLOOKUP(C27,【編集不可】品番・品名表!A3:C62,3)*V27)
B28: 3 | K28: =IF(C28="","",VLOOKUP(C28,【編集不可】品番・品名表!A4:C63,2)) | Y28: 個 | Z28: =IF(C28="","",VLOOKUP(C28,【編集不可】品番・品名表!A4:C63,3)*V28)
B29: 4 | K29: =IF(C29="","",VLOOKUP(C29,【編集不可】品番・品名表!A5:C64,2)) | Y29: 個 | Z29: =IF(C29="","",VLOOKUP(C29,【編集不可】品番・品名表!A5:C64,3)*V29)
B30: 5 | K30: =IF(C30="","",VLOOKUP(C30,【編集不可】品番・品名表!A6:C65,2)) | Y30: 個 | Z30: =IF(C30="","",VLOOKUP(C30,【編集不可】品番・品名表!A6:C65,3)*V30)
B31: 6 | K31: =IF(C31="","",VLOOKUP(C31,【編集不可】品番・品名表!A7:C66,2)) | Y31: 個 | Z31: =IF(C31="","",VLOOKUP(C31,【編集不可】品番・品名表!A7:C66,3)*V31)
B32: 7 | K32: =IF(C32="","",VLOOKUP(C32,【編集不可】品番・品名表!A8:C67,2)) | Y32: 個 | Z32: =IF(C32="","",VLOOKUP(C32,【編集不可】品番・品名表!A8:C67,3)*V32)
B33: 8 | K33: =IF(C33="","",VLOOKUP(C33,【編集不可】品番・品名表!A9:C68,2)) | Y33: 個 | Z33: =IF(C33="","",VLOOKUP(C33,【編集不可】品番・品名表!A9:C68,3)*V33)
B34: 9 | K34: =IF(C34="","",VLOOKUP(C34,【編集不可】品番・品名表!A10:C69,2)) | Y34: 個 | Z34: =IF(C34="","",VLOOKUP(C34,【編集不可】品番・品名表!A10:C69,3)*V34)
B35: 10 | K35: =IF(C35="","",VLOOKUP(C35,【編集不可】品番・品名表!A11:C70,2)) | Y35: 個 | Z35: =IF(C35="","",VLOOKUP(C35,【編集不可】品番・品名表!A11:C70,3)*V35)
B36: 11 | C36: 運賃 | T36: （メールまたはFAXにてお知らせします）
T37: 合計金額 | Z37: =SUM(Z26:AD36) -> 0 | AD37: 円
A38: ＜備考欄＞
A43: お問合せ・ 申込み先 | O43: 〒115-045 東京都北区赤羽1-52-10 NSビル3F
F44: E-MAIL：sanpees@sankeiplan.co.jp/ FAX：03-5939-7923

Sheet 【編集不可】品番・品名表
A1: 品番 | B1: 品名 | C1: 税抜価格
A2: SP04-00101 | B2: T型POPスタンド クロムメッキ（センター） | C2: 1250
A3: SP04-00102 | B3: T型POPスタンド クロムメッキ（コーナー） | C3: 1250
A4: SP04-00103 | B4: T型POPスタンド ステンレス（センター） | C4: 1500
A5: SP04-00104 | B5: T型POPスタンド ステンレス（コーナー） | C5: 1500
A6: SP04-00105 | B6: T型POPスタンド 白塗装（センター） | C6: 1210
A7: SP04-00106 | B7: T型POPスタンド 白塗装（コーナー） | C7: 1210
A8: SP04-00107 | B8: T型POPスタンド 黒塗装（センター） | C8: 1210
A9: SP04-00108 | B9: T型POPスタンド 黒塗装（コーナー） | C9: 1210
A10: SP04-00109 | B10: バインダー型POPスタンド クロムメッキ（センター） | C10: 1250
A11: SP04-00110 | B11: バインダー型POPスタンド クロムメッキ（コーナー） | C11: 1250
A12: SP04-00111 | B12: バインダー型POPスタンド ステンレス（センター） | C12: 1500
A13: SP04-00112 | B13: バインダー型POPスタンド ステンレス（コーナー） | C13: 1500
... A61: SP02-00027 | B61: エンド用クリップ | C61: 860
