Workbook

Sheet 施設情報
A1: =IFERROR(__xludf.DUMMYFUNCTION("IMPORTRANGE(""https://docs.google.com/spreadsheets/d/1gkRepGJi8YSf_9GBJuQGTAy9KAk4_wUsZeeKx4jozwg/edit?usp=sharing"",""施設情報!A1"")"),"名称") -> 名称 | B1: =IFERROR(__xludf.DUMMYFUNCTION("IMPORTRANGE(""https://docs.google.com/spreadsheets/d/1gkRepGJi8YSf_9GBJuQGTAy9KAk4_wUsZeeKx4jozwg/edit?usp=sharing"",""施設情報!B1"")"),"入力欄") -> 入力欄
A2: =IFERROR(__xludf.DUMMYFUNCTION("IMPORTRANGE(""https://docs.google.com/spreadsheets/d/1gkRepGJi8YSf_9GBJuQGTAy9KAk4_wUsZeeKx4jozwg/edit?usp=sharing"",""施設情報!A2"")"),"施設名") -> 施設名 | B2: 糸魚川総合病院
A3: =IFERROR(__xludf.DUMMYFUNCTION("IMPORTRANGE(""https://docs.google.com/spreadsheets/d/1gkRepGJi8YSf_9GBJuQGTAy9KAk4_wUsZeeKx4jozwg/edit?usp=sharing"",""施設情報!A3"")"),"住所") -> 住所 | B3: 糸魚川市竹ヶ花457番地1
A4: =IFERROR(__xludf.DUMMYFUNCTION("IMPORTRANGE(""https://docs.google.com/spreadsheets/d/1gkRepGJi8YSf_9GBJuQGTAy9KAk4_wUsZeeKx4jozwg/edit?usp=sharing"",""施設情報!A4"")"),"連絡先") -> 連絡先 | B4: 栄養科
A5: =IFERROR(__xludf.DUMMYFUNCTION("IMPORTRANGE(""https://docs.google.com/spreadsheets/d/1gkRepGJi8YSf_9GBJuQGTAy9KAk4_wUsZeeKx4jozwg/edit?usp=sharing"",""施設情報!A5"")"),"電話番号") -> 電話番号 | B5: 025-552-0280
A6: =IFERROR(__xludf.DUMMYFUNCTION("IMPORTRANGE(""https://docs.google.com/spreadsheets/d/1gkRepGJi8YSf_9GBJuQGTAy9KAk4_wUsZeeKx4jozwg/edit?usp=sharing"",""施設情報!A6"")"),"更新日") -> 更新日 | B6: 45650

Sheet 副食
A1: =IFERROR(__xludf.DUMMYFUNCTION("IMPORTRANGE(""https://docs.google.com/spreadsheets/d/1gkRepGJi8YSf_9GBJuQGTAy9KAk4_wUsZeeKx4jozwg/edit?usp=sharing"",""副食!A1"")"),"コード") -> コード | B1: =IFERROR(__xludf.DUMMYFUNCTION("IMPORTRANGE(""https://docs.google.com/spreadsheets/d/1gkRepGJi8YSf_9GBJuQGTAy9KAk4_wUsZeeKx4jozwg/edit?usp=sharing"",""副食!B1"")"),"学会分類") -> 学会分類 | C1: =IFERROR(__xludf.DUMMYFUNCTION("IMPORTRANGE(""https://docs.google.com/spreadsheets/d/1gkRepGJi8YSf_9GBJuQGTAy9KAk4_wUsZeeKx4jozwg/edit?usp=sharing"",""副食!C1"")"),"食形態") -> 食形態 | D1: =IFERROR(__xludf.DUMMYFUNCTION("IMPORTRANGE(""https://docs.google.com/spreadsheets/d/1gkRepGJi8YSf_9GBJuQGTAy9KAk4_wUsZeeKx4jozwg/edit?usp=sharing"",""副食!D1"")"),"画像") -> 画像 | E1: =IFERROR(__xludf.DUMMYFUNCTION("IMPORTRANGE(""https://docs.google.com/spreadsheets/d/1gkRepGJi8YSf_9GBJuQGTAy9KAk4_wUsZeeKx4jozwg/edit?usp=sharing"",""副食!E1"")"),"食種名称") -> 食種名称 | F1: =IFERROR(__xludf.DUMMYFUNCTION("IMPORTRANGE(""https://docs.google.com/spreadsheets/d/1gkRepGJi8YSf_9GBJuQGTAy9KAk4_wUsZeeKx4jozwg/edit?usp=sharing"",""副食!F1"")"),"備考") -> 備考
A2: =IFERROR(__xludf.DUMMYFUNCTION("IMPORTRANGE(""https://docs.google.com/spreadsheets/d/1gkRepGJi8YSf_9GBJuQGTAy9KAk4_wUsZeeKx4jozwg/edit?usp=sharing"",""副食!A2"")"),"0j") -> 0j | B2: =IFERROR(__xludf.DUMMYFUNCTION("IMPORTRANGE(""https://docs.google.com/spreadsheets/d/1gkRepGJi8YSf_9GBJuQGTAy9KAk4_wUsZeeKx4jozwg/edit?usp=sharing"",""副食!B2"")"),"べたつき 粒やカス全くなし") -> べたつき 粒やカス全くなし | C2: =IFERROR(__xludf.DUMMYFUNCTION("IMPORTRANGE(""https://docs.google.com/spreadsheets/d/1gkRepGJi8YSf_9GBJuQGTAy9KAk4_wUsZeeKx4jozwg/edit?usp=sharing"",""副食!C2"")"),"均質で、べたつきなどないゼリー。 離水が少なく、スライス状にすくうことが可能なもの。 たんぱく質含有量が少ないもの。") -> 均質で、べたつきなどないゼリー。 離水が少なく、スライス状にすくうことが可能なもの。 たんぱく質含有量が少ないもの。
A3: =IFERROR(__xludf.DUMMYFUNCTION("IMPORTRANGE(""https://docs.google.com/spreadsheets/d/1gkRepGJi8YSf_9GBJuQGTAy9KAk4_wUsZeeKx4jozwg/edit?usp=sharing"",""副食!A3"")"),"1j") -> 1j | B3: =IFERROR(__xludf.DUMMYFUNCTION("IMPORTRANGE(""https://docs.google.com/spreadsheets/d/1gkRepGJi8YSf_9GBJuQGTAy9KAk4_wUsZeeKx4jozwg/edit?usp=sharing"",""副食!B3"")"),"べたつき 粒やカス全くなし") -> べたつき 粒やカス全くなし | C3: =IFERROR(__xludf.DUMMYFUNCTION("IMPORTRANGE(""https://docs.google.com/spreadsheets/d/1gkRepGJi8YSf_9GBJuQGTAy9KAk4_wUsZeeKx4jozwg/edit?usp=sharing"",""副食!C3"")"),"均質で、べたつきなどないゼリー・プリン・ムース。") -> 均質で、べたつきなどないゼリー・プリン・ムース。 | E3: 訓練食 | F3: ソフトアガロリーゼリー（キッセイ）とトロミ茶の２品。３食とも２品のみ。
A4: =IFERROR(__xludf.DUMMYFUNCTION("IMPORTRANGE(""https://docs.google.com/spreadsheets/d/1gkRepGJi8YSf_9GBJuQGTAy9KAk4_wUsZeeKx4jozwg/edit?usp=sharing"",""副食!A4"")"),"2-1") -> 2-1 | B4: =IFERROR(__xludf.DUMMYFUNCTION("IMPORTRANGE(""https://docs.google.com/spreadsheets/d/1gkRepGJi8YSf_9GBJuQGTAy9KAk4_wUsZeeKx4jozwg/edit?usp=sharing"",""副食!B4"")"),"噛まなくてよい 粒やカスなし") -> 噛まなくてよい 粒やカスなし | C4: =IFERROR(__xludf.DUMMYFUNCTION("IMPORTRANGE(""https://docs.google.com/spreadsheets/d/1gkRepGJi8YSf_9GBJuQGTAy9KAk4_wUsZeeKx4jozwg/edit?usp=sharing"",""副食!C4"")"),"ミキサーを使用し、粒が残らずなめらかに均一な状態。 ゲル化剤・とろみ剤でまとめたもの。") -> ミキサーを使用し、粒が残らずなめらかに均一な状態。 ゲル化剤・とろみ剤でまとめたもの。 | E4: ミキサー食 | F4: ミキサーをかけた後、トロメイクコンパクト（明治）を使用してとろみ具合を調整。その後、栄養量アップのため、PFCパウダー（フードケア）を使用。 ３食とろみ茶付き。
A5: =IFERROR(__xludf.DUMMYFUNCTION("IMPORTRANGE(""https://docs.google.com/spreadsheets/d/1gkRepGJi8YSf_9GBJuQGTAy9KAk4_wUsZeeKx4jozwg/edit?usp=sharing"",""副食!A5"")"),"2-2") -> 2-2 | B5: =IFERROR(__xludf.DUMMYFUNCTION("IMPORTRANGE(""https://docs.google.com/spreadsheets/d/1gkRepGJi8YSf_9GBJuQGTAy9KAk4_wUsZeeKx4jozwg/edit?usp=sharing"",""副食!B5"")"),"噛まなくてよい 若干の残渣あり (粥粒程度)") -> 噛まなくてよい 若干の残渣あり (粥粒程度) | C5: =IFERROR(__xludf.DUMMYFUNCTION("IMPORTRANGE(""https://docs.google.com/spreadsheets/d/1gkRepGJi8YSf_9GBJuQGTAy9KAk4_wUsZeeKx4jozwg/edit?usp=sharing"",""副食!C5"")"),"フードプロセッサーやミキサー等を使用したもので、若干の粒が残った状態。 ゲル化剤・とろみ剤でまとめたもの。") -> フードプロセッサーやミキサー等を使用したもので、若干の粒が残った状態。 ゲル化剤・とろみ剤でまとめたもの。 | E5: きざみ食 + とろみだし | F5: 手でほぐす、またはフードプロセッサーで細かくする。 別添えでとろみ付きのだしを提供。食事の際にきざみ食にとろみだしをかけて食べる。 ３食とろみ茶付き。
A6: =IFERROR(__xludf.DUMMYFUNCTION("IMPORTRANGE(""https://docs.google.com/spreadsheets/d/1gkRepGJi8YSf_9GBJuQGTAy9KAk4_wUsZeeKx4jozwg/edit?usp=sharing"",""副食!A6"")"),"3") -> 3 | B6: =IFERROR(__xludf.DUMMYFUNCTION("IMPORTRANGE(""https://docs.google.com/spreadsheets/d/1gkRepGJi8YSf_9GBJuQGTAy9KAk4_wUsZeeKx4jozwg/edit?usp=sharing"",""副食!B6"")"),"舌でつぶせる") -> 舌でつぶせる | C6: =IFERROR(__xludf.DUMMYFUNCTION("IMPORTRANGE(""https://docs.google.com/spreadsheets/d/1gkRepGJi8YSf_9GBJuQGTAy9KAk4_wUsZeeKx4jozwg/edit?usp=sharing"",""副食!C6"")"),"フードプロセッサーやミキサー等を使用したものを、ゲル化剤で固めたもの。 舌や口蓋で押しつぶせる程度の硬さ。") -> フードプロセッサーやミキサー等を使用したものを、ゲル化剤で固めたもの。 舌や口蓋で押しつぶせる程度の硬さ。
A7: =IFERROR(__xludf.DUMMYFUNCTION("IMPORTRANGE(""https://docs.google.com/spreadsheets/d/1gkRepGJi8YSf_9GBJuQGTAy9KAk4_wUsZeeKx4jozwg/edit?usp=sharing"",""副食!A7"")"),"4") -> 4 | B7: =IFERROR(__xludf.DUMMYFUNCTION("IMPORTRANGE(""https://docs.google.com/spreadsheets/d/1gkRepGJi8YSf_9GBJuQGTAy9KAk4_wUsZeeKx4jozwg/edit?usp=sharing"",""副食!B7"")"),"歯ぐきでつぶせる 容易に噛める") -> 歯ぐきでつぶせる 容易に噛める | C7: =IFERROR(__xludf.DUMMYFUNCTION("IMPORTRANGE(""https://docs.google.com/spreadsheets/d/1gkRepGJi8YSf_9GBJuQGTAy9KAk4_wUsZeeKx4jozwg/edit?usp=sharing"",""副食!C7"")"),"軟らかく調理したものを、きざみ～そのままの形態（＊いずれの形態も）バラつきや、多量の離水がないよう配慮したもの。 箸やスプーンで切れるやわらかさ。") -> 軟らかく調理したものを、きざみ～そのままの形態（＊いずれの形態も）バラつきや、多量の離水がないよう配慮したもの。 箸やスプーンで切れるやわらかさ。 | E7: 移行食 | F7: 一口大＋汁トロミ対応。煮る、蒸す、茹でるが基本の調理法。硬い食品は提供しない。３食とろみ茶付き。 魚はカラスガレイ、銀鮭、メルルーサ、赤魚、やわらか豆乳つみれのみ使用。肉は肉団子やハンバーグなど、ひき肉を固めたもののみ使用。
A8: =IFERROR(__xludf.DUMMYFUNCTION("IMPORTRANGE(""https://docs.google.com/spreadsheets/d/1gkRepGJi8YSf_9GBJuQGTAy9KAk4_wUsZeeKx4jozwg/edit?usp=sharing"",""副食!A8"")"),"4") -> 4 | B8: =IFERROR(__xludf.DUMMYFUNCTION("IMPORTRANGE(""https://docs.google.com/spreadsheets/d/1gkRepGJi8YSf_9GBJuQGTAy9KAk4_wUsZeeKx4jozwg/edit?usp=sharing"",""副食!B8"")"),"歯ぐきでつぶせる 容易に噛める") -> 歯ぐきでつぶせる 容易に噛める | C8: =IFERROR(__xludf.DUMMYFUNCTION("IMPORTRANGE(""https://docs.google.com/spreadsheets/d/1gkRepGJi8YSf_9GBJuQGTAy9KAk4_wUsZeeKx4jozwg/edit?usp=sharing"",""副食!C8"")"),"軟らかく調理したものを、きざみ～そのままの形態（＊いずれの形態も）バラつきや、多量の離水がないよう配慮したもの。 箸やスプーンで切れるやわらかさ。") -> 軟らかく調理したものを、きざみ～そのままの形態（＊いずれの形態も）バラつきや、多量の離水がないよう配慮したもの。 箸やスプーンで切れるやわらかさ。

Sheet 主食
A1: =IFERROR(__xludf.DUMMYFUNCTION("IMPORTRANGE(""https://docs.google.com/spreadsheets/d/1gkRepGJi8YSf_9GBJuQGTAy9KAk4_wUsZeeKx4jozwg/edit?usp=sharing"",""主食!A1"")"),"コード") -> コード | B1: =IFERROR(__xludf.DUMMYFUNCTION("IMPORTRANGE(""https://docs.google.com/spreadsheets/d/1gkRepGJi8YSf_9GBJuQGTAy9KAk4_wUsZeeKx4jozwg/edit?usp=sharing"",""主食!B1"")"),"学会分類") -> 学会分類 | C1: =IFERROR(__xludf.DUMMYFUNCTION("IMPORTRANGE(""https://docs.google.com/spreadsheets/d/1gkRepGJi8YSf_9GBJuQGTAy9KAk4_wUsZeeKx4jozwg/edit?usp=sharing"",""主食!C1"")"),"食形態") -> 食形態 | D1: =IFERROR(__xludf.DUMMYFUNCTION("IMPORTRANGE(""https://docs.google.com/spreadsheets/d/1gkRepGJi8YSf_9GBJuQGTAy9KAk4_wUsZeeKx4jozwg/edit?usp=sharing"",""主食!D1"")"),"画像") -> 画像 | E1: =IFERROR(__xludf.DUMMYFUNCTION("IMPORTRANGE(""https://docs.google.com/spreadsheets/d/1gkRepGJi8YSf_9GBJuQGTAy9KAk4_wUsZeeKx4jozwg/edit?usp=sharing"",""主食!E1"")"),"食種名称") -> 食種名称 | F1: =IFERROR(__xludf.DUMMYFUNCTION("IMPORTRANGE(""https://docs.google.com/spreadsheets/d/1gkRepGJi8YSf_9GBJuQGTAy9KAk4_wUsZeeKx4jozwg/edit?usp=sharing"",""主食!F1"")"),"備考") -> 備考
A2: =IFERROR(__xludf.DUMMYFUNCTION("IMPORTRANGE(""https://docs.google.com/spreadsheets/d/1gkRepGJi8YSf_9GBJuQGTAy9KAk4_wUsZeeKx4jozwg/edit?usp=sharing"",""主食!A2"")"),"0j") -> 0j | B2: =IFERROR(__xludf.DUMMYFUNCTION("IMPORTRANGE(""https://docs.google.com/spreadsheets/d/1gkRepGJi8YSf_9GBJuQGTAy9KAk4_wUsZeeKx4jozwg/edit?usp=sharing"",""主食!B2"")"),"べたつき 粒やカス全くなし") -> べたつき 粒やカス全くなし | C2: =IFERROR(__xludf.DUMMYFUNCTION("IMPORTRANGE(""https://docs.google.com/spreadsheets/d/1gkRepGJi8YSf_9GBJuQGTAy9KAk4_wUsZeeKx4jozwg/edit?usp=sharing"",""主食!C2"")"),"")
A3: =IFERROR(__xludf.DUMMYFUNCTION("IMPORTRANGE(""https://docs.google.com/spreadsheets/d/1gkRepGJi8YSf_9GBJuQGTAy9KAk4_wUsZeeKx4jozwg/edit?usp=sharing"",""主食!A3"")"),"1j") -> 1j | B3: =IFERROR(__xludf.DUMMYFUNCTION("IMPORTRANGE(""https://docs.google.com/spreadsheets/d/1gkRepGJi8YSf_9GBJuQGTAy9KAk4_wUsZeeKx4jozwg/edit?usp=sharing"",""主食!B3"")"),"べたつき 粒やカス全くなし") -> べたつき 粒やカス全くなし | C3: =IFERROR(__xludf.DUMMYFUNCTION("IMPORTRANGE(""https://docs.google.com/spreadsheets/d/1gkRepGJi8YSf_9GBJuQGTAy9KAk4_wUsZeeKx4jozwg/edit?usp=sharing"",""主食!C3"")"),"ミキサーを使用したもの。 粒が残らずなめらかで均一な状態で、ゲル化剤を混ぜ、ゼリー状にした粥。 ") -> ミキサーを使用したもの。 粒が残らずなめらかで均一な状態で、ゲル化剤を混ぜ、ゼリー状にした粥。 | E3: ミキサー粥 | F3: 全粥をミキサーにかけたもの。 全粥重量１％のスベラカーゼライト（フードケア）と８％のPFCパウダー（フードケア）を使用。
A4: =IFERROR(__xludf.DUMMYFUNCTION("IMPORTRANGE(""https://docs.google.com/spreadsheets/d/1gkRepGJi8YSf_9GBJuQGTAy9KAk4_wUsZeeKx4jozwg/edit?usp=sharing"",""主食!A4"")"),"2-1") -> 2-1 | B4: =IFERROR(__xludf.DUMMYFUNCTION("IMPORTRANGE(""https://docs.google.com/spreadsheets/d/1gkRepGJi8YSf_9GBJuQGTAy9KAk4_wUsZeeKx4jozwg/edit?usp=sharing"",""主食!B4"")"),"噛まなくてよい 粒やカスなし") -> 噛まなくてよい 粒やカスなし | C4: =IFERROR(__xludf.DUMMYFUNCTION("IMPORTRANGE(""https://docs.google.com/spreadsheets/d/1gkRepGJi8YSf_9GBJuQGTAy9KAk4_wUsZeeKx4jozwg/edit?usp=sharing"",""主食!C4"")"),"ミキサーを使用し、粒が残らずなめらかに均一な状態。ゲル化剤・とろみ剤でまとめたもの。") -> ミキサーを使用し、粒が残らずなめらかに均一な状態。ゲル化剤・とろみ剤でまとめたもの。
A5: =IFERROR(__xludf.DUMMYFUNCTION("IMPORTRANGE(""https://docs.google.com/spreadsheets/d/1gkRepGJi8YSf_9GBJuQGTAy9KAk4_wUsZeeKx4jozwg/edit?usp=sharing"",""主食!A5"")"),"2-2") -> 2-2 | B5: =IFERROR(__xludf.DUMMYFUNCTION("IMPORTRANGE(""https://docs.google.com/spreadsheets/d/1gkRepGJi8YSf_9GBJuQGTAy9KAk4_wUsZeeKx4jozwg/edit?usp=sharing"",""主食!B5"")"),"噛まなくてよい 若干の残渣あり （粥粒程度）") -> 噛まなくてよい 若干の残渣あり （粥粒程度） | C5: =IFERROR(__xludf.DUMMYFUNCTION("IMPORTRANGE(""https://docs.google.com/spreadsheets/d/1gkRepGJi8YSf_9GBJuQGTAy9KAk4_wUsZeeKx4jozwg/edit?usp=sharing"",""主食!C5"")"),"フードプロセッサーやミキサー等を使用したもので、若干の粒が残った状態。離水や粘度、付着性に配慮した粥。") -> フードプロセッサーやミキサー等を使用したもので、若干の粒が残った状態。離水や粘度、付着性に配慮した粥。
A6: =IFERROR(__xludf.DUMMYFUNCTION("IMPORTRANGE(""https://docs.google.com/spreadsheets/d/1gkRepGJi8YSf_9GBJuQGTAy9KAk4_wUsZeeKx4jozwg/edit?usp=sharing"",""主食!A6"")"),"3") -> 3 | B6: =IFERROR(__xludf.DUMMYFUNCTION("IMPORTRANGE(""https://docs.google.com/spreadsheets/d/1gkRepGJi8YSf_9GBJuQGTAy9KAk4_wUsZeeKx4jozwg/edit?usp=sharing"",""主食!B6"")"),"舌でつぶせる") -> 舌でつぶせる | C6: =IFERROR(__xludf.DUMMYFUNCTION("IMPORTRANGE(""https://docs.google.com/spreadsheets/d/1gkRepGJi8YSf_9GBJuQGTAy9KAk4_wUsZeeKx4jozwg/edit?usp=sharing"",""主食!C6"")"),"全粥に離水防止のとろみ剤やゲル化剤を混ぜたもの。") -> 全粥に離水防止のとろみ剤やゲル化剤を混ぜたもの。 | E6: とろみ粥 | F6: トロメイクコンパクト（明治）を使用。0.3％程度の濃度で調節。
A7: =IFERROR(__xludf.DUMMYFUNCTION("IMPORTRANGE(""https://docs.google.com/spreadsheets/d/1gkRepGJi8YSf_9GBJuQGTAy9KAk4_wUsZeeKx4jozwg/edit?usp=sharing"",""主食!A7"")"),"4") -> 4 | B7: =IFERROR(__xludf.DUMMYFUNCTION("IMPORTRANGE(""https://docs.google.com/spreadsheets/d/1gkRepGJi8YSf_9GBJuQGTAy9KAk4_wUsZeeKx4jozwg/edit?usp=sharing"",""主食!B7"")"),"歯ぐきでつぶせる 容易に噛める") -> 歯ぐきでつぶせる 容易に噛める | C7: =IFERROR(__xludf.DUMMYFUNCTION("IMPORTRANGE(""https://docs.google.com/spreadsheets/d/1gkRepGJi8YSf_9GBJuQGTAy9KAk4_wUsZeeKx4jozwg/edit?usp=sharing"",""主食!C7"")"),"米重量に対し5倍の水分量。または、米飯重量の2倍の水分量で炊いた粥。粒が残っている不均一な状態。") -> 米重量に対し5倍の水分量。または、米飯重量の2倍の水分量で炊いた粥。粒が残っている不均一な状態。 | E7: 全粥
A8: =IFERROR(__xludf.DUMMYFUNCTION("IMPORTRANGE(""https://docs.google.com/spreadsheets/d/1gkRepGJi8YSf_9GBJuQGTAy9KAk4_wUsZeeKx4jozwg/edit?usp=sharing"",""主食!A8"")"),"4") -> 4 | B8: =IFERROR(__xludf.DUMMYFUNCTION("IMPORTRANGE(""https://docs.google.com/spreadsheets/d/1gkRepGJi8YSf_9GBJuQGTAy9KAk4_wUsZeeKx4jozwg/edit?usp=sharing"",""主食!B8"")"),"歯ぐきでつぶせる 容易に噛める") -> 歯ぐきでつぶせる 容易に噛める | C8: =IFERROR(__xludf.DUMMYFUNCTION("IMPORTRANGE(""https://docs.google.com/spreadsheets/d/1gkRepGJi8YSf_9GBJuQGTAy9KAk4_wUsZeeKx4jozwg/edit?usp=sharing"",""主食!C8"")"),"水分量をやや多めに、軟らかく炊いたご飯。") -> 水分量をやや多めに、軟らかく炊いたご飯。

Sheet 水分とろみ
A1: =IFERROR(__xludf.DUMMYFUNCTION("IMPORTRANGE(""https://docs.google.com/spreadsheets/d/1gkRepGJi8YSf_9GBJuQGTAy9KAk4_wUsZeeKx4jozwg/edit?usp=sharing"",""水分とろみ!A1"")"),"とろみ調整食品") -> とろみ調整食品 | B1: 明治 トロメイクコンパクト | E1: =IFERROR(__xludf.DUMMYFUNCTION("IMPORTRANGE(""https://docs.google.com/spreadsheets/d/1gkRepGJi8YSf_9GBJuQGTAy9KAk4_wUsZeeKx4jozwg/edit?usp=sharing"",""水分とろみ!E1"")"),"備考") -> 備考
B2: =IFERROR(__xludf.DUMMYFUNCTION("IMPORTRANGE(""https://docs.google.com/spreadsheets/d/1gkRepGJi8YSf_9GBJuQGTAy9KAk4_wUsZeeKx4jozwg/edit?usp=sharing"",""水分とろみ!B2"")"),"小さじ1杯の量 (g)") -> 小さじ1杯の量 (g) | C2: 1.5 | E2: ・通常のとろみ剤よりも少量（1/2量）でとろみがつくタイプを使用しています。 ・嚥下調整食の食事には毎食とろみ茶が付いています。 ・とろみの程度は「濃いとろみ」で調整しています。
A3: =IFERROR(__xludf.DUMMYFUNCTION("IMPORTRANGE(""https://docs.google.com/spreadsheets/d/1gkRepGJi8YSf_9GBJuQGTAy9KAk4_wUsZeeKx4jozwg/edit?usp=sharing"",""水分とろみ!A3"")"),"学会分類") -> 学会分類 | B3: =IFERROR(__xludf.DUMMYFUNCTION("IMPORTRANGE(""https://docs.google.com/spreadsheets/d/1gkRepGJi8YSf_9GBJuQGTAy9KAk4_wUsZeeKx4jozwg/edit?usp=sharing"",""水分とろみ!B3"")"),"薄いとろみ") -> 薄いとろみ | C3: =IFERROR(__xludf.DUMMYFUNCTION("IMPORTRANGE(""https://docs.google.com/spreadsheets/d/1gkRepGJi8YSf_9GBJuQGTAy9KAk4_wUsZeeKx4jozwg/edit?usp=sharing"",""水分とろみ!C3"")"),"中間のとろみ") -> 中間のとろみ | D3: =IFERROR(__xludf.DUMMYFUNCTION("IMPORTRANGE(""https://docs.google.com/spreadsheets/d/1gkRepGJi8YSf_9GBJuQGTAy9KAk4_wUsZeeKx4jozwg/edit?usp=sharing"",""水分とろみ!D3"")"),"濃いとろみ") -> 濃いとろみ
A4: =IFERROR(__xludf.DUMMYFUNCTION("IMPORTRANGE(""https://docs.google.com/spreadsheets/d/1gkRepGJi8YSf_9GBJuQGTAy9KAk4_wUsZeeKx4jozwg/edit?usp=sharing"",""水分とろみ!A4"")"),"使用目安量 (g) 水100mlあたり") -> 使用目安量 (g) 水100mlあたり | D4: 1.5
A5: =IFERROR(__xludf.DUMMYFUNCTION("IMPORTRANGE(""https://docs.google.com/spreadsheets/d/1gkRepGJi8YSf_9GBJuQGTAy9KAk4_wUsZeeKx4jozwg/edit?usp=sharing"",""水分とろみ!A5"")"),"使用目安量 (小さじ) 水100mlあたり") -> 使用目安量 (小さじ) 水100mlあたり | D5: 1

Sheet PDF出力
A1: 施設名 | B1: ='施設情報'!B2 -> 糸魚川総合病院 | D1: 住所 | F1: ='施設情報'!B3 -> 糸魚川市竹ヶ花457番地1 | L1: 更新日 | M1: ='施設情報'!B6 -> 45650
D2: 連絡先 | F2: ='施設情報'!B4 -> 栄養科 | I2: 電話番号 | J2: ='施設情報'!B5 -> 025-552-0280
A4: 【副食】 | H4: 【主食】
A5: 分類コード | B5: 食形態 | C5: 画像 | D5: 食種名称 | E5: 備考 | H5: 分類コード | I5: 食形態 | J5: 画像 | K5: 食種名称 | L5: 備考
A6: 0j | B6: ='副食'!C2 -> 均質で、べたつきなどないゼリー。 離水が少なく、スライス状にすくうことが可能なもの。 たんぱく質含有量が少ないもの。 | C6: ='副食'!D2 | D6: ='副食'!E2 | E6: ='副食'!F2 | H6: 0j | I6: ='主食'!C2 | J6: ='主食'!D2 | K6: ='主食'!E2 | L6: ='主食'!F2
A7: 1j | B7: ='副食'!C3 -> 均質で、べたつきなどないゼリー・プリン・ムース。 | C7: ='副食'!D3 | D7: ='副食'!E3 -> 訓練食 | E7: ='副食'!F3 -> ソフトアガロリーゼリー（キッセイ）とトロミ茶の２品。３食とも２品のみ。 | H7: 1j | I7: ='主食'!C3 -> ミキサーを使用したもの。 粒が残らずなめらかで均一な状態で、ゲル化剤を混ぜ、ゼリー状にした粥。 | J7: ='主食'!D3 | K7: ='主食'!E3 -> ミキサー粥 | L7: ='主食'!F3 -> 全粥をミキサーにかけたもの。 全粥重量１％のスベラカーゼライト（フードケア）と８％のPFCパウダー（フードケア）を使用。
A8: 2-1 粒やカスなし | B8: ='副食'!C4 -> ミキサーを使用し、粒が残らずなめらかに均一な状態。 ゲル化剤・とろみ剤でまとめたもの。 | C8: ='副食'!D4 | D8: ='副食'!E4 -> ミキサー食 | E8: ='副食'!F4 -> ミキサーをかけた後、トロメイクコンパクト（明治）を使用してとろみ具合を調整。その後、栄養量アップのため、PFCパウダー（フードケア）を使用。 ３食とろみ茶付き。 | H8: 2-1 粒やカスなし | I8: ='主食'!C4 -> ミキサーを使用し、粒が残らずなめらかに均一な状態。ゲル化剤・とろみ剤でまとめたもの。 | J8: ='主食'!D4 | K8: ='主食'!E4 | L8: ='主食'!F4
A9: 2-2 若干の残渣あり （粥粒程度） | B9: ='副食'!C5 -> フードプロセッサーやミキサー等を使用したもので、若干の粒が残った状態。 ゲル化剤・とろみ剤でまとめたもの。 | C9: ='副食'!D5 | D9: ='副食'!E5 -> きざみ食 + とろみだし | E9: ='副食'!F5 -> 手でほぐす、またはフードプロセッサーで細かくする。 別添えでとろみ付きのだしを提供。食事の際にきざみ食にとろみだしをかけて食べる。 ３食とろみ茶付き。 | H9: 2-2 若干の残渣あり （粥粒程度） | I9: ='主食'!C5 -> フードプロセッサーやミキサー等を使用したもので、若干の粒が残った状態。離水や粘度、付着性に配慮した粥。 | J9: ='主食'!D5 | K9: ='主食'!E5 | L9: ='主食'!F5
A10: 3 | B10: ='副食'!C6 -> フードプロセッサーやミキサー等を使用したものを、ゲル化剤で固めたもの。 舌や口蓋で押しつぶせる程度の硬さ。 | C10: ='副食'!D6 | D10: ='副食'!E6 | E10: ='副食'!F6 | H10: 3 | I10: ='主食'!C6 -> 全粥に離水防止のとろみ剤やゲル化剤を混ぜたもの。 | J10: ='主食'!D6 | K10: ='主食'!E6 -> とろみ粥 | L10: ='主食'!F6 -> トロメイクコンパクト（明治）を使用。0.3％程度の濃度で調節。
A11: 4 | B11: ='副食'!C7 -> 軟らかく調理したものを、きざみ～そのままの形態（＊いずれの形態も）バラつきや、多量の離水がないよう配慮したもの。 箸やスプーンで切れるやわらかさ。 | C11: ='副食'!D7 | D11: ='副食'!E7 -> 移行食 | E11: ='副食'!F7 -> 一口大＋汁トロミ対応。煮る、蒸す、茹でるが基本の調理法。硬い食品は提供しない。３食とろみ茶付き。 魚はカラスガレイ、銀鮭、メルルーサ、赤魚、やわらか豆乳つみれのみ使用。肉は肉団子やハンバーグなど、ひき肉を固めたもののみ使用。 | H11: 4 | I11: ='主食'!C7 -> 米重量に対し5倍の水分量。または、米飯重量の2倍の水分量で炊いた粥。粒が残っている不均一な状態。 | J11: ='主食'!D7 | K11: ='主食'!E7 -> 全粥 | L11: ='主食'!F7
B12: ='副食'!C8 -> 軟らかく調理したものを、きざみ～そのままの形態（＊いずれの形態も）バラつきや、多量の離水がないよう配慮したもの。 箸やスプーンで切れるやわらかさ。 | C12: ='副食'!D8 | D12: ='副食'!E8 | E12: ='副食'!F8 | I12: ='主食'!C8 -> 水分量をやや多めに、軟らかく炊いたご飯。 | J12: ='主食'!D8 | K12: ='主食'!E8 | L12: ='主食'!F8
A14: 【水分とろみ】
A15: とろみ調整食品 | B15: ='水分とろみ'!B1 -> 明治 トロメイクコンパクト | F15: 備考
B16: 小さじ1杯 | C16: ='水分とろみ'!C2 -> 1.5 | F16: ='水分とろみ'!E2 -> ・通常のとろみ剤よりも少量（1/2量）でとろみがつくタイプを使用しています。 ・嚥下調整食の食事には毎食とろみ茶が付いています。 ・とろみの程度は「濃いとろみ」で調整しています。
A17: 学会分類 | B17: 薄いとろみ | C17: 中間のとろみ | D17: 濃いとろみ
A18: 使用目安量 ( g ) 水100mlあたり | B18: ='水分とろみ'!B4 | C18: ='水分とろみ'!C4 | D18: ='水分とろみ'!D4 -> 1.5
A19: 使用目安量 ( 小さじ ) 水100mlあたり | B19: ='水分とろみ'!B5 | C19: ='水分とろみ'!C5 | D19: ='水分とろみ'!D5 -> 1

Sheet 更新記録
A1: 更新記録シート
A2: 同意の確認 | C2: チェック | D2: ↓ 氏名を入力 ↓
A3: 更新内容について施設長の同意を得ました | C3: FALSE
A5: 日時 | B5: 氏名
A6: 45650.503 | B6: 小山佳菜実

Sheet 作業記録
A1: 作業記録
A2: 日時 | B2: 名前
A3: 45608.589 | B3: 山澤
A4: 45623.684 | B4: 小山
A5: 45628.678 | B5: 小山
A6: 45628.708 | B6: 小山
A7: 45636.509 | B7: 小山
A8: 45636.533 | B8: 小山
A9: 45636.691 | B9: 小山
A10: 45645.463 | B10: 小山
A11: 45650.497 | B11: 小山
A12: 45650.498 | B12: 小山
A13: 45650.501 | B13: 小山

Sheet 施設情報ウェブ出力
A1: =IFERROR(__xludf.DUMMYFUNCTION("IMPORTRANGE(""https://docs.google.com/spreadsheets/d/1gkRepGJi8YSf_9GBJuQGTAy9KAk4_wUsZeeKx4jozwg/edit?usp=sharing"",""施設情報!A1"")"),"名称") -> 名称 | B1: =IFERROR(__xludf.DUMMYFUNCTION("IMPORTRANGE(""https://docs.google.com/spreadsheets/d/1gkRepGJi8YSf_9GBJuQGTAy9KAk4_wUsZeeKx4jozwg/edit?usp=sharing"",""施設情報!B1"")"),"入力欄") -> 入力欄
A2: =IFERROR(__xludf.DUMMYFUNCTION("IMPORTRANGE(""https://docs.google.com/spreadsheets/d/1gkRepGJi8YSf_9GBJuQGTAy9KAk4_wUsZeeKx4jozwg/edit?usp=sharing"",""施設情報!A2"")"),"施設名") -> 施設名 | B2: 糸魚川総合病院
A3: =IFERROR(__xludf.DUMMYFUNCTION("IMPORTRANGE(""https://docs.google.com/spreadsheets/d/1gkRepGJi8YSf_9GBJuQGTAy9KAk4_wUsZeeKx4jozwg/edit?usp=sharing"",""施設情報!A3"")"),"住所") -> 住所 | B3: 糸魚川市竹ヶ花457番地1
A4: =IFERROR(__xludf.DUMMYFUNCTION("IMPORTRANGE(""https://docs.google.com/spreadsheets/d/1gkRepGJi8YSf_9GBJuQGTAy9KAk4_wUsZeeKx4jozwg/edit?usp=sharing"",""施設情報!A4"")"),"連絡先") -> 連絡先 | B4: 栄養科
A5: =IFERROR(__xludf.DUMMYFUNCTION("IMPORTRANGE(""https://docs.google.com/spreadsheets/d/1gkRepGJi8YSf_9GBJuQGTAy9KAk4_wUsZeeKx4jozwg/edit?usp=sharing"",""施設情報!A5"")"),"電話番号") -> 電話番号 | B5: 025-552-0280
A6: =IFERROR(__xludf.DUMMYFUNCTION("IMPORTRANGE(""https://docs.google.com/spreadsheets/d/1gkRepGJi8YSf_9GBJuQGTAy9KAk4_wUsZeeKx4jozwg/edit?usp=sharing"",""施設情報!A6"")"),"更新日") -> 更新日 | B6: 45650

Sheet 副食ウェブ出力
A1: =IFERROR(__xludf.DUMMYFUNCTION("IMPORTRANGE(""https://docs.google.com/spreadsheets/d/1gkRepGJi8YSf_9GBJuQGTAy9KAk4_wUsZeeKx4jozwg/edit?usp=sharing"",""副食!A1"")"),"コード") -> コード | B1: =IFERROR(__xludf.DUMMYFUNCTION("IMPORTRANGE(""https://docs.google.com/spreadsheets/d/1gkRepGJi8YSf_9GBJuQGTAy9KAk4_wUsZeeKx4jozwg/edit?usp=sharing"",""副食!B1"")"),"学会分類") -> 学会分類 | C1: =IFERROR(__xludf.DUMMYFUNCTION("IMPORTRANGE(""https://docs.google.com/spreadsheets/d/1gkRepGJi8YSf_9GBJuQGTAy9KAk4_wUsZeeKx4jozwg/edit?usp=sharing"",""副食!C1"")"),"食形態") -> 食形態 | D1: =IFERROR(__xludf.DUMMYFUNCTION("IMPORTRANGE(""https://docs.google.com/spreadsheets/d/1gkRepGJi8YSf_9GBJuQGTAy9KAk4_wUsZeeKx4jozwg/edit?usp=sharing"",""副食!D1"")"),"画像") -> 画像 | E1: =IFERROR(__xludf.DUMMYFUNCTION("IMPORTRANGE(""https://docs.google.com/spreadsheets/d/1gkRepGJi8YSf_9GBJuQGTAy9KAk4_wUsZeeKx4jozwg/edit?usp=sharing"",""副食!E1"")"),"食種名称") -> 食種名称 | F1: =IFERROR(__xludf.DUMMYFUNCTION("IMPORTRANGE(""https://docs.google.com/spreadsheets/d/1gkRepGJi8YSf_9GBJuQGTAy9KAk4_wUsZeeKx4jozwg/edit?usp=sharing"",""副食!F1"")"),"備考") -> 備考
A2: =IFERROR(__xludf.DUMMYFUNCTION("IMPORTRANGE(""https://docs.google.com/spreadsheets/d/1gkRepGJi8YSf_9GBJuQGTAy9KAk4_wUsZeeKx4jozwg/edit?usp=sharing"",""副食!A2"")"),"0j") -> 0j | B2: =IFERROR(__xludf.DUMMYFUNCTION("IMPORTRANGE(""https://docs.google.com/spreadsheets/d/1gkRepGJi8YSf_9GBJuQGTAy9KAk4_wUsZeeKx4jozwg/edit?usp=sharing"",""副食!B2"")"),"べたつき 粒やカス全くなし") -> べたつき 粒やカス全くなし | C2: =IFERROR(__xludf.DUMMYFUNCTION("IMPORTRANGE(""https://docs.google.com/spreadsheets/d/1gkRepGJi8YSf_9GBJuQGTAy9KAk4_wUsZeeKx4jozwg/edit?usp=sharing"",""副食!C2"")"),"均質で、べたつきなどないゼリー。 離水が少なく、スライス状にすくうことが可能なもの。 たんぱく質含有量が少ないもの。") -> 均質で、べたつきなどないゼリー。 離水が少なく、スライス状にすくうことが可能なもの。 たんぱく質含有量が少ないもの。
A3: =IFERROR(__xludf.DUMMYFUNCTION("IMPORTRANGE(""https://docs.google.com/spreadsheets/d/1gkRepGJi8YSf_9GBJuQGTAy9KAk4_wUsZeeKx4jozwg/edit?usp=sharing"",""副食!A3"")"),"1j") -> 1j | B3: =IFERROR(__xludf.DUMMYFUNCTION("IMPORTRANGE(""https://docs.google.com/spreadsheets/d/1gkRepGJi8YSf_9GBJuQGTAy9KAk4_wUsZeeKx4jozwg/edit?usp=sharing"",""副食!B3"")"),"べたつき 粒やカス全くなし") -> べたつき 粒やカス全くなし | C3: =IFERROR(__xludf.DUMMYFUNCTION("IMPORTRANGE(""https://docs.google.com/spreadsheets/d/1gkRepGJi8YSf_9GBJuQGTAy9KAk4_wUsZeeKx4jozwg/edit?usp=sharing"",""副食!C3"")"),"均質で、べたつきなどないゼリー・プリン・ムース。") -> 均質で、べたつきなどないゼリー・プリン・ムース。 | E3: 訓練食 | F3: ソフトアガロリーゼリー（キッセイ）とトロミ茶の２品。３食とも２品のみ。
A4: =IFERROR(__xludf.DUMMYFUNCTION("IMPORTRANGE(""https://docs.google.com/spreadsheets/d/1gkRepGJi8YSf_9GBJuQGTAy9KAk4_wUsZeeKx4jozwg/edit?usp=sharing"",""副食!A4"")"),"2-1") -> 2-1 | B4: =IFERROR(__xludf.DUMMYFUNCTION("IMPORTRANGE(""https://docs.google.com/spreadsheets/d/1gkRepGJi8YSf_9GBJuQGTAy9KAk4_wUsZeeKx4jozwg/edit?usp=sharing"",""副食!B4"")"),"噛まなくてよい 粒やカスなし") -> 噛まなくてよい 粒やカスなし | C4: =IFERROR(__xludf.DUMMYFUNCTION("IMPORTRANGE(""https://docs.google.com/spreadsheets/d/1gkRepGJi8YSf_9GBJuQGTAy9KAk4_wUsZeeKx4jozwg/edit?usp=sharing"",""副食!C4"")"),"ミキサーを使用し、粒が残らずなめらかに均一な状態。 ゲル化剤・とろみ剤でまとめたもの。") -> ミキサーを使用し、粒が残らずなめらかに均一な状態。 ゲル化剤・とろみ剤でまとめたもの。 | E4: ミキサー食 | F4: ミキサーをかけた後、トロメイクコンパクト（明治）を使用してとろみ具合を調整。その後、栄養量アップのため、PFCパウダー（フードケア）を使用。 ３食とろみ茶付き。
A5: =IFERROR(__xludf.DUMMYFUNCTION("IMPORTRANGE(""https://docs.google.com/spreadsheets/d/1gkRepGJi8YSf_9GBJuQGTAy9KAk4_wUsZeeKx4jozwg/edit?usp=sharing"",""副食!A5"")"),"2-2") -> 2-2 | B5: =IFERROR(__xludf.DUMMYFUNCTION("IMPORTRANGE(""https://docs.google.com/spreadsheets/d/1gkRepGJi8YSf_9GBJuQGTAy9KAk4_wUsZeeKx4jozwg/edit?usp=sharing"",""副食!B5"")"),"噛まなくてよい 若干の残渣あり (粥粒程度)") -> 噛まなくてよい 若干の残渣あり (粥粒程度) | C5: =IFERROR(__xludf.DUMMYFUNCTION("IMPORTRANGE(""https://docs.google.com/spreadsheets/d/1gkRepGJi8YSf_9GBJuQGTAy9KAk4_wUsZeeKx4jozwg/edit?usp=sharing"",""副食!C5"")"),"フードプロセッサーやミキサー等を使用したもので、若干の粒が残った状態。 ゲル化剤・とろみ剤でまとめたもの。") -> フードプロセッサーやミキサー等を使用したもので、若干の粒が残った状態。 ゲル化剤・とろみ剤でまとめたもの。 | E5: きざみ食 + とろみだし | F5: 手でほぐす、またはフードプロセッサーで細かくする。 別添えでとろみ付きのだしを提供。食事の際にきざみ食にとろみだしをかけて食べる。 ３食とろみ茶付き。
A6: =IFERROR(__xludf.DUMMYFUNCTION("IMPORTRANGE(""https://docs.google.com/spreadsheets/d/1gkRepGJi8YSf_9GBJuQGTAy9KAk4_wUsZeeKx4jozwg/edit?usp=sharing"",""副食!A6"")"),"3") -> 3 | B6: =IFERROR(__xludf.DUMMYFUNCTION("IMPORTRANGE(""https://docs.google.com/spreadsheets/d/1gkRepGJi8YSf_9GBJuQGTAy9KAk4_wUsZeeKx4jozwg/edit?usp=sharing"",""副食!B6"")"),"舌でつぶせる") -> 舌でつぶせる | C6: =IFERROR(__xludf.DUMMYFUNCTION("IMPORTRANGE(""https://docs.google.com/spreadsheets/d/1gkRepGJi8YSf_9GBJuQGTAy9KAk4_wUsZeeKx4jozwg/edit?usp=sharing"",""副食!C6"")"),"フードプロセッサーやミキサー等を使用したものを、ゲル化剤で固めたもの。 舌や口蓋で押しつぶせる程度の硬さ。") -> フードプロセッサーやミキサー等を使用したものを、ゲル化剤で固めたもの。 舌や口蓋で押しつぶせる程度の硬さ。
A7: =IFERROR(__xludf.DUMMYFUNCTION("IMPORTRANGE(""https://docs.google.com/spreadsheets/d/1gkRepGJi8YSf_9GBJuQGTAy9KAk4_wUsZeeKx4jozwg/edit?usp=sharing"",""副食!A7"")"),"4") -> 4 | B7: =IFERROR(__xludf.DUMMYFUNCTION("IMPORTRANGE(""https://docs.google.com/spreadsheets/d/1gkRepGJi8YSf_9GBJuQGTAy9KAk4_wUsZeeKx4jozwg/edit?usp=sharing"",""副食!B7"")"),"歯ぐきでつぶせる 容易に噛める") -> 歯ぐきでつぶせる 容易に噛める | C7: =IFERROR(__xludf.DUMMYFUNCTION("IMPORTRANGE(""https://docs.google.com/spreadsheets/d/1gkRepGJi8YSf_9GBJuQGTAy9KAk4_wUsZeeKx4jozwg/edit?usp=sharing"",""副食!C7"")"),"軟らかく調理したものを、きざみ～そのままの形態（＊いずれの形態も）バラつきや、多量の離水がないよう配慮したもの。 箸やスプーンで切れるやわらかさ。") -> 軟らかく調理したものを、きざみ～そのままの形態（＊いずれの形態も）バラつきや、多量の離水がないよう配慮したもの。 箸やスプーンで切れるやわらかさ。 | E7: 移行食 | F7: 一口大＋汁トロミ対応。煮る、蒸す、茹でるが基本の調理法。硬い食品は提供しない。３食とろみ茶付き。 魚はカラスガレイ、銀鮭、メルルーサ、赤魚、やわらか豆乳つみれのみ使用。肉は肉団子やハンバーグなど、ひき肉を固めたもののみ使用。
A8: =IFERROR(__xludf.DUMMYFUNCTION("IMPORTRANGE(""https://docs.google.com/spreadsheets/d/1gkRepGJi8YSf_9GBJuQGTAy9KAk4_wUsZeeKx4jozwg/edit?usp=sharing"",""副食!A8"")"),"4") -> 4 | B8: =IFERROR(__xludf.DUMMYFUNCTION("IMPORTRANGE(""https://docs.google.com/spreadsheets/d/1gkRepGJi8YSf_9GBJuQGTAy9KAk4_wUsZeeKx4jozwg/edit?usp=sharing"",""副食!B8"")"),"歯ぐきでつぶせる 容易に噛める") -> 歯ぐきでつぶせる 容易に噛める | C8: =IFERROR(__xludf.DUMMYFUNCTION("IMPORTRANGE(""https://docs.google.com/spreadsheets/d/1gkRepGJi8YSf_9GBJuQGTAy9KAk4_wUsZeeKx4jozwg/edit?usp=sharing"",""副食!C8"")"),"軟らかく調理したものを、きざみ～そのままの形態（＊いずれの形態も）バラつきや、多量の離水がないよう配慮したもの。 箸やスプーンで切れるやわらかさ。") -> 軟らかく調理したものを、きざみ～そのままの形態（＊いずれの形態も）バラつきや、多量の離水がないよう配慮したもの。 箸やスプーンで切れるやわらかさ。

Sheet 主食ウェブ出力
A1: =IFERROR(__xludf.DUMMYFUNCTION("IMPORTRANGE(""https://docs.google.com/spreadsheets/d/1gkRepGJi8YSf_9GBJuQGTAy9KAk4_wUsZeeKx4jozwg/edit?usp=sharing"",""主食!A1"")"),"コード") -> コード | B1: =IFERROR(__xludf.DUMMYFUNCTION("IMPORTRANGE(""https://docs.google.com/spreadsheets/d/1gkRepGJi8YSf_9GBJuQGTAy9KAk4_wUsZeeKx4jozwg/edit?usp=sharing"",""主食!B1"")"),"学会分類") -> 学会分類 | C1: =IFERROR(__xludf.DUMMYFUNCTION("IMPORTRANGE(""https://docs.google.com/spreadsheets/d/1gkRepGJi8YSf_9GBJuQGTAy9KAk4_wUsZeeKx4jozwg/edit?usp=sharing"",""主食!C1"")"),"食形態") -> 食形態 | D1: =IFERROR(__xludf.DUMMYFUNCTION("IMPORTRANGE(""https://docs.google.com/spreadsheets/d/1gkRepGJi8YSf_9GBJuQGTAy9KAk4_wUsZeeKx4jozwg/edit?usp=sharing"",""主食!D1"")"),"画像") -> 画像 | E1: =IFERROR(__xludf.DUMMYFUNCTION("IMPORTRANGE(""https://docs.google.com/spreadsheets/d/1gkRepGJi8YSf_9GBJuQGTAy9KAk4_wUsZeeKx4jozwg/edit?usp=sharing"",""主食!E1"")"),"食種名称") -> 食種名称 | F1: =IFERROR(__xludf.DUMMYFUNCTION("IMPORTRANGE(""https://docs.google.com/spreadsheets/d/1gkRepGJi8YSf_9GBJuQGTAy9KAk4_wUsZeeKx4jozwg/edit?usp=sharing"",""主食!F1"")"),"備考") -> 備考
A2: =IFERROR(__xludf.DUMMYFUNCTION("IMPORTRANGE(""https://docs.google.com/spreadsheets/d/1gkRepGJi8YSf_9GBJuQGTAy9KAk4_wUsZeeKx4jozwg/edit?usp=sharing"",""主食!A2"")"),"0j") -> 0j | B2: =IFERROR(__xludf.DUMMYFUNCTION("IMPORTRANGE(""https://docs.google.com/spreadsheets/d/1gkRepGJi8YSf_9GBJuQGTAy9KAk4_wUsZeeKx4jozwg/edit?usp=sharing"",""主食!B2"")"),"べたつき 粒やカス全くなし") -> べたつき 粒やカス全くなし | C2: =IFERROR(__xludf.DUMMYFUNCTION("IMPORTRANGE(""https://docs.google.com/spreadsheets/d/1gkRepGJi8YSf_9GBJuQGTAy9KAk4_wUsZeeKx4jozwg/edit?usp=sharing"",""主食!C2"")"),"")
A3: =IFERROR(__xludf.DUMMYFUNCTION("IMPORTRANGE(""https://docs.google.com/spreadsheets/d/1gkRepGJi8YSf_9GBJuQGTAy9KAk4_wUsZeeKx4jozwg/edit?usp=sharing"",""主食!A3"")"),"1j") -> 1j | B3: =IFERROR(__xludf.DUMMYFUNCTION("IMPORTRANGE(""https://docs.google.com/spreadsheets/d/1gkRepGJi8YSf_9GBJuQGTAy9KAk4_wUsZeeKx4jozwg/edit?usp=sharing"",""主食!B3"")"),"べたつき 粒やカス全くなし") -> べたつき 粒やカス全くなし | C3: =IFERROR(__xludf.DUMMYFUNCTION("IMPORTRANGE(""https://docs.google.com/spreadsheets/d/1gkRepGJi8YSf_9GBJuQGTAy9KAk4_wUsZeeKx4jozwg/edit?usp=sharing"",""主食!C3"")"),"ミキサーを使用したもの。 粒が残らずなめらかで均一な状態で、ゲル化剤を混ぜ、ゼリー状にした粥。 ") -> ミキサーを使用したもの。 粒が残らずなめらかで均一な状態で、ゲル化剤を混ぜ、ゼリー状にした粥。 | E3: ミキサー粥 | F3: 全粥をミキサーにかけたもの。 全粥重量１％のスベラカーゼライト（フードケア）と８％のPFCパウダー（フードケア）を使用。
A4: =IFERROR(__xludf.DUMMYFUNCTION("IMPORTRANGE(""https://docs.google.com/spreadsheets/d/1gkRepGJi8YSf_9GBJuQGTAy9KAk4_wUsZeeKx4jozwg/edit?usp=sharing"",""主食!A4"")"),"2-1") -> 2-1 | B4: =IFERROR(__xludf.DUMMYFUNCTION("IMPORTRANGE(""https://docs.google.com/spreadsheets/d/1gkRepGJi8YSf_9GBJuQGTAy9KAk4_wUsZeeKx4jozwg/edit?usp=sharing"",""主食!B4"")"),"噛まなくてよい 粒やカスなし") -> 噛まなくてよい 粒やカスなし | C4: =IFERROR(__xludf.DUMMYFUNCTION("IMPORTRANGE(""https://docs.google.com/spreadsheets/d/1gkRepGJi8YSf_9GBJuQGTAy9KAk4_wUsZeeKx4jozwg/edit?usp=sharing"",""主食!C4"")"),"ミキサーを使用し、粒が残らずなめらかに均一な状態。ゲル化剤・とろみ剤でまとめたもの。") -> ミキサーを使用し、粒が残らずなめらかに均一な状態。ゲル化剤・とろみ剤でまとめたもの。
A5: =IFERROR(__xludf.DUMMYFUNCTION("IMPORTRANGE(""https://docs.google.com/spreadsheets/d/1gkRepGJi8YSf_9GBJuQGTAy9KAk4_wUsZeeKx4jozwg/edit?usp=sharing"",""主食!A5"")"),"2-2") -> 2-2 | B5: =IFERROR(__xludf.DUMMYFUNCTION("IMPORTRANGE(""https://docs.google.com/spreadsheets/d/1gkRepGJi8YSf_9GBJuQGTAy9KAk4_wUsZeeKx4jozwg/edit?usp=sharing"",""主食!B5"")"),"噛まなくてよい 若干の残渣あり （粥粒程度）") -> 噛まなくてよい 若干の残渣あり （粥粒程度） | C5: =IFERROR(__xludf.DUMMYFUNCTION("IMPORTRANGE(""https://docs.google.com/spreadsheets/d/1gkRepGJi8YSf_9GBJuQGTAy9KAk4_wUsZeeKx4jozwg/edit?usp=sharing"",""主食!C5"")"),"フードプロセッサーやミキサー等を使用したもので、若干の粒が残った状態。離水や粘度、付着性に配慮した粥。") -> フードプロセッサーやミキサー等を使用したもので、若干の粒が残った状態。離水や粘度、付着性に配慮した粥。
A6: =IFERROR(__xludf.DUMMYFUNCTION("IMPORTRANGE(""https://docs.google.com/spreadsheets/d/1gkRepGJi8YSf_9GBJuQGTAy9KAk4_wUsZeeKx4jozwg/edit?usp=sharing"",""主食!A6"")"),"3") -> 3 | B6: =IFERROR(__xludf.DUMMYFUNCTION("IMPORTRANGE(""https://docs.google.com/spreadsheets/d/1gkRepGJi8YSf_9GBJuQGTAy9KAk4_wUsZeeKx4jozwg/edit?usp=sharing"",""主食!B6"")"),"舌でつぶせる") -> 舌でつぶせる | C6: =IFERROR(__xludf.DUMMYFUNCTION("IMPORTRANGE(""https://docs.google.com/spreadsheets/d/1gkRepGJi8YSf_9GBJuQGTAy9KAk4_wUsZeeKx4jozwg/edit?usp=sharing"",""主食!C6"")"),"全粥に離水防止のとろみ剤やゲル化剤を混ぜたもの。") -> 全粥に離水防止のとろみ剤やゲル化剤を混ぜたもの。 | E6: とろみ粥 | F6: トロメイクコンパクト（明治）を使用。0.3％程度の濃度で調節。
A7: =IFERROR(__xludf.DUMMYFUNCTION("IMPORTRANGE(""https://docs.google.com/spreadsheets/d/1gkRepGJi8YSf_9GBJuQGTAy9KAk4_wUsZeeKx4jozwg/edit?usp=sharing"",""主食!A7"")"),"4") -> 4 | B7: =IFERROR(__xludf.DUMMYFUNCTION("IMPORTRANGE(""https://docs.google.com/spreadsheets/d/1gkRepGJi8YSf_9GBJuQGTAy9KAk4_wUsZeeKx4jozwg/edit?usp=sharing"",""主食!B7"")"),"歯ぐきでつぶせる 容易に噛める") -> 歯ぐきでつぶせる 容易に噛める | C7: =IFERROR(__xludf.DUMMYFUNCTION("IMPORTRANGE(""https://docs.google.com/spreadsheets/d/1gkRepGJi8YSf_9GBJuQGTAy9KAk4_wUsZeeKx4jozwg/edit?usp=sharing"",""主食!C7"")"),"米重量に対し5倍の水分量。または、米飯重量の2倍の水分量で炊いた粥。粒が残っている不均一な状態。") -> 米重量に対し5倍の水分量。または、米飯重量の2倍の水分量で炊いた粥。粒が残っている不均一な状態。 | E7: 全粥
A8: =IFERROR(__xludf.DUMMYFUNCTION("IMPORTRANGE(""https://docs.google.com/spreadsheets/d/1gkRepGJi8YSf_9GBJuQGTAy9KAk4_wUsZeeKx4jozwg/edit?usp=sharing"",""主食!A8"")"),"4") -> 4 | B8: =IFERROR(__xludf.DUMMYFUNCTION("IMPORTRANGE(""https://docs.google.com/spreadsheets/d/1gkRepGJi8YSf_9GBJuQGTAy9KAk4_wUsZeeKx4jozwg/edit?usp=sharing"",""主食!B8"")"),"歯ぐきでつぶせる 容易に噛める") -> 歯ぐきでつぶせる 容易に噛める | C8: =IFERROR(__xludf.DUMMYFUNCTION("IMPORTRANGE(""https://docs.google.com/spreadsheets/d/1gkRepGJi8YSf_9GBJuQGTAy9KAk4_wUsZeeKx4jozwg/edit?usp=sharing"",""主食!C8"")"),"水分量をやや多めに、軟らかく炊いたご飯。") -> 水分量をやや多めに、軟らかく炊いたご飯。

Sheet 水分とろみウェブ出力
A1: ='水分とろみ'!A1 -> とろみ調整食品 | B1: 明治 トロメイクコンパクト | E1: ='水分とろみ'!E1 -> 備考
B2: ='水分とろみ'!B2 -> 小さじ1杯の量 (g) | C2: 1.5 | E2: ・通常のとろみ剤よりも少量（1/2量）でとろみがつくタイプを使用しています。 ・嚥下調整食の食事には毎食とろみ茶が付いています。 ・とろみの程度は「濃いとろみ」で調整しています。
A3: ='水分とろみ'!A3 -> 学会分類 | B3: ='水分とろみ'!B3 -> 薄いとろみ | C3: ='水分とろみ'!C3 -> 中間のとろみ | D3: ='水分とろみ'!D3 -> 濃いとろみ
A4: ='水分とろみ'!A4 -> 使用目安量 (g) 水100mlあたり | D4: 1.5
A5: ='水分とろみ'!A5 -> 使用目安量 (小さじ) 水100mlあたり | D5: 1

Sheet PDFウェブ出力
A1: 施設名 | B1: ='施設情報ウェブ出力'!B2 -> 糸魚川総合病院 | D1: 住所 | F1: ='施設情報ウェブ出力'!B3 -> 糸魚川市竹ヶ花457番地1 | L1: 更新日 | M1: ='施設情報ウェブ出力'!B6 -> 45650
D2: 連絡先 | F2: ='施設情報ウェブ出力'!B4 -> 栄養科 | I2: 電話番号 | J2: ='施設情報ウェブ出力'!B5 -> 025-552-0280
A4: 【副食】 | H4: 【主食】
A5: 分類コード | B5: 食形態 | C5: 画像 | D5: 食種名称 | E5: 備考 | H5: 分類コード | I5: 食形態 | J5: 画像 | K5: 食種名称 | L5: 備考
A6: 0j | B6: ='副食'!C2 -> 均質で、べたつきなどないゼリー。 離水が少なく、スライス状にすくうことが可能なもの。 たんぱく質含有量が少ないもの。 | C6: ='副食'!D2 | H6: 0j | I6: ='主食'!C2 | J6: ='主食'!D2
A7: 1j | B7: ='副食'!C3 -> 均質で、べたつきなどないゼリー・プリン・ムース。 | C7: ='副食'!D3 | D7: 訓練食 | E7: ソフトアガロリーゼリー（キッセイ）とトロミ茶の２品。３食とも２品のみ。 | H7: 1j | I7: ='主食'!C3 -> ミキサーを使用したもの。 粒が残らずなめらかで均一な状態で、ゲル化剤を混ぜ、ゼリー状にした粥。 | J7: ='主食'!D3 | K7: ミキサー粥 | L7: 全粥をミキサーにかけたもの。 全粥重量１％のスベラカーゼライト（フードケア）と８％のPFCパウダー（フードケア）を使用。
A8: 2-1 粒やカスなし | B8: ='副食'!C4 -> ミキサーを使用し、粒が残らずなめらかに均一な状態。 ゲル化剤・とろみ剤でまとめたもの。 | C8: ='副食'!D4 | D8: ミキサー食 | E8: ミキサーをかけた後、トロメイクコンパクト（明治）を使用してとろみ具合を調整。その後、栄養量アップのため、PFCパウダー（フードケア）を使用。 ３食とろみ茶付き。 | H8: 2-1 粒やカスなし | I8: ='主食'!C4 -> ミキサーを使用し、粒が残らずなめらかに均一な状態。ゲル化剤・とろみ剤でまとめたもの。 | J8: ='主食'!D4
A9: 2-2 若干の残渣あり （粥粒程度） | B9: ='副食'!C5 -> フードプロセッサーやミキサー等を使用したもので、若干の粒が残った状態。 ゲル化剤・とろみ剤でまとめたもの。 | C9: ='副食'!D5 | D9: きざみ食 + とろみだし | E9: 手でほぐす、またはフードプロセッサーで細かくする。 別添えでとろみ付きのだしを提供。食事の際にきざみ食にとろみだしをかけて食べる。 ３食とろみ茶付き。 | H9: 2-2 若干の残渣あり （粥粒程度） | I9: ='主食'!C5 -> フードプロセッサーやミキサー等を使用したもので、若干の粒が残った状態。離水や粘度、付着性に配慮した粥。 | J9: ='主食'!D5
A10: 3 | B10: ='副食'!C6 -> フードプロセッサーやミキサー等を使用したものを、ゲル化剤で固めたもの。 舌や口蓋で押しつぶせる程度の硬さ。 | C10: ='副食'!D6 | H10: 3 | I10: ='主食'!C6 -> 全粥に離水防止のとろみ剤やゲル化剤を混ぜたもの。 | J10: ='主食'!D6 | K10: とろみ粥 | L10: トロメイクコンパクト（明治）を使用。0.3％程度の濃度で調節。
A11: 4 | B11: ='副食'!C7 -> 軟らかく調理したものを、きざみ～そのままの形態（＊いずれの形態も）バラつきや、多量の離水がないよう配慮したもの。 箸やスプーンで切れるやわらかさ。 | C11: ='副食'!D7 | D11: 移行食 | E11: 一口大＋汁トロミ対応。煮る、蒸す、茹でるが基本の調理法。硬い食品は提供しない。３食とろみ茶付き。 魚はカラスガレイ、銀鮭、メルルーサ、赤魚、やわらか豆乳つみれのみ使用。肉は肉団子やハンバーグなど、ひき肉を固めたもののみ使用。 | H11: 4 | I11: ='主食'!C7 -> 米重量に対し5倍の水分量。または、米飯重量の2倍の水分量で炊いた粥。粒が残っている不均一な状態。 | J11: ='主食'!D7 | K11: 全粥
B12: ='副食'!C8 -> 軟らかく調理したものを、きざみ～そのままの形態（＊いずれの形態も）バラつきや、多量の離水がないよう配慮したもの。 箸やスプーンで切れるやわらかさ。 | C12: ='副食'!D8 | I12: ='主食'!C8 -> 水分量をやや多めに、軟らかく炊いたご飯。 | J12: ='主食'!D8
A14: 【水分とろみ】
A15: とろみ調整食品 | B15: 明治 トロメイクコンパクト | F15: 備考
B16: 小さじ1杯 | C16: 1.5 | F16: ・通常のとろみ剤よりも少量（1/2量）でとろみがつくタイプを使用しています。 ・嚥下調整食の食事には毎食とろみ茶が付いています。 ・とろみの程度は「濃いとろみ」で調整しています。
A17: 学会分類 | B17: 薄いとろみ | C17: 中間のとろみ | D17: 濃いとろみ
A18: 使用目安量 ( g ) 水100mlあたり | D18: 1.5
A19: 使用目安量 ( 小さじ ) 水100mlあたり | D19: 1
