Workbook

Sheet 施設概要
A1: =IFERROR(__xludf.DUMMYFUNCTION("IMPORTRANGE(""https://docs.google.com/spreadsheets/d/1vsTcEcugRZXGU84Ng3dXvNCAOD3CAaUTEbnnM7tyUJg/edit?usp=sharing"",""施設概要!A1"")"),"施設概要") -> 施設概要
A2: =IFERROR(__xludf.DUMMYFUNCTION("IMPORTRANGE(""https://docs.google.com/spreadsheets/d/1vsTcEcugRZXGU84Ng3dXvNCAOD3CAaUTEbnnM7tyUJg/edit?usp=sharing"",""施設概要!A2"")"),"所在地") -> 所在地 | B2: 〒946-0305 新潟県魚沼市大栃山628-1 | C2: デイサービスセンターを併設。多職種協働で入所者の栄養状態や摂食状況の把握の確認、ご利用者個々の嗜好や状態に応じた食事内容・形態・食具を準備し、安全においしく食事を食べていただけるように努めています。毎月の行事を含め月2～3回の行事食や毎月おやつバイキングを行い食べる楽しみをもっていただけるようにしております。
A3: =IFERROR(__xludf.DUMMYFUNCTION("IMPORTRANGE(""https://docs.google.com/spreadsheets/d/1vsTcEcugRZXGU84Ng3dXvNCAOD3CAaUTEbnnM7tyUJg/edit?usp=sharing"",""施設概要!A3"")"),"給食部門名") -> 給食部門名 | B3: なし
A4: =IFERROR(__xludf.DUMMYFUNCTION("IMPORTRANGE(""https://docs.google.com/spreadsheets/d/1vsTcEcugRZXGU84Ng3dXvNCAOD3CAaUTEbnnM7tyUJg/edit?usp=sharing"",""施設概要!A4"")"),"電話") -> 電話 | B4: 025-796-3711（代）
A5: =IFERROR(__xludf.DUMMYFUNCTION("IMPORTRANGE(""https://docs.google.com/spreadsheets/d/1vsTcEcugRZXGU84Ng3dXvNCAOD3CAaUTEbnnM7tyUJg/edit?usp=sharing"",""施設概要!A5"")"),"FAX") -> FAX | B5: 025-796-3008（代）
A6: =IFERROR(__xludf.DUMMYFUNCTION("IMPORTRANGE(""https://docs.google.com/spreadsheets/d/1vsTcEcugRZXGU84Ng3dXvNCAOD3CAaUTEbnnM7tyUJg/edit?usp=sharing"",""施設概要!A6"")"),"更新日") -> 更新日 | B6: 46126.531

Sheet おかず形態一覧表
A1: =IFERROR(__xludf.DUMMYFUNCTION("IMPORTRANGE(""https://docs.google.com/spreadsheets/d/1vsTcEcugRZXGU84Ng3dXvNCAOD3CAaUTEbnnM7tyUJg/edit?usp=sharing"",""おかず形態一覧表!A1"")"),"1. おかず形態一覧表") -> 1. おかず形態一覧表
A2: =IFERROR(__xludf.DUMMYFUNCTION("IMPORTRANGE(""https://docs.google.com/spreadsheets/d/1vsTcEcugRZXGU84Ng3dXvNCAOD3CAaUTEbnnM7tyUJg/edit?usp=sharing"",""おかず形態一覧表!A2"")"),"食種名称") -> 食種名称 | B2: 常食 | C2: 刻み | D2: カッター | E2: ミキサー
A3: =IFERROR(__xludf.DUMMYFUNCTION("IMPORTRANGE(""https://docs.google.com/spreadsheets/d/1vsTcEcugRZXGU84Ng3dXvNCAOD3CAaUTEbnnM7tyUJg/edit?usp=sharing"",""おかず形態一覧表!A3"")"),"肉のおかず") -> 肉のおかず | B3: 鶏肉とかぼちゃの甘酢炒め | C3: 鶏肉とかぼちゃの甘酢炒め | D3: 鶏肉とかぼちゃの甘酢炒め | E3: 鶏肉とかぼちゃの甘酢炒め
A4: =IFERROR(__xludf.DUMMYFUNCTION("IMPORTRANGE(""https://docs.google.com/spreadsheets/d/1vsTcEcugRZXGU84Ng3dXvNCAOD3CAaUTEbnnM7tyUJg/edit?usp=sharing"",""おかず形態一覧表!A4"")"),"画像") -> 画像
A5: =IFERROR(__xludf.DUMMYFUNCTION("IMPORTRANGE(""https://docs.google.com/spreadsheets/d/1vsTcEcugRZXGU84Ng3dXvNCAOD3CAaUTEbnnM7tyUJg/edit?usp=sharing"",""おかず形態一覧表!A5"")"),"魚のおかず") -> 魚のおかず | B5: カレイの紫蘇味噌焼き | C5: カレイの紫蘇味噌焼き | D5: 魚ムースの紫蘇味噌焼き | E5: 魚ムースの紫蘇味噌焼き
A6: =IFERROR(__xludf.DUMMYFUNCTION("IMPORTRANGE(""https://docs.google.com/spreadsheets/d/1vsTcEcugRZXGU84Ng3dXvNCAOD3CAaUTEbnnM7tyUJg/edit?usp=sharing"",""おかず形態一覧表!A6"")"),"画像") -> 画像
A7: =IFERROR(__xludf.DUMMYFUNCTION("IMPORTRANGE(""https://docs.google.com/spreadsheets/d/1vsTcEcugRZXGU84Ng3dXvNCAOD3CAaUTEbnnM7tyUJg/edit?usp=sharing"",""おかず形態一覧表!A7"")"),"野菜のおかず") -> 野菜のおかず | B7: 大根とひじきの和え混ぜ | C7: 大根とひじきの和え混ぜ | D7: 大根と野菜の和え混ぜ | E7: 大根と野菜の和え混ぜ
A8: =IFERROR(__xludf.DUMMYFUNCTION("IMPORTRANGE(""https://docs.google.com/spreadsheets/d/1vsTcEcugRZXGU84Ng3dXvNCAOD3CAaUTEbnnM7tyUJg/edit?usp=sharing"",""おかず形態一覧表!A8"")"),"画像") -> 画像
A9: =IFERROR(__xludf.DUMMYFUNCTION("IMPORTRANGE(""https://docs.google.com/spreadsheets/d/1vsTcEcugRZXGU84Ng3dXvNCAOD3CAaUTEbnnM7tyUJg/edit?usp=sharing"",""おかず形態一覧表!A9"")"),"内容") -> 内容 | B9: 一般的な食事 | C9: 調理後細かく刻む | D9: 調理後ロボクープでわずかに粒が残る程度まで撹拌。（食材によりミキサームース・とろみナールを加えて調整している） | E9: 料理後ロボクープで滑らかになるまで撹拌（ミキサームースを使用しムース状にしている）
A10: =IFERROR(__xludf.DUMMYFUNCTION("IMPORTRANGE(""https://docs.google.com/spreadsheets/d/1vsTcEcugRZXGU84Ng3dXvNCAOD3CAaUTEbnnM7tyUJg/edit?usp=sharing"",""おかず形態一覧表!A10"")"),"大きさ・形状") -> 大きさ・形状 | B10: 通常の大きさ | C10: ５mm程度 | D10: やや粒の残る ペースト状 | E10: ペースト状ムース状
A11: =IFERROR(__xludf.DUMMYFUNCTION("IMPORTRANGE(""https://docs.google.com/spreadsheets/d/1vsTcEcugRZXGU84Ng3dXvNCAOD3CAaUTEbnnM7tyUJg/edit?usp=sharing"",""おかず形態一覧表!A11"")"),"咀嚼の必要性") -> 咀嚼の必要性 | C11: 歯茎でつぶせる | D11: 舌でつぶせる | E11: 噛まなくて良い
A12: =IFERROR(__xludf.DUMMYFUNCTION("IMPORTRANGE(""https://docs.google.com/spreadsheets/d/1vsTcEcugRZXGU84Ng3dXvNCAOD3CAaUTEbnnM7tyUJg/edit?usp=sharing"",""おかず形態一覧表!A12"")"),"学会分類2021") -> 学会分類2021 | C12: 4 | D12: 3/2-2 | E12: 2-2/2-1
A13: =IFERROR(__xludf.DUMMYFUNCTION("IMPORTRANGE(""https://docs.google.com/spreadsheets/d/1vsTcEcugRZXGU84Ng3dXvNCAOD3CAaUTEbnnM7tyUJg/edit?usp=sharing"",""おかず形態一覧表!A13"")"),"栄養量目安") -> 栄養量目安 | B13: 米飯150 | C13: 全粥240 | D13: 全粥210ｇ・粥ﾑｰｽ210 | E13: 粥ﾐｷｻｰﾑｰｽ180
B14: 1480 | C14: 1250 | D14: 1150 | E14: 1000

Sheet 主食一覧
A1: =IFERROR(__xludf.DUMMYFUNCTION("IMPORTRANGE(""https://docs.google.com/spreadsheets/d/1vsTcEcugRZXGU84Ng3dXvNCAOD3CAaUTEbnnM7tyUJg/edit?usp=sharing"",""主食一覧!A1"")"),"2. 主食一覧") -> 2. 主食一覧
A2: =IFERROR(__xludf.DUMMYFUNCTION("IMPORTRANGE(""https://docs.google.com/spreadsheets/d/1vsTcEcugRZXGU84Ng3dXvNCAOD3CAaUTEbnnM7tyUJg/edit?usp=sharing"",""主食一覧!A2"")"),"主食名称") -> 主食名称 | B2: 米飯 | C2: 全粥 | D2: 粥ムース | E2: 粥ミキサームース
A3: =IFERROR(__xludf.DUMMYFUNCTION("IMPORTRANGE(""https://docs.google.com/spreadsheets/d/1vsTcEcugRZXGU84Ng3dXvNCAOD3CAaUTEbnnM7tyUJg/edit?usp=sharing"",""主食一覧!A3"")"),"画像") -> 画像
A4: =IFERROR(__xludf.DUMMYFUNCTION("IMPORTRANGE(""https://docs.google.com/spreadsheets/d/1vsTcEcugRZXGU84Ng3dXvNCAOD3CAaUTEbnnM7tyUJg/edit?usp=sharing"",""主食一覧!A4"")"),"内容") -> 内容 | B4: 通常のごはん 重量比 ＝米1：水1.4 | C4: 通常の全粥 重量比 ＝米1：水6 | D4: 通常の粥にホット＆ソフト２.4％を加えたもの | E4: 粥をミキサーにかけたものにホット＆ソフト２％を加えたもの
A5: =IFERROR(__xludf.DUMMYFUNCTION("IMPORTRANGE(""https://docs.google.com/spreadsheets/d/1vsTcEcugRZXGU84Ng3dXvNCAOD3CAaUTEbnnM7tyUJg/edit?usp=sharing"",""主食一覧!A5"")"),"学会分類2021") -> 学会分類2021 | C5: 4 | D5: 3 | E5: 1ｊ

Sheet 水分とろみの基準・水分ゼリー
A1: =IFERROR(__xludf.DUMMYFUNCTION("IMPORTRANGE(""https://docs.google.com/spreadsheets/d/1vsTcEcugRZXGU84Ng3dXvNCAOD3CAaUTEbnnM7tyUJg/edit?usp=sharing"",""水分とろみの基準・水分ゼリー!A1"")"),"3-1. 水分とろみの基準") -> 3-1. 水分とろみの基準 | F1: =IFERROR(__xludf.DUMMYFUNCTION("IMPORTRANGE(""https://docs.google.com/spreadsheets/d/1vsTcEcugRZXGU84Ng3dXvNCAOD3CAaUTEbnnM7tyUJg/edit?usp=sharing"",""水分とろみの基準・水分ゼリー!F1"")"),"3-2. 水分ゼリー") -> 3-2. 水分ゼリー
A2: =IFERROR(__xludf.DUMMYFUNCTION("IMPORTRANGE(""https://docs.google.com/spreadsheets/d/1vsTcEcugRZXGU84Ng3dXvNCAOD3CAaUTEbnnM7tyUJg/edit?usp=sharing"",""水分とろみの基準・水分ゼリー!A2"")"),"学会分類2021 （とろみ）") -> 学会分類2021 （とろみ） | B2: =IFERROR(__xludf.DUMMYFUNCTION("IMPORTRANGE(""https://docs.google.com/spreadsheets/d/1vsTcEcugRZXGU84Ng3dXvNCAOD3CAaUTEbnnM7tyUJg/edit?usp=sharing"",""水分とろみの基準・水分ゼリー!B2"")"),"薄いとろみ") -> 薄いとろみ | C2: =IFERROR(__xludf.DUMMYFUNCTION("IMPORTRANGE(""https://docs.google.com/spreadsheets/d/1vsTcEcugRZXGU84Ng3dXvNCAOD3CAaUTEbnnM7tyUJg/edit?usp=sharing"",""水分とろみの基準・水分ゼリー!C2"")"),"中間のとろみ") -> 中間のとろみ | D2: =IFERROR(__xludf.DUMMYFUNCTION("IMPORTRANGE(""https://docs.google.com/spreadsheets/d/1vsTcEcugRZXGU84Ng3dXvNCAOD3CAaUTEbnnM7tyUJg/edit?usp=sharing"",""水分とろみの基準・水分ゼリー!D2"")"),"濃いとろみ") -> 濃いとろみ | E2: =IFERROR(__xludf.DUMMYFUNCTION("IMPORTRANGE(""https://docs.google.com/spreadsheets/d/1vsTcEcugRZXGU84Ng3dXvNCAOD3CAaUTEbnnM7tyUJg/edit?usp=sharing"",""水分とろみの基準・水分ゼリー!E2"")"),"") | F2: =IFERROR(__xludf.DUMMYFUNCTION("IMPORTRANGE(""https://docs.google.com/spreadsheets/d/1vsTcEcugRZXGU84Ng3dXvNCAOD3CAaUTEbnnM7tyUJg/edit?usp=sharing"",""水分とろみの基準・水分ゼリー!F2"")"),"名称") -> 名称 | G2: お茶ゼリー | H2: イオンゼリー
A3: =IFERROR(__xludf.DUMMYFUNCTION("IMPORTRANGE(""https://docs.google.com/spreadsheets/d/1vsTcEcugRZXGU84Ng3dXvNCAOD3CAaUTEbnnM7tyUJg/edit?usp=sharing"",""水分とろみの基準・水分ゼリー!A3"")"),"とろみ調整食品") -> とろみ調整食品 | B3: とろみナールplus | C3: とろみナールplus | D3: とろみナールplus | F3: =IFERROR(__xludf.DUMMYFUNCTION("IMPORTRANGE(""https://docs.google.com/spreadsheets/d/1vsTcEcugRZXGU84Ng3dXvNCAOD3CAaUTEbnnM7tyUJg/edit?usp=sharing"",""水分とろみの基準・水分ゼリー!F3"")"),"とろみ調整食品") -> とろみ調整食品 | G3: ゼラチンと寒天を混合 | H3: ゼラチンと寒天を混合
A4: =IFERROR(__xludf.DUMMYFUNCTION("IMPORTRANGE(""https://docs.google.com/spreadsheets/d/1vsTcEcugRZXGU84Ng3dXvNCAOD3CAaUTEbnnM7tyUJg/edit?usp=sharing"",""水分とろみの基準・水分ゼリー!A4"")"),"水100mlあたり") -> 水100mlあたり | B4: 0.7g | C4: 1g | D4: 2g | F4: =IFERROR(__xludf.DUMMYFUNCTION("IMPORTRANGE(""https://docs.google.com/spreadsheets/d/1vsTcEcugRZXGU84Ng3dXvNCAOD3CAaUTEbnnM7tyUJg/edit?usp=sharing"",""水分とろみの基準・水分ゼリー!F4"")"),"水100mlあたり") -> 水100mlあたり | G4: 寒天0.3g ゼラチン1g | H4: 寒天0.3g ゼラチン1g
A5: =IFERROR(__xludf.DUMMYFUNCTION("IMPORTRANGE(""https://docs.google.com/spreadsheets/d/1vsTcEcugRZXGU84Ng3dXvNCAOD3CAaUTEbnnM7tyUJg/edit?usp=sharing"",""水分とろみの基準・水分ゼリー!A5"")"),"小さじ") -> 小さじ | F5: 小さじ

Sheet 濃厚流動食・補助食品
A1: =IFERROR(__xludf.DUMMYFUNCTION("IMPORTRANGE(""https://docs.google.com/spreadsheets/d/1vsTcEcugRZXGU84Ng3dXvNCAOD3CAaUTEbnnM7tyUJg/edit?usp=sharing"",""濃厚流動食・補助食品!A1"")"),"4. 濃厚流動食（経管栄養）") -> 4. 濃厚流動食（経管栄養） | F1: =IFERROR(__xludf.DUMMYFUNCTION("IMPORTRANGE(""https://docs.google.com/spreadsheets/d/1vsTcEcugRZXGU84Ng3dXvNCAOD3CAaUTEbnnM7tyUJg/edit?usp=sharing"",""濃厚流動食・補助食品!F1"")"),"5. 補助食品、その他") -> 5. 補助食品、その他
A2: =IFERROR(__xludf.DUMMYFUNCTION("IMPORTRANGE(""https://docs.google.com/spreadsheets/d/1vsTcEcugRZXGU84Ng3dXvNCAOD3CAaUTEbnnM7tyUJg/edit?usp=sharing"",""濃厚流動食・補助食品!A2"")"),"商品名") -> 商品名 | B2: ラクフィール | F2: Ｏｊ・１ｊ対応：可
F3: メイバランスソフトゼリー

Sheet PDF出力
A1: 特別養護老人ホーム | C1: 寿和ホーム
A3: =IFERROR(__xludf.DUMMYFUNCTION("IMPORTRANGE(""https://docs.google.com/spreadsheets/d/1vsTcEcugRZXGU84Ng3dXvNCAOD3CAaUTEbnnM7tyUJg/edit?usp=sharing"",""おかず形態一覧表!A1"")"),"1. おかず形態一覧表") -> 1. おかず形態一覧表
A4: =IFERROR(__xludf.DUMMYFUNCTION("IMPORTRANGE(""https://docs.google.com/spreadsheets/d/1vsTcEcugRZXGU84Ng3dXvNCAOD3CAaUTEbnnM7tyUJg/edit?usp=sharing"",""おかず形態一覧表!A2"")"),"食種名称") -> 食種名称 | B4: ='おかず形態一覧表'!B2 -> 常食 | C4: ='おかず形態一覧表'!C2 -> 刻み | D4: ='おかず形態一覧表'!D2 -> カッター | E4: ='おかず形態一覧表'!E2 -> ミキサー | F4: ='おかず形態一覧表'!F2 | G4: ='おかず形態一覧表'!G2 | H4: ='おかず形態一覧表'!H2
A5: =IFERROR(__xludf.DUMMYFUNCTION("IMPORTRANGE(""https://docs.google.com/spreadsheets/d/1vsTcEcugRZXGU84Ng3dXvNCAOD3CAaUTEbnnM7tyUJg/edit?usp=sharing"",""おかず形態一覧表!A3"")"),"肉のおかず") -> 肉のおかず | B5: ='おかず形態一覧表'!B3 -> 鶏肉とかぼちゃの甘酢炒め | C5: ='おかず形態一覧表'!C3 -> 鶏肉とかぼちゃの甘酢炒め | D5: ='おかず形態一覧表'!D3 -> 鶏肉とかぼちゃの甘酢炒め | E5: ='おかず形態一覧表'!E3 -> 鶏肉とかぼちゃの甘酢炒め | F5: ='おかず形態一覧表'!F3 | G5: ='おかず形態一覧表'!G3 | H5: ='おかず形態一覧表'!H3
A6: =IFERROR(__xludf.DUMMYFUNCTION("IMPORTRANGE(""https://docs.google.com/spreadsheets/d/1vsTcEcugRZXGU84Ng3dXvNCAOD3CAaUTEbnnM7tyUJg/edit?usp=sharing"",""おかず形態一覧表!A4"")"),"画像") -> 画像 | B6: ='おかず形態一覧表'!B4 | C6: ='おかず形態一覧表'!C4 | D6: ='おかず形態一覧表'!D4 | E6: ='おかず形態一覧表'!E4 | F6: ='おかず形態一覧表'!F4 | G6: ='おかず形態一覧表'!G4 | H6: ='おかず形態一覧表'!H4
A7: =IFERROR(__xludf.DUMMYFUNCTION("IMPORTRANGE(""https://docs.google.com/spreadsheets/d/1vsTcEcugRZXGU84Ng3dXvNCAOD3CAaUTEbnnM7tyUJg/edit?usp=sharing"",""おかず形態一覧表!A5"")"),"魚のおかず") -> 魚のおかず | B7: ='おかず形態一覧表'!B5 -> カレイの紫蘇味噌焼き | C7: ='おかず形態一覧表'!C5 -> カレイの紫蘇味噌焼き | D7: ='おかず形態一覧表'!D5 -> 魚ムースの紫蘇味噌焼き | E7: ='おかず形態一覧表'!E5 -> 魚ムースの紫蘇味噌焼き | F7: ='おかず形態一覧表'!F5 | G7: ='おかず形態一覧表'!G5 | H7: ='おかず形態一覧表'!H5
A8: =IFERROR(__xludf.DUMMYFUNCTION("IMPORTRANGE(""https://docs.google.com/spreadsheets/d/1vsTcEcugRZXGU84Ng3dXvNCAOD3CAaUTEbnnM7tyUJg/edit?usp=sharing"",""おかず形態一覧表!A6"")"),"画像") -> 画像 | B8: ='おかず形態一覧表'!B6 | C8: ='おかず形態一覧表'!C6 | D8: ='おかず形態一覧表'!D6 | E8: ='おかず形態一覧表'!E6 | F8: ='おかず形態一覧表'!F6 | G8: ='おかず形態一覧表'!G6 | H8: ='おかず形態一覧表'!H6
A9: =IFERROR(__xludf.DUMMYFUNCTION("IMPORTRANGE(""https://docs.google.com/spreadsheets/d/1vsTcEcugRZXGU84Ng3dXvNCAOD3CAaUTEbnnM7tyUJg/edit?usp=sharing"",""おかず形態一覧表!A7"")"),"野菜のおかず") -> 野菜のおかず | B9: ='おかず形態一覧表'!B7 -> 大根とひじきの和え混ぜ | C9: ='おかず形態一覧表'!C7 -> 大根とひじきの和え混ぜ | D9: ='おかず形態一覧表'!D7 -> 大根と野菜の和え混ぜ | E9: ='おかず形態一覧表'!E7 -> 大根と野菜の和え混ぜ | F9: ='おかず形態一覧表'!F7 | G9: ='おかず形態一覧表'!G7 | H9: ='おかず形態一覧表'!H7
A10: =IFERROR(__xludf.DUMMYFUNCTION("IMPORTRANGE(""https://docs.google.com/spreadsheets/d/1vsTcEcugRZXGU84Ng3dXvNCAOD3CAaUTEbnnM7tyUJg/edit?usp=sharing"",""おかず形態一覧表!A8"")"),"画像") -> 画像 | B10: ='おかず形態一覧表'!B8 | C10: ='おかず形態一覧表'!C8 | D10: ='おかず形態一覧表'!D8 | E10: ='おかず形態一覧表'!E8 | F10: ='おかず形態一覧表'!F8 | G10: ='おかず形態一覧表'!G8 | H10: ='おかず形態一覧表'!H8
A11: =IFERROR(__xludf.DUMMYFUNCTION("IMPORTRANGE(""https://docs.google.com/spreadsheets/d/1vsTcEcugRZXGU84Ng3dXvNCAOD3CAaUTEbnnM7tyUJg/edit?usp=sharing"",""おかず形態一覧表!A9"")"),"内容") -> 内容 | B11: ='おかず形態一覧表'!B9 -> 一般的な食事 | C11: ='おかず形態一覧表'!C9 -> 調理後細かく刻む | D11: ='おかず形態一覧表'!D9 -> 調理後ロボクープでわずかに粒が残る程度まで撹拌。（食材によりミキサームース・とろみナールを加えて調整している） | E11: ='おかず形態一覧表'!E9 -> 料理後ロボクープで滑らかになるまで撹拌（ミキサームースを使用しムース状にしている） | F11: ='おかず形態一覧表'!F9 | G11: ='おかず形態一覧表'!G9 | H11: ='おかず形態一覧表'!H9
A12: =IFERROR(__xludf.DUMMYFUNCTION("IMPORTRANGE(""https://docs.google.com/spreadsheets/d/1vsTcEcugRZXGU84Ng3dXvNCAOD3CAaUTEbnnM7tyUJg/edit?usp=sharing"",""おかず形態一覧表!A10"")"),"大きさ・形状") -> 大きさ・形状 | B12: ='おかず形態一覧表'!B10 -> 通常の大きさ | C12: ='おかず形態一覧表'!C10 -> ５mm程度 | D12: ='おかず形態一覧表'!D10 -> やや粒の残る ペースト状 | E12: ='おかず形態一覧表'!E10 -> ペースト状ムース状 | F12: ='おかず形態一覧表'!F10 | G12: ='おかず形態一覧表'!G10 | H12: ='おかず形態一覧表'!H10
A13: =IFERROR(__xludf.DUMMYFUNCTION("IMPORTRANGE(""https://docs.google.com/spreadsheets/d/1vsTcEcugRZXGU84Ng3dXvNCAOD3CAaUTEbnnM7tyUJg/edit?usp=sharing"",""おかず形態一覧表!A11"")"),"咀嚼の必要性") -> 咀嚼の必要性 | B13: ='おかず形態一覧表'!B11 | C13: ='おかず形態一覧表'!C11 -> 歯茎でつぶせる | D13: ='おかず形態一覧表'!D11 -> 舌でつぶせる | E13: ='おかず形態一覧表'!E11 -> 噛まなくて良い | F13: ='おかず形態一覧表'!F11 | G13: ='おかず形態一覧表'!G11 | H13: ='おかず形態一覧表'!H11
A14: =IFERROR(__xludf.DUMMYFUNCTION("IMPORTRANGE(""https://docs.google.com/spreadsheets/d/1vsTcEcugRZXGU84Ng3dXvNCAOD3CAaUTEbnnM7tyUJg/edit?usp=sharing"",""おかず形態一覧表!A12"")"),"学会分類2021") -> 学会分類2021 | B14: ='おかず形態一覧表'!B12 | C14: ='おかず形態一覧表'!C12 -> 4 | D14: ='おかず形態一覧表'!D12 -> 3/2-2 | E14: ='おかず形態一覧表'!E12 -> 2-2/2-1 | F14: ='おかず形態一覧表'!F12 | G14: ='おかず形態一覧表'!G12 | H14: ='おかず形態一覧表'!H12
A15: =IFERROR(__xludf.DUMMYFUNCTION("IMPORTRANGE(""https://docs.google.com/spreadsheets/d/1vsTcEcugRZXGU84Ng3dXvNCAOD3CAaUTEbnnM7tyUJg/edit?usp=sharing"",""おかず形態一覧表!A13"")"),"栄養量目安") -> 栄養量目安 | B15: ='おかず形態一覧表'!B13 -> 米飯150 | C15: ='おかず形態一覧表'!C13 -> 全粥240 | D15: ='おかず形態一覧表'!D13 -> 全粥210ｇ・粥ﾑｰｽ210 | E15: ='おかず形態一覧表'!E13 -> 粥ﾐｷｻｰﾑｰｽ180 | F15: ='おかず形態一覧表'!F13 | G15: ='おかず形態一覧表'!G13 | H15: ='おかず形態一覧表'!H13
B16: ='おかず形態一覧表'!B14 -> 1480 | C16: ='おかず形態一覧表'!C14 -> 1250 | D16: ='おかず形態一覧表'!D14 -> 1150 | E16: ='おかず形態一覧表'!E14 -> 1000 | F16: ='おかず形態一覧表'!F14 | G16: ='おかず形態一覧表'!G14 | H16: ='おかず形態一覧表'!H14
A18: =IFERROR(__xludf.DUMMYFUNCTION("IMPORTRANGE(""https://docs.google.com/spreadsheets/d/1vsTcEcugRZXGU84Ng3dXvNCAOD3CAaUTEbnnM7tyUJg/edit?usp=sharing"",""主食一覧!A1"")"),"2. 主食一覧") -> 2. 主食一覧
A19: =IFERROR(__xludf.DUMMYFUNCTION("IMPORTRANGE(""https://docs.google.com/spreadsheets/d/1vsTcEcugRZXGU84Ng3dXvNCAOD3CAaUTEbnnM7tyUJg/edit?usp=sharing"",""主食一覧!A2"")"),"主食名称") -> 主食名称 | B19: ='主食一覧'!B2 -> 米飯 | C19: ='主食一覧'!C2 -> 全粥 | D19: ='主食一覧'!D2 -> 粥ムース | E19: ='主食一覧'!E2 -> 粥ミキサームース | F19: ='主食一覧'!F2 | G19: ='主食一覧'!G2 | H19: ='主食一覧'!H2
A20: =IFERROR(__xludf.DUMMYFUNCTION("IMPORTRANGE(""https://docs.google.com/spreadsheets/d/1vsTcEcugRZXGU84Ng3dXvNCAOD3CAaUTEbnnM7tyUJg/edit?usp=sharing"",""主食一覧!A3"")"),"画像") -> 画像 | B20: ='主食一覧'!B3 | C20: ='主食一覧'!C3 | D20: ='主食一覧'!D3 | E20: ='主食一覧'!E3 | F20: ='主食一覧'!F3 | G20: ='主食一覧'!G3 | H20: ='主食一覧'!H3
A21: =IFERROR(__xludf.DUMMYFUNCTION("IMPORTRANGE(""https://docs.google.com/spreadsheets/d/1vsTcEcugRZXGU84Ng3dXvNCAOD3CAaUTEbnnM7tyUJg/edit?usp=sharing"",""主食一覧!A4"")"),"内容") -> 内容 | B21: ='主食一覧'!B4 -> 通常のごはん 重量比 ＝米1：水1.4 | C21: ='主食一覧'!C4 -> 通常の全粥 重量比 ＝米1：水6 | D21: ='主食一覧'!D4 -> 通常の粥にホット＆ソフト２.4％を加えたもの | E21: ='主食一覧'!E4 -> 粥をミキサーにかけたものにホット＆ソフト２％を加えたもの | F21: ='主食一覧'!F4 | G21: ='主食一覧'!G4 | H21: ='主食一覧'!H4
A22: =IFERROR(__xludf.DUMMYFUNCTION("IMPORTRANGE(""https://docs.google.com/spreadsheets/d/1vsTcEcugRZXGU84Ng3dXvNCAOD3CAaUTEbnnM7tyUJg/edit?usp=sharing"",""主食一覧!A5"")"),"学会分類2021") -> 学会分類2021 | B22: ='主食一覧'!B5 | C22: ='主食一覧'!C5 -> 4 | D22: ='主食一覧'!D5 -> 3 | E22: ='主食一覧'!E5 -> 1ｊ | F22: ='主食一覧'!F5 | G22: ='主食一覧'!G5 | H22: ='主食一覧'!H5
A24: =IFERROR(__xludf.DUMMYFUNCTION("IMPORTRANGE(""https://docs.google.com/spreadsheets/d/1vsTcEcugRZXGU84Ng3dXvNCAOD3CAaUTEbnnM7tyUJg/edit?usp=sharing"",""水分とろみの基準・水分ゼリー!A1"")"),"3-1. 水分とろみの基準") -> 3-1. 水分とろみの基準 | F24: =IFERROR(__xludf.DUMMYFUNCTION("IMPORTRANGE(""https://docs.google.com/spreadsheets/d/1vsTcEcugRZXGU84Ng3dXvNCAOD3CAaUTEbnnM7tyUJg/edit?usp=sharing"",""水分とろみの基準・水分ゼリー!F1"")"),"3-2. 水分ゼリー") -> 3-2. 水分ゼリー
A25: =IFERROR(__xludf.DUMMYFUNCTION("IMPORTRANGE(""https://docs.google.com/spreadsheets/d/1vsTcEcugRZXGU84Ng3dXvNCAOD3CAaUTEbnnM7tyUJg/edit?usp=sharing"",""水分とろみの基準・水分ゼリー!A2"")"),"学会分類2021 （とろみ）") -> 学会分類2021 （とろみ） | B25: =IFERROR(__xludf.DUMMYFUNCTION("IMPORTRANGE(""https://docs.google.com/spreadsheets/d/1vsTcEcugRZXGU84Ng3dXvNCAOD3CAaUTEbnnM7tyUJg/edit?usp=sharing"",""水分とろみの基準・水分ゼリー!B2"")"),"薄いとろみ") -> 薄いとろみ | C25: =IFERROR(__xludf.DUMMYFUNCTION("IMPORTRANGE(""https://docs.google.com/spreadsheets/d/1vsTcEcugRZXGU84Ng3dXvNCAOD3CAaUTEbnnM7tyUJg/edit?usp=sharing"",""水分とろみの基準・水分ゼリー!C2"")"),"中間のとろみ") -> 中間のとろみ | D25: =IFERROR(__xludf.DUMMYFUNCTION("IMPORTRANGE(""https://docs.google.com/spreadsheets/d/1vsTcEcugRZXGU84Ng3dXvNCAOD3CAaUTEbnnM7tyUJg/edit?usp=sharing"",""水分とろみの基準・水分ゼリー!D2"")"),"濃いとろみ") -> 濃いとろみ | E25: =IFERROR(__xludf.DUMMYFUNCTION("IMPORTRANGE(""https://docs.google.com/spreadsheets/d/1vsTcEcugRZXGU84Ng3dXvNCAOD3CAaUTEbnnM7tyUJg/edit?usp=sharing"",""水分とろみの基準・水分ゼリー!E2"")"),"") | F25: =IFERROR(__xludf.DUMMYFUNCTION("IMPORTRANGE(""https://docs.google.com/spreadsheets/d/1vsTcEcugRZXGU84Ng3dXvNCAOD3CAaUTEbnnM7tyUJg/edit?usp=sharing"",""水分とろみの基準・水分ゼリー!F2"")"),"名称") -> 名称 | G25: ='水分とろみの基準・水分ゼリー'!G2 -> お茶ゼリー | H25: ='水分とろみの基準・水分ゼリー'!H2 -> イオンゼリー
A26: =IFERROR(__xludf.DUMMYFUNCTION("IMPORTRANGE(""https://docs.google.com/spreadsheets/d/1vsTcEcugRZXGU84Ng3dXvNCAOD3CAaUTEbnnM7tyUJg/edit?usp=sharing"",""水分とろみの基準・水分ゼリー!A3"")"),"とろみ調整食品") -> とろみ調整食品 | B26: ='水分とろみの基準・水分ゼリー'!B3 -> とろみナールplus | C26: ='水分とろみの基準・水分ゼリー'!C3 -> とろみナールplus | D26: ='水分とろみの基準・水分ゼリー'!D3 -> とろみナールplus | E26: ='水分とろみの基準・水分ゼリー'!E3 | F26: =IFERROR(__xludf.DUMMYFUNCTION("IMPORTRANGE(""https://docs.google.com/spreadsheets/d/1vsTcEcugRZXGU84Ng3dXvNCAOD3CAaUTEbnnM7tyUJg/edit?usp=sharing"",""水分とろみの基準・水分ゼリー!F3"")"),"とろみ調整食品") -> とろみ調整食品 | G26: ='水分とろみの基準・水分ゼリー'!G3 -> ゼラチンと寒天を混合 | H26: ='水分とろみの基準・水分ゼリー'!H3 -> ゼラチンと寒天を混合
A27: =IFERROR(__xludf.DUMMYFUNCTION("IMPORTRANGE(""https://docs.google.com/spreadsheets/d/1vsTcEcugRZXGU84Ng3dXvNCAOD3CAaUTEbnnM7tyUJg/edit?usp=sharing"",""水分とろみの基準・水分ゼリー!A4"")"),"水100mlあたり") -> 水100mlあたり | B27: ='水分とろみの基準・水分ゼリー'!B4 -> 0.7g | C27: ='水分とろみの基準・水分ゼリー'!C4 -> 1g | D27: ='水分とろみの基準・水分ゼリー'!D4 -> 2g | E27: ='水分とろみの基準・水分ゼリー'!E4 | F27: =IFERROR(__xludf.DUMMYFUNCTION("IMPORTRANGE(""https://docs.google.com/spreadsheets/d/1vsTcEcugRZXGU84Ng3dXvNCAOD3CAaUTEbnnM7tyUJg/edit?usp=sharing"",""水分とろみの基準・水分ゼリー!F4"")"),"水100mlあたり") -> 水100mlあたり | G27: ='水分とろみの基準・水分ゼリー'!G4 -> 寒天0.3g ゼラチン1g | H27: ='水分とろみの基準・水分ゼリー'!H4 -> 寒天0.3g ゼラチン1g
A28: =IFERROR(__xludf.DUMMYFUNCTION("IMPORTRANGE(""https://docs.google.com/spreadsheets/d/1vsTcEcugRZXGU84Ng3dXvNCAOD3CAaUTEbnnM7tyUJg/edit?usp=sharing"",""水分とろみの基準・水分ゼリー!A5"")"),"小さじ") -> 小さじ | B28: ='水分とろみの基準・水分ゼリー'!B5 | C28: ='水分とろみの基準・水分ゼリー'!C5 | D28: ='水分とろみの基準・水分ゼリー'!D5 | E28: ='水分とろみの基準・水分ゼリー'!E5 | F28: 小さじ | G28: ='水分とろみの基準・水分ゼリー'!G5 | H28: ='水分とろみの基準・水分ゼリー'!H5
A30: =IFERROR(__xludf.DUMMYFUNCTION("IMPORTRANGE(""https://docs.google.com/spreadsheets/d/1vsTcEcugRZXGU84Ng3dXvNCAOD3CAaUTEbnnM7tyUJg/edit?usp=sharing"",""濃厚流動食・補助食品!A1"")"),"4. 濃厚流動食（経管栄養）") -> 4. 濃厚流動食（経管栄養） | F30: =IFERROR(__xludf.DUMMYFUNCTION("IMPORTRANGE(""https://docs.google.com/spreadsheets/d/1vsTcEcugRZXGU84Ng3dXvNCAOD3CAaUTEbnnM7tyUJg/edit?usp=sharing"",""濃厚流動食・補助食品!F1"")"),"5. 補助食品、その他") -> 5. 補助食品、その他
A31: =IFERROR(__xludf.DUMMYFUNCTION("IMPORTRANGE(""https://docs.google.com/spreadsheets/d/1vsTcEcugRZXGU84Ng3dXvNCAOD3CAaUTEbnnM7tyUJg/edit?usp=sharing"",""濃厚流動食・補助食品!A2"")"),"商品名") -> 商品名 | B31: ='濃厚流動食・補助食品'!B2 -> ラクフィール | C31: ='濃厚流動食・補助食品'!C2 | D31: ='濃厚流動食・補助食品'!D2 | E31: ='濃厚流動食・補助食品'!E2 | F31: ='濃厚流動食・補助食品'!F2 -> Ｏｊ・１ｊ対応：可 | G31: ='濃厚流動食・補助食品'!G2
B32: ='濃厚流動食・補助食品'!B3 | C32: ='濃厚流動食・補助食品'!C3 | D32: ='濃厚流動食・補助食品'!D3 | E32: ='濃厚流動食・補助食品'!E3 | F32: ='濃厚流動食・補助食品'!F3 -> メイバランスソフトゼリー
B33: ='濃厚流動食・補助食品'!B4 | C33: ='濃厚流動食・補助食品'!C4 | D33: ='濃厚流動食・補助食品'!D4 | E33: ='濃厚流動食・補助食品'!E4
A35: =IFERROR(__xludf.DUMMYFUNCTION("IMPORTRANGE(""https://docs.google.com/spreadsheets/d/1vsTcEcugRZXGU84Ng3dXvNCAOD3CAaUTEbnnM7tyUJg/edit?usp=sharing"",""施設概要!A1"")"),"施設概要") -> 施設概要
A36: =IFERROR(__xludf.DUMMYFUNCTION("IMPORTRANGE(""https://docs.google.com/spreadsheets/d/1vsTcEcugRZXGU84Ng3dXvNCAOD3CAaUTEbnnM7tyUJg/edit?usp=sharing"",""施設概要!A2"")"),"所在地") -> 所在地 | B36: ='施設概要'!B2 -> 〒946-0305 新潟県魚沼市大栃山628-1 | E36: ='施設概要'!C2 -> デイサービスセンターを併設。多職種協働で入所者の栄養状態や摂食状況の把握の確認、ご利用者個々の嗜好や状態に応じた食事内容・形態・食具を準備し、安全においしく食事を食べていただけるように努めています。毎月の行事を含め月2～3回の行事食や毎月おやつバイキングを行い食べる楽しみをもっていただけるようにしております。
A37: =IFERROR(__xludf.DUMMYFUNCTION("IMPORTRANGE(""https://docs.google.com/spreadsheets/d/1vsTcEcugRZXGU84Ng3dXvNCAOD3CAaUTEbnnM7tyUJg/edit?usp=sharing"",""施設概要!A3"")"),"給食部門名") -> 給食部門名 | B37: ='施設概要'!B3 -> なし
A38: =IFERROR(__xludf.DUMMYFUNCTION("IMPORTRANGE(""https://docs.google.com/spreadsheets/d/1vsTcEcugRZXGU84Ng3dXvNCAOD3CAaUTEbnnM7tyUJg/edit?usp=sharing"",""施設概要!A4"")"),"電話") -> 電話 | B38: ='施設概要'!B4 -> 025-796-3711（代）
A39: =IFERROR(__xludf.DUMMYFUNCTION("IMPORTRANGE(""https://docs.google.com/spreadsheets/d/1vsTcEcugRZXGU84Ng3dXvNCAOD3CAaUTEbnnM7tyUJg/edit?usp=sharing"",""施設概要!A5"")"),"FAX") -> FAX | B39: ='施設概要'!B5 -> 025-796-3008（代）
A40: =IFERROR(__xludf.DUMMYFUNCTION("IMPORTRANGE(""https://docs.google.com/spreadsheets/d/1vsTcEcugRZXGU84Ng3dXvNCAOD3CAaUTEbnnM7tyUJg/edit?usp=sharing"",""施設概要!A6"")"),"更新日") -> 更新日 | B40: ='施設概要'!B6 -> 46126.531

Sheet 更新記録
A1: 更新記録シート
A2: 同意の確認 | C2: チェック | D2: ↓ 氏名を入力 ↓
A3: 更新内容について施設長の同意を得ました | C3: FALSE
A5: 日時 | B5: 氏名
A6: 46125.73 | B6: 志田奈緒子
A7: 46125.736 | B7: 志田奈緒子
A8: 46126.531 | B8: 志田奈緒子

Sheet 作業記録
A1: 作業記録
A2: 日時 | B2: 名前
A3: 46125.368 | B3: 志田奈緒子
A4: 46125.407 | B4: 志田奈緒子
A5: 46125.416 | B5: 志田奈緒子
A6: 46125.432 | B6: 志田奈緒子
A7: 46125.537 | B7: 志田奈緒子
A8: 46125.539 | B8: 志田奈緒子
A9: 46125.542 | B9: 志田奈緒子
A10: 46125.719 | B10: 志田奈緒子
A11: 46125.735 | B11: 志田奈緒子
A12: 46126.528 | B12: 志田奈緒子

Sheet 施設概要ウェブ出力
A1: =IFERROR(__xludf.DUMMYFUNCTION("IMPORTRANGE(""https://docs.google.com/spreadsheets/d/1vsTcEcugRZXGU84Ng3dXvNCAOD3CAaUTEbnnM7tyUJg/edit?usp=sharing"",""施設概要!A1"")"),"施設概要") -> 施設概要
A2: =IFERROR(__xludf.DUMMYFUNCTION("IMPORTRANGE(""https://docs.google.com/spreadsheets/d/1vsTcEcugRZXGU84Ng3dXvNCAOD3CAaUTEbnnM7tyUJg/edit?usp=sharing"",""施設概要!A2"")"),"所在地") -> 所在地 | B2: 〒946-0305 新潟県魚沼市大栃山628-1 | C2: デイサービスセンターを併設。多職種協働で入所者の栄養状態や摂食状況の把握の確認、ご利用者個々の嗜好や状態に応じた食事内容・形態・食具を準備し、安全においしく食事を食べていただけるように努めています。毎月の行事を含め月2～3回の行事食や毎月おやつバイキングを行い食べる楽しみをもっていただけるようにしております。
A3: =IFERROR(__xludf.DUMMYFUNCTION("IMPORTRANGE(""https://docs.google.com/spreadsheets/d/1vsTcEcugRZXGU84Ng3dXvNCAOD3CAaUTEbnnM7tyUJg/edit?usp=sharing"",""施設概要!A3"")"),"給食部門名") -> 給食部門名 | B3: なし
A4: =IFERROR(__xludf.DUMMYFUNCTION("IMPORTRANGE(""https://docs.google.com/spreadsheets/d/1vsTcEcugRZXGU84Ng3dXvNCAOD3CAaUTEbnnM7tyUJg/edit?usp=sharing"",""施設概要!A4"")"),"電話") -> 電話 | B4: 025-796-3711（代）
A5: =IFERROR(__xludf.DUMMYFUNCTION("IMPORTRANGE(""https://docs.google.com/spreadsheets/d/1vsTcEcugRZXGU84Ng3dXvNCAOD3CAaUTEbnnM7tyUJg/edit?usp=sharing"",""施設概要!A5"")"),"FAX") -> FAX | B5: 025-796-3008（代）
A6: =IFERROR(__xludf.DUMMYFUNCTION("IMPORTRANGE(""https://docs.google.com/spreadsheets/d/1vsTcEcugRZXGU84Ng3dXvNCAOD3CAaUTEbnnM7tyUJg/edit?usp=sharing"",""施設概要!A6"")"),"更新日") -> 更新日 | B6: 46126.531

Sheet おかず形態一覧表ウェブ出力
A1: =IFERROR(__xludf.DUMMYFUNCTION("IMPORTRANGE(""https://docs.google.com/spreadsheets/d/1vsTcEcugRZXGU84Ng3dXvNCAOD3CAaUTEbnnM7tyUJg/edit?usp=sharing"",""おかず形態一覧表!A1"")"),"1. おかず形態一覧表") -> 1. おかず形態一覧表
A2: =IFERROR(__xludf.DUMMYFUNCTION("IMPORTRANGE(""https://docs.google.com/spreadsheets/d/1vsTcEcugRZXGU84Ng3dXvNCAOD3CAaUTEbnnM7tyUJg/edit?usp=sharing"",""おかず形態一覧表!A2"")"),"食種名称") -> 食種名称 | B2: 常食 | C2: 刻み | D2: カッター | E2: ミキサー
A3: =IFERROR(__xludf.DUMMYFUNCTION("IMPORTRANGE(""https://docs.google.com/spreadsheets/d/1vsTcEcugRZXGU84Ng3dXvNCAOD3CAaUTEbnnM7tyUJg/edit?usp=sharing"",""おかず形態一覧表!A3"")"),"肉のおかず") -> 肉のおかず | B3: 鶏肉とかぼちゃの甘酢炒め | C3: 鶏肉とかぼちゃの甘酢炒め | D3: 鶏肉とかぼちゃの甘酢炒め | E3: 鶏肉とかぼちゃの甘酢炒め
A4: =IFERROR(__xludf.DUMMYFUNCTION("IMPORTRANGE(""https://docs.google.com/spreadsheets/d/1vsTcEcugRZXGU84Ng3dXvNCAOD3CAaUTEbnnM7tyUJg/edit?usp=sharing"",""おかず形態一覧表!A4"")"),"画像") -> 画像
A5: =IFERROR(__xludf.DUMMYFUNCTION("IMPORTRANGE(""https://docs.google.com/spreadsheets/d/1vsTcEcugRZXGU84Ng3dXvNCAOD3CAaUTEbnnM7tyUJg/edit?usp=sharing"",""おかず形態一覧表!A5"")"),"魚のおかず") -> 魚のおかず | B5: カレイの紫蘇味噌焼き | C5: カレイの紫蘇味噌焼き | D5: 魚ムースの紫蘇味噌焼き | E5: 魚ムースの紫蘇味噌焼き
A6: =IFERROR(__xludf.DUMMYFUNCTION("IMPORTRANGE(""https://docs.google.com/spreadsheets/d/1vsTcEcugRZXGU84Ng3dXvNCAOD3CAaUTEbnnM7tyUJg/edit?usp=sharing"",""おかず形態一覧表!A6"")"),"画像") -> 画像
A7: =IFERROR(__xludf.DUMMYFUNCTION("IMPORTRANGE(""https://docs.google.com/spreadsheets/d/1vsTcEcugRZXGU84Ng3dXvNCAOD3CAaUTEbnnM7tyUJg/edit?usp=sharing"",""おかず形態一覧表!A7"")"),"野菜のおかず") -> 野菜のおかず | B7: 大根とひじきの和え混ぜ | C7: 大根とひじきの和え混ぜ | D7: 大根と野菜の和え混ぜ | E7: 大根と野菜の和え混ぜ
A8: =IFERROR(__xludf.DUMMYFUNCTION("IMPORTRANGE(""https://docs.google.com/spreadsheets/d/1vsTcEcugRZXGU84Ng3dXvNCAOD3CAaUTEbnnM7tyUJg/edit?usp=sharing"",""おかず形態一覧表!A8"")"),"画像") -> 画像
A9: =IFERROR(__xludf.DUMMYFUNCTION("IMPORTRANGE(""https://docs.google.com/spreadsheets/d/1vsTcEcugRZXGU84Ng3dXvNCAOD3CAaUTEbnnM7tyUJg/edit?usp=sharing"",""おかず形態一覧表!A9"")"),"内容") -> 内容 | B9: 一般的な食事 | C9: 調理後細かく刻む | D9: 調理後ロボクープでわずかに粒が残る程度まで撹拌。（食材によりミキサームース・とろみナールを加えて調整している） | E9: 料理後ロボクープで滑らかになるまで撹拌（ミキサームースを使用しムース状にしている）
A10: =IFERROR(__xludf.DUMMYFUNCTION("IMPORTRANGE(""https://docs.google.com/spreadsheets/d/1vsTcEcugRZXGU84Ng3dXvNCAOD3CAaUTEbnnM7tyUJg/edit?usp=sharing"",""おかず形態一覧表!A10"")"),"大きさ・形状") -> 大きさ・形状 | B10: 通常の大きさ | C10: ５mm程度 | D10: やや粒の残る ペースト状 | E10: ペースト状ムース状
A11: =IFERROR(__xludf.DUMMYFUNCTION("IMPORTRANGE(""https://docs.google.com/spreadsheets/d/1vsTcEcugRZXGU84Ng3dXvNCAOD3CAaUTEbnnM7tyUJg/edit?usp=sharing"",""おかず形態一覧表!A11"")"),"咀嚼の必要性") -> 咀嚼の必要性 | C11: 歯茎でつぶせる | D11: 舌でつぶせる | E11: 噛まなくて良い
A12: =IFERROR(__xludf.DUMMYFUNCTION("IMPORTRANGE(""https://docs.google.com/spreadsheets/d/1vsTcEcugRZXGU84Ng3dXvNCAOD3CAaUTEbnnM7tyUJg/edit?usp=sharing"",""おかず形態一覧表!A12"")"),"学会分類2021") -> 学会分類2021 | C12: 4 | D12: 3/2-2 | E12: 2-2/2-1
A13: =IFERROR(__xludf.DUMMYFUNCTION("IMPORTRANGE(""https://docs.google.com/spreadsheets/d/1vsTcEcugRZXGU84Ng3dXvNCAOD3CAaUTEbnnM7tyUJg/edit?usp=sharing"",""おかず形態一覧表!A13"")"),"栄養量目安") -> 栄養量目安 | B13: 米飯150 | C13: 全粥240 | D13: 全粥210ｇ・粥ﾑｰｽ210 | E13: 粥ﾐｷｻｰﾑｰｽ180
A14: 栄養量目安 | B14: 1480 | C14: 1250 | D14: 1150 | E14: 1000

Sheet 主食一覧ウェブ出力
A1: =IFERROR(__xludf.DUMMYFUNCTION("IMPORTRANGE(""https://docs.google.com/spreadsheets/d/1vsTcEcugRZXGU84Ng3dXvNCAOD3CAaUTEbnnM7tyUJg/edit?usp=sharing"",""主食一覧!A1"")"),"2. 主食一覧") -> 2. 主食一覧
A2: =IFERROR(__xludf.DUMMYFUNCTION("IMPORTRANGE(""https://docs.google.com/spreadsheets/d/1vsTcEcugRZXGU84Ng3dXvNCAOD3CAaUTEbnnM7tyUJg/edit?usp=sharing"",""主食一覧!A2"")"),"主食名称") -> 主食名称 | B2: 米飯 | C2: 全粥 | D2: 粥ムース | E2: 粥ミキサームース
A3: =IFERROR(__xludf.DUMMYFUNCTION("IMPORTRANGE(""https://docs.google.com/spreadsheets/d/1vsTcEcugRZXGU84Ng3dXvNCAOD3CAaUTEbnnM7tyUJg/edit?usp=sharing"",""主食一覧!A3"")"),"画像") -> 画像
A4: =IFERROR(__xludf.DUMMYFUNCTION("IMPORTRANGE(""https://docs.google.com/spreadsheets/d/1vsTcEcugRZXGU84Ng3dXvNCAOD3CAaUTEbnnM7tyUJg/edit?usp=sharing"",""主食一覧!A4"")"),"内容") -> 内容 | B4: 通常のごはん 重量比 ＝米1：水1.4 | C4: 通常の全粥 重量比 ＝米1：水6 | D4: 通常の粥にホット＆ソフト２.4％を加えたもの | E4: 粥をミキサーにかけたものにホット＆ソフト２％を加えたもの
A5: =IFERROR(__xludf.DUMMYFUNCTION("IMPORTRANGE(""https://docs.google.com/spreadsheets/d/1vsTcEcugRZXGU84Ng3dXvNCAOD3CAaUTEbnnM7tyUJg/edit?usp=sharing"",""主食一覧!A5"")"),"学会分類2021") -> 学会分類2021 | C5: 4 | D5: 3 | E5: 1ｊ

Sheet 水分とろみの基準・水分ゼリーウェブ出力
A1: =IFERROR(__xludf.DUMMYFUNCTION("IMPORTRANGE(""https://docs.google.com/spreadsheets/d/1vsTcEcugRZXGU84Ng3dXvNCAOD3CAaUTEbnnM7tyUJg/edit?usp=sharing"",""水分とろみの基準・水分ゼリー!A1"")"),"3-1. 水分とろみの基準") -> 3-1. 水分とろみの基準 | F1: =IFERROR(__xludf.DUMMYFUNCTION("IMPORTRANGE(""https://docs.google.com/spreadsheets/d/1vsTcEcugRZXGU84Ng3dXvNCAOD3CAaUTEbnnM7tyUJg/edit?usp=sharing"",""水分とろみの基準・水分ゼリー!F1"")"),"3-2. 水分ゼリー") -> 3-2. 水分ゼリー
A2: =IFERROR(__xludf.DUMMYFUNCTION("IMPORTRANGE(""https://docs.google.com/spreadsheets/d/1vsTcEcugRZXGU84Ng3dXvNCAOD3CAaUTEbnnM7tyUJg/edit?usp=sharing"",""水分とろみの基準・水分ゼリー!A2"")"),"学会分類2021 （とろみ）") -> 学会分類2021 （とろみ） | B2: =IFERROR(__xludf.DUMMYFUNCTION("IMPORTRANGE(""https://docs.google.com/spreadsheets/d/1vsTcEcugRZXGU84Ng3dXvNCAOD3CAaUTEbnnM7tyUJg/edit?usp=sharing"",""水分とろみの基準・水分ゼリー!B2"")"),"薄いとろみ") -> 薄いとろみ | C2: =IFERROR(__xludf.DUMMYFUNCTION("IMPORTRANGE(""https://docs.google.com/spreadsheets/d/1vsTcEcugRZXGU84Ng3dXvNCAOD3CAaUTEbnnM7tyUJg/edit?usp=sharing"",""水分とろみの基準・水分ゼリー!C2"")"),"中間のとろみ") -> 中間のとろみ | D2: =IFERROR(__xludf.DUMMYFUNCTION("IMPORTRANGE(""https://docs.google.com/spreadsheets/d/1vsTcEcugRZXGU84Ng3dXvNCAOD3CAaUTEbnnM7tyUJg/edit?usp=sharing"",""水分とろみの基準・水分ゼリー!D2"")"),"濃いとろみ") -> 濃いとろみ | E2: =IFERROR(__xludf.DUMMYFUNCTION("IMPORTRANGE(""https://docs.google.com/spreadsheets/d/1vsTcEcugRZXGU84Ng3dXvNCAOD3CAaUTEbnnM7tyUJg/edit?usp=sharing"",""水分とろみの基準・水分ゼリー!E2"")"),"") | F2: =IFERROR(__xludf.DUMMYFUNCTION("IMPORTRANGE(""https://docs.google.com/spreadsheets/d/1vsTcEcugRZXGU84Ng3dXvNCAOD3CAaUTEbnnM7tyUJg/edit?usp=sharing"",""水分とろみの基準・水分ゼリー!F2"")"),"名称") -> 名称 | G2: お茶ゼリー | H2: イオンゼリー
A3: =IFERROR(__xludf.DUMMYFUNCTION("IMPORTRANGE(""https://docs.google.com/spreadsheets/d/1vsTcEcugRZXGU84Ng3dXvNCAOD3CAaUTEbnnM7tyUJg/edit?usp=sharing"",""水分とろみの基準・水分ゼリー!A3"")"),"とろみ調整食品") -> とろみ調整食品 | B3: とろみナールplus | C3: とろみナールplus | D3: とろみナールplus | F3: =IFERROR(__xludf.DUMMYFUNCTION("IMPORTRANGE(""https://docs.google.com/spreadsheets/d/1vsTcEcugRZXGU84Ng3dXvNCAOD3CAaUTEbnnM7tyUJg/edit?usp=sharing"",""水分とろみの基準・水分ゼリー!F3"")"),"とろみ調整食品") -> とろみ調整食品 | G3: ゼラチンと寒天を混合 | H3: ゼラチンと寒天を混合
A4: =IFERROR(__xludf.DUMMYFUNCTION("IMPORTRANGE(""https://docs.google.com/spreadsheets/d/1vsTcEcugRZXGU84Ng3dXvNCAOD3CAaUTEbnnM7tyUJg/edit?usp=sharing"",""水分とろみの基準・水分ゼリー!A4"")"),"水100mlあたり") -> 水100mlあたり | B4: 0.7g | C4: 1g | D4: 2g | F4: =IFERROR(__xludf.DUMMYFUNCTION("IMPORTRANGE(""https://docs.google.com/spreadsheets/d/1vsTcEcugRZXGU84Ng3dXvNCAOD3CAaUTEbnnM7tyUJg/edit?usp=sharing"",""水分とろみの基準・水分ゼリー!F4"")"),"水100mlあたり") -> 水100mlあたり | G4: 寒天0.3g ゼラチン1g | H4: 寒天0.3g ゼラチン1g
A5: =IFERROR(__xludf.DUMMYFUNCTION("IMPORTRANGE(""https://docs.google.com/spreadsheets/d/1vsTcEcugRZXGU84Ng3dXvNCAOD3CAaUTEbnnM7tyUJg/edit?usp=sharing"",""水分とろみの基準・水分ゼリー!A5"")"),"小さじ") -> 小さじ | F5: 小さじ

Sheet 濃厚流動食・補助食品ウェブ出力
A1: =IFERROR(__xludf.DUMMYFUNCTION("IMPORTRANGE(""https://docs.google.com/spreadsheets/d/1vsTcEcugRZXGU84Ng3dXvNCAOD3CAaUTEbnnM7tyUJg/edit?usp=sharing"",""濃厚流動食・補助食品!A1"")"),"4. 濃厚流動食（経管栄養）") -> 4. 濃厚流動食（経管栄養） | F1: =IFERROR(__xludf.DUMMYFUNCTION("IMPORTRANGE(""https://docs.google.com/spreadsheets/d/1vsTcEcugRZXGU84Ng3dXvNCAOD3CAaUTEbnnM7tyUJg/edit?usp=sharing"",""濃厚流動食・補助食品!F1"")"),"5. 補助食品、その他") -> 5. 補助食品、その他
A2: =IFERROR(__xludf.DUMMYFUNCTION("IMPORTRANGE(""https://docs.google.com/spreadsheets/d/1vsTcEcugRZXGU84Ng3dXvNCAOD3CAaUTEbnnM7tyUJg/edit?usp=sharing"",""濃厚流動食・補助食品!A2"")"),"商品名") -> 商品名 | B2: ラクフィール | F2: Ｏｊ・１ｊ対応：可
F3: メイバランスソフトゼリー

Sheet PDFウェブ出力
A1: 特別養護老人ホーム | C1: 寿和ホーム
A3: =IFERROR(__xludf.DUMMYFUNCTION("IMPORTRANGE(""https://docs.google.com/spreadsheets/d/1vsTcEcugRZXGU84Ng3dXvNCAOD3CAaUTEbnnM7tyUJg/edit?usp=sharing"",""おかず形態一覧表!A1"")"),"1. おかず形態一覧表") -> 1. おかず形態一覧表
A4: =IFERROR(__xludf.DUMMYFUNCTION("IMPORTRANGE(""https://docs.google.com/spreadsheets/d/1vsTcEcugRZXGU84Ng3dXvNCAOD3CAaUTEbnnM7tyUJg/edit?usp=sharing"",""おかず形態一覧表!A2"")"),"食種名称") -> 食種名称 | B4: 常食 | C4: 刻み | D4: カッター | E4: ミキサー
A5: =IFERROR(__xludf.DUMMYFUNCTION("IMPORTRANGE(""https://docs.google.com/spreadsheets/d/1vsTcEcugRZXGU84Ng3dXvNCAOD3CAaUTEbnnM7tyUJg/edit?usp=sharing"",""おかず形態一覧表!A3"")"),"肉のおかず") -> 肉のおかず | B5: 鶏肉とかぼちゃの甘酢炒め | C5: 鶏肉とかぼちゃの甘酢炒め | D5: 鶏肉とかぼちゃの甘酢炒め | E5: 鶏肉とかぼちゃの甘酢炒め
A6: =IFERROR(__xludf.DUMMYFUNCTION("IMPORTRANGE(""https://docs.google.com/spreadsheets/d/1vsTcEcugRZXGU84Ng3dXvNCAOD3CAaUTEbnnM7tyUJg/edit?usp=sharing"",""おかず形態一覧表!A4"")"),"画像") -> 画像 | B6: ='おかず形態一覧表'!B4 | C6: ='おかず形態一覧表'!C4 | D6: ='おかず形態一覧表'!D4 | E6: ='おかず形態一覧表'!E4 | F6: ='おかず形態一覧表'!F4 | G6: ='おかず形態一覧表'!G4 | H6: ='おかず形態一覧表'!H4
A7: =IFERROR(__xludf.DUMMYFUNCTION("IMPORTRANGE(""https://docs.google.com/spreadsheets/d/1vsTcEcugRZXGU84Ng3dXvNCAOD3CAaUTEbnnM7tyUJg/edit?usp=sharing"",""おかず形態一覧表!A5"")"),"魚のおかず") -> 魚のおかず | B7: カレイの紫蘇味噌焼き | C7: カレイの紫蘇味噌焼き | D7: 魚ムースの紫蘇味噌焼き | E7: 魚ムースの紫蘇味噌焼き
A8: =IFERROR(__xludf.DUMMYFUNCTION("IMPORTRANGE(""https://docs.google.com/spreadsheets/d/1vsTcEcugRZXGU84Ng3dXvNCAOD3CAaUTEbnnM7tyUJg/edit?usp=sharing"",""おかず形態一覧表!A6"")"),"画像") -> 画像 | B8: ='おかず形態一覧表'!B6 | C8: ='おかず形態一覧表'!C6 | D8: ='おかず形態一覧表'!D6 | E8: ='おかず形態一覧表'!E6 | F8: ='おかず形態一覧表'!F6 | G8: ='おかず形態一覧表'!G6 | H8: ='おかず形態一覧表'!H6
A9: =IFERROR(__xludf.DUMMYFUNCTION("IMPORTRANGE(""https://docs.google.com/spreadsheets/d/1vsTcEcugRZXGU84Ng3dXvNCAOD3CAaUTEbnnM7tyUJg/edit?usp=sharing"",""おかず形態一覧表!A7"")"),"野菜のおかず") -> 野菜のおかず | B9: 大根とひじきの和え混ぜ | C9: 大根とひじきの和え混ぜ | D9: 大根と野菜の和え混ぜ | E9: 大根と野菜の和え混ぜ
A10: =IFERROR(__xludf.DUMMYFUNCTION("IMPORTRANGE(""https://docs.google.com/spreadsheets/d/1vsTcEcugRZXGU84Ng3dXvNCAOD3CAaUTEbnnM7tyUJg/edit?usp=sharing"",""おかず形態一覧表!A8"")"),"画像") -> 画像 | B10: ='おかず形態一覧表'!B8 | C10: ='おかず形態一覧表'!C8 | D10: ='おかず形態一覧表'!D8 | E10: ='おかず形態一覧表'!E8 | F10: ='おかず形態一覧表'!F8 | G10: ='おかず形態一覧表'!G8 | H10: ='おかず形態一覧表'!H8
A11: =IFERROR(__xludf.DUMMYFUNCTION("IMPORTRANGE(""https://docs.google.com/spreadsheets/d/1vsTcEcugRZXGU84Ng3dXvNCAOD3CAaUTEbnnM7tyUJg/edit?usp=sharing"",""おかず形態一覧表!A9"")"),"内容") -> 内容 | B11: 一般的な食事 | C11: 調理後細かく刻む | D11: 調理後ロボクープでわずかに粒が残る程度まで撹拌。（食材によりミキサームース・とろみナールを加えて調整している） | E11: 料理後ロボクープで滑らかになるまで撹拌（ミキサームースを使用しムース状にしている）
A12: =IFERROR(__xludf.DUMMYFUNCTION("IMPORTRANGE(""https://docs.google.com/spreadsheets/d/1vsTcEcugRZXGU84Ng3dXvNCAOD3CAaUTEbnnM7tyUJg/edit?usp=sharing"",""おかず形態一覧表!A10"")"),"大きさ・形状") -> 大きさ・形状 | B12: 通常の大きさ | C12: ５mm程度 | D12: やや粒の残る ペースト状 | E12: ペースト状ムース状
A13: =IFERROR(__xludf.DUMMYFUNCTION("IMPORTRANGE(""https://docs.google.com/spreadsheets/d/1vsTcEcugRZXGU84Ng3dXvNCAOD3CAaUTEbnnM7tyUJg/edit?usp=sharing"",""おかず形態一覧表!A11"")"),"咀嚼の必要性") -> 咀嚼の必要性 | C13: 歯茎でつぶせる | D13: 舌でつぶせる | E13: 噛まなくて良い
A14: =IFERROR(__xludf.DUMMYFUNCTION("IMPORTRANGE(""https://docs.google.com/spreadsheets/d/1vsTcEcugRZXGU84Ng3dXvNCAOD3CAaUTEbnnM7tyUJg/edit?usp=sharing"",""おかず形態一覧表!A12"")"),"学会分類2021") -> 学会分類2021 | C14: 4 | D14: 3/2-2 | E14: 2-2/2-1
A15: =IFERROR(__xludf.DUMMYFUNCTION("IMPORTRANGE(""https://docs.google.com/spreadsheets/d/1vsTcEcugRZXGU84Ng3dXvNCAOD3CAaUTEbnnM7tyUJg/edit?usp=sharing"",""おかず形態一覧表!A13"")"),"栄養量目安") -> 栄養量目安 | B15: 米飯150 | C15: 全粥240 | D15: 全粥210ｇ・粥ﾑｰｽ210 | E15: 粥ﾐｷｻｰﾑｰｽ180
B16: 1480 | C16: 1250 | D16: 1150 | E16: 1000
A18: =IFERROR(__xludf.DUMMYFUNCTION("IMPORTRANGE(""https://docs.google.com/spreadsheets/d/1vsTcEcugRZXGU84Ng3dXvNCAOD3CAaUTEbnnM7tyUJg/edit?usp=sharing"",""主食一覧!A1"")"),"2. 主食一覧") -> 2. 主食一覧
A19: =IFERROR(__xludf.DUMMYFUNCTION("IMPORTRANGE(""https://docs.google.com/spreadsheets/d/1vsTcEcugRZXGU84Ng3dXvNCAOD3CAaUTEbnnM7tyUJg/edit?usp=sharing"",""主食一覧!A2"")"),"主食名称") -> 主食名称 | B19: 米飯 | C19: 全粥 | D19: 粥ムース | E19: 粥ミキサームース
A20: =IFERROR(__xludf.DUMMYFUNCTION("IMPORTRANGE(""https://docs.google.com/spreadsheets/d/1vsTcEcugRZXGU84Ng3dXvNCAOD3CAaUTEbnnM7tyUJg/edit?usp=sharing"",""主食一覧!A3"")"),"画像") -> 画像 | B20: ='主食一覧'!B3 | C20: ='主食一覧'!C3 | D20: ='主食一覧'!D3 | E20: ='主食一覧'!E3 | F20: ='主食一覧'!F3 | G20: ='主食一覧'!G3 | H20: ='主食一覧'!H3
A21: =IFERROR(__xludf.DUMMYFUNCTION("IMPORTRANGE(""https://docs.google.com/spreadsheets/d/1vsTcEcugRZXGU84Ng3dXvNCAOD3CAaUTEbnnM7tyUJg/edit?usp=sharing"",""主食一覧!A4"")"),"内容") -> 内容 | B21: 通常のごはん 重量比 ＝米1：水1.4 | C21: 通常の全粥 重量比 ＝米1：水6 | D21: 通常の粥にホット＆ソフト２.4％を加えたもの | E21: 粥をミキサーにかけたものにホット＆ソフト２％を加えたもの
A22: =IFERROR(__xludf.DUMMYFUNCTION("IMPORTRANGE(""https://docs.google.com/spreadsheets/d/1vsTcEcugRZXGU84Ng3dXvNCAOD3CAaUTEbnnM7tyUJg/edit?usp=sharing"",""主食一覧!A5"")"),"学会分類2021") -> 学会分類2021 | C22: 4 | D22: 3 | E22: 1ｊ
A24: =IFERROR(__xludf.DUMMYFUNCTION("IMPORTRANGE(""https://docs.google.com/spreadsheets/d/1vsTcEcugRZXGU84Ng3dXvNCAOD3CAaUTEbnnM7tyUJg/edit?usp=sharing"",""水分とろみの基準・水分ゼリー!A1"")"),"3-1. 水分とろみの基準") -> 3-1. 水分とろみの基準 | F24: =IFERROR(__xludf.DUMMYFUNCTION("IMPORTRANGE(""https://docs.google.com/spreadsheets/d/1vsTcEcugRZXGU84Ng3dXvNCAOD3CAaUTEbnnM7tyUJg/edit?usp=sharing"",""水分とろみの基準・水分ゼリー!F1"")"),"3-2. 水分ゼリー") -> 3-2. 水分ゼリー
A25: =IFERROR(__xludf.DUMMYFUNCTION("IMPORTRANGE(""https://docs.google.com/spreadsheets/d/1vsTcEcugRZXGU84Ng3dXvNCAOD3CAaUTEbnnM7tyUJg/edit?usp=sharing"",""水分とろみの基準・水分ゼリー!A2"")"),"学会分類2021 （とろみ）") -> 学会分類2021 （とろみ） | B25: =IFERROR(__xludf.DUMMYFUNCTION("IMPORTRANGE(""https://docs.google.com/spreadsheets/d/1vsTcEcugRZXGU84Ng3dXvNCAOD3CAaUTEbnnM7tyUJg/edit?usp=sharing"",""水分とろみの基準・水分ゼリー!B2"")"),"薄いとろみ") -> 薄いとろみ | C25: =IFERROR(__xludf.DUMMYFUNCTION("IMPORTRANGE(""https://docs.google.com/spreadsheets/d/1vsTcEcugRZXGU84Ng3dXvNCAOD3CAaUTEbnnM7tyUJg/edit?usp=sharing"",""水分とろみの基準・水分ゼリー!C2"")"),"中間のとろみ") -> 中間のとろみ | D25: =IFERROR(__xludf.DUMMYFUNCTION("IMPORTRANGE(""https://docs.google.com/spreadsheets/d/1vsTcEcugRZXGU84Ng3dXvNCAOD3CAaUTEbnnM7tyUJg/edit?usp=sharing"",""水分とろみの基準・水分ゼリー!D2"")"),"濃いとろみ") -> 濃いとろみ | E25: =IFERROR(__xludf.DUMMYFUNCTION("IMPORTRANGE(""https://docs.google.com/spreadsheets/d/1vsTcEcugRZXGU84Ng3dXvNCAOD3CAaUTEbnnM7tyUJg/edit?usp=sharing"",""水分とろみの基準・水分ゼリー!E2"")"),"") | F25: =IFERROR(__xludf.DUMMYFUNCTION("IMPORTRANGE(""https://docs.google.com/spreadsheets/d/1vsTcEcugRZXGU84Ng3dXvNCAOD3CAaUTEbnnM7tyUJg/edit?usp=sharing"",""水分とろみの基準・水分ゼリー!F2"")"),"名称") -> 名称 | G25: お茶ゼリー | H25: イオンゼリー
A26: =IFERROR(__xludf.DUMMYFUNCTION("IMPORTRANGE(""https://docs.google.com/spreadsheets/d/1vsTcEcugRZXGU84Ng3dXvNCAOD3CAaUTEbnnM7tyUJg/edit?usp=sharing"",""水分とろみの基準・水分ゼリー!A3"")"),"とろみ調整食品") -> とろみ調整食品 | B26: とろみナールplus | C26: とろみナールplus | D26: とろみナールplus | F26: とろみ調整食品 | G26: ゼラチンと寒天を混合 | H26: ゼラチンと寒天を混合
A27: =IFERROR(__xludf.DUMMYFUNCTION("IMPORTRANGE(""https://docs.google.com/spreadsheets/d/1vsTcEcugRZXGU84Ng3dXvNCAOD3CAaUTEbnnM7tyUJg/edit?usp=sharing"",""水分とろみの基準・水分ゼリー!A4"")"),"水100mlあたり") -> 水100mlあたり | B27: 0.7g | C27: 1g | D27: 2g | F27: 水100mlあたり | G27: 寒天0.3g ゼラチン1g | H27: 寒天0.3g ゼラチン1g
A28: =IFERROR(__xludf.DUMMYFUNCTION("IMPORTRANGE(""https://docs.google.com/spreadsheets/d/1vsTcEcugRZXGU84Ng3dXvNCAOD3CAaUTEbnnM7tyUJg/edit?usp=sharing"",""水分とろみの基準・水分ゼリー!A5"")"),"小さじ") -> 小さじ | F28: 小さじ
A30: =IFERROR(__xludf.DUMMYFUNCTION("IMPORTRANGE(""https://docs.google.com/spreadsheets/d/1vsTcEcugRZXGU84Ng3dXvNCAOD3CAaUTEbnnM7tyUJg/edit?usp=sharing"",""濃厚流動食・補助食品!A1"")"),"4. 濃厚流動食（経管栄養）") -> 4. 濃厚流動食（経管栄養） | F30: =IFERROR(__xludf.DUMMYFUNCTION("IMPORTRANGE(""https://docs.google.com/spreadsheets/d/1vsTcEcugRZXGU84Ng3dXvNCAOD3CAaUTEbnnM7tyUJg/edit?usp=sharing"",""濃厚流動食・補助食品!F1"")"),"5. 補助食品、その他") -> 5. 補助食品、その他
A31: =IFERROR(__xludf.DUMMYFUNCTION("IMPORTRANGE(""https://docs.google.com/spreadsheets/d/1vsTcEcugRZXGU84Ng3dXvNCAOD3CAaUTEbnnM7tyUJg/edit?usp=sharing"",""濃厚流動食・補助食品!A2"")"),"商品名") -> 商品名 | B31: ラクフィール | F31: Ｏｊ・１ｊ対応：可
F32: メイバランスソフトゼリー
A35: =IFERROR(__xludf.DUMMYFUNCTION("IMPORTRANGE(""https://docs.google.com/spreadsheets/d/1vsTcEcugRZXGU84Ng3dXvNCAOD3CAaUTEbnnM7tyUJg/edit?usp=sharing"",""施設概要!A1"")"),"施設概要") -> 施設概要
A36: =IFERROR(__xludf.DUMMYFUNCTION("IMPORTRANGE(""https://docs.google.com/spreadsheets/d/1vsTcEcugRZXGU84Ng3dXvNCAOD3CAaUTEbnnM7tyUJg/edit?usp=sharing"",""施設概要!A2"")"),"所在地") -> 所在地 | B36: 〒946-0305 新潟県魚沼市大栃山628-1 | E36: デイサービスセンターを併設。多職種協働で入所者の栄養状態や摂食状況の把握の確認、ご利用者個々の嗜好や状態に応じた食事内容・形態・食具を準備し、安全においしく食事を食べていただけるように努めています。毎月の行事を含め月2～3回の行事食や毎月おやつバイキングを行い食べる楽しみをもっていただけるようにしております。
A37: =IFERROR(__xludf.DUMMYFUNCTION("IMPORTRANGE(""https://docs.google.com/spreadsheets/d/1vsTcEcugRZXGU84Ng3dXvNCAOD3CAaUTEbnnM7tyUJg/edit?usp=sharing"",""施設概要!A3"")"),"給食部門名") -> 給食部門名 | B37: なし
A38: =IFERROR(__xludf.DUMMYFUNCTION("IMPORTRANGE(""https://docs.google.com/spreadsheets/d/1vsTcEcugRZXGU84Ng3dXvNCAOD3CAaUTEbnnM7tyUJg/edit?usp=sharing"",""施設概要!A4"")"),"電話") -> 電話 | B38: 025-796-3711（代）
A39: =IFERROR(__xludf.DUMMYFUNCTION("IMPORTRANGE(""https://docs.google.com/spreadsheets/d/1vsTcEcugRZXGU84Ng3dXvNCAOD3CAaUTEbnnM7tyUJg/edit?usp=sharing"",""施設概要!A5"")"),"FAX") -> FAX | B39: 025-796-3008（代）
A40: =IFERROR(__xludf.DUMMYFUNCTION("IMPORTRANGE(""https://docs.google.com/spreadsheets/d/1vsTcEcugRZXGU84Ng3dXvNCAOD3CAaUTEbnnM7tyUJg/edit?usp=sharing"",""施設概要!A6"")"),"更新日") -> 更新日 | B40: 46126.531
