Workbook

Sheet 2-4
A1: บริษัท โรงงานเภสัชอุตสาหกรรม เจเอสพี (ประเทศไทย) จำกัด (มหาชน)
A2: งบฐานะการเงิน
A3: ณ วันที่ 31 มีนาคม พ.ศ. 2569
H5: ข้อมูลทางการเงินรวม | L5: ข้อมูลทางการเงินเฉพาะกิจการ
F6: ยังไม่ได้ตรวจสอบ | H6: ตรวจสอบแล้ว | J6: ยังไม่ได้ตรวจสอบ | L6: ตรวจสอบแล้ว
F7: 31 มีนาคม | H7: 31 ธันวาคม | J7: 31 มีนาคม | L7: 31 ธันวาคม
F8: พ.ศ. 2569 | H8: พ.ศ. 2568 | J8: พ.ศ. 2569 | L8: พ.ศ. 2568
D9: หมายเหตุ | F9: พันบาท | H9: พันบาท | J9: พันบาท | L9: พันบาท
A11: สินทรัพย์
A13: สินทรัพย์หมุนเวียน
A15: เงินสดและรายการเทียบเท่าเงินสด | F15: 46441 | H15: 48031 | J15: 19935 | L15: 18565
A16: ลูกหนี้การค้า สุทธิ | D16: 8 | F16: 144609 | H16: 151383 | J16: 95629 | L16: 101413
A17: ลูกหนี้หมุนเวียนอื่น สุทธิ | F17: 30273 | H17: 26809 | J17: 53328 | L17: 43854
A18: เงินให้กู้ยืมระยะสั้นแก่กิจการที่เกี่ยวข้องกัน | D18: 16.3 | F18: 0 | H18: 0 | J18: 69800 | L18: 69800
A19: สินค้าคงเหลือ สุทธิ | D19: 9 | F19: 129222 | H19: 101439 | J19: 113469 | L19: 89498
A21: รวมสินทรัพย์หมุนเวียน | F21: =SUM(F15:F19) -> 350545 | H21: =SUM(H15:H19) -> 327662 | J21: =SUM(J15:J19) -> 352161 | L21: =SUM(L15:L19) -> 323130
A23: สินทรัพย์ไม่หมุนเวียน
A25: เงินฝากธนาคารที่มีภาระค้ำประกัน | F25: 6201 | H25: 6146 | J25: 4651 | L25: 4610
A26: เงินลงทุนในบริษัทย่อย สุทธิ | D26: 10 | F26: 0 | H26: 0 | J26: 132661 | L26: 93149
A27: เงินลงทุนในบริษัทร่วม สุทธิ | F27: 0 | H27: 0 | J27: 0 | L27: 0
A28: เงินจ่ายล่วงหน้าค่าหุ้น | D28: 10 | F28: 0 | H28: 0 | J28: 0 | L28: 39512
A29: ลูกหนี้ไม่หมุนเวียนอื่น | F29: 506 | H29: 675 | J29: 0 | L29: 0
A30: ที่ดิน อาคาร และอุปกรณ์ สุทธิ | D30: 11 | F30: 1060428 | H30: 1071784 | J30: 917508 | L30: 926148
A31: ค่าความนิยม | F31: 32551 | H31: 32551 | J31: 0 | L31: 0
A32: สินทรัพย์ไม่มีตัวตน สุทธิ | F32: 4385 | H32: 4512 | J32: 3665 | L32: 3683
A33: สินทรัพย์ภาษีเงินได้รอการตัดบัญชี สุทธิ | F33: 19430 | H33: 17907 | J33: 36258 | L33: 35272
A34: สินทรัพย์ไม่หมุนเวียนอื่น | F34: 4099 | H34: 2317 | J34: 1936 | L34: 829
A36: รวมสินทรัพย์ไม่หมุนเวียน | F36: =SUM(F25:F34) -> 1127600 | H36: =SUM(H25:H34) -> 1135892 | J36: =SUM(J25:J34) -> 1096679 | L36: =SUM(L25:L34) -> 1103203
A38: รวมสินทรัพย์ | F38: =F21+F36 -> 1478145 | H38: =H21+H36 -> 1463554 | J38: =J21+J36 -> 1448840 | L38: =L21+L36 -> 1426333
A48: หมายเหตุประกอบข้อมูลทางการเงินระหว่างกาลแบบย่อเป็นส่วนหนึ่งของข้อมูลทางการเงินระหว่างกาลนี้
A49: =A1 -> บริษัท โรงงานเภสัชอุตสาหกรรม เจเอสพี (ประเทศไทย) จำกัด (มหาชน)
A50: =A2 -> งบฐานะการเงิน
A51: =A3 -> ณ วันที่ 31 มีนาคม พ.ศ. 2569
H53: ข้อมูลทางการเงินรวม | L53: ข้อมูลทางการเงินเฉพาะกิจการ
F54: ยังไม่ได้ตรวจสอบ | H54: ตรวจสอบแล้ว | J54: ยังไม่ได้ตรวจสอบ | L54: ตรวจสอบแล้ว
F55: 31 มีนาคม | H55: 31 ธันวาคม | J55: 31 มีนาคม | L55: 31 ธันวาคม
F56: พ.ศ. 2569 | H56: พ.ศ. 2568 | J56: พ.ศ. 2569 | L56: พ.ศ. 2568
D57: หมายเหตุ | F57: พันบาท | H57: พันบาท | J57: พันบาท | L57: พันบาท
A59: หนี้สินและส่วนของเจ้าของ
A61: หนี้สินหมุนเวียน
A63: เงินเบิกเกินบัญชีและเงินกู้ยืมระยะสั้นจากสถาบันการเงิน | D63: 12 | F63: 84987 | H63: 47842 | J63: 76046 | L63: 38997
A64: เจ้าหนี้การค้า | F64: 58845 | H64: 45845 | J64: 38432 | L64: 26561
A65: หนี้สินที่เกิดจากสัญญา - หมุนเวียน | F65: 13054 | H65: 15438 | J65: 11230 | L65: 13621
A66: เจ้าหนี้หมุนเวียนอื่น | F66: 34675 | H66: 55228 | J66: 21450 | L66: 40050
A67: เงินกู้ยืมระยะสั้นจากกิจการที่เกี่ยวข้องกัน | D67: 16.3 | F67: 0 | H67: 5000 | J67: 0 | L67: 0
A68: ส่วนของเงินกู้ยืมระยะยาวจากสถาบันการเงิน
B69: ที่ถึงกำหนดชำระภายในหนึ่งปี สุทธิ | D69: 13 | F69: 44733 | H69: 44353 | J69: 44733 | L69: 44353
A70: หนี้สินตามสัญญาเช่าส่วนที่ถึงกำหนดชำระ
B71: ภายในหนึ่งปี สุทธิ | D71: 14 | F71: 13883 | H71: 11917 | J71: 4771 | L71: 4918
A72: ภาษีเงินได้นิติบุคคลค้างจ่าย | F72: 13137 | H72: 10915 | J72: 11276 | L72: 9519
A74: รวมหนี้สินหมุนเวียน | F74: =SUM(F63:F72) -> 263314 | H74: =SUM(H63:H72) -> 236538 | J74: =SUM(J63:J72) -> 207938 | L74: =SUM(L63:L72) -> 178019
A76: หนี้สินไม่หมุนเวียน
A78: เงินกู้ยืมระยะยาวจากสถาบันการเงิน สุทธิ | D78: 13 | F78: 221173 | H78: 232590 | J78: 221173 | L78: 232590
A79: หนี้สินตามสัญญาเช่า สุทธิ | D79: 14 | F79: 37190 | H79: 39467 | J79: 6839 | L79: 6986
A80: หนี้สินที่เกิดจากสัญญา - ไม่หมุนเวียน | F80: 6703 | H80: 6628 | J80: 6703 | L80: 6628
A81: ภาระผูกพันผลประโยชน์พนักงาน | F81: 20567 | H81: 19926 | J81: 16598 | L81: 16161
A82: หนี้สินภาษีเงินได้รอการตัดบัญชี สุทธิ | F82: 97 | H82: 157 | J82: 0 | L82: 0
A83: ประมาณการหนี้สินไม่หมุนเวียนอื่น | F83: 1264 | H83: 1252 | J83: 1264 | L83: 1252
A85: รวมหนี้สินไม่หมุนเวียน | F85: =SUM(F78:F83) -> 286994 | H85: =SUM(H78:H83) -> 300020 | J85: =SUM(J78:J83) -> 252577 | L85: =SUM(L78:L83) -> 263617
A87: รวมหนี้สิน | F87: =F74+F85 -> 550308 | H87: =H74+H85 -> 536558 | J87: =J74+J85 -> 460515 | L87: =L74+L85 -> 441636
A96: =A48 -> หมายเหตุประกอบข้อมูลทางการเงินระหว่างกาลแบบย่อเป็นส่วนหนึ่งของข้อมูลทางการเงินระหว่างกาลนี้
A97: =A1 -> บริษัท โรงงานเภสัชอุตสาหกรรม เจเอสพี (ประเทศไทย) จำกัด (มหาชน)
A98: =A2 -> งบฐานะการเงิน
A99: =A3 -> ณ วันที่ 31 มีนาคม พ.ศ. 2569
H101: ข้อมูลทางการเงินรวม | L101: ข้อมูลทางการเงินเฉพาะกิจการ
F102: ยังไม่ได้ตรวจสอบ | H102: ตรวจสอบแล้ว | J102: ยังไม่ได้ตรวจสอบ | L102: ตรวจสอบแล้ว
F103: =F7 -> 31 มีนาคม | H103: =H7 -> 31 ธันวาคม | J103: =J7 -> 31 มีนาคม | L103: =L7 -> 31 ธันวาคม
F104: =F8 -> พ.ศ. 2569 | H104: =H8 -> พ.ศ. 2568 | J104: =J8 -> พ.ศ. 2569 | L104: =L8 -> พ.ศ. 2568
D105: หมายเหตุ | F105: พันบาท | H105: พันบาท | J105: พันบาท | L105: พันบาท
A107: หนี้สินและส่วนของเจ้าของ (ต่อ)
A109: ส่วนของเจ้าของ
A111: ทุนเรือนหุ้น
B112: ทุนจดทะเบียน
B113: - | C113: หุ้นสามัญ 711,862,381 หุ้น
C114: มูลค่าที่ตราไว้หุ้นละ 0.50 บาท | F114: 355931 | H114: 355931 | J114: 355931 | L114: 355931
B116: ทุนที่ออกและชำระแล้ว
B117: - | C117: หุ้นสามัญ 474,574,934 หุ้น
C118: จ่ายชำระแล้วหุ้นละ 0.50 บาท | F118: 237287 | H118: 237287 | J118: 237287 | L118: 237287
A119: ส่วนเกินมูลค่าหุ้น | F119: 722930 | H119: 722930 | J119: 722930 | L119: 722930
A120: ผลต่างจากการรวมธุรกิจภายใต้การควบคุมเดียวกัน | F120: -130349 | H120: -130349 | J120: -11539 | L120: -11539
A121: ผลต่างจากการเปลี่ยนแปลงสัดส่วนที่ถือ
B122: โดยส่วนได้เสียที่ไม่มีอำนาจควบคุม | D122: 10 | F122: 5228 | H122: 7997 | J122: 0 | L122: 0
A123: กำไรสะสม
B124: จัดสรรแล้ว
B125: - สำรองตามกฎหมาย | F125: 3049 | H125: 3049 | J125: 3049 | L125: 3049
B126: ยังไม่ได้จัดสรร | F126: 68143 | H126: 67690 | J126: 36598 | L126: 32970
A128: รวมส่วนของผู้เป็นเจ้าของของบริษัทใหญ่ | F128: =SUM(F118:F126) -> 906288 | H128: =SUM(H118:H126) -> 908604 | J128: =SUM(J118:J126) -> 988325 | L128: =SUM(L118:L126) -> 984697
A129: ส่วนได้เสียที่ไม่มีอำนาจควบคุม | F129: 21549 | H129: 18392 | J129: 0 | L129: 0
A131: รวมส่วนของเจ้าของ | F131: =SUM(F128:F129) -> 927837 | H131: =SUM(H128:H129) -> 926996 | J131: =SUM(J128:J129) -> 988325 | L131: =SUM(L128:L129) -> 984697
A133: รวมหนี้สินและส่วนของเจ้าของ | F133: =F87+F131 -> 1478145 | H133: =H87+H131 -> 1463554 | J133: =J87+J131 -> 1448840 | L133: =L87+L131 -> 1426333
A144: =A48 -> หมายเหตุประกอบข้อมูลทางการเงินระหว่างกาลแบบย่อเป็นส่วนหนึ่งของข้อมูลทางการเงินระหว่างกาลนี้

Sheet 5 (3M)
A1: ='2-4'!A1 -> บริษัท โรงงานเภสัชอุตสาหกรรม เจเอสพี (ประเทศไทย) จำกัด (มหาชน)
A2: งบกำไรขาดทุนเบ็ดเสร็จ
A3: สำหรับรอบระยะเวลาสามเดือนสิ้นสุดวันที่ 31 มีนาคม พ.ศ. 2569
G5: ข้อมูลทางการเงินรวม | K5: ข้อมูลทางการเงินเฉพาะกิจการ
G6: ยังไม่ได้ตรวจสอบ | I6: ยังไม่ได้ตรวจสอบ | K6: ยังไม่ได้ตรวจสอบ | M6: ยังไม่ได้ตรวจสอบ
G7: พ.ศ. 2569 | I7: พ.ศ. 2568 | K7: พ.ศ. 2569 | M7: พ.ศ. 2568
E8: หมายเหตุ | G8: พันบาท | I8: พันบาท | K8: พันบาท | M8: พันบาท
A10: รายได้
A11: รายได้จากการขาย | G11: 194598 | I11: 219519 | K11: 142765 | M11: 174446
A12: รายได้จากการให้บริการ | G12: 6698 | I12: 8209 | K12: 0 | M12: 0
A13: รายได้อื่น | G13: 5958 | I13: 2383 | K13: 6532 | M13: 4116
A15: รวมรายได้ | G15: =SUM(G11:G13) -> 207254 | I15: =SUM(I11:I13) -> 230111 | K15: =SUM(K11:K13) -> 149297 | M15: =SUM(M11:M13) -> 178562
A17: ค่าใช้จ่าย
A18: ต้นทุนขาย | G18: -120553 | I18: -130402 | K18: -82311 | M18: -96063
A19: ต้นทุนการให้บริการ | G19: -5067 | I19: -7785 | K19: 0 | M19: 0
A20: ต้นทุนในการจัดจำหน่าย | G20: -34988 | I20: -44315 | K20: -27332 | M20: -37864
A21: ค่าใช้จ่ายในการบริหาร | G21: -34884 | I21: -33407 | K21: -26150 | M21: -23503
A23: รวมค่าใช้จ่าย | G23: =SUM(G18:G21) -> -195492 | I23: =SUM(I18:I21) -> -215909 | K23: =SUM(K18:K21) -> -135793 | M23: =SUM(M18:M21) -> -157430
A25: กำไรจากการดำเนินงาน | G25: 11762 | I25: 14202 | K25: 13504 | M25: 21132
A26: ต้นทุนทางการเงิน | G26: -4823 | I26: -4017 | K26: -3959 | M26: -2581
A27: ผลขาดทุนด้านเครดิตที่คาดว่าจะเกิดขึ้นจาก
B28: สินทรัพย์ทางการเงิน | G28: -5346 | I28: -1680 | K28: -5067 | M28: -1348
A29: ส่วนแบ่งขาดทุนจากเงินลงทุนในบริษัทร่วม | G29: 0 | I29: -782 | K29: 0 | M29: 0
A31: กำไรก่อนภาษีเงินได้ | G31: =SUM(G15,G23,G26:G29) -> 1593 | I31: =SUM(I15,I23,I26:I29) -> 7723 | K31: =SUM(K15,K23,K26:K29) -> 4478 | M31: =SUM(M15,M23,M26:M29) -> 17203
A32: ค่าใช้จ่ายภาษีเงินได้ | E32: 15 | G32: -752 | I32: -3037 | K32: -850 | M32: -3696
A34: กำไรสำหรับรอบระยะเวลา | G34: =SUM(G31:G32) -> 841 | I34: =SUM(I31:I32) -> 4686 | K34: =SUM(K31:K32) -> 3628 | M34: =SUM(M31:M32) -> 13507
A36: กำไรเบ็ดเสร็จรวมสำหรับรอบระยะเวลา | G36: =SUM(G33:G34) -> 841 | I36: =SUM(I33:I34) -> 4686 | K36: =SUM(K33:K34) -> 3628 | M36: =SUM(M33:M34) -> 13507
A38: การแบ่งปันกำไร (ขาดทุน)
A39: ส่วนที่เป็นของผู้เป็นเจ้าของของบริษัทใหญ่ | G39: 453 | I39: 7491 | K39: 3628 | M39: 13507
A40: ส่วนที่เป็นของส่วนได้เสียที่ไม่มีอำนาจควบคุม | G40: 388 | I40: -2805 | K40: 0 | M40: 0
A42: กำไรสำหรับรอบระยะเวลา | G42: =SUM(G39:G40) -> 841 | I42: =SUM(I39:I40) -> 4686 | K42: =SUM(K39:K40) -> 3628 | M42: =SUM(M39:M40) -> 13507
A44: การแบ่งปันกำไร (ขาดทุน) เบ็ดเสร็จรวม
A45: ส่วนที่เป็นของผู้เป็นเจ้าของของบริษัทใหญ่ | G45: 453 | I45: 7491 | K45: 3628 | M45: 13507
A46: ส่วนที่เป็นของส่วนได้เสียที่ไม่มีอำนาจควบคุม | G46: 388 | I46: -2805 | K46: 0 | M46: 0
A48: กำไรเบ็ดเสร็จรวมสำหรับรอบระยะเวลา | G48: =SUM(G45:G46) -> 841 | I48: =SUM(I45:I46) -> 4686 | K48: =SUM(K45:K46) -> 3628 | M48: =SUM(M45:M46) -> 13507
A50: กำไรต่อหุ้น
A52: กำไรต่อหุ้นขั้นพื้นฐาน (บาทต่อหุ้น) | G52: 0.001 | I52: 0.016 | K52: 0.008 | M52: 0.028
A54: กำไรต่อหุ้นปรับลด (บาทต่อหุ้น) | G54: 0.001 | I54: 0.016 | K54: 0.008 | M54: 0.028
A57: ='2-4'!A48 -> หมายเหตุประกอบข้อมูลทางการเงินระหว่างกาลแบบย่อเป็นส่วนหนึ่งของข้อมูลทางการเงินระหว่างกาลนี้

Sheet 6
A1: ='2-4'!A1 -> บริษัท โรงงานเภสัชอุตสาหกรรม เจเอสพี (ประเทศไทย) จำกัด (มหาชน)
A2: งบการเปลี่ยนแปลงส่วนของเจ้าของ
A3: ='5 (3M)'!A3 -> สำหรับรอบระยะเวลาสามเดือนสิ้นสุดวันที่ 31 มีนาคม พ.ศ. 2569
F5: ข้อมูลทางการเงินรวม (ยังไม่ได้ตรวจสอบ)
F6: ส่วนของผู้เป็นเจ้าของของบริษัทใหญ่
N7: กำไร (ขาดทุน) สะสม
L9: ผลต่างจากการ
J10: ผลต่างจากการ | L10: เปลี่ยนแปลง
J11: รวมธุรกิจ | L11: สัดส่วนที่ถือ | N11: จัดสรรแล้ว | R11: รวมส่วนของ | T11: ส่วนได้เสีย
F12: ทุนที่ออกและ | H12: ส่วนเกิน | J12: ภายใต้การควบคุม | L12: โดยส่วนได้เสีย | N12: - สำรองตาม | P12: ยังไม่ได้ | R12: ผู้เป็นเจ้าของ | T12: ที่ไม่มีอำนาจ | V12: รวมส่วนของ
F13: ชำระแล้ว | H13: มูลค่าหุ้น | J13: เดียวกัน | L13: ที่ไม่มีอำนาจควบคุม | N13: กฎหมาย | P13: จัดสรร | R13: ของบริษัทใหญ่ | T13: ควบคุม | V13: เจ้าของ
D14: หมายเหตุ | F14: พันบาท | H14: พันบาท | J14: พันบาท | L14: พันบาท | N14: พันบาท | P14: พันบาท | R14: พันบาท | T14: พันบาท | V14: พันบาท
A16: ยอดคงเหลือต้นรอบระยะเวลา
B17: ณ วันที่ 1 มกราคม พ.ศ. 2568 | F17: 237287 | H17: 772532 | J17: -130349 | L17: 0 | N17: 3862 | P17: -25333 | R17: =SUM(F17:Q17) -> 857999 | T17: 24524 | V17: =SUM(R17:U17) -> 882523
A19: การเปลี่ยนแปลงในส่วนของเจ้าของ
B20: สำหรับรอบระยะเวลา
A21: กำไร (ขาดทุน) เบ็ดเสร็จรวมสำหรับรอบระยะเวลา | F21: 0 | H21: 0 | J21: 0 | L21: 0 | N21: 0 | P21: 7491 | R21: =SUM(F21:Q21) -> 7491 | T21: -2805 | V21: =SUM(R21:U21) -> 4686
A23: ยอดคงเหลือสิ้นรอบระยะเวลา
B24: ณ วันที่ 31 มีนาคม พ.ศ. 2568 | F24: =SUM(F16:F21) -> 237287 | H24: =SUM(H16:H21) -> 772532 | J24: =SUM(J16:J21) -> -130349 | L24: =SUM(L16:L21) -> 0 | N24: =SUM(N16:N21) -> 3862 | P24: =SUM(P16:P21) -> -17842 | R24: =SUM(F24:Q24) -> 865490 | T24: =SUM(T16:T21) -> 21719 | V24: =SUM(R24:U24) -> 887209
A26: ยอดคงเหลือต้นรอบระยะเวลา
B27: ณ วันที่ 1 มกราคม พ.ศ. 2569 | F27: 237287 | H27: 722930 | J27: -130349 | L27: 7997 | N27: 3049 | P27: 67690 | R27: 908604 | T27: 18392 | V27: 926996
A29: การเปลี่ยนแปลงในส่วนของเจ้าของ
B30: สำหรับรอบระยะเวลา
A31: การเปลี่ยนแปลงสัดส่วนที่ถือโดยส่วนได้เสียที่ไม่มีอำนาจควบคุม | D31: 10 | F31: 0 | H31: 0 | J31: 0 | L31: -2769 | N31: 0 | P31: 0 | R31: =SUM(F31:Q31) -> -2769 | T31: 2769 | V31: =SUM(R31:U31) -> 0
A32: กำไรเบ็ดเสร็จรวมสำหรับรอบระยะเวลา | F32: 0 | H32: 0 | J32: 0 | L32: 0 | N32: 0 | P32: 453 | R32: =SUM(F32:Q32) -> 453 | T32: 388 | V32: =SUM(R32:U32) -> 841
A34: ยอดคงเหลือสิ้นรอบระยะเวลา
B35: ณ วันที่ 31 มีนาคม พ.ศ. 2569 | F35: =SUM(F26:F32) -> 237287 | H35: =SUM(H26:H32) -> 722930 | J35: =SUM(J26:J32) -> -130349 | L35: =SUM(L26:L32) -> 5228 | N35: =SUM(N26:N32) -> 3049 | P35: =SUM(P26:P32) -> 68143 | R35: =SUM(F35:Q35) -> 906288 | T35: =SUM(T26:T32) -> 21549 | V35: =SUM(R35:U35) -> 927837
A38: ='2-4'!A48 -> หมายเหตุประกอบข้อมูลทางการเงินระหว่างกาลแบบย่อเป็นส่วนหนึ่งของข้อมูลทางการเงินระหว่างกาลนี้

Sheet 7
A1: ='2-4'!A1 -> บริษัท โรงงานเภสัชอุตสาหกรรม เจเอสพี (ประเทศไทย) จำกัด (มหาชน)
A2: งบการเปลี่ยนแปลงส่วนของเจ้าของ
A3: ='5 (3M)'!A3 -> สำหรับรอบระยะเวลาสามเดือนสิ้นสุดวันที่ 31 มีนาคม พ.ศ. 2569
E5: ข้อมูลทางการเงินเฉพาะกิจการ (ยังไม่ได้ตรวจสอบ)
K6: กำไร (ขาดทุน) สะสม
I7: ผลต่างจากการ
I8: รวมธุรกิจ | K8: จัดสรรแล้ว
E9: ทุนที่ออกและ | G9: ส่วนเกิน | I9: ภายใต้การควบคุม | K9: - สำรองตาม | O9: รวม
E10: ชำระแล้ว | G10: มูลค่าหุ้น | I10: เดียวกัน | K10: กฎหมาย | M10: ยังไม่ได้จัดสรร | O10: ส่วนของเจ้าของ
E11: พันบาท | G11: พันบาท | I11: พันบาท | K11: พันบาท | M11: พันบาท | O11: พันบาท
A13: ยอดคงเหลือต้นรอบระยะเวลา ณ วันที่ 1 มกราคม พ.ศ. 2568 | E13: 237287 | G13: 772532 | I13: -11539 | K13: 3862 | M13: -53464 | O13: =SUM(E13:N13) -> 948678
A15: การเปลี่ยนแปลงในส่วนของเจ้าของสำหรับรอบระยะเวลา
A16: กำไรเบ็ดเสร็จรวมสำหรับรอบระยะเวลา | E16: 0 | G16: 0 | I16: 0 | K16: 0 | M16: 13507 | O16: =SUM(E16:N16) -> 13507
A18: ยอดคงเหลือสิ้นรอบระยะเวลา ณ วันที่ 31 มีนาคม พ.ศ. 2568 | E18: =SUM(E13:E16) -> 237287 | G18: =SUM(G13:G16) -> 772532 | I18: =SUM(I13:I16) -> -11539 | K18: =SUM(K13:K16) -> 3862 | M18: =SUM(M13:M16) -> -39957 | O18: =SUM(E18:N18) -> 962185
A20: ยอดคงเหลือต้นรอบระยะเวลา ณ วันที่ 1 มกราคม พ.ศ. 2569 | E20: 237287 | G20: 722930 | I20: -11539 | K20: 3049 | M20: 32970 | O20: =SUM(E20:N20) -> 984697
A22: การเปลี่ยนแปลงในส่วนของเจ้าของสำหรับรอบระยะเวลา
A23: กำไรเบ็ดเสร็จรวมสำหรับรอบระยะเวลา | E23: 0 | G23: 0 | I23: 0 | K23: 0 | M23: 3628 | O23: =SUM(E23:N23) -> 3628
A25: ยอดคงเหลือสิ้นรอบระยะเวลา ณ วันที่ 31 มีนาคม พ.ศ. 2569 | E25: =SUM(E20:E23) -> 237287 | G25: =SUM(G20:G23) -> 722930 | I25: =SUM(I20:I23) -> -11539 | K25: =SUM(K20:K23) -> 3049 | M25: =SUM(M20:M23) -> 36598 | O25: =SUM(E25:N25) -> 988325
A30: ='2-4'!A48 -> หมายเหตุประกอบข้อมูลทางการเงินระหว่างกาลแบบย่อเป็นส่วนหนึ่งของข้อมูลทางการเงินระหว่างกาลนี้

Sheet 8-9
A1: ='2-4'!A1 -> บริษัท โรงงานเภสัชอุตสาหกรรม เจเอสพี (ประเทศไทย) จำกัด (มหาชน)
A2: งบกระแสเงินสด
A3: ='5 (3M)'!A3 -> สำหรับรอบระยะเวลาสามเดือนสิ้นสุดวันที่ 31 มีนาคม พ.ศ. 2569
F5: ข้อมูลทางการเงินรวม | J5: ข้อมูลทางการเงินเฉพาะกิจการ
F6: ยังไม่ได้ตรวจสอบ | H6: ยังไม่ได้ตรวจสอบ | J6: ยังไม่ได้ตรวจสอบ | L6: ยังไม่ได้ตรวจสอบ
F7: พ.ศ. 2569 | H7: พ.ศ. 2568 | J7: พ.ศ. 2569 | L7: พ.ศ. 2568
F8: พันบาท | H8: พันบาท | J8: พันบาท | L8: พันบาท
A9: กระแสเงินสดจากกิจกรรมดำเนินงาน
A10: ='5 (3M)'!A31 -> กำไรก่อนภาษีเงินได้ | F10: 1593 | H10: 7723 | J10: 4478 | L10: 17203
A11: รายการปรับปรุงกำไรก่อนภาษีเงินได้
A12: เป็นเงินสดรับ (จ่าย) จากการดำเนินงาน
B13: - ค่าเสื่อมราคาและค่าตัดจำหน่าย | F13: 16449 | H13: 17434 | J13: 12060 | L13: 12858
B14: - ค่าเผื่อการลดลงของมูลค่าสินค้า | F14: 50 | H14: 1102 | J14: 11 | L14: 968
B15: - ค่าใช้จ่ายผลประโยชน์พนักงาน | F15: 641 | H15: 667 | J15: 437 | L15: 465
B16: - ขาดทุนจากการตัดจำหน่ายสินทรัพย์ | F16: 23 | H16: 0 | J16: 23 | L16: 0
B17: - ผลขาดทุนด้านเครดิตที่คาดว่าจะเกิดขึ้นจากสินทรัพย์ทางการเงิน | F17: 5346 | H17: 1680 | J17: 5067 | L17: 1348
B18: - ดอกเบี้ยรับ | F18: -112 | H18: -151 | J18: -1090 | L18: -2370
B19: - ต้นทุนทางการเงิน | F19: 4823 | H19: 4017 | J19: 3959 | L19: 2581
B20: - ส่วนแบ่งขาดทุนจากเงินลงทุนในบริษัทร่วม | F20: 0 | H20: 782 | J20: 0 | L20: 0
B22: กระแสเงินสดก่อนการเปลี่ยนแปลงของสินทรัพย์
C23: และหนี้สินดำเนินงาน | F23: =SUM(F10:F20) -> 28813 | H23: =SUM(H10:H20) -> 33254 | J23: =SUM(J10:J20) -> 24945 | L23: =SUM(L10:L20) -> 33053
B24: การเปลี่ยนแปลงของสินทรัพย์และหนี้สินดำเนินงาน
C25: - ลูกหนี้การค้า | F25: 1428 | H25: -2675 | J25: 717 | L25: -2184
C26: - ลูกหนี้หมุนเวียนและไม่หมุนเวียนอื่น | F26: -3130 | H26: 1046 | J26: -9011 | L26: -3342
C27: - สินค้าคงเหลือ | F27: -27833 | H27: -13157 | J27: -23982 | L27: -12086
C28: - สินทรัพย์ต้นทุนของสัญญาหมุนเวียนและไม่หมุนเวียน | F28: 0 | H28: 14 | J28: 0 | L28: 14
C29: - สินทรัพย์ไม่หมุนเวียนอื่น | F29: -193 | H29: -285 | J29: -10 | L29: -80
C30: - เจ้าหนี้การค้า | F30: 13000 | H30: 14350 | J30: 11871 | L30: 11472
C31: - หนี้สินที่เกิดจากสัญญาหมุนเวียนและไม่หมุนเวียน | F31: -2309 | H31: 7163 | J31: -2316 | L31: 7238
C32: - เจ้าหนี้หมุนเวียนอื่น | F32: -19358 | H32: -3552 | J32: -17590 | L32: -3031
C33: - เงินสดจ่ายภาระผูกพันผลประโยชน์พนักงาน | F33: 0 | H33: -3401 | J33: 0 | L33: -3401
B35: เงินสดรับ (จ่าย) จากการดำเนินงาน | F35: =SUM(F23:F33) -> -9582 | H35: =SUM(H23:H33) -> 32757 | J35: =SUM(J23:J33) -> -15376 | L35: =SUM(L23:L33) -> 27653
C36: - จ่ายภาษีเงินได้ | F36: -308 | H36: -847 | J36: -79 | L36: 885
A38: กระแสเงินสดสุทธิได้มาจาก (ใช้ไปใน) กิจกรรมดำเนินงาน | F38: =SUM(F35:F36) -> -9890 | H38: =SUM(H35:H36) -> 31910 | J38: =SUM(J35:J36) -> -15455 | L38: =SUM(L35:L36) -> 28538
A50: ='2-4'!A48 -> หมายเหตุประกอบข้อมูลทางการเงินระหว่างกาลแบบย่อเป็นส่วนหนึ่งของข้อมูลทางการเงินระหว่างกาลนี้
A51: =+A1 -> บริษัท โรงงานเภสัชอุตสาหกรรม เจเอสพี (ประเทศไทย) จำกัด (มหาชน)
A52: งบกระแสเงินสด
A53: =+A3 -> สำหรับรอบระยะเวลาสามเดือนสิ้นสุดวันที่ 31 มีนาคม พ.ศ. 2569
F55: ข้อมูลทางการเงินรวม | J55: ข้อมูลทางการเงินเฉพาะกิจการ
F56: ยังไม่ได้ตรวจสอบ | H56: ยังไม่ได้ตรวจสอบ | J56: ยังไม่ได้ตรวจสอบ | L56: ยังไม่ได้ตรวจสอบ
F57: พ.ศ. 2569 | H57: พ.ศ. 2568 | J57: พ.ศ. 2569 | L57: พ.ศ. 2568
D58: หมายเหตุ | F58: พันบาท | H58: พันบาท | J58: พันบาท | L58: พันบาท
A59: กระแสเงินสดจากกิจกรรมลงทุน
A60: เงินฝากธนาคารที่มีภาระค้ำประกันเพิ่มขึ้น สุทธิ | F60: -55 | H60: 0 | J60: -41 | L60: 0
A61: เงินสดจ่ายเพื่อซื้ออาคารและอุปกรณ์ | F61: -2387 | H61: -2834 | J61: -2005 | L61: -2076
A62: เงินสดจ่ายล่วงหน้าค่าซื้ออุปกรณ์และยานพาหนะ | F62: -3114 | H62: -3220 | J62: -2324 | L62: -2837
A63: เงินสดจ่ายเพื่อซื้อสินทรัพย์ไม่มีตัวตน | F63: -106 | H63: -21 | J63: -106 | L63: -21
A64: เงินสดจ่ายเพื่อเงินให้กู้ยืมระยะสั้นแก่กิจการที่เกี่ยวข้องกัน | F64: 0 | H64: 0 | J64: 0 | L64: -4000
A65: เงินสดรับจากดอกเบี้ย | F65: 142 | H65: 30 | J65: 627 | L65: 606
A67: กระแสเงินสดสุทธิใช้ไปในกิจกรรมลงทุน | F67: =SUM(F60:F65) -> -5520 | H67: =SUM(H60:H65) -> -6045 | J67: =SUM(J60:J65) -> -3849 | L67: =SUM(L60:L65) -> -8328
A69: กระแสเงินสดจากกิจกรรมจัดหาเงิน
A70: เงินเบิกเกินบัญชีและเงินกู้ยืมระยะสั้น
B71: จากสถาบันการเงินเพิ่มขึ้น (ลดลง) สุทธิ | F71: 37145 | H71: -20524 | J71: 37049 | L71: -19000
A72: เงินสดจ่ายคืนเงินกู้ยืมระยะสั้นจากกิจการที่เกี่ยวข้องกัน | D72: 16.3 | F72: -5000 | H72: 0 | J72: 0 | L72: 0
A73: เงินสดรับจากเงินกู้ยืมระยะยาวจากสถาบันการเงิน | F73: 0 | H73: 14925 | J73: 0 | L73: 14925
A74: เงินสดจ่ายคืนเงินกู้ยืมระยะยาวจากสถาบันการเงิน | D74: 13.1 | F74: -11178 | H74: -4895 | J74: -11178 | L74: -4895
A75: เงินสดจ่ายชำระหนี้สินตามสัญญาเช่า | D75: 14 | F75: -2428 | H75: -4539 | J75: -1342 | L75: -2254
A76: เงินปันผลจ่ายให้แก่ผู้ถือหุ้น | F76: 0 | H76: -1 | J76: 0 | L76: -1
A77: เงินสดจ่ายดอกเบี้ย | F77: -4719 | H77: -4025 | J77: -3855 | L77: -2589
A79: กระแสเงินสดสุทธิได้มาจาก (ใช้ไปใน) กิจกรรมจัดหาเงิน | F79: =SUM(F71:F77) -> 13820 | H79: =SUM(H71:H77) -> -19059 | J79: =SUM(J71:J77) -> 20674 | L79: =SUM(L71:L77) -> -13814
A81: เงินสดและรายการเทียบเท่าเงินสดเพิ่มขึ้น (ลดลง) สุทธิ | F81: =F79+F67+F38 -> -1590 | H81: =H79+H67+H38 -> 6806 | J81: =J79+J67+J38 -> 1370 | L81: =L79+L67+L38 -> 6396
A82: ยอดคงเหลือต้นรอบระยะเวลา | F82: 48031 | H82: 29491 | J82: 18565 | L82: 14885
A84: ยอดคงเหลือสิ้นรอบระยะเวลา | F84: =SUM(F81:F82) -> 46441 | H84: =SUM(H81:H82) -> 36297 | J84: =SUM(J81:J82) -> 19935 | L84: =SUM(L81:L82) -> 21281
A86: รายการที่ไม่ใช่เงินสดที่มีสาระสำคัญ
A88: - ซื้ออาคารและอุปกรณ์โดยยังไม่ได้ชำระเงิน | F88: -3805 | H88: -5065 | J88: -3138 | L88: -4178
A89: - ซื้อสินทรัพย์ไม่มีตัวตนโดยยังไม่ได้ชำระเงิน | F89: -27 | H89: 0 | J89: -27 | L89: 0
A90: - โอนเงินจ่ายล่วงหน้าค่าซื้ออุปกรณ์และยานพาหนะ | F90: 1471 | H90: 2709 | J90: 1173 | L90: 2345
A91: - โอนเงินจ่ายล่วงหน้าค่าซื้อสินทรัพย์ไม่มีตัวตน | F91: 54 | H91: 0 | J91: 54 | L91: 0
A92: - โอนเงินจ่ายล่วงหน้าค่าหุ้นไปเงินลงทุนในบริษัทย่อย | D92: 10 | F92: 0 | H92: 0 | J92: 39512 | L92: 0
A100: =A50 -> หมายเหตุประกอบข้อมูลทางการเงินระหว่างกาลแบบย่อเป็นส่วนหนึ่งของข้อมูลทางการเงินระหว่างกาลนี้
